BEGIN:VCALENDAR
VERSION:2.0
PRODID:-//UM//UM*Events//EN
CALSCALE:GREGORIAN
BEGIN:VTIMEZONE
TZID:America/Detroit
TZURL:http://tzurl.org/zoneinfo/America/Detroit
X-LIC-LOCATION:America/Detroit
BEGIN:DAYLIGHT
TZOFFSETFROM:-0500
TZOFFSETTO:-0400
TZNAME:EDT
DTSTART:20070311T020000
RRULE:FREQ=YEARLY;BYMONTH=3;BYDAY=2SU
END:DAYLIGHT
BEGIN:STANDARD
TZOFFSETFROM:-0400
TZOFFSETTO:-0500
TZNAME:EST
DTSTART:20071104T020000
RRULE:FREQ=YEARLY;BYMONTH=11;BYDAY=1SU
END:STANDARD
END:VTIMEZONE
BEGIN:VEVENT
DTSTAMP:20100909T114609
DTSTART;TZID=America/Detroit:20101202T083000
DTEND;TZID=America/Detroit:20101202T190000
SUMMARY:Exhibition:From Trace to Text: Highlights from the U-M Papyrus Collection
DESCRIPTION:This exhibit provides a behind-the-scenes look at the work of papyrologists: how they conserve scraps of often badly damaged papyri\, decipher traces of ink\, read and translate the resulting text\, edit and interpret its contents\, and make this available to both scholars and the general public. Modern technology\, such as digitization and multi-spectral imaging\, is aiding papyrologists in all of these efforts.\n\nTexts on display are some of the highlights of the collection. They include a wonderful drawing of an elephant\, a letter from a newly enlisted soldier to his mother\, and\, of course\, some pages of the oldest manuscript with letters of St. Paul (one of the most famous texts of the collection).\n\nIn its 90-year history\, the University of Michigan Papyrus Collection has trained more students and scholars in the field of papyrology than any other institution in North America. Founded by the visionary Francis W. Kelsey\, the Papyrus Collection has been the training ground for papyrologists from around the world and home to many great resident scholars\, such as Herbert and Louise Youtie\, Ludwig Koenen\, and Traianos Gagos\, who died on April 26\, 2010.\n\nPapyrology is the field of scholarship that deciphers and studies the texts written –primarily on papyrus– by people living in the ancient Mediterranean world between 2\,500 BCE and 1\,000 CE. Most of these texts are found in Egypt where the climate is dry enough to preserve this fragile material. It is a highly specialized and technical field\, requiring intensive training in language (Egyptian\, ancient Greek\, Latin\, Arabic)\, history\, and the unique set of skills necessary for reading original documents.\n\nThe exhibit is open during Audubon Room hours: Sun 1-7pm\, Mon-Fri 8:30-7pm\, Sat 10am-6pm.\n\nThis Exhibit is in Honor of Traianos Gagos (1960-2010).
UID:3497-917787@events.umich.edu
URL:https://events.umich.edu/event/3497
CLASS:PUBLIC
STATUS:CONFIRMED
CATEGORIES:
LOCATION:Hatcher Graduate Library - Audubon Room
CONTACT:
END:VEVENT
BEGIN:VEVENT
DTSTAMP:20101201T151707
DTSTART;TZID=America/Detroit:20101202T090000
DTEND;TZID=America/Detroit:20101202T180000
SUMMARY:Community Service:School of Information Book Sale
DESCRIPTION:A benefit book sale for the Alternative Spring Break program at the School of Information. The  sale runs from 9 a.m.-6 p.m. Wednesday\, Dec. 1 and Thursday\, Dec. 2 in the North Quad  Media Gateway. Cook books\, literature\, fiction\, non-fiction\, text books\, self-help\, children's --  we have it all. Books are $1 for paperbacks\, $2 for hard covers. Cash or check accepted!!
UID:4366-1078865@events.umich.edu
URL:https://events.umich.edu/event/4366
CLASS:PUBLIC
STATUS:CONFIRMED
CATEGORIES:
LOCATION:North Quad - Media Gateway
CONTACT:
END:VEVENT
BEGIN:VEVENT
DTSTAMP:20100826T223421
DTSTART;TZID=America/Detroit:20101202T090000
SUMMARY:Exhibition:The View From Below
DESCRIPTION:Curator: Sara Blair\, University of Michigan
UID:3384-917848@events.umich.edu
URL:https://events.umich.edu/event/3384
CLASS:PUBLIC
STATUS:CONFIRMED
CATEGORIES:visual arts
LOCATION:202 S. Thayer - Humanities Gallery
CONTACT:
END:VEVENT
BEGIN:VEVENT
DTSTAMP:20101111T175904
DTSTART;TZID=America/Detroit:20101202T100000
SUMMARY:Exhibition:UMMA Projects: Simon Dybbroe MÃ¸ller
DESCRIPTION:Things are not always as they seem in the work of Simon Dybbroe MÃ¸ller. Indeed\, the Danish artist's works can at times appear to have been teleported from a slightly askew\, alternate version of the past. Seemingly familiar forms often appear in unexpected configurations and objects we think we recognize turn out to be something else entirely. An abstract wall painting emerges from beneath a layer of peeling plaster. A group of minimalist sculptures turn out to be the pieces of an enlarged Soma cube. This uncertainty is central to the experience of Dybbroe MÃ¸ller's work\, where an initial misrecognition leads to a moment of aesthetic discovery.\n\nDybbroe MÃ¸ller's penchant for puzzles and paradoxes reflects his interest in modernism's theoretical aspirations as well as its practical failings. Similarly\, his frequent adoption of “outmoded” media both provides him with a diverse artistic palette and a means of questioning the past century's faith in progress through technology and the avant-garde promise of continual artistic development.\n\nFor Dybbroe MÃ¸ller's first solo exhibition in a North American museum\, UMMA will present a new body of work that continues his ongoing engagement with and critique of the modernist paradigm of transparency.
UID:4185-921772@events.umich.edu
URL:https://events.umich.edu/event/4185
CLASS:PUBLIC
STATUS:CONFIRMED
CATEGORIES:visual arts
LOCATION:Museum of Art - Projects Gallery
CONTACT:
END:VEVENT
BEGIN:VEVENT
DTSTAMP:20101111T175606
DTSTART;TZID=America/Detroit:20101202T120000
DTEND;TZID=America/Detroit:20101202T130000
SUMMARY:Lecture / Discussion:CJS Fall 2010 Noon Lecture Series
DESCRIPTION:Laura Hein\, Professor\, History\, Northwestern University
UID:3677-909676@events.umich.edu
URL:https://events.umich.edu/event/3677
CLASS:PUBLIC
STATUS:CONFIRMED
CATEGORIES:
LOCATION:School of Social Work Building - 1636
CONTACT:
END:VEVENT
BEGIN:VEVENT
DTSTAMP:20101207T230210
DTSTART;TZID=America/Detroit:20101202T160000
DTEND;TZID=America/Detroit:20101202T170000
SUMMARY:Workshop / Seminar:EEB Thursday Seminar Series
DESCRIPTION:Abstract: The availability of genome sequences for closely related microorganisms has at the same time clarified and complicated our view of species delineation. While 16S rRNA gene based classification generally corresponds to genomic and ecological differences\, organisms grouped as one species often display both significant gene content variation as well as resource partitioning. In order to address the relationship between differences in gene content and sequence and ecological divergence in ecosystem context\, I investigated links between genotype and ecology of two populations of Leptospirillum Group II bacteria in comprehensively characterized natural acidophilic biofilm communities. These populations share 99.7 percent 16S rRNA gene sequence identity and 95 percent average amino acid identity between their orthologs. One predominates during early colonization and the other typically proliferates in later successional stages\, forming distinct tens to hundreds  µm diameter patches. Absence of protein expression\, measured via mass spectrometry-based community proteomics\, of most population-specific gene content supports the argument that much of the laterally transferred gene pool found in closely related isolate genomes is of a transient\, non-adaptive nature. Evolutionary signatures\, and population-resolved expression patterns emphasize how sequence and expression variation of shared genes contributes to ecological divergence. As such\, we highlight an interesting parallel to higher organisms\, where evolution of gene expression has been suggested as an important factor in species differentiation. Ecological divergence between these two populations can be viewed as an example of r- vs. K-selection. The early colonizer proliferates optimally in the absence of competition from other organisms\, thanks to adaptations that allow it to rapidly propagate in the AMD environment. Adaptations of the late colonizer allow its proliferation in conditions with high inter- and intra-specific competition for resources. Such distinct ecological strategies mediated by subtle genomic differences between closely related organisms\, which are often found to co-exist in natural microbial systems\, exemplify how fine-scale variation within ecological functional groups can have significant effects on community structure and functioning.
UID:4347-1072063@events.umich.edu
URL:https://events.umich.edu/event/4347
CLASS:PUBLIC
STATUS:CONFIRMED
CATEGORIES:
LOCATION:Chemistry Dow Lab - 1210
CONTACT:
END:VEVENT
BEGIN:VEVENT
DTSTAMP:20101116T142622
DTSTART;TZID=America/Detroit:20101202T160000
DTEND;TZID=America/Detroit:20101202T173000
SUMMARY:Lecture / Discussion:LSA Ronald and Eileen Weiser Professorship of European and Eurasian Studies Inaugural Lecture
DESCRIPTION:Anna Grzymala-Busse\, Professor of Political Science\, WCEE/WCED director\, U-M. Professor  Grzymala-Busse will examine how churches influence politics\, and why some have been so  successful in framing policy debates and shaping policy outcomes. Familiar examples include  abortion in Poland\, stem cell research in Italy\, and the teaching of evolution in the United States.  In other countries\, such as Croatia or Canada\, churches have had much less impact on even the  most sensitive areas of public policy. These differences persist even if we take into account  levels of popular religious belief and practice\, so that equally religious societies can produce very  different public policy outcomes. In explaining these patterns\, this talk will argue that the  churches' historical role in establishing the nation led both to claims of moral authority and to the  diffidence of contemporary political elites to the churches.
UID:3330-1000945@events.umich.edu
URL:https://events.umich.edu/event/3330
CLASS:PUBLIC
STATUS:CONFIRMED
CATEGORIES:
LOCATION:School of Social Work Building - 1636
CONTACT:
END:VEVENT
BEGIN:VEVENT
DTSTAMP:20101111T175836
DTSTART;TZID=America/Detroit:20101202T170000
DTEND;TZID=America/Detroit:20101202T183000
SUMMARY:Lecture / Discussion:Penny Stamps Presents: Luis Chomiak
DESCRIPTION:Luis Chomiak is an International Transportation Design Consultant and Industrial Design Engineer with experience in all types of product design\, rail vehicles and other forms of public and personal transportation. As a consultant he has worked with major design houses in transportation and product design where his work has won several awards. Recent projects include the innovative China Zefiro VHS (Very High Speed) Train and Metro Singapore.\n\nChomiak will present an overview of how many factors - including service requirements\, operational scenarios\, environmental conditions\, infrastructures\, safety\, manufacturing technology and cost - influence the design of modern rail vehicles.
UID:2525-920115@events.umich.edu
URL:https://events.umich.edu/event/2525
CLASS:PUBLIC
STATUS:CONFIRMED
CATEGORIES:visual arts
LOCATION:
CONTACT:
END:VEVENT
BEGIN:VEVENT
DTSTAMP:20101122T230157
DTSTART;TZID=America/Detroit:20101202T180000
DTEND;TZID=America/Detroit:20101202T220000
SUMMARY:Exhibition:World AIDS Day: Arts on Screen Project
DESCRIPTION:Poetry\, visual art\, and facts about the current state of AIDS combine in a silent film that will be projected from UMMA's Commons beginning on December 1. The film will be visible from the Diag pedestrian walkways behind the Museum. All of the visual art shown in the film comes from UMMA's collections and was created by artists suffering from HIV/AIDS or in response to loss endured as a result of the disease. The film offers a space for viewers to consider those in our community and around the world who have died from or are still living with HIV/AIDS today. The film also celebrates these artists and their contributions to the contemporary conversation about this devastating disease.
UID:4263-995809@events.umich.edu
URL:https://events.umich.edu/event/4263
CLASS:PUBLIC
STATUS:CONFIRMED
CATEGORIES:visual arts,social justice,music,literary arts,film
LOCATION:Museum of Art - Commons
CONTACT:
END:VEVENT
BEGIN:VEVENT
DTSTAMP:20100730T123726
DTSTART;TZID=America/Detroit:20101202T183000
DTEND;TZID=America/Detroit:20101202T210000
SUMMARY:Workshop / Seminar:Playing it Safe: Risk and Site Management Clinic
DESCRIPTION:Site and risk management is a great compliment to existing outdoor hard skills and  wilderness leadership – and very much a necessary skill to lead any group in a  potentially hazardous environment. This clinic will address how to prepare for the always  scary “what if” situation\, as well as equip participants with the resources and skills to  help minimize the potential of them occurring in the first place.
UID:3081-911339@events.umich.edu
URL:https://events.umich.edu/event/3081
CLASS:PUBLIC
STATUS:CONFIRMED
CATEGORIES:
LOCATION:Elbel Field Locker Building - Outdoor Adventures Rental Center
CONTACT:
END:VEVENT
BEGIN:VEVENT
DTSTAMP:20101129T230153
DTSTART;TZID=America/Detroit:20101202T190000
DTEND;TZID=America/Detroit:20101202T210000
SUMMARY:Lecture / Discussion:Deaf Culture 101
DESCRIPTION:Deaf Culture 101.  All you wanted to know but were afraid to ask. This will have a panel of current and former students explaining their experiences living as a hard of hearing or deaf person.  How do people react to them?  What are the myths and truths about being hard of hearing?  Questions will be welcome.  Free Food.
UID:4313-1027328@events.umich.edu
URL:https://events.umich.edu/event/4313
CLASS:PUBLIC
STATUS:CONFIRMED
CATEGORIES:
LOCATION:Michigan League - Vandenberg Room
CONTACT:
END:VEVENT
BEGIN:VEVENT
DTSTAMP:20101118T230147
DTSTART;TZID=America/Detroit:20101202T190000
DTEND;TZID=America/Detroit:20101202T210000
SUMMARY:Performance:Ring of Steel Action Theatre
DESCRIPTION:Theatrical combat is a multidisciplinary art that combines acting with elements of  fencing\, martial arts\, dance\, and music to develop a safe and effective  performance. It is a distinct area of study\; essentially a marital art where the focus  is not to injure your partner. As with any martial art\, years of training are needed  before an individual is prepared to safely share their skills on the stage.\n\nThe Ring of Steel offers theatrical combat training in a wide range of weapons and  combat styles\, based in large part on Aikido and late period rapier.
UID:4252-973241@events.umich.edu
URL:https://events.umich.edu/event/4252
CLASS:PUBLIC
STATUS:CONFIRMED
CATEGORIES:music,visual arts,theater,literary arts,film,dance,architecture
LOCATION:
CONTACT:
END:VEVENT
BEGIN:VEVENT
DTSTAMP:20101103T142747
DTSTART;TZID=America/Detroit:20101202T190000
DTEND;TZID=America/Detroit:20101202T203000
SUMMARY:Lecture / Discussion:Ted Rall\, “The Anti-American Manifesto”
DESCRIPTION:Revolution! Not by other people\, but by us. Not in the future\, but now. Ted Rall\, controversial political cartoonist and author of \"The Anti-American Manifesto\,\" calls for radical change in an America heading toward economic and political collapse. Followed by a book sale and signing\, courtesy of Crazy Wisdom Bookstore.\n\nA Pulitzer Prize finalist and twice the winner of the Robert F. Kennedy Journalism Award\, Ted Rall is a syndicated political cartoonist\, opinion columnist\, graphic novelist and occasional war correspondent whose work appears in hundreds of publications\, including The New York Times\, The Washington Post\, The Village Voice\, and Los Angeles Times.\n\nFree and open to the public. Public parking is available in the structure at 650 S. Forest\, just south of S. University Ave.
UID:4187-920498@events.umich.edu
URL:https://events.umich.edu/event/4187
CLASS:PUBLIC
STATUS:CONFIRMED
CATEGORIES:
LOCATION:Hatcher Graduate Library - Gallery in Room 100
CONTACT:
END:VEVENT
BEGIN:VEVENT
DTSTAMP:20101111T175649
DTSTART;TZID=America/Detroit:20101202T190000
SUMMARY:Reception / Open House:Wish Upon A Dance
DESCRIPTION:Charity Ball in support of the Make-a-Wish Foundation of Michigan.  Hors d'oeuvres and desserts\, guest performances\, silent auction\, open dancing\, dance lessons and more!
UID:3496-912802@events.umich.edu
URL:https://events.umich.edu/event/3496
CLASS:PUBLIC
STATUS:CONFIRMED
CATEGORIES:
LOCATION:Michigan Union - Ballroom
CONTACT:
END:VEVENT
BEGIN:VEVENT
DTSTAMP:20101118T230148
DTSTART;TZID=America/Detroit:20101202T190000
SUMMARY:Performance:Xylem + Fortnight Open Mic Night
DESCRIPTION:Do you have a piece of prose or poetry you'd like to share? Interested in listening to others read their work? If so\, attend the Xylem + Fortnight Open Mic Night. Contact xylem1011@umich.edu with any questions. We hope to see you there!
UID:4250-973293@events.umich.edu
URL:https://events.umich.edu/event/4250
CLASS:PUBLIC
STATUS:CONFIRMED
CATEGORIES:dance,literary arts,music,theater
LOCATION:Museum of Art
CONTACT:
END:VEVENT
BEGIN:VEVENT
DTSTAMP:20101111T175843
DTSTART;TZID=America/Detroit:20101202T200000
SUMMARY:Performance:Lil' Ed & The Blues Imperials
DESCRIPTION:
UID:4049-920480@events.umich.edu
URL:https://events.umich.edu/event/4049
CLASS:PUBLIC
STATUS:CONFIRMED
CATEGORIES:music
LOCATION:
CONTACT:
END:VEVENT
BEGIN:VEVENT
DTSTAMP:20101209T230226
DTSTART;TZID=America/Detroit:20101202T200000
SUMMARY:Exhibition:Winter Traditions Festival
DESCRIPTION:The Winter Traditions Festival is a celebration of the many holiday traditions observed by members of the U-M community\, while increasing awareness\, understanding\, and appreciation of these traditions. The festival will begin at 6:30 p.m. with a collection of 12 short performances in Stamps Auditorium followed by an exhibition where attendees can browse displays\, while sampling food from the various cultures represented. Presented by several College of Engineering organizations. See http://www.engin.umich.edu/cal/view/index.html#20101116102502ped
UID:4374-1086860@events.umich.edu
URL:https://events.umich.edu/event/4374
CLASS:PUBLIC
STATUS:CONFIRMED
CATEGORIES:
LOCATION:Duderstadt Center - Gallery
CONTACT:
END:VEVENT
BEGIN:VEVENT
DTSTAMP:20101111T175903
DTSTART;TZID=America/Detroit:20101202T210000
DTEND;TZID=America/Detroit:20101202T223000
SUMMARY:Performance:Performance Showcase: Images of Identities
DESCRIPTION:Images of Identities\n\nProviding entertainment and knowledge of current events to the students of this  campus while promoting a sense of community through the art of performance.\n\nImages of Identities is an improv-comedy group here at the University of Michigan.  We were founded in 1992 as a way to make students knowledgeable of current  events through the art of performance.  Performing at the Michigan League  Underground once every month. at 9:00pm
UID:4067-921715@events.umich.edu
URL:https://events.umich.edu/event/4067
CLASS:PUBLIC
STATUS:CONFIRMED
CATEGORIES:music,film,dance
LOCATION:Michigan League - Underground
CONTACT:
END:VEVENT
END:VCALENDAR