BEGIN:VCALENDAR
VERSION:2.0
PRODID:-//UM//UM*Events//EN
CALSCALE:GREGORIAN
BEGIN:VTIMEZONE
TZID:America/Detroit
TZURL:http://tzurl.org/zoneinfo/America/Detroit
X-LIC-LOCATION:America/Detroit
BEGIN:DAYLIGHT
TZOFFSETFROM:-0500
TZOFFSETTO:-0400
TZNAME:EDT
DTSTART:20070311T020000
RRULE:FREQ=YEARLY;BYMONTH=3;BYDAY=2SU
END:DAYLIGHT
BEGIN:STANDARD
TZOFFSETFROM:-0400
TZOFFSETTO:-0500
TZNAME:EST
DTSTART:20071104T020000
RRULE:FREQ=YEARLY;BYMONTH=11;BYDAY=1SU
END:STANDARD
END:VTIMEZONE
BEGIN:VEVENT
DTSTAMP:20100819T201819
DTSTART;TZID=America/Detroit:20101203T080000
DTEND;TZID=America/Detroit:20101203T170000
SUMMARY:Well-being:Wilderness First Aid (WFA) Course
DESCRIPTION:Ideal for individuals as well as groups and their leaders\, this 27 hour program covers topics ranging from preparation and prevention to assessment and treatment. Classroom lectures and discussions are supplemented by practical work and problem-solving exercises. The emphasis is always on hands-on experience. Scenarios are an important part of this training. While much of the material appears to be standard emergency care information\, the backcountry emphasis with long-term care and evacuation complications makes this course unique.
UID:3337-913272@events.umich.edu
URL:https://events.umich.edu/event/3337
CLASS:PUBLIC
STATUS:CONFIRMED
CATEGORIES:
LOCATION:
CONTACT:
END:VEVENT
BEGIN:VEVENT
DTSTAMP:20100909T114609
DTSTART;TZID=America/Detroit:20101203T083000
DTEND;TZID=America/Detroit:20101203T190000
SUMMARY:Exhibition:From Trace to Text: Highlights from the U-M Papyrus Collection
DESCRIPTION:This exhibit provides a behind-the-scenes look at the work of papyrologists: how they conserve scraps of often badly damaged papyri\, decipher traces of ink\, read and translate the resulting text\, edit and interpret its contents\, and make this available to both scholars and the general public. Modern technology\, such as digitization and multi-spectral imaging\, is aiding papyrologists in all of these efforts.\n\nTexts on display are some of the highlights of the collection. They include a wonderful drawing of an elephant\, a letter from a newly enlisted soldier to his mother\, and\, of course\, some pages of the oldest manuscript with letters of St. Paul (one of the most famous texts of the collection).\n\nIn its 90-year history\, the University of Michigan Papyrus Collection has trained more students and scholars in the field of papyrology than any other institution in North America. Founded by the visionary Francis W. Kelsey\, the Papyrus Collection has been the training ground for papyrologists from around the world and home to many great resident scholars\, such as Herbert and Louise Youtie\, Ludwig Koenen\, and Traianos Gagos\, who died on April 26\, 2010.\n\nPapyrology is the field of scholarship that deciphers and studies the texts written –primarily on papyrus– by people living in the ancient Mediterranean world between 2\,500 BCE and 1\,000 CE. Most of these texts are found in Egypt where the climate is dry enough to preserve this fragile material. It is a highly specialized and technical field\, requiring intensive training in language (Egyptian\, ancient Greek\, Latin\, Arabic)\, history\, and the unique set of skills necessary for reading original documents.\n\nThe exhibit is open during Audubon Room hours: Sun 1-7pm\, Mon-Fri 8:30-7pm\, Sat 10am-6pm.\n\nThis Exhibit is in Honor of Traianos Gagos (1960-2010).
UID:3497-917788@events.umich.edu
URL:https://events.umich.edu/event/3497
CLASS:PUBLIC
STATUS:CONFIRMED
CATEGORIES:
LOCATION:Hatcher Graduate Library - Audubon Room
CONTACT:
END:VEVENT
BEGIN:VEVENT
DTSTAMP:20100826T223421
DTSTART;TZID=America/Detroit:20101203T090000
SUMMARY:Exhibition:The View From Below
DESCRIPTION:Curator: Sara Blair\, University of Michigan
UID:3384-917849@events.umich.edu
URL:https://events.umich.edu/event/3384
CLASS:PUBLIC
STATUS:CONFIRMED
CATEGORIES:visual arts
LOCATION:202 S. Thayer - Humanities Gallery
CONTACT:
END:VEVENT
BEGIN:VEVENT
DTSTAMP:20101111T175904
DTSTART;TZID=America/Detroit:20101203T100000
SUMMARY:Exhibition:UMMA Projects: Simon Dybbroe MÃ¸ller
DESCRIPTION:Things are not always as they seem in the work of Simon Dybbroe MÃ¸ller. Indeed\, the Danish artist's works can at times appear to have been teleported from a slightly askew\, alternate version of the past. Seemingly familiar forms often appear in unexpected configurations and objects we think we recognize turn out to be something else entirely. An abstract wall painting emerges from beneath a layer of peeling plaster. A group of minimalist sculptures turn out to be the pieces of an enlarged Soma cube. This uncertainty is central to the experience of Dybbroe MÃ¸ller's work\, where an initial misrecognition leads to a moment of aesthetic discovery.\n\nDybbroe MÃ¸ller's penchant for puzzles and paradoxes reflects his interest in modernism's theoretical aspirations as well as its practical failings. Similarly\, his frequent adoption of “outmoded” media both provides him with a diverse artistic palette and a means of questioning the past century's faith in progress through technology and the avant-garde promise of continual artistic development.\n\nFor Dybbroe MÃ¸ller's first solo exhibition in a North American museum\, UMMA will present a new body of work that continues his ongoing engagement with and critique of the modernist paradigm of transparency.
UID:4185-921773@events.umich.edu
URL:https://events.umich.edu/event/4185
CLASS:PUBLIC
STATUS:CONFIRMED
CATEGORIES:visual arts
LOCATION:Museum of Art - Projects Gallery
CONTACT:
END:VEVENT
BEGIN:VEVENT
DTSTAMP:20101122T230157
DTSTART;TZID=America/Detroit:20101203T180000
DTEND;TZID=America/Detroit:20101203T220000
SUMMARY:Exhibition:World AIDS Day: Arts on Screen Project
DESCRIPTION:Poetry\, visual art\, and facts about the current state of AIDS combine in a silent film that will be projected from UMMA's Commons beginning on December 1. The film will be visible from the Diag pedestrian walkways behind the Museum. All of the visual art shown in the film comes from UMMA's collections and was created by artists suffering from HIV/AIDS or in response to loss endured as a result of the disease. The film offers a space for viewers to consider those in our community and around the world who have died from or are still living with HIV/AIDS today. The film also celebrates these artists and their contributions to the contemporary conversation about this devastating disease.
UID:4263-995810@events.umich.edu
URL:https://events.umich.edu/event/4263
CLASS:PUBLIC
STATUS:CONFIRMED
CATEGORIES:film,literary arts,music,social justice,visual arts
LOCATION:Museum of Art - Commons
CONTACT:
END:VEVENT
BEGIN:VEVENT
DTSTAMP:20101209T230226
DTSTART;TZID=America/Detroit:20101203T200000
SUMMARY:Performance:By the Way: Music in Pluralism
DESCRIPTION:The brainchild of five University artists\, synthesizing musical composition with modern dance\, installation lighting\, and real-time video processing.  The continuously performed music juxtaposes distinct sound-worlds\, blanketed by a Pluralist (Hell\, Anything Goes) aesthetic. Dance and looped video highlight the music to its fullest possible extent in a visual format everyone will enjoy.\n\nCreated by U-M students William Zuckerman (Composer)\, Tara Sheena (Choreographer)\, Teresa Dennis (Live Video Artist)\, Subaram Raman (Conductor)\, and Robert Alexander (Technical Director)
UID:4375-1086861@events.umich.edu
URL:https://events.umich.edu/event/4375
CLASS:PUBLIC
STATUS:CONFIRMED
CATEGORIES:music
LOCATION:Duderstadt Center - Video Studio
CONTACT:
END:VEVENT
BEGIN:VEVENT
DTSTAMP:20101207T230210
DTSTART;TZID=America/Detroit:20101203T200000
DTEND;TZID=America/Detroit:20101203T000000
SUMMARY:Community Service:Circle K Formal
DESCRIPTION:Come join Circle K for a night of fun\, dancing and good will! Our annual formal raises money for deserving service organizations and this year we are going to dance the night away to benefit the Global Releaf of Michigan! There will also be performances from Maize Mirchi and MSalsa in addition to a slow dance auction\, and even the crowning of our very own Circle K Formal king and queen! Tickets will be on sale at the Michigan Union Ticket Office and at the door for $10 each. All of the proceeds will go towards the Global Releaf of Michigan\, a great local charity dedicated to curbing the problem of global warming in urban settings like Detroit. For more info about this great cause visit their webpage at www.globalreleaf.com.
UID:4330-1072046@events.umich.edu
URL:https://events.umich.edu/event/4330
CLASS:PUBLIC
STATUS:CONFIRMED
CATEGORIES:
LOCATION:Michigan Union - Anderson Room
CONTACT:
END:VEVENT
BEGIN:VEVENT
DTSTAMP:20101111T175734
DTSTART;TZID=America/Detroit:20101203T200000
SUMMARY:Performance:Orpheum Bell
DESCRIPTION:Ann Arbor's own Orpheum Bell came together as its members were combing through country and folk rhythms\, instrumental waltzes\, and Gypsy melodies. The mixture they came up with and shaped into original songs is unique. The band's quiet sound is focused on vocals\, accordion\, guitar\, and double bass\, with additional texture and luster spreading from banjo\, trumpet\, xylophone\, shepherd harp\, musical saw\, pedal steel\, a suitcase pump organ\, cittern\, dobro\, foot percussion\, and various ukuleles and mechanical horned violins. The members come at the music from different angles -- a classically trained harpsichordist\, a rural folk polymath\, a church choir girl\, one from Holland\, another from Ukraine. Everything is done with care\, and this is a band whose handmade album covers are worth the price of concert admission all by themselves. Turning half-forgotten musical styles into something absolutely modern\, gripping\, and often hypnotic\, Orpheum Bell has created something new and different in Michigan music -- and American music.
UID:1795-915955@events.umich.edu
URL:https://events.umich.edu/event/1795
CLASS:PUBLIC
STATUS:CONFIRMED
CATEGORIES:music
LOCATION:
CONTACT:
END:VEVENT
BEGIN:VEVENT
DTSTAMP:20101119T230154
DTSTART;TZID=America/Detroit:20101203T200000
SUMMARY:Performance:The Friars 55th Annual Study Break Concert
DESCRIPTION:An evening of uproarious humor and sinceriously beautiful a cappella music\,  brought to you by Michigan's oldest a cappella ensemble.
UID:4257-979207@events.umich.edu
URL:https://events.umich.edu/event/4257
CLASS:PUBLIC
STATUS:CONFIRMED
CATEGORIES:music
LOCATION:Rackham Graduate School (Horace H.) - Auditorium
CONTACT:
END:VEVENT
BEGIN:VEVENT
DTSTAMP:20101111T175633
DTSTART;TZID=America/Detroit:20101203T203000
DTEND;TZID=America/Detroit:20101203T230000
SUMMARY:Performance:Poetry Slam
DESCRIPTION:Doors open at 8:30\, and the event starts PROMPTLY at 9pm.\n\nCost is $5 per person.\n\nThere is an OPEN MIC session from 9-9:30pm where poets showcase their skills  without being judged.\n\nThe SLAM is a competition wherein 7 poets have 3 minutes to give the crowd their  best work. The winner of the slam will be photographed\, automatically entered into  the GRAND SLAM\, and will receive a special prize!\n\nFrom 10:15-11pm\, there will be a featured poet!\n\nCome...Listen...Perform...ENJOY!!!
UID:3696-911694@events.umich.edu
URL:https://events.umich.edu/event/3696
CLASS:PUBLIC
STATUS:CONFIRMED
CATEGORIES:literary arts
LOCATION:Michigan Union - The University Club (U-Club)
CONTACT:
END:VEVENT
END:VCALENDAR