BEGIN:VCALENDAR
VERSION:2.0
PRODID:-//UM//UM*Events//EN
CALSCALE:GREGORIAN
BEGIN:VTIMEZONE
TZID:America/Detroit
TZURL:http://tzurl.org/zoneinfo/America/Detroit
X-LIC-LOCATION:America/Detroit
BEGIN:DAYLIGHT
TZOFFSETFROM:-0500
TZOFFSETTO:-0400
TZNAME:EDT
DTSTART:20070311T020000
RRULE:FREQ=YEARLY;BYMONTH=3;BYDAY=2SU
END:DAYLIGHT
BEGIN:STANDARD
TZOFFSETFROM:-0400
TZOFFSETTO:-0500
TZNAME:EST
DTSTART:20071104T020000
RRULE:FREQ=YEARLY;BYMONTH=11;BYDAY=1SU
END:STANDARD
END:VTIMEZONE
BEGIN:VEVENT
DTSTAMP:20100819T201819
DTSTART;TZID=America/Detroit:20101204T080000
DTEND;TZID=America/Detroit:20101204T170000
SUMMARY:Well-being:Wilderness First Aid (WFA) Course
DESCRIPTION:Ideal for individuals as well as groups and their leaders\, this 27 hour program covers topics ranging from preparation and prevention to assessment and treatment. Classroom lectures and discussions are supplemented by practical work and problem-solving exercises. The emphasis is always on hands-on experience. Scenarios are an important part of this training. While much of the material appears to be standard emergency care information\, the backcountry emphasis with long-term care and evacuation complications makes this course unique.
UID:3337-913273@events.umich.edu
URL:https://events.umich.edu/event/3337
CLASS:PUBLIC
STATUS:CONFIRMED
CATEGORIES:
LOCATION:
CONTACT:
END:VEVENT
BEGIN:VEVENT
DTSTAMP:20100909T114609
DTSTART;TZID=America/Detroit:20101204T083000
DTEND;TZID=America/Detroit:20101204T190000
SUMMARY:Exhibition:From Trace to Text: Highlights from the U-M Papyrus Collection
DESCRIPTION:This exhibit provides a behind-the-scenes look at the work of papyrologists: how they conserve scraps of often badly damaged papyri\, decipher traces of ink\, read and translate the resulting text\, edit and interpret its contents\, and make this available to both scholars and the general public. Modern technology\, such as digitization and multi-spectral imaging\, is aiding papyrologists in all of these efforts.\n\nTexts on display are some of the highlights of the collection. They include a wonderful drawing of an elephant\, a letter from a newly enlisted soldier to his mother\, and\, of course\, some pages of the oldest manuscript with letters of St. Paul (one of the most famous texts of the collection).\n\nIn its 90-year history\, the University of Michigan Papyrus Collection has trained more students and scholars in the field of papyrology than any other institution in North America. Founded by the visionary Francis W. Kelsey\, the Papyrus Collection has been the training ground for papyrologists from around the world and home to many great resident scholars\, such as Herbert and Louise Youtie\, Ludwig Koenen\, and Traianos Gagos\, who died on April 26\, 2010.\n\nPapyrology is the field of scholarship that deciphers and studies the texts written –primarily on papyrus– by people living in the ancient Mediterranean world between 2\,500 BCE and 1\,000 CE. Most of these texts are found in Egypt where the climate is dry enough to preserve this fragile material. It is a highly specialized and technical field\, requiring intensive training in language (Egyptian\, ancient Greek\, Latin\, Arabic)\, history\, and the unique set of skills necessary for reading original documents.\n\nThe exhibit is open during Audubon Room hours: Sun 1-7pm\, Mon-Fri 8:30-7pm\, Sat 10am-6pm.\n\nThis Exhibit is in Honor of Traianos Gagos (1960-2010).
UID:3497-917789@events.umich.edu
URL:https://events.umich.edu/event/3497
CLASS:PUBLIC
STATUS:CONFIRMED
CATEGORIES:
LOCATION:Hatcher Graduate Library - Audubon Room
CONTACT:
END:VEVENT
BEGIN:VEVENT
DTSTAMP:20100826T223421
DTSTART;TZID=America/Detroit:20101204T090000
SUMMARY:Exhibition:The View From Below
DESCRIPTION:Curator: Sara Blair\, University of Michigan
UID:3384-917850@events.umich.edu
URL:https://events.umich.edu/event/3384
CLASS:PUBLIC
STATUS:CONFIRMED
CATEGORIES:visual arts
LOCATION:202 S. Thayer - Humanities Gallery
CONTACT:
END:VEVENT
BEGIN:VEVENT
DTSTAMP:20101111T175613
DTSTART;TZID=America/Detroit:20101204T100000
SUMMARY:Workshop / Seminar:Drawing into Painting
DESCRIPTION:If you've always wanted to try to draw and paint but never knew where to start\, this is the course for you! Explore the fundamental principals of drawing and painting and learn how to transition from drawing into painting in the inspiring environment of the museum. Lab fee includes basic painting materials. Please bring 11 x 14 inch or larger drawing pad\; HB\, 4B\, or 6B drawing pencils\; and kneaded eraser to the first class. All levels welcome.
UID:4053-910104@events.umich.edu
URL:https://events.umich.edu/event/4053
CLASS:PUBLIC
STATUS:CONFIRMED
CATEGORIES:visual arts
LOCATION:Museum of Art - Multipurpose Room
CONTACT:
END:VEVENT
BEGIN:VEVENT
DTSTAMP:20101111T175904
DTSTART;TZID=America/Detroit:20101204T100000
SUMMARY:Exhibition:UMMA Projects: Simon Dybbroe MÃ¸ller
DESCRIPTION:Things are not always as they seem in the work of Simon Dybbroe MÃ¸ller. Indeed\, the Danish artist's works can at times appear to have been teleported from a slightly askew\, alternate version of the past. Seemingly familiar forms often appear in unexpected configurations and objects we think we recognize turn out to be something else entirely. An abstract wall painting emerges from beneath a layer of peeling plaster. A group of minimalist sculptures turn out to be the pieces of an enlarged Soma cube. This uncertainty is central to the experience of Dybbroe MÃ¸ller's work\, where an initial misrecognition leads to a moment of aesthetic discovery.\n\nDybbroe MÃ¸ller's penchant for puzzles and paradoxes reflects his interest in modernism's theoretical aspirations as well as its practical failings. Similarly\, his frequent adoption of “outmoded” media both provides him with a diverse artistic palette and a means of questioning the past century's faith in progress through technology and the avant-garde promise of continual artistic development.\n\nFor Dybbroe MÃ¸ller's first solo exhibition in a North American museum\, UMMA will present a new body of work that continues his ongoing engagement with and critique of the modernist paradigm of transparency.
UID:4185-921774@events.umich.edu
URL:https://events.umich.edu/event/4185
CLASS:PUBLIC
STATUS:CONFIRMED
CATEGORIES:visual arts
LOCATION:Museum of Art - Projects Gallery
CONTACT:
END:VEVENT
BEGIN:VEVENT
DTSTAMP:20101111T175720
DTSTART;TZID=America/Detroit:20101204T103000
DTEND;TZID=America/Detroit:20101204T113000
SUMMARY:Lecture / Discussion:Particle Accelerators or Atom Smashers: the Engines of Discovery
DESCRIPTION:Research enabled by particle accelerators has lead to our discoveries and current  understanding of nuclei and elementary particles. This talk will review and explain  the operation of these accelerators from the cyclotrons (of the 1930s) to the current  colliding beams research facilities\, such as the CERN Large Hadron Collider.
UID:3779-914958@events.umich.edu
URL:https://events.umich.edu/event/3779
CLASS:PUBLIC
STATUS:CONFIRMED
CATEGORIES:
LOCATION:Weiser Hall - 170 &amp;amp; 182
CONTACT:
END:VEVENT
BEGIN:VEVENT
DTSTAMP:20101122T230157
DTSTART;TZID=America/Detroit:20101204T180000
DTEND;TZID=America/Detroit:20101204T220000
SUMMARY:Exhibition:World AIDS Day: Arts on Screen Project
DESCRIPTION:Poetry\, visual art\, and facts about the current state of AIDS combine in a silent film that will be projected from UMMA's Commons beginning on December 1. The film will be visible from the Diag pedestrian walkways behind the Museum. All of the visual art shown in the film comes from UMMA's collections and was created by artists suffering from HIV/AIDS or in response to loss endured as a result of the disease. The film offers a space for viewers to consider those in our community and around the world who have died from or are still living with HIV/AIDS today. The film also celebrates these artists and their contributions to the contemporary conversation about this devastating disease.
UID:4263-995811@events.umich.edu
URL:https://events.umich.edu/event/4263
CLASS:PUBLIC
STATUS:CONFIRMED
CATEGORIES:film,literary arts,music,social justice,visual arts
LOCATION:Museum of Art - Commons
CONTACT:
END:VEVENT
BEGIN:VEVENT
DTSTAMP:20101209T230226
DTSTART;TZID=America/Detroit:20101204T200000
SUMMARY:Performance:By the Way: Music in Pluralism
DESCRIPTION:The brainchild of five University artists\, synthesizing musical composition with modern dance\, installation lighting\, and real-time video processing.  The continuously performed music juxtaposes distinct sound-worlds\, blanketed by a Pluralist (Hell\, Anything Goes) aesthetic. Dance and looped video highlight the music to its fullest possible extent in a visual format everyone will enjoy.\n\nCreated by U-M students William Zuckerman (Composer)\, Tara Sheena (Choreographer)\, Teresa Dennis (Live Video Artist)\, Subaram Raman (Conductor)\, and Robert Alexander (Technical Director)
UID:4375-1086862@events.umich.edu
URL:https://events.umich.edu/event/4375
CLASS:PUBLIC
STATUS:CONFIRMED
CATEGORIES:music
LOCATION:Duderstadt Center - Video Studio
CONTACT:
END:VEVENT
BEGIN:VEVENT
DTSTAMP:20101122T230156
DTSTART;TZID=America/Detroit:20101204T200000
SUMMARY:Performance:G-Rassic Park
DESCRIPTION:The G-Men present their annual Fall Semester Concert.
UID:4266-995767@events.umich.edu
URL:https://events.umich.edu/event/4266
CLASS:PUBLIC
STATUS:CONFIRMED
CATEGORIES:music
LOCATION:Rackham Graduate School (Horace H.) - Auditorium
CONTACT:
END:VEVENT
BEGIN:VEVENT
DTSTAMP:20101111T175846
DTSTART;TZID=America/Detroit:20101204T200000
SUMMARY:Performance:The Gibson Brothers
DESCRIPTION:
UID:2875-920686@events.umich.edu
URL:https://events.umich.edu/event/2875
CLASS:PUBLIC
STATUS:CONFIRMED
CATEGORIES:music
LOCATION:
CONTACT:
END:VEVENT
END:VCALENDAR