BEGIN:VCALENDAR
VERSION:2.0
PRODID:-//UM//UM*Events//EN
CALSCALE:GREGORIAN
BEGIN:VTIMEZONE
TZID:America/Detroit
TZURL:http://tzurl.org/zoneinfo/America/Detroit
X-LIC-LOCATION:America/Detroit
BEGIN:DAYLIGHT
TZOFFSETFROM:-0500
TZOFFSETTO:-0400
TZNAME:EDT
DTSTART:20070311T020000
RRULE:FREQ=YEARLY;BYMONTH=3;BYDAY=2SU
END:DAYLIGHT
BEGIN:STANDARD
TZOFFSETFROM:-0400
TZOFFSETTO:-0500
TZNAME:EST
DTSTART:20071104T020000
RRULE:FREQ=YEARLY;BYMONTH=11;BYDAY=1SU
END:STANDARD
END:VTIMEZONE
BEGIN:VEVENT
DTSTAMP:20100909T114609
DTSTART;TZID=America/Detroit:20101206T083000
DTEND;TZID=America/Detroit:20101206T190000
SUMMARY:Exhibition:From Trace to Text: Highlights from the U-M Papyrus Collection
DESCRIPTION:This exhibit provides a behind-the-scenes look at the work of papyrologists: how they conserve scraps of often badly damaged papyri\, decipher traces of ink\, read and translate the resulting text\, edit and interpret its contents\, and make this available to both scholars and the general public. Modern technology\, such as digitization and multi-spectral imaging\, is aiding papyrologists in all of these efforts.\n\nTexts on display are some of the highlights of the collection. They include a wonderful drawing of an elephant\, a letter from a newly enlisted soldier to his mother\, and\, of course\, some pages of the oldest manuscript with letters of St. Paul (one of the most famous texts of the collection).\n\nIn its 90-year history\, the University of Michigan Papyrus Collection has trained more students and scholars in the field of papyrology than any other institution in North America. Founded by the visionary Francis W. Kelsey\, the Papyrus Collection has been the training ground for papyrologists from around the world and home to many great resident scholars\, such as Herbert and Louise Youtie\, Ludwig Koenen\, and Traianos Gagos\, who died on April 26\, 2010.\n\nPapyrology is the field of scholarship that deciphers and studies the texts written –primarily on papyrus– by people living in the ancient Mediterranean world between 2\,500 BCE and 1\,000 CE. Most of these texts are found in Egypt where the climate is dry enough to preserve this fragile material. It is a highly specialized and technical field\, requiring intensive training in language (Egyptian\, ancient Greek\, Latin\, Arabic)\, history\, and the unique set of skills necessary for reading original documents.\n\nThe exhibit is open during Audubon Room hours: Sun 1-7pm\, Mon-Fri 8:30-7pm\, Sat 10am-6pm.\n\nThis Exhibit is in Honor of Traianos Gagos (1960-2010).
UID:3497-917791@events.umich.edu
URL:https://events.umich.edu/event/3497
CLASS:PUBLIC
STATUS:CONFIRMED
CATEGORIES:
LOCATION:Hatcher Graduate Library - Audubon Room
CONTACT:
END:VEVENT
BEGIN:VEVENT
DTSTAMP:20100826T223421
DTSTART;TZID=America/Detroit:20101206T090000
SUMMARY:Exhibition:The View From Below
DESCRIPTION:Curator: Sara Blair\, University of Michigan
UID:3384-917852@events.umich.edu
URL:https://events.umich.edu/event/3384
CLASS:PUBLIC
STATUS:CONFIRMED
CATEGORIES:visual arts
LOCATION:202 S. Thayer - Humanities Gallery
CONTACT:
END:VEVENT
BEGIN:VEVENT
DTSTAMP:20101122T230153
DTSTART;TZID=America/Detroit:20101206T110000
DTEND;TZID=America/Detroit:20101206T170000
SUMMARY:Exhibition:Student Art Sale
DESCRIPTION:Calling all student artists! We're hosting our annual Student Art Sale in the Michigan League lobby\, and you can sell your work to earn some extra end-of-semester cash. Students\, staff\, faculty\, and other members of the UM community should stop by to check out the work of our talented students and pick up some great holiday gifts.\n\nTo submit your work or learn more\, please email uuapexhibits@umich.edu.
UID:4264-995685@events.umich.edu
URL:https://events.umich.edu/event/4264
CLASS:PUBLIC
STATUS:CONFIRMED
CATEGORIES:
LOCATION:Michigan League - Lobby
CONTACT:
END:VEVENT
BEGIN:VEVENT
DTSTAMP:20101111T175641
DTSTART;TZID=America/Detroit:20101206T120000
DTEND;TZID=America/Detroit:20101206T133000
SUMMARY:Other:Jane Dutton\, Erb Colloquium
DESCRIPTION:Dr. Dutton is Robert L. Kahn\, Distinguished University Professor of Business  Administration and Psychology at U-M.  12 - 1:30 pm\, Dana 2024. Open to the University Community.\n\n Erb Institute Colloquium\n\nA bi-weekly research seminar featuring the latest insights and state of the art  knowledge in the broad field of sustainable enterprise. Faculty spanning Economists\,  Legal and Management Scholars as well as Natural Scientists from both within U of M  and other leading Institutions present and discuss their work in an interdisciplinary  and interactive framework. The general structure of the seminar allows the speaker  45 minutes\, then an assigned discussant from a different discipline adds comments  and ideas\, followed by general discussion.  In our experience\, the Colloquium  proves to be a valuable source of new ideas for faculty\, graduate students and  practitioners alike. Past speakers have included such scholars as Geoffrey Heal\,  Stuart Hart\, Jim Walsh\, Steve Salant\, Tima Bansal\, Mike Lenox\, Magali Delmas\,  John Maxwell\, Andy King\, Mike Toffel\, David Popp\, Madhu Khanna\, and Jay Golden\,  and David Ulhmann.
UID:3900-912452@events.umich.edu
URL:https://events.umich.edu/event/3900
CLASS:PUBLIC
STATUS:CONFIRMED
CATEGORIES:
LOCATION:Dana Natural Resources  Building - 2024
CONTACT:
END:VEVENT
BEGIN:VEVENT
DTSTAMP:20101021T164245
DTSTART;TZID=America/Detroit:20101206T120000
DTEND;TZID=America/Detroit:20101206T133000
SUMMARY:Lecture / Discussion:Liberia\, the Next Decade
DESCRIPTION:Background on the infrastructure of the health care delivery system in Liberia with the resulting impact on the health of its citizens will be presented in the context of a country emerging from the ravages of civil war. Dr. Boyd and Dr. Lori will discuss successful in-country collaborations and challenges faced working in a post-conflict country. Jody R. Lori\, PhD\, CNM\, FACNM is an Assistant Clinical Professor at the University of Michigan\, School of Nursing where she directs the Office of Global Outreach and serves as Deputy Director of the WHO Collaborating Center. She received her PhD in Nursing from the University of Arizona in 2009. Her program of research focuses on community-based interventions to address the high rates of maternal and neonatal mortality in sub-Saharan Africa as well as strategies to increase training and deployment of human resources for health. Her work is based on a human rights approach to reduce disparate outcomes in maternal child health. Carol J. Boyd directs the Institute for Research on Women and Gender at the University of Michigan. She is also the Deborah J. Oakley Collegiate Professor of Nursing\, Professor of Women's Studies\, and Research Professor at the Substance Abuse Research Center. She received her doctorate in Nursing with an Anthropology cognate in 1987 from Wayne State University\; her MSN in Psychiatric Nursing was also earned at Wayne State in 1982. Prof. Boyd's earlier research focused on women's abuse of heroin and crack cocaine\, but her more recent studies focus on adolescent and young adult populations--especially their use of prescription drugs. She strongly supports global health initiatives and has worked in Poland\, Canada\, China\, Ghana\, and Liberia. This talk is part of the series Gender\, Sexual and Reproductive Health: A Global Perspective. It is cohosted by the School of Public Health.
UID:4125-921564@events.umich.edu
URL:https://events.umich.edu/event/4125
CLASS:PUBLIC
STATUS:CONFIRMED
CATEGORIES:
LOCATION:Michigan Union - Pond Room
CONTACT:
END:VEVENT
BEGIN:VEVENT
DTSTAMP:20100929T102837
DTSTART;TZID=America/Detroit:20101206T180000
DTEND;TZID=America/Detroit:20101206T200000
SUMMARY:Well-being:Free and Anonymous HIV Testing
DESCRIPTION:Every Monday during the academic year\, a counselor from HARC\, the HIV/AIDS Resource Center\, is at the Spectrum Center from 6-8 pm offering free and anonymous HIV testing. The Spectrum Center is a welcoming and safe space for all seeking testing. For more information on HARC and testing\, call 800.578.2300\, 734.572.9355\, or visit them on the web at http://hivaidsresource.org/
UID:3894-909584@events.umich.edu
URL:https://events.umich.edu/event/3894
CLASS:PUBLIC
STATUS:CONFIRMED
CATEGORIES:respect,social justice
LOCATION:Michigan Union - Spectrum Center - 3200
CONTACT:
END:VEVENT
BEGIN:VEVENT
DTSTAMP:20100910T164015
DTSTART;TZID=America/Detroit:20101206T180000
DTEND;TZID=America/Detroit:20101206T193000
SUMMARY:Workshop / Seminar:Partners of Transfolk
DESCRIPTION:The Spectrum Center is excited to announce our new Partners of Transfolk Support Group. This is a bi-weekly open forum drop-in group to provide support and community for people of all genders to discuss and explore their relationships with trans-identified or gender non-conforming individuals in a safe environment. Group is open to people currently or formerly in partnerships with trans-people.  The group will meet on the first and third Mondays of the month in the Spectrum Center\, which is located at 3200 Michigan Union (3rd Floor)\, 530 South State Street\, Ann Arbor. If you have any questions please contact partnersoftransfolk@umich.edu.
UID:3591-916045@events.umich.edu
URL:https://events.umich.edu/event/3591
CLASS:PUBLIC
STATUS:CONFIRMED
CATEGORIES:
LOCATION:Michigan Union - 3200
CONTACT:
END:VEVENT
BEGIN:VEVENT
DTSTAMP:20101111T175621
DTSTART;TZID=America/Detroit:20101206T180000
DTEND;TZID=America/Detroit:20101206T070000
SUMMARY:Lecture / Discussion:PROFS
DESCRIPTION:Energizing Michigan's Economy: Creating Jobs and Reducing Pollution with Clean Energy Policies Professor Mike Shriberg\n\nPROFS is a monthly lecture series held at the Michigan Union that seeks to provide students with opportunities for  intimate interaction with professors outside of the classroom. These monthly meetings differ each time in regards  to the professor and their lecture topic
UID:4158-910904@events.umich.edu
URL:https://events.umich.edu/event/4158
CLASS:PUBLIC
STATUS:CONFIRMED
CATEGORIES:
LOCATION:Michigan Union - UClub
CONTACT:
END:VEVENT
BEGIN:VEVENT
DTSTAMP:20101104T161457
DTSTART;TZID=America/Detroit:20101206T180000
SUMMARY:Lecture / Discussion:PROFS
DESCRIPTION:\"Energizing Michigan's Economy: Creating Jobs and Reducing Pollution with Clean Energy Policies\"\n\nProfessor Mike Shriberg Education Director\, Graham Environmental Sustainability Institute Lecturer\, Program In The Environment (PitE)\n\n PROFS is a monthly lecture series held at the Union by University Unions Arts and Programs  (UUAP) and Mortar Board that seeks to provide students with opportunities for intimate  interaction with professors outside of the classroom. These monthly meetings differ each time in  regards to the  professor and their lecture topic.\n\nFREE Pizza and refreshments provided!!!
UID:3893-923637@events.umich.edu
URL:https://events.umich.edu/event/3893
CLASS:PUBLIC
STATUS:CONFIRMED
CATEGORIES:
LOCATION:Michigan Union - UClub
CONTACT:
END:VEVENT
BEGIN:VEVENT
DTSTAMP:20101111T175857
DTSTART;TZID=America/Detroit:20101206T200000
SUMMARY:Performance:John Berry
DESCRIPTION:If there's a country music lover in your life\, what better way is there to celebrate the  holidays than with a pair of tickets to see John Berry at The Ark? This romantic  tenor shows just how strong Nashville vocals have become over the last decade or  so\, and his \"Your Love Amazes Me\,\" a megahit a few years back\, is going to be  around more or less forever. John's Christmas album \"O Holy Night Live\" has gone  through multiple pressings\, and it's easy to see why–this country crooner captures  the essence of the holiday season with his warm vocals and consummate  showmanship.
UID:4025-921274@events.umich.edu
URL:https://events.umich.edu/event/4025
CLASS:PUBLIC
STATUS:CONFIRMED
CATEGORIES:music
LOCATION:
CONTACT:
END:VEVENT
BEGIN:VEVENT
DTSTAMP:20101005T152758
DTSTART;TZID=America/Detroit:20101206T200000
DTEND;TZID=America/Detroit:20101206T210000
SUMMARY:Other:Survival Bingo
DESCRIPTION:This is not your grandma's bingo game. Come take a study break and play a fast-paced game of bingo for a chance to win prizes that will help you \"survive\" the term!
UID:3926-915715@events.umich.edu
URL:https://events.umich.edu/event/3926
CLASS:PUBLIC
STATUS:CONFIRMED
CATEGORIES:
LOCATION:Michigan Union - UClub
CONTACT:
END:VEVENT
END:VCALENDAR