BEGIN:VCALENDAR
VERSION:2.0
PRODID:-//UM//UM*Events//EN
CALSCALE:GREGORIAN
BEGIN:VTIMEZONE
TZID:America/Detroit
TZURL:http://tzurl.org/zoneinfo/America/Detroit
X-LIC-LOCATION:America/Detroit
BEGIN:DAYLIGHT
TZOFFSETFROM:-0500
TZOFFSETTO:-0400
TZNAME:EDT
DTSTART:20070311T020000
RRULE:FREQ=YEARLY;BYMONTH=3;BYDAY=2SU
END:DAYLIGHT
BEGIN:STANDARD
TZOFFSETFROM:-0400
TZOFFSETTO:-0500
TZNAME:EST
DTSTART:20071104T020000
RRULE:FREQ=YEARLY;BYMONTH=11;BYDAY=1SU
END:STANDARD
END:VTIMEZONE
BEGIN:VEVENT
DTSTAMP:20100909T114609
DTSTART;TZID=America/Detroit:20101207T083000
DTEND;TZID=America/Detroit:20101207T190000
SUMMARY:Exhibition:From Trace to Text: Highlights from the U-M Papyrus Collection
DESCRIPTION:This exhibit provides a behind-the-scenes look at the work of papyrologists: how they conserve scraps of often badly damaged papyri\, decipher traces of ink\, read and translate the resulting text\, edit and interpret its contents\, and make this available to both scholars and the general public. Modern technology\, such as digitization and multi-spectral imaging\, is aiding papyrologists in all of these efforts.\n\nTexts on display are some of the highlights of the collection. They include a wonderful drawing of an elephant\, a letter from a newly enlisted soldier to his mother\, and\, of course\, some pages of the oldest manuscript with letters of St. Paul (one of the most famous texts of the collection).\n\nIn its 90-year history\, the University of Michigan Papyrus Collection has trained more students and scholars in the field of papyrology than any other institution in North America. Founded by the visionary Francis W. Kelsey\, the Papyrus Collection has been the training ground for papyrologists from around the world and home to many great resident scholars\, such as Herbert and Louise Youtie\, Ludwig Koenen\, and Traianos Gagos\, who died on April 26\, 2010.\n\nPapyrology is the field of scholarship that deciphers and studies the texts written –primarily on papyrus– by people living in the ancient Mediterranean world between 2\,500 BCE and 1\,000 CE. Most of these texts are found in Egypt where the climate is dry enough to preserve this fragile material. It is a highly specialized and technical field\, requiring intensive training in language (Egyptian\, ancient Greek\, Latin\, Arabic)\, history\, and the unique set of skills necessary for reading original documents.\n\nThe exhibit is open during Audubon Room hours: Sun 1-7pm\, Mon-Fri 8:30-7pm\, Sat 10am-6pm.\n\nThis Exhibit is in Honor of Traianos Gagos (1960-2010).
UID:3497-917792@events.umich.edu
URL:https://events.umich.edu/event/3497
CLASS:PUBLIC
STATUS:CONFIRMED
CATEGORIES:
LOCATION:Hatcher Graduate Library - Audubon Room
CONTACT:
END:VEVENT
BEGIN:VEVENT
DTSTAMP:20100826T223421
DTSTART;TZID=America/Detroit:20101207T090000
SUMMARY:Exhibition:The View From Below
DESCRIPTION:Curator: Sara Blair\, University of Michigan
UID:3384-917853@events.umich.edu
URL:https://events.umich.edu/event/3384
CLASS:PUBLIC
STATUS:CONFIRMED
CATEGORIES:visual arts
LOCATION:202 S. Thayer - Humanities Gallery
CONTACT:
END:VEVENT
BEGIN:VEVENT
DTSTAMP:20101111T175904
DTSTART;TZID=America/Detroit:20101207T100000
SUMMARY:Exhibition:UMMA Projects: Simon Dybbroe MÃ¸ller
DESCRIPTION:Things are not always as they seem in the work of Simon Dybbroe MÃ¸ller. Indeed\, the Danish artist's works can at times appear to have been teleported from a slightly askew\, alternate version of the past. Seemingly familiar forms often appear in unexpected configurations and objects we think we recognize turn out to be something else entirely. An abstract wall painting emerges from beneath a layer of peeling plaster. A group of minimalist sculptures turn out to be the pieces of an enlarged Soma cube. This uncertainty is central to the experience of Dybbroe MÃ¸ller's work\, where an initial misrecognition leads to a moment of aesthetic discovery.\n\nDybbroe MÃ¸ller's penchant for puzzles and paradoxes reflects his interest in modernism's theoretical aspirations as well as its practical failings. Similarly\, his frequent adoption of “outmoded” media both provides him with a diverse artistic palette and a means of questioning the past century's faith in progress through technology and the avant-garde promise of continual artistic development.\n\nFor Dybbroe MÃ¸ller's first solo exhibition in a North American museum\, UMMA will present a new body of work that continues his ongoing engagement with and critique of the modernist paradigm of transparency.
UID:4185-921776@events.umich.edu
URL:https://events.umich.edu/event/4185
CLASS:PUBLIC
STATUS:CONFIRMED
CATEGORIES:visual arts
LOCATION:Museum of Art - Projects Gallery
CONTACT:
END:VEVENT
BEGIN:VEVENT
DTSTAMP:20101122T230153
DTSTART;TZID=America/Detroit:20101207T110000
DTEND;TZID=America/Detroit:20101207T170000
SUMMARY:Exhibition:Student Art Sale
DESCRIPTION:Calling all student artists! We're hosting our annual Student Art Sale in the Michigan League lobby\, and you can sell your work to earn some extra end-of-semester cash. Students\, staff\, faculty\, and other members of the UM community should stop by to check out the work of our talented students and pick up some great holiday gifts.\n\nTo submit your work or learn more\, please email uuapexhibits@umich.edu.
UID:4264-995686@events.umich.edu
URL:https://events.umich.edu/event/4264
CLASS:PUBLIC
STATUS:CONFIRMED
CATEGORIES:
LOCATION:Michigan League - Lobby
CONTACT:
END:VEVENT
BEGIN:VEVENT
DTSTAMP:20101116T203249
DTSTART;TZID=America/Detroit:20101207T160000
DTEND;TZID=America/Detroit:20101207T180000
SUMMARY:Lecture / Discussion:An Afternoon with the Curators at the Clements Library
DESCRIPTION:An Afternoon with the Curators William L. Clements Library 909 S. University Ann Arbor\, MI  48109   734-358-9770   December 7\, 2010 4 pm to 6 pm   Join us as the Curators discuss our current exhibit\, Sugar in the Atlantic World\,  1657-1040.  Using the Library's extensive materials the Curators tell the story of  the sugar trade in the British West Indies and the growth in trade for sugar and its  many uses.
UID:4272-1000847@events.umich.edu
URL:https://events.umich.edu/event/4272
CLASS:PUBLIC
STATUS:CONFIRMED
CATEGORIES:
LOCATION:William Clements Library - Great Room
CONTACT:
END:VEVENT
BEGIN:VEVENT
DTSTAMP:20101103T143514
DTSTART;TZID=America/Detroit:20101207T190000
DTEND;TZID=America/Detroit:20101207T203000
SUMMARY:Lecture / Discussion:Blaine Pardoe\, \"Lost Eagles\"
DESCRIPTION:\"We will leave no airman behind\" is the last line of the Air Force Creed\, and Frederick Zinn made that promise possible. In \"Lost Eagles: One Man's Mission to Find Missing Airmen in Two World Wars\,\" Blaine Pardoe tells the complex story of Zinn\, a man who brought peace and closure to countless families who lost airmen during both world wars. Zinn created the techniques still in use to determine the final fate of airmen missing in action. Book sale and signing will follow\, courtesy of Nicola's Books.\n\nPardoe is an accomplished author who has published dozens of military fiction novels and other books\, including the widely acclaimed Cubicle Warfare: Self-Defense Tactics for Today's Hypercompetitive Workplace.\n\nFree and open to the public. Public parking is available in the structure at 650 S. Forest\, just south of S. University Ave.
UID:4188-912750@events.umich.edu
URL:https://events.umich.edu/event/4188
CLASS:PUBLIC
STATUS:CONFIRMED
CATEGORIES:
LOCATION:Hatcher Graduate Library - Gallery in Room 100
CONTACT:
END:VEVENT
BEGIN:VEVENT
DTSTAMP:20101111T175656
DTSTART;TZID=America/Detroit:20101207T190000
DTEND;TZID=America/Detroit:20101207T210000
SUMMARY:Exhibition:Gleek Out @ Pierpont
DESCRIPTION:Join your fellow Michigan \"Gleeks\" at our weekly Glee watch party! Held every Tuesday\, from 7-9 pm in the Pierpont Commons TV lounge (near UGo's)\, this event will become a regular favorite for all the UM Glee fans out there.\n\nEach week we'll have a different competition to find Michigan's biggest Gleeks\, then watch the show together. (Because we get it. It's awesome.)\n\nHere's the schedule of Gleek Competitions:\n\n10/12-Best McKinley HS Cheer 10/26-Sue Sylvester Zing-Off 11/2-Dress as Your Fave Character Costume Contest 11/9-Name that Glee Tune 11/16-Slushie Eating Contest 11/30-Glee Karaoke Contest 12/7-Extreme Glee Trivia\n\nCome prepared to show your stuff\, and be crowned Michigan's Biggest Gleek!
UID:4007-913347@events.umich.edu
URL:https://events.umich.edu/event/4007
CLASS:PUBLIC
STATUS:CONFIRMED
CATEGORIES:visual arts
LOCATION:Pierpont Commons - TV Lounge (Near UGo&#039;s)
CONTACT:
END:VEVENT
BEGIN:VEVENT
DTSTAMP:20101118T230147
DTSTART;TZID=America/Detroit:20101207T190000
DTEND;TZID=America/Detroit:20101207T210000
SUMMARY:Performance:Ring of Steel Action Theatre
DESCRIPTION:Theatrical combat is a multidisciplinary art that combines acting with elements of  fencing\, martial arts\, dance\, and music to develop a safe and effective  performance. It is a distinct area of study\; essentially a marital art where the focus  is not to injure your partner. As with any martial art\, years of training are needed  before an individual is prepared to safely share their skills on the stage.\n\nThe Ring of Steel offers theatrical combat training in a wide range of weapons and  combat styles\, based in large part on Aikido and late period rapier.
UID:4252-973242@events.umich.edu
URL:https://events.umich.edu/event/4252
CLASS:PUBLIC
STATUS:CONFIRMED
CATEGORIES:architecture,dance,film,literary arts,music,theater,visual arts
LOCATION:
CONTACT:
END:VEVENT
BEGIN:VEVENT
DTSTAMP:20100902T201924
DTSTART;TZID=America/Detroit:20101207T200000
DTEND;TZID=America/Detroit:20101207T230000
SUMMARY:Exhibition:ArtsBreak
DESCRIPTION:Come explore your creative side and make free crafts at ArtsBreak! Held every Tuesday night\, these drop-in events give you the chance to relieve some stress by making a cool\, totally free craft project. Stop by anytime between 8-11 p.m.\n\nFor the most up-to-date list of projects\, check out our website at: http://www.umich.edu/~uuap.
UID:3466-918985@events.umich.edu
URL:https://events.umich.edu/event/3466
CLASS:PUBLIC
STATUS:CONFIRMED
CATEGORIES:visual arts
LOCATION:Michigan Union - MUG (Ground Floor)
CONTACT:
END:VEVENT
BEGIN:VEVENT
DTSTAMP:20101111T175843
DTSTART;TZID=America/Detroit:20101207T200000
SUMMARY:Performance:Lee Murdock Christmas Ship Concert
DESCRIPTION:
UID:2787-920520@events.umich.edu
URL:https://events.umich.edu/event/2787
CLASS:PUBLIC
STATUS:CONFIRMED
CATEGORIES:music
LOCATION:
CONTACT:
END:VEVENT
END:VCALENDAR