BEGIN:VCALENDAR
VERSION:2.0
PRODID:-//UM//UM*Events//EN
CALSCALE:GREGORIAN
BEGIN:VTIMEZONE
TZID:America/Detroit
TZURL:http://tzurl.org/zoneinfo/America/Detroit
X-LIC-LOCATION:America/Detroit
BEGIN:DAYLIGHT
TZOFFSETFROM:-0500
TZOFFSETTO:-0400
TZNAME:EDT
DTSTART:20070311T020000
RRULE:FREQ=YEARLY;BYMONTH=3;BYDAY=2SU
END:DAYLIGHT
BEGIN:STANDARD
TZOFFSETFROM:-0400
TZOFFSETTO:-0500
TZNAME:EST
DTSTART:20071104T020000
RRULE:FREQ=YEARLY;BYMONTH=11;BYDAY=1SU
END:STANDARD
END:VTIMEZONE
BEGIN:VEVENT
DTSTAMP:20100909T114609
DTSTART;TZID=America/Detroit:20101208T083000
DTEND;TZID=America/Detroit:20101208T190000
SUMMARY:Exhibition:From Trace to Text: Highlights from the U-M Papyrus Collection
DESCRIPTION:This exhibit provides a behind-the-scenes look at the work of papyrologists: how they conserve scraps of often badly damaged papyri\, decipher traces of ink\, read and translate the resulting text\, edit and interpret its contents\, and make this available to both scholars and the general public. Modern technology\, such as digitization and multi-spectral imaging\, is aiding papyrologists in all of these efforts.\n\nTexts on display are some of the highlights of the collection. They include a wonderful drawing of an elephant\, a letter from a newly enlisted soldier to his mother\, and\, of course\, some pages of the oldest manuscript with letters of St. Paul (one of the most famous texts of the collection).\n\nIn its 90-year history\, the University of Michigan Papyrus Collection has trained more students and scholars in the field of papyrology than any other institution in North America. Founded by the visionary Francis W. Kelsey\, the Papyrus Collection has been the training ground for papyrologists from around the world and home to many great resident scholars\, such as Herbert and Louise Youtie\, Ludwig Koenen\, and Traianos Gagos\, who died on April 26\, 2010.\n\nPapyrology is the field of scholarship that deciphers and studies the texts written –primarily on papyrus– by people living in the ancient Mediterranean world between 2\,500 BCE and 1\,000 CE. Most of these texts are found in Egypt where the climate is dry enough to preserve this fragile material. It is a highly specialized and technical field\, requiring intensive training in language (Egyptian\, ancient Greek\, Latin\, Arabic)\, history\, and the unique set of skills necessary for reading original documents.\n\nThe exhibit is open during Audubon Room hours: Sun 1-7pm\, Mon-Fri 8:30-7pm\, Sat 10am-6pm.\n\nThis Exhibit is in Honor of Traianos Gagos (1960-2010).
UID:3497-917793@events.umich.edu
URL:https://events.umich.edu/event/3497
CLASS:PUBLIC
STATUS:CONFIRMED
CATEGORIES:
LOCATION:Hatcher Graduate Library - Audubon Room
CONTACT:
END:VEVENT
BEGIN:VEVENT
DTSTAMP:20100826T223421
DTSTART;TZID=America/Detroit:20101208T090000
SUMMARY:Exhibition:The View From Below
DESCRIPTION:Curator: Sara Blair\, University of Michigan
UID:3384-917854@events.umich.edu
URL:https://events.umich.edu/event/3384
CLASS:PUBLIC
STATUS:CONFIRMED
CATEGORIES:visual arts
LOCATION:202 S. Thayer - Humanities Gallery
CONTACT:
END:VEVENT
BEGIN:VEVENT
DTSTAMP:20101111T175904
DTSTART;TZID=America/Detroit:20101208T100000
SUMMARY:Exhibition:UMMA Projects: Simon Dybbroe MÃ¸ller
DESCRIPTION:Things are not always as they seem in the work of Simon Dybbroe MÃ¸ller. Indeed\, the Danish artist's works can at times appear to have been teleported from a slightly askew\, alternate version of the past. Seemingly familiar forms often appear in unexpected configurations and objects we think we recognize turn out to be something else entirely. An abstract wall painting emerges from beneath a layer of peeling plaster. A group of minimalist sculptures turn out to be the pieces of an enlarged Soma cube. This uncertainty is central to the experience of Dybbroe MÃ¸ller's work\, where an initial misrecognition leads to a moment of aesthetic discovery.\n\nDybbroe MÃ¸ller's penchant for puzzles and paradoxes reflects his interest in modernism's theoretical aspirations as well as its practical failings. Similarly\, his frequent adoption of “outmoded” media both provides him with a diverse artistic palette and a means of questioning the past century's faith in progress through technology and the avant-garde promise of continual artistic development.\n\nFor Dybbroe MÃ¸ller's first solo exhibition in a North American museum\, UMMA will present a new body of work that continues his ongoing engagement with and critique of the modernist paradigm of transparency.
UID:4185-921777@events.umich.edu
URL:https://events.umich.edu/event/4185
CLASS:PUBLIC
STATUS:CONFIRMED
CATEGORIES:visual arts
LOCATION:Museum of Art - Projects Gallery
CONTACT:
END:VEVENT
BEGIN:VEVENT
DTSTAMP:20101122T230153
DTSTART;TZID=America/Detroit:20101208T110000
DTEND;TZID=America/Detroit:20101208T170000
SUMMARY:Exhibition:Student Art Sale
DESCRIPTION:Calling all student artists! We're hosting our annual Student Art Sale in the Michigan League lobby\, and you can sell your work to earn some extra end-of-semester cash. Students\, staff\, faculty\, and other members of the UM community should stop by to check out the work of our talented students and pick up some great holiday gifts.\n\nTo submit your work or learn more\, please email uuapexhibits@umich.edu.
UID:4264-995687@events.umich.edu
URL:https://events.umich.edu/event/4264
CLASS:PUBLIC
STATUS:CONFIRMED
CATEGORIES:
LOCATION:Michigan League - Lobby
CONTACT:
END:VEVENT
BEGIN:VEVENT
DTSTAMP:20101202T163619
DTSTART;TZID=America/Detroit:20101208T120000
DTEND;TZID=America/Detroit:20101208T130000
SUMMARY:Lecture / Discussion:Don't Ask Don't Tell
DESCRIPTION:A sweeping report hot off the Pentagon presses. Dramatic court orders. Intense political pressure from the likes of Tony Perkins to Lady Gaga. \n\nCut through it all and come hear directly from Ford School students who have lived and worked under Don't Ask Don't Tell. We'll engage in an open\, moderated dialogue about the reality of the policy and possible consequences of repeal.\n\nhttp://www.facebook.com/photo.php?fbid=1423796355423&set=a.1478721488517.2051399.1248150373#!/event.php?eid=169445223086925
UID:4377-1086864@events.umich.edu
URL:https://events.umich.edu/event/4377
CLASS:PUBLIC
STATUS:CONFIRMED
CATEGORIES:
LOCATION:Weill Hall (Ford School) - 1210
CONTACT:
END:VEVENT
BEGIN:VEVENT
DTSTAMP:20101111T175622
DTSTART;TZID=America/Detroit:20101208T160000
DTEND;TZID=America/Detroit:20101208T173000
SUMMARY:Lecture / Discussion:Public Lecture by Rami Khouri
DESCRIPTION:Rami Khouri is the Director of the Issam Fares Institute of Public Policy and International Affairs at the American University of Beirut as well as editor-at-large of the Beirut-based Daily Star newspaper. He is an internationally syndicated political columnist and author.
UID:3772-910921@events.umich.edu
URL:https://events.umich.edu/event/3772
CLASS:PUBLIC
STATUS:CONFIRMED
CATEGORIES:
LOCATION:Weill Hall (Ford School) - 1120 (Annenberg Auditorium)
CONTACT:
END:VEVENT
BEGIN:VEVENT
DTSTAMP:20101112T114137
DTSTART;TZID=America/Detroit:20101208T160000
DTEND;TZID=America/Detroit:20101208T173000
SUMMARY:Presentation:Sustainability & the Campus Student Presentations
DESCRIPTION:The U-M Community is invited to see student presentations for the \"Sustainability & the Campus\" undergraduate course\, through which teams investigated specific areas where the university could make sustainability improvements on campus. The first student presentations are on Wednesday\, December 8\, 2010 in Dana 1040.\n\nPlease come find out what the students learned\, including each team's recommendations for the sustainability issue they investigated. The schedule for Wednesday is as follows:\n\nSustainability & the Campus Team Presentations:\n\n* 4:10-4:25 Reinvigorating the Office Supply Re-Use Program\n\n* 4:25-4:40 Identifying and Encouraging Green Products Purchasing\n\n* 4:40-4:55 Energy Conservation in the Labs\n\n* 4:55-5:10 Greening the Outdoor Adventures Program\n\n* 5:10-5:25 Advancing Students' Sustainability Engagement Through Social Media
UID:4241-979039@events.umich.edu
URL:https://events.umich.edu/event/4241
CLASS:PUBLIC
STATUS:CONFIRMED
CATEGORIES:
LOCATION:Dana Natural Resources  Building - 1040
CONTACT:
END:VEVENT
END:VCALENDAR