BEGIN:VCALENDAR
VERSION:2.0
PRODID:-//UM//UM*Events//EN
CALSCALE:GREGORIAN
BEGIN:VTIMEZONE
TZID:America/Detroit
TZURL:http://tzurl.org/zoneinfo/America/Detroit
X-LIC-LOCATION:America/Detroit
BEGIN:DAYLIGHT
TZOFFSETFROM:-0500
TZOFFSETTO:-0400
TZNAME:EDT
DTSTART:20070311T020000
RRULE:FREQ=YEARLY;BYMONTH=3;BYDAY=2SU
END:DAYLIGHT
BEGIN:STANDARD
TZOFFSETFROM:-0400
TZOFFSETTO:-0500
TZNAME:EST
DTSTART:20071104T020000
RRULE:FREQ=YEARLY;BYMONTH=11;BYDAY=1SU
END:STANDARD
END:VTIMEZONE
BEGIN:VEVENT
DTSTAMP:20100909T114609
DTSTART;TZID=America/Detroit:20101209T083000
DTEND;TZID=America/Detroit:20101209T190000
SUMMARY:Exhibition:From Trace to Text: Highlights from the U-M Papyrus Collection
DESCRIPTION:This exhibit provides a behind-the-scenes look at the work of papyrologists: how they conserve scraps of often badly damaged papyri\, decipher traces of ink\, read and translate the resulting text\, edit and interpret its contents\, and make this available to both scholars and the general public. Modern technology\, such as digitization and multi-spectral imaging\, is aiding papyrologists in all of these efforts.\n\nTexts on display are some of the highlights of the collection. They include a wonderful drawing of an elephant\, a letter from a newly enlisted soldier to his mother\, and\, of course\, some pages of the oldest manuscript with letters of St. Paul (one of the most famous texts of the collection).\n\nIn its 90-year history\, the University of Michigan Papyrus Collection has trained more students and scholars in the field of papyrology than any other institution in North America. Founded by the visionary Francis W. Kelsey\, the Papyrus Collection has been the training ground for papyrologists from around the world and home to many great resident scholars\, such as Herbert and Louise Youtie\, Ludwig Koenen\, and Traianos Gagos\, who died on April 26\, 2010.\n\nPapyrology is the field of scholarship that deciphers and studies the texts written –primarily on papyrus– by people living in the ancient Mediterranean world between 2\,500 BCE and 1\,000 CE. Most of these texts are found in Egypt where the climate is dry enough to preserve this fragile material. It is a highly specialized and technical field\, requiring intensive training in language (Egyptian\, ancient Greek\, Latin\, Arabic)\, history\, and the unique set of skills necessary for reading original documents.\n\nThe exhibit is open during Audubon Room hours: Sun 1-7pm\, Mon-Fri 8:30-7pm\, Sat 10am-6pm.\n\nThis Exhibit is in Honor of Traianos Gagos (1960-2010).
UID:3497-917794@events.umich.edu
URL:https://events.umich.edu/event/3497
CLASS:PUBLIC
STATUS:CONFIRMED
CATEGORIES:
LOCATION:Hatcher Graduate Library - Audubon Room
CONTACT:
END:VEVENT
BEGIN:VEVENT
DTSTAMP:20100826T223421
DTSTART;TZID=America/Detroit:20101209T090000
SUMMARY:Exhibition:The View From Below
DESCRIPTION:Curator: Sara Blair\, University of Michigan
UID:3384-917855@events.umich.edu
URL:https://events.umich.edu/event/3384
CLASS:PUBLIC
STATUS:CONFIRMED
CATEGORIES:visual arts
LOCATION:202 S. Thayer - Humanities Gallery
CONTACT:
END:VEVENT
BEGIN:VEVENT
DTSTAMP:20101111T175904
DTSTART;TZID=America/Detroit:20101209T100000
SUMMARY:Exhibition:UMMA Projects: Simon Dybbroe MÃ¸ller
DESCRIPTION:Things are not always as they seem in the work of Simon Dybbroe MÃ¸ller. Indeed\, the Danish artist's works can at times appear to have been teleported from a slightly askew\, alternate version of the past. Seemingly familiar forms often appear in unexpected configurations and objects we think we recognize turn out to be something else entirely. An abstract wall painting emerges from beneath a layer of peeling plaster. A group of minimalist sculptures turn out to be the pieces of an enlarged Soma cube. This uncertainty is central to the experience of Dybbroe MÃ¸ller's work\, where an initial misrecognition leads to a moment of aesthetic discovery.\n\nDybbroe MÃ¸ller's penchant for puzzles and paradoxes reflects his interest in modernism's theoretical aspirations as well as its practical failings. Similarly\, his frequent adoption of “outmoded” media both provides him with a diverse artistic palette and a means of questioning the past century's faith in progress through technology and the avant-garde promise of continual artistic development.\n\nFor Dybbroe MÃ¸ller's first solo exhibition in a North American museum\, UMMA will present a new body of work that continues his ongoing engagement with and critique of the modernist paradigm of transparency.
UID:4185-921778@events.umich.edu
URL:https://events.umich.edu/event/4185
CLASS:PUBLIC
STATUS:CONFIRMED
CATEGORIES:visual arts
LOCATION:Museum of Art - Projects Gallery
CONTACT:
END:VEVENT
BEGIN:VEVENT
DTSTAMP:20101111T175710
DTSTART;TZID=America/Detroit:20101209T120000
DTEND;TZID=America/Detroit:20101209T130000
SUMMARY:Lecture / Discussion:CJS Fall 2010 Noon Lecture Series
DESCRIPTION:Ian Jared Miller\, Assistant Professor\, History\, Harvard University
UID:3680-914286@events.umich.edu
URL:https://events.umich.edu/event/3680
CLASS:PUBLIC
STATUS:CONFIRMED
CATEGORIES:
LOCATION:School of Social Work Building - 1636
CONTACT:
END:VEVENT
BEGIN:VEVENT
DTSTAMP:20101111T175853
DTSTART;TZID=America/Detroit:20101209T120000
DTEND;TZID=America/Detroit:20101209T130000
SUMMARY:Lecture / Discussion:Judezmo/Haketia (Ladino): A Language of Jewish Emotional Expression
DESCRIPTION:
UID:3424-921067@events.umich.edu
URL:https://events.umich.edu/event/3424
CLASS:PUBLIC
STATUS:CONFIRMED
CATEGORIES:
LOCATION:Alumni Center - Rooms A &amp;amp; B
CONTACT:
END:VEVENT
BEGIN:VEVENT
DTSTAMP:20101209T230226
DTSTART;TZID=America/Detroit:20101209T160000
DTEND;TZID=America/Detroit:20101209T170000
SUMMARY:Workshop / Seminar:Population genetic and genomic studies of species divergence in flies and figs\, presented by Dr. Carlos Machado\, University of Maryland
DESCRIPTION:Abstract: Population genetic and genome sequence data are useful to understand processes of species divergence because they allow studying the roles played by gene flow and natural selection during this process and their consequences on patterns of genomic differentiation. I will describe studies of this type conducted in the classic species Drosophila pseudoobscura and its close relatives D. p. bogotana and D. persimilis. I will also describe gene expression work aimed at understanding the mechanisms of phenotypic differentiation between D. persimilis and D. pseudoobscura. A phenotype we have uncovered in hybrids of the two species may allow us making a connection between the divergence of these two species of Drosophila and their ecology. In the second part of the talk I will provide an overview of evolutionary genetic studies in the fig/fig wasp mutualism\, focusing on population genetic studies of species divergence and studies of the effect of inbreeding on levels of population genetic variation.
UID:4376-1086863@events.umich.edu
URL:https://events.umich.edu/event/4376
CLASS:PUBLIC
STATUS:CONFIRMED
CATEGORIES:
LOCATION:Chemistry Dow Lab - 1210
CONTACT:
END:VEVENT
BEGIN:VEVENT
DTSTAMP:20101111T175636
DTSTART;TZID=America/Detroit:20101209T170000
DTEND;TZID=America/Detroit:20101209T183000
SUMMARY:Lecture / Discussion:Penny Stamps Presents: Natasha Tsakos
DESCRIPTION:Playwright and performer Natasha Tsakos works in a brave new form of theater\, where sound\, computer-generated images and the performer move in sync to create a dreamlike yet sharply real stage environment. Within this space of total possibility\, Tsakos muses on the deepest questions of the human soul.\n\nA Swiss-born artist living in Miami\, Tsakos has been a performer with Circ X and the Big Apple Circus\, and writes\, teaches and performs her own work in Miami and worldwide. She's the author of several plays and one-acts\, a few collections of poetry and the cartoon “The Eskimans\,” about a penguin and an Eskimo.
UID:585-911873@events.umich.edu
URL:https://events.umich.edu/event/585
CLASS:PUBLIC
STATUS:CONFIRMED
CATEGORIES:multicultural,visual arts,theater,music,dance
LOCATION:
CONTACT:
END:VEVENT
BEGIN:VEVENT
DTSTAMP:20101207T230210
DTSTART;TZID=America/Detroit:20101209T190000
SUMMARY:Performance:Beyond the War Model
DESCRIPTION:WCBN-FM Ann Arbor Presents:  arwulf arwulf and the Modified Starch Ensemble\n\nBeyond the War Model: Why 'Avant Garde' is an inadequate and inappropriate term for art and artists.  arwulf will lead a discussion of cultural and language accompanied by improviation and creatively coordinated sounds\, drawing from lessons learned and concepts cultivated during more than thirty years' involvement at WCBN.  The performance will be broadcast live on 88.3fm and on www.wcbn.org.
UID:4346-1072062@events.umich.edu
URL:https://events.umich.edu/event/4346
CLASS:PUBLIC
STATUS:CONFIRMED
CATEGORIES:music
LOCATION:Museum of Art - Commons
CONTACT:
END:VEVENT
BEGIN:VEVENT
DTSTAMP:20101207T143625
DTSTART;TZID=America/Detroit:20101209T190000
DTEND;TZID=America/Detroit:20101209T210000
SUMMARY:Class / Instruction:Michigan's Best Dance Crew
DESCRIPTION:Come watch the top crews selected to compete in Michigan's Best Dance Crew! The  audience will determine the top three crews\, who are competing for the following  cash prizes: 1st place- $200\, 2nd place- $100\, and 3rd place- $75. Crews will  perform their dances\, judges will provide feedback\, and the audience votes! Come  cheer on your favorite dance crew at the League Ballroom.
UID:3665-1123685@events.umich.edu
URL:https://events.umich.edu/event/3665
CLASS:PUBLIC
STATUS:CONFIRMED
CATEGORIES:multicultural
LOCATION:Michigan League - Ballroom
CONTACT:
END:VEVENT
BEGIN:VEVENT
DTSTAMP:20101118T230147
DTSTART;TZID=America/Detroit:20101209T190000
DTEND;TZID=America/Detroit:20101209T210000
SUMMARY:Performance:Ring of Steel Action Theatre
DESCRIPTION:Theatrical combat is a multidisciplinary art that combines acting with elements of  fencing\, martial arts\, dance\, and music to develop a safe and effective  performance. It is a distinct area of study\; essentially a marital art where the focus  is not to injure your partner. As with any martial art\, years of training are needed  before an individual is prepared to safely share their skills on the stage.\n\nThe Ring of Steel offers theatrical combat training in a wide range of weapons and  combat styles\, based in large part on Aikido and late period rapier.
UID:4252-973243@events.umich.edu
URL:https://events.umich.edu/event/4252
CLASS:PUBLIC
STATUS:CONFIRMED
CATEGORIES:architecture,dance,film,literary arts,music,theater,visual arts
LOCATION:
CONTACT:
END:VEVENT
BEGIN:VEVENT
DTSTAMP:20101111T175647
DTSTART;TZID=America/Detroit:20101209T193000
SUMMARY:Performance:Peace Concert
DESCRIPTION:
UID:4045-912728@events.umich.edu
URL:https://events.umich.edu/event/4045
CLASS:PUBLIC
STATUS:CONFIRMED
CATEGORIES:music
LOCATION:
CONTACT:
END:VEVENT
END:VCALENDAR