BEGIN:VCALENDAR
VERSION:2.0
PRODID:-//UM//UM*Events//EN
CALSCALE:GREGORIAN
BEGIN:VTIMEZONE
TZID:America/Detroit
TZURL:http://tzurl.org/zoneinfo/America/Detroit
X-LIC-LOCATION:America/Detroit
BEGIN:DAYLIGHT
TZOFFSETFROM:-0500
TZOFFSETTO:-0400
TZNAME:EDT
DTSTART:20070311T020000
RRULE:FREQ=YEARLY;BYMONTH=3;BYDAY=2SU
END:DAYLIGHT
BEGIN:STANDARD
TZOFFSETFROM:-0400
TZOFFSETTO:-0500
TZNAME:EST
DTSTART:20071104T020000
RRULE:FREQ=YEARLY;BYMONTH=11;BYDAY=1SU
END:STANDARD
END:VTIMEZONE
BEGIN:VEVENT
DTSTAMP:20101111T175710
DTSTART;TZID=America/Detroit:20101211T080000
DTEND;TZID=America/Detroit:20101211T200000
SUMMARY:Exercise / Fitness:Cross Country Skiing Day Trip in Northern Michigan
DESCRIPTION:Explore what Michigan winters have to offer! Let's get outside and enjoy the Northern  Michigan winter wonderland while learning to cross-country ski or embellishing our skills.  We can show you the trails and teach the basics. Enjoy a warm cup of hot chocolate and  get a chance to play in the snow! We'll return to Ann Arbor refreshed with a new group  of adventure-seekers.
UID:3053-914299@events.umich.edu
URL:https://events.umich.edu/event/3053
CLASS:PUBLIC
STATUS:CONFIRMED
CATEGORIES:
LOCATION:
CONTACT:
END:VEVENT
BEGIN:VEVENT
DTSTAMP:20100909T114609
DTSTART;TZID=America/Detroit:20101211T083000
DTEND;TZID=America/Detroit:20101211T190000
SUMMARY:Exhibition:From Trace to Text: Highlights from the U-M Papyrus Collection
DESCRIPTION:This exhibit provides a behind-the-scenes look at the work of papyrologists: how they conserve scraps of often badly damaged papyri\, decipher traces of ink\, read and translate the resulting text\, edit and interpret its contents\, and make this available to both scholars and the general public. Modern technology\, such as digitization and multi-spectral imaging\, is aiding papyrologists in all of these efforts.\n\nTexts on display are some of the highlights of the collection. They include a wonderful drawing of an elephant\, a letter from a newly enlisted soldier to his mother\, and\, of course\, some pages of the oldest manuscript with letters of St. Paul (one of the most famous texts of the collection).\n\nIn its 90-year history\, the University of Michigan Papyrus Collection has trained more students and scholars in the field of papyrology than any other institution in North America. Founded by the visionary Francis W. Kelsey\, the Papyrus Collection has been the training ground for papyrologists from around the world and home to many great resident scholars\, such as Herbert and Louise Youtie\, Ludwig Koenen\, and Traianos Gagos\, who died on April 26\, 2010.\n\nPapyrology is the field of scholarship that deciphers and studies the texts written –primarily on papyrus– by people living in the ancient Mediterranean world between 2\,500 BCE and 1\,000 CE. Most of these texts are found in Egypt where the climate is dry enough to preserve this fragile material. It is a highly specialized and technical field\, requiring intensive training in language (Egyptian\, ancient Greek\, Latin\, Arabic)\, history\, and the unique set of skills necessary for reading original documents.\n\nThe exhibit is open during Audubon Room hours: Sun 1-7pm\, Mon-Fri 8:30-7pm\, Sat 10am-6pm.\n\nThis Exhibit is in Honor of Traianos Gagos (1960-2010).
UID:3497-917796@events.umich.edu
URL:https://events.umich.edu/event/3497
CLASS:PUBLIC
STATUS:CONFIRMED
CATEGORIES:
LOCATION:Hatcher Graduate Library - Audubon Room
CONTACT:
END:VEVENT
BEGIN:VEVENT
DTSTAMP:20100826T223421
DTSTART;TZID=America/Detroit:20101211T090000
SUMMARY:Exhibition:The View From Below
DESCRIPTION:Curator: Sara Blair\, University of Michigan
UID:3384-917857@events.umich.edu
URL:https://events.umich.edu/event/3384
CLASS:PUBLIC
STATUS:CONFIRMED
CATEGORIES:visual arts
LOCATION:202 S. Thayer - Humanities Gallery
CONTACT:
END:VEVENT
BEGIN:VEVENT
DTSTAMP:20100817T133253
DTSTART;TZID=America/Detroit:20101211T100000
DTEND;TZID=America/Detroit:20101211T130000
SUMMARY:Workshop / Seminar:Ann Arbor Art Center Workshops
DESCRIPTION:Explore a different artist\, artifact\, art element\, or art movement one Saturday a month this fall  at the University of Michigan's Museum of Art (UMMA). In response\, you'll create your own  masterpiece and learn a variety of art making techniques\, including mixed media and collage.  Along the way expect gallery games\, scavenger hunts\, and fun! Come with an open mind and a  sense of adventure. Take one workshop or all four\; all levels welcome.
UID:3305-919970@events.umich.edu
URL:https://events.umich.edu/event/3305
CLASS:PUBLIC
STATUS:CONFIRMED
CATEGORIES:visual arts
LOCATION:Museum of Art
CONTACT:
END:VEVENT
BEGIN:VEVENT
DTSTAMP:20101111T175904
DTSTART;TZID=America/Detroit:20101211T100000
SUMMARY:Exhibition:UMMA Projects: Simon Dybbroe MÃ¸ller
DESCRIPTION:Things are not always as they seem in the work of Simon Dybbroe MÃ¸ller. Indeed\, the Danish artist's works can at times appear to have been teleported from a slightly askew\, alternate version of the past. Seemingly familiar forms often appear in unexpected configurations and objects we think we recognize turn out to be something else entirely. An abstract wall painting emerges from beneath a layer of peeling plaster. A group of minimalist sculptures turn out to be the pieces of an enlarged Soma cube. This uncertainty is central to the experience of Dybbroe MÃ¸ller's work\, where an initial misrecognition leads to a moment of aesthetic discovery.\n\nDybbroe MÃ¸ller's penchant for puzzles and paradoxes reflects his interest in modernism's theoretical aspirations as well as its practical failings. Similarly\, his frequent adoption of “outmoded” media both provides him with a diverse artistic palette and a means of questioning the past century's faith in progress through technology and the avant-garde promise of continual artistic development.\n\nFor Dybbroe MÃ¸ller's first solo exhibition in a North American museum\, UMMA will present a new body of work that continues his ongoing engagement with and critique of the modernist paradigm of transparency.
UID:4185-921780@events.umich.edu
URL:https://events.umich.edu/event/4185
CLASS:PUBLIC
STATUS:CONFIRMED
CATEGORIES:visual arts
LOCATION:Museum of Art - Projects Gallery
CONTACT:
END:VEVENT
BEGIN:VEVENT
DTSTAMP:20101111T175801
DTSTART;TZID=America/Detroit:20101211T103000
DTEND;TZID=America/Detroit:20101211T113000
SUMMARY:Lecture / Discussion:Celebration of Physics!
DESCRIPTION:
UID:3780-917895@events.umich.edu
URL:https://events.umich.edu/event/3780
CLASS:PUBLIC
STATUS:CONFIRMED
CATEGORIES:
LOCATION:Weiser Hall - 170 &amp;amp; 182
CONTACT:
END:VEVENT
BEGIN:VEVENT
DTSTAMP:20101210T030003
DTSTART;TZID=America/Detroit:20101211T110000
SUMMARY:Performance:Second Dissertation Recital: Joel Hastings\, piano
DESCRIPTION:Lecture Recital.  PROGRAM: Liszt - Sonata in B Minor
UID:4370-1130116@events.umich.edu
URL:https://events.umich.edu/event/4370
CLASS:PUBLIC
STATUS:CONFIRMED
CATEGORIES:music
LOCATION:
CONTACT:
END:VEVENT
BEGIN:VEVENT
DTSTAMP:20101210T030003
DTSTART;TZID=America/Detroit:20101211T140000
SUMMARY:Performance:Masters Recital: Christen Humphries\, horn
DESCRIPTION:PROGRAM: Gliere - Concerto in B-flat Major\; Krol - Laudatio\; Cherubini - Sonata No. 2\; Plog - Trio for Brass
UID:4369-1130027@events.umich.edu
URL:https://events.umich.edu/event/4369
CLASS:PUBLIC
STATUS:CONFIRMED
CATEGORIES:music
LOCATION:Walgreen Drama Center - Stamps Auditorium
CONTACT:
END:VEVENT
BEGIN:VEVENT
DTSTAMP:20101210T030003
DTSTART;TZID=America/Detroit:20101211T160000
SUMMARY:Performance:Early Music Ensemble
DESCRIPTION:directed by Edward Parmentier.  Works for Renaissance/Baroque Choir by J.S. Bach\, W. Byrd\, J.H.  Schein\, and G. Gabrieli.  Works for ensemble by Frescobaldi\, F. Couperin\, Purcell\, J.S. Bach\, and Handel.
UID:3600-1130086@events.umich.edu
URL:https://events.umich.edu/event/3600
CLASS:PUBLIC
STATUS:CONFIRMED
CATEGORIES:music
LOCATION:Earl V. Moore Building - Blanche Anderson Moore Hall
CONTACT:
END:VEVENT
BEGIN:VEVENT
DTSTAMP:20101210T030003
DTSTART;TZID=America/Detroit:20101211T170000
SUMMARY:Performance:Third Dissertation Recital: Jose Garcia\, tenor
DESCRIPTION:PROGRAM: Bernstein - Plum Pudding\, Queus de Boeuf\, Tavouk Gueunksis\, Civet a Toute Vitesse\, Extinguish my eyes\, When my soul touches yours\, Take Care of this House\, Life is happiness indeed\, Oh\, happy we\, It mus be so\, Candide s lament\, You were dead you know\; Blitzstein - The Russian Language Mamasha Goose from Goloopchik\, Whats the matter with me\, Irelands eye from Juno\, Lovely to get back to Love\, Stay in my Arms
UID:4429-1130079@events.umich.edu
URL:https://events.umich.edu/event/4429
CLASS:PUBLIC
STATUS:CONFIRMED
CATEGORIES:music
LOCATION:Walgreen Drama Center - Stamps
CONTACT:
END:VEVENT
BEGIN:VEVENT
DTSTAMP:20101208T230224
DTSTART;TZID=America/Detroit:20101211T180000
DTEND;TZID=America/Detroit:20101211T200000
SUMMARY:Performance:Michigan Gospel Chorale Fall concert
DESCRIPTION:The choir will deliver several selections\, and there will also be performances by the choir's auxiliaries- H.A.N.D.S.  (ministers through sign language)\, M.I.M.E. (ministers through interpretive miming)\, T.R.U.S.T. (ministers through  spoken word)\, and I.O.P. (ministers through interpretive dance).  The concert is free to all who attend\, and the doors will  open at 5:30pm.
UID:4365-1078863@events.umich.edu
URL:https://events.umich.edu/event/4365
CLASS:PUBLIC
STATUS:CONFIRMED
CATEGORIES:music
LOCATION:
CONTACT:
END:VEVENT
BEGIN:VEVENT
DTSTAMP:20101210T030003
DTSTART;TZID=America/Detroit:20101211T200000
SUMMARY:Performance:Dance BFA Concert:  Emails\, Females and Coattails
DESCRIPTION:An evening-length performance featuring the works of three Senior Dance majors\, Tara Sheena\, Sadie Yarrington and Emily Wanserski with original music by William Zuckerman and Kyle Kramer.
UID:3949-1129992@events.umich.edu
URL:https://events.umich.edu/event/3949
CLASS:PUBLIC
STATUS:CONFIRMED
CATEGORIES:dance,music
LOCATION:Dance Building - Betty Pease Studio Theatre
CONTACT:
END:VEVENT
BEGIN:VEVENT
DTSTAMP:20101111T175743
DTSTART;TZID=America/Detroit:20101211T200000
SUMMARY:Performance:Electric Guitar Summit Featuring Kirchen\, Linden\, Bedard
DESCRIPTION:
UID:4046-916558@events.umich.edu
URL:https://events.umich.edu/event/4046
CLASS:PUBLIC
STATUS:CONFIRMED
CATEGORIES:music
LOCATION:
CONTACT:
END:VEVENT
BEGIN:VEVENT
DTSTAMP:20101210T030003
DTSTART;TZID=America/Detroit:20101211T200000
SUMMARY:Performance:Michigan Chamber Players
DESCRIPTION:featuring Musical Theatre selections.  PROGRAM:  Kirshner - selections from Liberty’s Secret: The National Security Musical\; Overture to The Who s Tommy\; They Live in You from The Lion King\; Prologue to City of Angels
UID:4022-1130270@events.umich.edu
URL:https://events.umich.edu/event/4022
CLASS:PUBLIC
STATUS:CONFIRMED
CATEGORIES:music
LOCATION:Earl V. Moore Building - Britton Recital Hall
CONTACT:
END:VEVENT
BEGIN:VEVENT
DTSTAMP:20101210T030003
DTSTART;TZID=America/Detroit:20101211T200000
SUMMARY:Performance:Much Ado About Nothing
DESCRIPTION:by William Shakespeare.  Department of Theatre & Drama. Directed by John Neville-Andrews. The path to love is rarely smooth in this fun comedy full of misconception\, wit and romance.  Tickets available at the League Ticket Office 734-764-2538
UID:3632-1130183@events.umich.edu
URL:https://events.umich.edu/event/3632
CLASS:PUBLIC
STATUS:CONFIRMED
CATEGORIES:music,theater
LOCATION:Power Center for the Performing Arts -  
CONTACT:
END:VEVENT
BEGIN:VEVENT
DTSTAMP:20101215T190244
DTSTART;TZID=America/Detroit:20101211T200000
SUMMARY:Performance:Senior Recital: Daniel Smith\, cello
DESCRIPTION:PROGRAM: Henze - Serenade for Solo Cello\; Beethoven - Sonata for Cello and Piano in D Major\; Brahms - Sonata for Cello and Piano in F Major
UID:4454-1130053@events.umich.edu
URL:https://events.umich.edu/event/4454
CLASS:PUBLIC
STATUS:CONFIRMED
CATEGORIES:music
LOCATION:Earl V. Moore Building - McIntosh Theatre
CONTACT:
END:VEVENT
END:VCALENDAR