BEGIN:VCALENDAR
VERSION:2.0
PRODID:-//UM//UM*Events//EN
CALSCALE:GREGORIAN
BEGIN:VTIMEZONE
TZID:America/Detroit
TZURL:http://tzurl.org/zoneinfo/America/Detroit
X-LIC-LOCATION:America/Detroit
BEGIN:DAYLIGHT
TZOFFSETFROM:-0500
TZOFFSETTO:-0400
TZNAME:EDT
DTSTART:20070311T020000
RRULE:FREQ=YEARLY;BYMONTH=3;BYDAY=2SU
END:DAYLIGHT
BEGIN:STANDARD
TZOFFSETFROM:-0400
TZOFFSETTO:-0500
TZNAME:EST
DTSTART:20071104T020000
RRULE:FREQ=YEARLY;BYMONTH=11;BYDAY=1SU
END:STANDARD
END:VTIMEZONE
BEGIN:VEVENT
DTSTAMP:20100909T114609
DTSTART;TZID=America/Detroit:20101212T083000
DTEND;TZID=America/Detroit:20101212T190000
SUMMARY:Exhibition:From Trace to Text: Highlights from the U-M Papyrus Collection
DESCRIPTION:This exhibit provides a behind-the-scenes look at the work of papyrologists: how they conserve scraps of often badly damaged papyri\, decipher traces of ink\, read and translate the resulting text\, edit and interpret its contents\, and make this available to both scholars and the general public. Modern technology\, such as digitization and multi-spectral imaging\, is aiding papyrologists in all of these efforts.\n\nTexts on display are some of the highlights of the collection. They include a wonderful drawing of an elephant\, a letter from a newly enlisted soldier to his mother\, and\, of course\, some pages of the oldest manuscript with letters of St. Paul (one of the most famous texts of the collection).\n\nIn its 90-year history\, the University of Michigan Papyrus Collection has trained more students and scholars in the field of papyrology than any other institution in North America. Founded by the visionary Francis W. Kelsey\, the Papyrus Collection has been the training ground for papyrologists from around the world and home to many great resident scholars\, such as Herbert and Louise Youtie\, Ludwig Koenen\, and Traianos Gagos\, who died on April 26\, 2010.\n\nPapyrology is the field of scholarship that deciphers and studies the texts written –primarily on papyrus– by people living in the ancient Mediterranean world between 2\,500 BCE and 1\,000 CE. Most of these texts are found in Egypt where the climate is dry enough to preserve this fragile material. It is a highly specialized and technical field\, requiring intensive training in language (Egyptian\, ancient Greek\, Latin\, Arabic)\, history\, and the unique set of skills necessary for reading original documents.\n\nThe exhibit is open during Audubon Room hours: Sun 1-7pm\, Mon-Fri 8:30-7pm\, Sat 10am-6pm.\n\nThis Exhibit is in Honor of Traianos Gagos (1960-2010).
UID:3497-917797@events.umich.edu
URL:https://events.umich.edu/event/3497
CLASS:PUBLIC
STATUS:CONFIRMED
CATEGORIES:
LOCATION:Hatcher Graduate Library - Audubon Room
CONTACT:
END:VEVENT
BEGIN:VEVENT
DTSTAMP:20100826T223421
DTSTART;TZID=America/Detroit:20101212T090000
SUMMARY:Exhibition:The View From Below
DESCRIPTION:Curator: Sara Blair\, University of Michigan
UID:3384-917858@events.umich.edu
URL:https://events.umich.edu/event/3384
CLASS:PUBLIC
STATUS:CONFIRMED
CATEGORIES:visual arts
LOCATION:202 S. Thayer - Humanities Gallery
CONTACT:
END:VEVENT
BEGIN:VEVENT
DTSTAMP:20101118T230149
DTSTART;TZID=America/Detroit:20101212T100000
DTEND;TZID=America/Detroit:20101212T130000
SUMMARY:Performance:Ring of Steel Action Theatre
DESCRIPTION:Theatrical combat is a multidisciplinary art that combines acting with elements of  fencing\, martial arts\, dance\, and music to develop a safe and effective  performance. It is a distinct area of study\; essentially a marital art where the focus  is not to injure your partner. As with any martial art\, years of training are needed  before an individual is prepared to safely share their skills on the stage.\n\nThe Ring of Steel offers theatrical combat training in a wide range of weapons and  combat styles\, based in large part on Aikido and late period rapier.
UID:4253-973312@events.umich.edu
URL:https://events.umich.edu/event/4253
CLASS:PUBLIC
STATUS:CONFIRMED
CATEGORIES:theater,visual arts,music,literary arts,film,dance,architecture
LOCATION:
CONTACT:
END:VEVENT
BEGIN:VEVENT
DTSTAMP:20101111T175904
DTSTART;TZID=America/Detroit:20101212T100000
SUMMARY:Exhibition:UMMA Projects: Simon Dybbroe MÃ¸ller
DESCRIPTION:Things are not always as they seem in the work of Simon Dybbroe MÃ¸ller. Indeed\, the Danish artist's works can at times appear to have been teleported from a slightly askew\, alternate version of the past. Seemingly familiar forms often appear in unexpected configurations and objects we think we recognize turn out to be something else entirely. An abstract wall painting emerges from beneath a layer of peeling plaster. A group of minimalist sculptures turn out to be the pieces of an enlarged Soma cube. This uncertainty is central to the experience of Dybbroe MÃ¸ller's work\, where an initial misrecognition leads to a moment of aesthetic discovery.\n\nDybbroe MÃ¸ller's penchant for puzzles and paradoxes reflects his interest in modernism's theoretical aspirations as well as its practical failings. Similarly\, his frequent adoption of “outmoded” media both provides him with a diverse artistic palette and a means of questioning the past century's faith in progress through technology and the avant-garde promise of continual artistic development.\n\nFor Dybbroe MÃ¸ller's first solo exhibition in a North American museum\, UMMA will present a new body of work that continues his ongoing engagement with and critique of the modernist paradigm of transparency.
UID:4185-921781@events.umich.edu
URL:https://events.umich.edu/event/4185
CLASS:PUBLIC
STATUS:CONFIRMED
CATEGORIES:visual arts
LOCATION:Museum of Art - Projects Gallery
CONTACT:
END:VEVENT
BEGIN:VEVENT
DTSTAMP:20101212T030003
DTSTART;TZID=America/Detroit:20101212T140000
SUMMARY:Performance:Much Ado About Nothing
DESCRIPTION:by William Shakespeare.  Department of Theatre & Drama. Directed by John Neville-Andrews. The path to love is rarely smooth in this fun comedy full of misconception\, wit and romance.  Tickets available at the League Ticket Office 734-764-2538
UID:3633-1129985@events.umich.edu
URL:https://events.umich.edu/event/3633
CLASS:PUBLIC
STATUS:CONFIRMED
CATEGORIES:music,theater
LOCATION:Power Center for the Performing Arts -  
CONTACT:
END:VEVENT
BEGIN:VEVENT
DTSTAMP:20101212T030003
DTSTART;TZID=America/Detroit:20101212T140000
SUMMARY:Performance:Senior Recital: Christina Garmon\, french horn
DESCRIPTION:PROGRAM: Forster - Concerto in E-flat Major\; Hill - Oddities for Solo Horn\; Bitsch - Variations sur une Chanson Francaise\; Brahms - Trio for Piano\, Violin and Horn
UID:4380-1130038@events.umich.edu
URL:https://events.umich.edu/event/4380
CLASS:PUBLIC
STATUS:CONFIRMED
CATEGORIES:music
LOCATION:Earl V. Moore Building - Britton Recital Hall
CONTACT:
END:VEVENT
BEGIN:VEVENT
DTSTAMP:20101212T030002
DTSTART;TZID=America/Detroit:20101212T150000
SUMMARY:Performance:Orpheus Singers
DESCRIPTION:Graduate Student Conductors  PROGRAM:  Vivaldi\, Magnificat\; Mozart\, Misericordias and Te Deum\; Poulenc\, O magnum mysterium\, Quem vidistis\, and Hodie Christus natus est\; Stoltzer\, O admirabile commercium
UID:3193-1130078@events.umich.edu
URL:https://events.umich.edu/event/3193
CLASS:PUBLIC
STATUS:CONFIRMED
CATEGORIES:music
LOCATION:Walgreen Drama Center - Stamps Auditorium
CONTACT:
END:VEVENT
BEGIN:VEVENT
DTSTAMP:20101212T030002
DTSTART;TZID=America/Detroit:20101212T170000
SUMMARY:Performance:Faculty Recital:  Caroline Helton\, soprano
DESCRIPTION:Beyond Romance: Fracturing the Fairy TalePoetry by Emily Dickinson\, Sylvia Plath\, Liesel Mueller and Judith Baumel about women's lives\, aspirations\, challenges and pain.  With special guest Gillian White\, Poet and Asst. Professor in the Department of English Language and Literature.  Chris Turbessi\, piano\; Chad Burrow\, clarinetPROGRAM:  Duke - 6 Songs of Emily Dickinson\; Rorem - Ariel\; Cipullo - Of a Certain Age\; Weill - Somehow I Never Could Believe from STREET SCENE
UID:3192-1130063@events.umich.edu
URL:https://events.umich.edu/event/3192
CLASS:PUBLIC
STATUS:CONFIRMED
CATEGORIES:music
LOCATION:Earl V. Moore Building - Britton Recital Hall
CONTACT:
END:VEVENT
BEGIN:VEVENT
DTSTAMP:20100721T085417
DTSTART;TZID=America/Detroit:20101212T193000
SUMMARY:Performance:Cairn To Cairn
DESCRIPTION:Ann Arbor's Cairn to Cairn is the trio of poet-guitarist Terry Farmer and vocalist–flutist Kelly McDermott\, and bassist Rob Crozier\, and they have really broke out across southeastern Michigan stages in the summer of 2010. Originally formed in 2007 as a classical flute and guitar duo\, Cairn to Cairn soon expanded to begin their exploration into traditional folk music and then into an eclectic blend of Celtic\, folk\, and world music. Kelly has studied hundreds of ancient Celtic ballads from Wales\, Galicia\, Brittany\, Scotland\, and Ireland\, and the band has absorbed this music in such a way that it provides essential raw material for new growth. An amalgamation of three distinct musical personalities\, Cairn to Cairn melds classical technique with rock ”˜n' roll\, and folk songwriting with elements of improvised freedom. Never satisfied with the status quo\, these talented musicians continue to look toward the next cairn.
UID:1903-916734@events.umich.edu
URL:https://events.umich.edu/event/1903
CLASS:PUBLIC
STATUS:CONFIRMED
CATEGORIES:music
LOCATION:
CONTACT:
END:VEVENT
BEGIN:VEVENT
DTSTAMP:20101212T030003
DTSTART;TZID=America/Detroit:20101212T200000
SUMMARY:Performance:Senior Recital: Erik Carlsen-Landy\, alto saxophone
DESCRIPTION:PROGRAM: Albright - Sonata for Alto Saxophone and Piano\; Bach - Partita - BWV 1013\; Maslanka - Hell’s Gate
UID:4411-1130035@events.umich.edu
URL:https://events.umich.edu/event/4411
CLASS:PUBLIC
STATUS:CONFIRMED
CATEGORIES:music
LOCATION:Earl V. Moore Building - Britton Recital Hall
CONTACT:
END:VEVENT
BEGIN:VEVENT
DTSTAMP:20101212T030003
DTSTART;TZID=America/Detroit:20101212T200000
SUMMARY:Performance:Senior Recital: Michael Fowler\, tenor
DESCRIPTION:PROGRAM: Handel - total Eclipse\; Schumann - Im wuderschonen Monat mai\, Du bist wie eine Blume\, In der Fremde\, Widmung\; Debussy - Nuit d etoiles\; Duprac - Extase\; Faure - Lydia\; Lara - Granada\; Caladra - Sebben Crudele\; Gluck - O Del Mio Dolce Ardor\; Tosti - La Serenata\; Puccini - Ch ella mi creda\; Bridge - Love went a Riding\; Work - Soliloquy\; Bernstein - Simploe Song\; Boatner - I Want Jesus to Walk With Me\; Price - My Souls Been Anchored in de Lord\; Guion - I Talked to God Last Night
UID:4371-1130264@events.umich.edu
URL:https://events.umich.edu/event/4371
CLASS:PUBLIC
STATUS:CONFIRMED
CATEGORIES:music
LOCATION:Earl V. Moore Building - McIntosh Theatre
CONTACT:
END:VEVENT
END:VCALENDAR