BEGIN:VCALENDAR
VERSION:2.0
PRODID:-//UM//UM*Events//EN
CALSCALE:GREGORIAN
BEGIN:VTIMEZONE
TZID:America/Detroit
TZURL:http://tzurl.org/zoneinfo/America/Detroit
X-LIC-LOCATION:America/Detroit
BEGIN:DAYLIGHT
TZOFFSETFROM:-0500
TZOFFSETTO:-0400
TZNAME:EDT
DTSTART:20070311T020000
RRULE:FREQ=YEARLY;BYMONTH=3;BYDAY=2SU
END:DAYLIGHT
BEGIN:STANDARD
TZOFFSETFROM:-0400
TZOFFSETTO:-0500
TZNAME:EST
DTSTART:20071104T020000
RRULE:FREQ=YEARLY;BYMONTH=11;BYDAY=1SU
END:STANDARD
END:VTIMEZONE
BEGIN:VEVENT
DTSTAMP:20100909T114609
DTSTART;TZID=America/Detroit:20101213T083000
DTEND;TZID=America/Detroit:20101213T190000
SUMMARY:Exhibition:From Trace to Text: Highlights from the U-M Papyrus Collection
DESCRIPTION:This exhibit provides a behind-the-scenes look at the work of papyrologists: how they conserve scraps of often badly damaged papyri\, decipher traces of ink\, read and translate the resulting text\, edit and interpret its contents\, and make this available to both scholars and the general public. Modern technology\, such as digitization and multi-spectral imaging\, is aiding papyrologists in all of these efforts.\n\nTexts on display are some of the highlights of the collection. They include a wonderful drawing of an elephant\, a letter from a newly enlisted soldier to his mother\, and\, of course\, some pages of the oldest manuscript with letters of St. Paul (one of the most famous texts of the collection).\n\nIn its 90-year history\, the University of Michigan Papyrus Collection has trained more students and scholars in the field of papyrology than any other institution in North America. Founded by the visionary Francis W. Kelsey\, the Papyrus Collection has been the training ground for papyrologists from around the world and home to many great resident scholars\, such as Herbert and Louise Youtie\, Ludwig Koenen\, and Traianos Gagos\, who died on April 26\, 2010.\n\nPapyrology is the field of scholarship that deciphers and studies the texts written –primarily on papyrus– by people living in the ancient Mediterranean world between 2\,500 BCE and 1\,000 CE. Most of these texts are found in Egypt where the climate is dry enough to preserve this fragile material. It is a highly specialized and technical field\, requiring intensive training in language (Egyptian\, ancient Greek\, Latin\, Arabic)\, history\, and the unique set of skills necessary for reading original documents.\n\nThe exhibit is open during Audubon Room hours: Sun 1-7pm\, Mon-Fri 8:30-7pm\, Sat 10am-6pm.\n\nThis Exhibit is in Honor of Traianos Gagos (1960-2010).
UID:3497-917798@events.umich.edu
URL:https://events.umich.edu/event/3497
CLASS:PUBLIC
STATUS:CONFIRMED
CATEGORIES:
LOCATION:Hatcher Graduate Library - Audubon Room
CONTACT:
END:VEVENT
BEGIN:VEVENT
DTSTAMP:20100826T223421
DTSTART;TZID=America/Detroit:20101213T090000
SUMMARY:Exhibition:The View From Below
DESCRIPTION:Curator: Sara Blair\, University of Michigan
UID:3384-917859@events.umich.edu
URL:https://events.umich.edu/event/3384
CLASS:PUBLIC
STATUS:CONFIRMED
CATEGORIES:visual arts
LOCATION:202 S. Thayer - Humanities Gallery
CONTACT:
END:VEVENT
BEGIN:VEVENT
DTSTAMP:20101213T124041
DTSTART;TZID=America/Detroit:20101213T093000
SUMMARY:Performance:Shaping the Sound of Bronze
DESCRIPTION:Final project for ENG 100 Design class.  Students worked on each stage of casting a bell\, from the initial drawings though casting through final tuning.
UID:4430-1130273@events.umich.edu
URL:https://events.umich.edu/event/4430
CLASS:PUBLIC
STATUS:CONFIRMED
CATEGORIES:music
LOCATION:
CONTACT:
END:VEVENT
BEGIN:VEVENT
DTSTAMP:20101111T175746
DTSTART;TZID=America/Detroit:20101213T120000
DTEND;TZID=America/Detroit:20101213T133000
SUMMARY:Lecture / Discussion:Marina Whitman\, Erb Colloquium
DESCRIPTION:Dr. Whitman is Professor of Business Administration and Public Policy at U-M.  12 - 1:30 pm\, Dana 2024. Open to the University Community.\n\n Erb Institute Colloquium\n\nA bi-weekly research seminar featuring the latest insights and state of the art  knowledge in the broad field of sustainable enterprise. Faculty spanning Economists\,  Legal and Management Scholars as well as Natural Scientists from both within U of M  and other leading Institutions present and discuss their work in an interdisciplinary  and interactive framework. The general structure of the seminar allows the speaker  45 minutes\, then an assigned discussant from a different discipline adds comments  and ideas\, followed by general discussion.  In our experience\, the Colloquium  proves to be a valuable source of new ideas for faculty\, graduate students and  practitioners alike. Past speakers have included such scholars as Geoffrey Heal\,  Stuart Hart\, Jim Walsh\, Steve Salant\, Tima Bansal\, Mike Lenox\, Magali Delmas\,  John Maxwell\, Andy King\, Mike Toffel\, David Popp\, Madhu Khanna\, and Jay Golden\,  and David Ulhmann.
UID:3901-916656@events.umich.edu
URL:https://events.umich.edu/event/3901
CLASS:PUBLIC
STATUS:CONFIRMED
CATEGORIES:
LOCATION:Dana Natural Resources  Building - 2024
CONTACT:
END:VEVENT
BEGIN:VEVENT
DTSTAMP:20101112T114238
DTSTART;TZID=America/Detroit:20101213T160000
DTEND;TZID=America/Detroit:20101213T171500
SUMMARY:Presentation:Sustainability & the Campus Student Presentations
DESCRIPTION:The U-M Community is invited to see student presentations for the \"Sustainability & the Campus\" undergraduate course\, through which teams investigated specific areas where the university could make sustainability improvements on campus. The second day of student presentations wil be on Monday\, December 13\, 2010 in Dana 1040 (following the first day on Monday\, December 8\, 2010).\n\nPlease come find out what the students learned\, including each team's recommendations for the sustainability issue they investigated. The schedule for Wednesday is as follows:\n\nSustainability & the Campus Team Presentations:\n\n* 4:10-4:25 \"Water Literacy\" Project for the 2011 LSA Theme Semester on WATER\n\n* 4:25-4:40 \"Zero Waste\" Unions\n\n* 4:40-4:55 Options for Reducing or Eliminating Bottled Water Use on Campus   \n\n* 4:55-5:10 Assessing and Planning for a Student Sustainability Fee & Fund
UID:4242-979147@events.umich.edu
URL:https://events.umich.edu/event/4242
CLASS:PUBLIC
STATUS:CONFIRMED
CATEGORIES:
LOCATION:Dana Natural Resources  Building - 100
CONTACT:
END:VEVENT
BEGIN:VEVENT
DTSTAMP:20101207T230210
DTSTART;TZID=America/Detroit:20101213T170000
DTEND;TZID=America/Detroit:20101213T183000
SUMMARY:Workshop / Seminar:Jonathan Lewis\, Founder & CEO\, IonPoverty / Erb Speaker Series
DESCRIPTION:\"Microfinance: Markets\, Missions & Mendacity.\"\n\n5-6:30 pm\, Ross R2240.
UID:4348-1072064@events.umich.edu
URL:https://events.umich.edu/event/4348
CLASS:PUBLIC
STATUS:CONFIRMED
CATEGORIES:
LOCATION:Ross School of Business - R2240
CONTACT:
END:VEVENT
BEGIN:VEVENT
DTSTAMP:20100929T102837
DTSTART;TZID=America/Detroit:20101213T180000
DTEND;TZID=America/Detroit:20101213T200000
SUMMARY:Well-being:Free and Anonymous HIV Testing
DESCRIPTION:Every Monday during the academic year\, a counselor from HARC\, the HIV/AIDS Resource Center\, is at the Spectrum Center from 6-8 pm offering free and anonymous HIV testing. The Spectrum Center is a welcoming and safe space for all seeking testing. For more information on HARC and testing\, call 800.578.2300\, 734.572.9355\, or visit them on the web at http://hivaidsresource.org/
UID:3894-909585@events.umich.edu
URL:https://events.umich.edu/event/3894
CLASS:PUBLIC
STATUS:CONFIRMED
CATEGORIES:respect,social justice
LOCATION:Michigan Union - Spectrum Center - 3200
CONTACT:
END:VEVENT
BEGIN:VEVENT
DTSTAMP:20101130T230205
DTSTART;TZID=America/Detroit:20101213T190000
DTEND;TZID=America/Detroit:20101213T230000
SUMMARY:Recreational / Games:Stressbusters
DESCRIPTION:Stressbusters is a carnival-like event that provides stress relief for students on the last day of classes!  Activities include free massages\, survival bingo\, wax hands\, guitar hero\, inflatable climbing wall\, make-your-own flip book\, henna and FREE FOOD!\n\nCome to Pierpont Commons on North Campus to celebrate the end of classes and to de-stress!
UID:4319-1031420@events.umich.edu
URL:https://events.umich.edu/event/4319
CLASS:PUBLIC
STATUS:CONFIRMED
CATEGORIES:
LOCATION:Pierpont Commons
CONTACT:
END:VEVENT
BEGIN:VEVENT
DTSTAMP:20100929T110405
DTSTART;TZID=America/Detroit:20101213T200000
DTEND;TZID=America/Detroit:20101213T220000
SUMMARY:Meeting:Gender Explorers
DESCRIPTION:A social and support group for transgender\, transsexual\, genderqueer\, TG-questioning people and those who transgress gender binaries.\n\nThis safe\, open\, and affirming space includes discussion\, fellowship\, and significant others.\n\nThe group meets on the 2nd and 4th Monday of each month in the Spectrum Center.  To participate and to learn more\, email PJ at pajeho@umich.edu
UID:2680-920401@events.umich.edu
URL:https://events.umich.edu/event/2680
CLASS:PUBLIC
STATUS:CONFIRMED
CATEGORIES:multicultural,social justice,spectrumcenter
LOCATION:Michigan Union - 3200
CONTACT:
END:VEVENT
BEGIN:VEVENT
DTSTAMP:20101213T124041
DTSTART;TZID=America/Detroit:20101213T200000
SUMMARY:Performance:University Philharmonia Orchestra
DESCRIPTION:Christopher James Lees\, conductor  with University Choir  “From Darkness to Light” The last concert of the term juxtaposes redemption in music\, moving seamlessly from the mournfully gorgeous Pavane pour une infante defunte (Pavane for a dead Princess) to the joyously ecstatic Gloria by Francis Poulenc featuring the University Choir (Paul Rardin\, director).  Written at only age 25\, Strauss’ monumental tone poem Tod und Verklarung describes a similar journey  - the death of the artist\, and his desired transfiguration bestowed from “the infinite reaches of heaven.”PROGRAM:  Ravel - Pavane pour une infante defunte\; Poulenc - Gloria\; Strauss - Tod und Verklarung
UID:3194-1129980@events.umich.edu
URL:https://events.umich.edu/event/3194
CLASS:PUBLIC
STATUS:CONFIRMED
CATEGORIES:music
LOCATION:Hill Auditorium -  
CONTACT:
END:VEVENT
BEGIN:VEVENT
DTSTAMP:20101213T124041
DTSTART;TZID=America/Detroit:20101213T200000
SUMMARY:Performance:Violin Studio Recital
DESCRIPTION:Students of Professor Aaron Berofsky perform Beethoven sonatas.
UID:4012-1129977@events.umich.edu
URL:https://events.umich.edu/event/4012
CLASS:PUBLIC
STATUS:CONFIRMED
CATEGORIES:music
LOCATION:Earl V. Moore Building - McIntosh Theatre
CONTACT:
END:VEVENT
END:VCALENDAR