BEGIN:VCALENDAR
VERSION:2.0
PRODID:-//UM//UM*Events//EN
CALSCALE:GREGORIAN
BEGIN:VTIMEZONE
TZID:America/Detroit
TZURL:http://tzurl.org/zoneinfo/America/Detroit
X-LIC-LOCATION:America/Detroit
BEGIN:DAYLIGHT
TZOFFSETFROM:-0500
TZOFFSETTO:-0400
TZNAME:EDT
DTSTART:20070311T020000
RRULE:FREQ=YEARLY;BYMONTH=3;BYDAY=2SU
END:DAYLIGHT
BEGIN:STANDARD
TZOFFSETFROM:-0400
TZOFFSETTO:-0500
TZNAME:EST
DTSTART:20071104T020000
RRULE:FREQ=YEARLY;BYMONTH=11;BYDAY=1SU
END:STANDARD
END:VTIMEZONE
BEGIN:VEVENT
DTSTAMP:20101208T153958
DTSTART;TZID=America/Detroit:20101216T000000
SUMMARY:Exercise / Fitness:Finals Fitness Frenzy
DESCRIPTION:Take a break from studying for finals with Finals Fitness Frenzy classes. All classes  held in CCRB for one hour. You must have Rec Sports building access to participate. Tues\, Dec 14: Yoga at 5:30 pm in Rm 3275 Wed\, Dec 15: Yoga at 11:30 am in Rm 3060\; Zumba at 5:00 pm in Rm 2275\;  Yoga at 5:30 pm in Rm 3275 Thurs\, Dec 16: Yoga at 11:30 am in Rm 3060\; Yoga at 6:00 pm in Rm 3275
UID:4426-1130143@events.umich.edu
URL:https://events.umich.edu/event/4426
CLASS:PUBLIC
STATUS:CONFIRMED
CATEGORIES:
LOCATION:Central Campus Recreation Building (Bell Pool)
CONTACT:
END:VEVENT
BEGIN:VEVENT
DTSTAMP:20100909T114609
DTSTART;TZID=America/Detroit:20101216T083000
DTEND;TZID=America/Detroit:20101216T190000
SUMMARY:Exhibition:From Trace to Text: Highlights from the U-M Papyrus Collection
DESCRIPTION:This exhibit provides a behind-the-scenes look at the work of papyrologists: how they conserve scraps of often badly damaged papyri\, decipher traces of ink\, read and translate the resulting text\, edit and interpret its contents\, and make this available to both scholars and the general public. Modern technology\, such as digitization and multi-spectral imaging\, is aiding papyrologists in all of these efforts.\n\nTexts on display are some of the highlights of the collection. They include a wonderful drawing of an elephant\, a letter from a newly enlisted soldier to his mother\, and\, of course\, some pages of the oldest manuscript with letters of St. Paul (one of the most famous texts of the collection).\n\nIn its 90-year history\, the University of Michigan Papyrus Collection has trained more students and scholars in the field of papyrology than any other institution in North America. Founded by the visionary Francis W. Kelsey\, the Papyrus Collection has been the training ground for papyrologists from around the world and home to many great resident scholars\, such as Herbert and Louise Youtie\, Ludwig Koenen\, and Traianos Gagos\, who died on April 26\, 2010.\n\nPapyrology is the field of scholarship that deciphers and studies the texts written –primarily on papyrus– by people living in the ancient Mediterranean world between 2\,500 BCE and 1\,000 CE. Most of these texts are found in Egypt where the climate is dry enough to preserve this fragile material. It is a highly specialized and technical field\, requiring intensive training in language (Egyptian\, ancient Greek\, Latin\, Arabic)\, history\, and the unique set of skills necessary for reading original documents.\n\nThe exhibit is open during Audubon Room hours: Sun 1-7pm\, Mon-Fri 8:30-7pm\, Sat 10am-6pm.\n\nThis Exhibit is in Honor of Traianos Gagos (1960-2010).
UID:3497-917801@events.umich.edu
URL:https://events.umich.edu/event/3497
CLASS:PUBLIC
STATUS:CONFIRMED
CATEGORIES:
LOCATION:Hatcher Graduate Library - Audubon Room
CONTACT:
END:VEVENT
BEGIN:VEVENT
DTSTAMP:20101111T175904
DTSTART;TZID=America/Detroit:20101216T100000
SUMMARY:Exhibition:UMMA Projects: Simon Dybbroe MÃ¸ller
DESCRIPTION:Things are not always as they seem in the work of Simon Dybbroe MÃ¸ller. Indeed\, the Danish artist's works can at times appear to have been teleported from a slightly askew\, alternate version of the past. Seemingly familiar forms often appear in unexpected configurations and objects we think we recognize turn out to be something else entirely. An abstract wall painting emerges from beneath a layer of peeling plaster. A group of minimalist sculptures turn out to be the pieces of an enlarged Soma cube. This uncertainty is central to the experience of Dybbroe MÃ¸ller's work\, where an initial misrecognition leads to a moment of aesthetic discovery.\n\nDybbroe MÃ¸ller's penchant for puzzles and paradoxes reflects his interest in modernism's theoretical aspirations as well as its practical failings. Similarly\, his frequent adoption of “outmoded” media both provides him with a diverse artistic palette and a means of questioning the past century's faith in progress through technology and the avant-garde promise of continual artistic development.\n\nFor Dybbroe MÃ¸ller's first solo exhibition in a North American museum\, UMMA will present a new body of work that continues his ongoing engagement with and critique of the modernist paradigm of transparency.
UID:4185-921784@events.umich.edu
URL:https://events.umich.edu/event/4185
CLASS:PUBLIC
STATUS:CONFIRMED
CATEGORIES:visual arts
LOCATION:Museum of Art - Projects Gallery
CONTACT:
END:VEVENT
BEGIN:VEVENT
DTSTAMP:20100908T112436
DTSTART;TZID=America/Detroit:20101216T180000
DTEND;TZID=America/Detroit:20101216T193000
SUMMARY:Meeting:LGBT Student Organization Roundtable
DESCRIPTION:LGBT Student Organization Roundtable was kicked off last fall in order to bring  cohesiveness to the more than 20 LGBTQ-related undergraduate and graduate  student organizations planning programs across campus throughout the year. This  group is facilitated by a Spectrum Center staff member and meets on the third  Thursday of each month in the Spectrum Center.  If your student organization is interested in networking\, collaborating\, and being a  part of a wider movement of LGBTQ student organizations\, please email Ariana  Bostian-Kentes at abostian@umich.edu to be added to the listserv.
UID:3488-916537@events.umich.edu
URL:https://events.umich.edu/event/3488
CLASS:PUBLIC
STATUS:CONFIRMED
CATEGORIES:
LOCATION:Michigan Union - 3200
CONTACT:
END:VEVENT
BEGIN:VEVENT
DTSTAMP:20101118T230147
DTSTART;TZID=America/Detroit:20101216T190000
DTEND;TZID=America/Detroit:20101216T210000
SUMMARY:Performance:Ring of Steel Action Theatre
DESCRIPTION:Theatrical combat is a multidisciplinary art that combines acting with elements of  fencing\, martial arts\, dance\, and music to develop a safe and effective  performance. It is a distinct area of study\; essentially a marital art where the focus  is not to injure your partner. As with any martial art\, years of training are needed  before an individual is prepared to safely share their skills on the stage.\n\nThe Ring of Steel offers theatrical combat training in a wide range of weapons and  combat styles\, based in large part on Aikido and late period rapier.
UID:4252-973245@events.umich.edu
URL:https://events.umich.edu/event/4252
CLASS:PUBLIC
STATUS:CONFIRMED
CATEGORIES:architecture,dance,film,literary arts,music,theater,visual arts
LOCATION:
CONTACT:
END:VEVENT
BEGIN:VEVENT
DTSTAMP:20101213T230212
DTSTART;TZID=America/Detroit:20101216T200000
DTEND;TZID=America/Detroit:20101216T220000
SUMMARY:Exhibition:Third Thursdays: Vulfmon and DJ Paradiddle
DESCRIPTION:Vulfmon\, DJ Paradiddle and Jack Stratton share a chemistry that is remarkable for any trio.  We should note that they are all the same person.  Band members may be found drumming on stop signs\, sidewalks\, and garbage pails -- searching for fresh musical ideas that are cool to humans.  Once found\, they milk them and pick all the meat off of the bones. Don't miss this exciting evening of live and recorded music. It's funky too.
UID:4410-1116248@events.umich.edu
URL:https://events.umich.edu/event/4410
CLASS:PUBLIC
STATUS:CONFIRMED
CATEGORIES:music
LOCATION:Museum of Art - Commons
CONTACT:
END:VEVENT
BEGIN:VEVENT
DTSTAMP:20101111T175841
DTSTART;TZID=America/Detroit:20101216T200000
SUMMARY:Performance:Trinidad Tripoli Steel Band
DESCRIPTION:What could be better\, just as the weather in Michigan turns ugly\, than to celebrate the season tropical-style with the exuberant sounds of the Trinidad Tripoli Steelband? This group\, which took its name from the Marine Hymn\, goes back to the very beginnings of tuned steel pan music in Port-of-Spain\, Trinidad in the 1940s. (The steel pans were originally made from the tops of used oil drums discarded by U.S. military forces.) Based in Ypsilanti and known all over the world\, they've had an amazing career that has included opening (as the Esso Trinidad Steelband) for Liberace\, performing for Queen Elizabeth\, receiving the Golden Medal of Merit from President Ronald Reagan\, and winning the \"bomb\" prize at Trinidad's national Panorama steel band competition\, given for best arrangement of a European classical composition for steel band (check out their all-steel pan version of Khachaturian's \"Sabre Dance\" sometime!). All of which tells you that their occasional holiday show is a very special festivity and a real southeast Michigan institution that everyone should experience at least once.
UID:2710-920434@events.umich.edu
URL:https://events.umich.edu/event/2710
CLASS:PUBLIC
STATUS:CONFIRMED
CATEGORIES:music
LOCATION:
CONTACT:
END:VEVENT
BEGIN:VEVENT
DTSTAMP:20101122T230154
DTSTART;TZID=America/Detroit:20101216T220000
DTEND;TZID=America/Detroit:20101216T010000
SUMMARY:Exhibition:Finals Survival Breakfast
DESCRIPTION:Join your friends and some UM celebrities for a free study break during final exams! Stop by the U-Club on the first floor of the Michigan Union and be served a free\, hot breakfast by your favorite UM administrators\, faculty\, & staff. We'll have tons of great food (mmm...pancakes...)\, giveaways\, and activities to help you relieve stress.
UID:4262-995721@events.umich.edu
URL:https://events.umich.edu/event/4262
CLASS:PUBLIC
STATUS:CONFIRMED
CATEGORIES:
LOCATION:Michigan Union - University Club
CONTACT:
END:VEVENT
END:VCALENDAR