BEGIN:VCALENDAR
VERSION:2.0
PRODID:-//UM//UM*Events//EN
CALSCALE:GREGORIAN
BEGIN:VTIMEZONE
TZID:America/Detroit
TZURL:http://tzurl.org/zoneinfo/America/Detroit
X-LIC-LOCATION:America/Detroit
BEGIN:DAYLIGHT
TZOFFSETFROM:-0500
TZOFFSETTO:-0400
TZNAME:EDT
DTSTART:20070311T020000
RRULE:FREQ=YEARLY;BYMONTH=3;BYDAY=2SU
END:DAYLIGHT
BEGIN:STANDARD
TZOFFSETFROM:-0400
TZOFFSETTO:-0500
TZNAME:EST
DTSTART:20071104T020000
RRULE:FREQ=YEARLY;BYMONTH=11;BYDAY=1SU
END:STANDARD
END:VTIMEZONE
BEGIN:VEVENT
DTSTAMP:20101208T160649
DTSTART;TZID=America/Detroit:20110113T083000
DTEND;TZID=America/Detroit:20110113T190000
SUMMARY:Exhibition:Celebrating 400 Years of the King James Bible
DESCRIPTION:The Bible exhibit is back! This exhibit traces the roots of the King James Version of the Bible\, showing both its direct ancestors and other\, related works up to its appearance in 1611. Attention is also given to the materials upon which the Biblical text was preserved\, from papyrus to parchment to paper. Original\, rare documents are on display.\n\nAll of the materials displayed in the exhibit are from the University of Michigan Library's Papyrus Collection and Special Collections Library.\n\nThe exhibit is available during Audubon Room hours:  Mon-Fri 8:30am-7pm\, Sat 10am-6pm\, Sun 1-7pm.
UID:4427-1130197@events.umich.edu
URL:https://events.umich.edu/event/4427
CLASS:PUBLIC
STATUS:CONFIRMED
CATEGORIES:
LOCATION:Hatcher Graduate Library - Audubon Room
CONTACT:
END:VEVENT
BEGIN:VEVENT
DTSTAMP:20101111T175702
DTSTART;TZID=America/Detroit:20110113T100000
SUMMARY:Exhibition:Mai-Thu Perret: An Ideal for Living
DESCRIPTION:Contemporary Swiss artist Mai-Thu Perret's multidisciplinary practice fuses feminist politics with classic modernist abstraction and utopian dreams. Her installations synthesize a range of media and genres--including literature\, design\, craft\, and performance–-conjuring an imaginary alternate history of twentieth-century art\, design\, and social activism. Much of Perret's work over the past decade has stemmed from \"The Crystal Frontier\"\, the fictional archive of a female utopian commune called New Ponderosa. From paintings and sculptures to ceramics and textiles or film\, Perret's works infuse the formal vocabulary of modernism with a distinctly handmade aesthetic. Perret's exhibition at UMMA will present an episodic overview of her work from the past decade and will include numerous works never before exhibited in North America.
UID:4183-913808@events.umich.edu
URL:https://events.umich.edu/event/4183
CLASS:PUBLIC
STATUS:CONFIRMED
CATEGORIES:visual arts
LOCATION:Museum of Art
CONTACT:
END:VEVENT
BEGIN:VEVENT
DTSTAMP:20101111T175904
DTSTART;TZID=America/Detroit:20110113T100000
SUMMARY:Exhibition:UMMA Projects: Simon Dybbroe MÃ¸ller
DESCRIPTION:Things are not always as they seem in the work of Simon Dybbroe MÃ¸ller. Indeed\, the Danish artist's works can at times appear to have been teleported from a slightly askew\, alternate version of the past. Seemingly familiar forms often appear in unexpected configurations and objects we think we recognize turn out to be something else entirely. An abstract wall painting emerges from beneath a layer of peeling plaster. A group of minimalist sculptures turn out to be the pieces of an enlarged Soma cube. This uncertainty is central to the experience of Dybbroe MÃ¸ller's work\, where an initial misrecognition leads to a moment of aesthetic discovery.\n\nDybbroe MÃ¸ller's penchant for puzzles and paradoxes reflects his interest in modernism's theoretical aspirations as well as its practical failings. Similarly\, his frequent adoption of “outmoded” media both provides him with a diverse artistic palette and a means of questioning the past century's faith in progress through technology and the avant-garde promise of continual artistic development.\n\nFor Dybbroe MÃ¸ller's first solo exhibition in a North American museum\, UMMA will present a new body of work that continues his ongoing engagement with and critique of the modernist paradigm of transparency.
UID:4185-921808@events.umich.edu
URL:https://events.umich.edu/event/4185
CLASS:PUBLIC
STATUS:CONFIRMED
CATEGORIES:visual arts
LOCATION:Museum of Art - Projects Gallery
CONTACT:
END:VEVENT
BEGIN:VEVENT
DTSTAMP:20101218T130647
DTSTART;TZID=America/Detroit:20110113T130000
DTEND;TZID=America/Detroit:20110113T160000
SUMMARY:Class / Instruction:From Teasing to Torment: Improving School Climate for GLBT Students
DESCRIPTION:Gay\, Lesbian\, Bi-Sexual and Transgender (GLBT) youth are at increased risk of suicide\, mental health problems\, school failure\, substance abuse\, homelessness\, and bullying. A recent survey found that nearly 9 out of 10 GLBT students experienced harassment at school and nearly two-thirds felt unsafe. Social Workers are uniquely positioned to serve as allies and advocates\, helping to create safe schools for GLBT youth. In this session\, participants will become familiar with terminology associated with GLBT students\, and will learn how membership in one or more of these oppressed groups is associated with academic failure\, school withdrawal and other risk factors such as depression\, adult exploitation\, substance abuse and family alienation. Participants will become aware of micro and macro level strategies that can be employed with\, and on behalf of\, GLBT students to mitigate some of these factors.\n\nFee:\n\n$60.00\n\nTo register:\nhttp://www.ssw.umich.edu/programs/CE/registration/index.html \n\nThis program is approved for 3 social work continuing education contact hours.
UID:4674-1130507@events.umich.edu
URL:https://events.umich.edu/event/4674
CLASS:PUBLIC
STATUS:CONFIRMED
CATEGORIES:spectrumcenter,social justice,lgbtq
LOCATION:School of Social Work Building - Room 1840 (Educational Conference Center)
CONTACT:
END:VEVENT
BEGIN:VEVENT
DTSTAMP:20110108T130240
DTSTART;TZID=America/Detroit:20110113T160000
SUMMARY:Film Screening:A Touch of Spice
DESCRIPTION:Part of The Connecting Sea: Charting the Mediterranean across the Disciplines. Go to  http://www.ii.umich.edu/ces-euc for all events
UID:4857-1130728@events.umich.edu
URL:https://events.umich.edu/event/4857
CLASS:PUBLIC
STATUS:CONFIRMED
CATEGORIES:film
LOCATION:School of Social Work Building - 1636
CONTACT:
END:VEVENT
BEGIN:VEVENT
DTSTAMP:20101221T083711
DTSTART;TZID=America/Detroit:20110113T160000
DTEND;TZID=America/Detroit:20110113T170000
SUMMARY:Workshop / Seminar:EEB Thursday Seminar Series
DESCRIPTION:Abstract: Cellular efficiency in protein translation is an important fitness determinant in many organisms.  It is commonly assumed that different synonymous codons are translated with different speeds and that translational efficiency is maximized by the exclusive use of rapidly translated codons.  Unexpectedly\, we observe similar translational speeds among synonymous codons in yeast\, which we hypothesize to have resulted from codon usage in proportion to cognate tRNA concentrations\, the optimal strategy to maximize translational efficiency under tRNA shortage.  This codon-tRNA balance is indeed observed from all eukaryotic genomes examined\, and its impact on translational efficiency is further validated in a yeast molecular experiment.  Our study reveals a previously unsuspected mechanism by which unequal codon usage enhances translational efficiency\, and offers new strategies to improve synthetic biology.
UID:4689-1130515@events.umich.edu
URL:https://events.umich.edu/event/4689
CLASS:PUBLIC
STATUS:CONFIRMED
CATEGORIES:protein translation,evolutionary biology,ecology,cellular efficiency
LOCATION:Chemistry Dow Lab - 1200
CONTACT:
END:VEVENT
BEGIN:VEVENT
DTSTAMP:20101221T120230
DTSTART;TZID=America/Detroit:20110113T170000
DTEND;TZID=America/Detroit:20110113T190000
SUMMARY:Lecture / Discussion:Brenday Marshall: Dakota\, Or What's a Heaven For?
DESCRIPTION:In this brave and moving epic\, set in late nineteenth-century Dakota Territory\, Brenda K. Marshall opens a window onto the history of a place little known and often misunderstood\, to tell an original tale of desire and ambition. The lives and schemes of frontier politicians\, Northern Pacific Railroad executives\, bonanza farmers\, and homesteaders converge in the story of Frances Houghton Bingham\, who marries the son of a Red River Valley bonanza farmer in order to remain near her new husband?s sister. Seduced by the myths of opportunity driving the settlement of Dakota Territory\, Frances dares to dream of a new world in which to realize her unconventional desires. Providing a counterpoint to the dramatic risks taken by Frances is the generous voice of Kirsten Knudson\, the daughter of Norwegian homesteaders. As Kirsten grows from a voluble girl to a formidable woman\, her observations (equal parts absurdity and insight) reveal the heart of the novel. Vast and open\, like Dakota Territory itself\, Dakota\, Or What?s a Heaven For is about land--desired\, stolen\, purchased\, homesteaded\, loved\, lost. It is about the powerful and the powerless\, about boardroom deals and bedroom ultimatums\, and ultimately\, about the ever-shifting definitions of identity\, of home\, of grace. Brenda K. Marshall grew up on a farm in the Red River Valley of North Dakota. She is the author of Mavis (a novel\, Fawcett-Columbine\, 1996) and Teaching the Postmodern: Fiction and Theory (scholarship\, Routledge\, 1992). She teaches in the English Department at the University of Michigan\, and lives with her partner in the countryside near Ann Arbor\, Michigan. \n\nPlease visit www.brendamarshallauthor.com for more information about Marshall and Dakota\, Or What's a Heaven For.
UID:4699-1130520@events.umich.edu
URL:https://events.umich.edu/event/4699
CLASS:PUBLIC
STATUS:CONFIRMED
CATEGORIES:women's studies,spectrumcenter,literary
LOCATION:Lane Hall - 2239
CONTACT:
END:VEVENT
BEGIN:VEVENT
DTSTAMP:20101117T230156
DTSTART;TZID=America/Detroit:20110113T170000
DTEND;TZID=America/Detroit:20110113T180000
SUMMARY:Presentation:Zell Visiting Writers Series Presents: Alice Fulton
DESCRIPTION:Alice Fulton's most recent book of poems is Cascade Experiment: Selected Poems.  Felt was awarded the Rebekah Johnson Bobbitt National Prize for Poetry from the  Library of Congress\; it also was selected by the Los Angeles Times as one of the  Best Books of 2001 and as a finalist for the Los Angeles Times Book Award. Her  other books include Sensual Math\; Powers Of Congress\; Palladium\, winner of the  National Poetry Series and the Society of Midland Authors Award\; and Dance Script  With Electric Ballerina\, winner of The Associated Writing Programs Award. \n\nHer first fiction collection\, The Nightingales of Troy: Connected Stories\, received the  Editor's Prize in Fiction\, and two of her stories were selected for The Best American  Short Stories. She has received fellowships from the MacArthur Foundation\, The  Ingram Merrill Foundation\, the Guggenheim Foundation\, The Michigan Society of  Fellows\, the Fine Arts Work Center in Provincetown\, and the National Endowment for  the Arts. Her work has been included in five editions of The Best American Poetry  series and in the 10th Anniversary edition\, The Best of the Best American Poetry.  Her writing also has appeared in Tin House\, Poetry\, The New Yorker\, Parnassus\, The  Paris Review\, The New Republic\, The Atlantic Monthly\, and many other magazines.  Fulton is currently the George Elliston Poet in Residence at University of Cincinnati.
UID:4227-966393@events.umich.edu
URL:https://events.umich.edu/event/4227
CLASS:PUBLIC
STATUS:CONFIRMED
CATEGORIES:literary arts
LOCATION:Museum of Art - Helmut Stern Auditorium
CONTACT:
END:VEVENT
BEGIN:VEVENT
DTSTAMP:20101217T152601
DTSTART;TZID=America/Detroit:20110113T173000
DTEND;TZID=America/Detroit:20110113T183000
SUMMARY:Workshop / Seminar:Hunger Within
DESCRIPTION:This treatment course takes the focus off food and guides participants through an  intensive program unlocking the psychological barriers to permanent weight loss.   This concrete\, lucid\, step-by-step workshop explores the core reasons for  overeating\, identifies the triggers that precipitate a binge\, and helps break the  vicious cycle of emotional eating.     Marilyn Migliore\, MS\, RD\, ACSW\, BCD
UID:4488-1130335@events.umich.edu
URL:https://events.umich.edu/event/4488
CLASS:PUBLIC
STATUS:CONFIRMED
CATEGORIES:
LOCATION:
CONTACT:
END:VEVENT
BEGIN:VEVENT
DTSTAMP:20100730T123659
DTSTART;TZID=America/Detroit:20110113T183000
DTEND;TZID=America/Detroit:20110113T210000
SUMMARY:Workshop / Seminar:FREE Brr! It's Cold In Here! Winter Recreation Clinic
DESCRIPTION:Outdoor Adventures is your local Ann Arbor source for rentals on great winter  recreational gear! This free MOLS clinic will give you a chance to demo the snowshoes  and cross–country skis we have available for rent. We will fit you for gear\, and then  give quick lessons out in the snow that will have hopefully piled up on Elbel field. You  can glide or snowshoe for as long as your heart desires\, and then come grab some hot  chocolate inside. The Outdoor Adventures staff welcomes all ages and skill levels at  this clinic. C'mon\, it's hard to say no to free hot chocolate on a cold day – so come  check us out!
UID:3082-916013@events.umich.edu
URL:https://events.umich.edu/event/3082
CLASS:PUBLIC
STATUS:CONFIRMED
CATEGORIES:
LOCATION:Elbel Field Locker Building - Outdoor Adventures Rental Center
CONTACT:
END:VEVENT
BEGIN:VEVENT
DTSTAMP:20101118T230147
DTSTART;TZID=America/Detroit:20110113T190000
DTEND;TZID=America/Detroit:20110113T210000
SUMMARY:Performance:Ring of Steel Action Theatre
DESCRIPTION:Theatrical combat is a multidisciplinary art that combines acting with elements of  fencing\, martial arts\, dance\, and music to develop a safe and effective  performance. It is a distinct area of study\; essentially a marital art where the focus  is not to injure your partner. As with any martial art\, years of training are needed  before an individual is prepared to safely share their skills on the stage.\n\nThe Ring of Steel offers theatrical combat training in a wide range of weapons and  combat styles\, based in large part on Aikido and late period rapier.
UID:4252-973252@events.umich.edu
URL:https://events.umich.edu/event/4252
CLASS:PUBLIC
STATUS:CONFIRMED
CATEGORIES:architecture,film,dance,visual arts,theater,music,literary arts
LOCATION:
CONTACT:
END:VEVENT
BEGIN:VEVENT
DTSTAMP:20101215T190246
DTSTART;TZID=America/Detroit:20110113T190000
SUMMARY:Lecture / Discussion:Theary Seng and MLK's Cambodian Legacy
DESCRIPTION:In conjunction with the 2011 MLK Symposium \"We the People... Realizing the Dream\,\" Theary Seng\, the founder and board president of the Cambodian Center for Justice and Reconciliation\, and the founding director of CIVICUS: Center for Cambodian Civic Education\, will give a talk about justice\, peace\, and reconciliation in Cambodia and MLK's legacy in advancing these values in Cambodia as well as across the globe.
UID:4438-1130134@events.umich.edu
URL:https://events.umich.edu/event/4438
CLASS:PUBLIC
STATUS:CONFIRMED
CATEGORIES:social justice,multicultural
LOCATION:Museum of Art - Helmut Stern Auditorium
CONTACT:
END:VEVENT
BEGIN:VEVENT
DTSTAMP:20110111T134300
DTSTART;TZID=America/Detroit:20110113T193000
DTEND;TZID=America/Detroit:20110113T203000
SUMMARY:Lecture / Discussion:The German Reunion
DESCRIPTION:People from all over the world are living at the University of Michigan campus. Take this opportunity to expand your knowledge about different countries\, cultures\, and societies!\n\nIn this first presentation\, Melanie Schmidt-Wilke\, a Northwood resident\, will be discussing the reunion of East and West Germany following the fall of the Berlin Wall. \n\nUpcoming presentations in the series will feature: South Africa (1/20)\, Moldova (2/3)\, Spain (2/17)\, Hungary (2/24)\, Reunion Island (3/10)\, and Egypt (3/17).\n\nAll presentations will be held at the Northwood Community Center at 1000 McIntyre Dr. \n\nARRIVING BY BUS?\nFrom direction of central campus\, take the NORTHWOOD Blue Bus to the NORTHWOOD COMMUNITY CENTER.\nFrom the direction of Northwood V\, take the NORTHWOOD Blue Bus three stops\, and walk up the hill to the COMMUNITY CENTER.\n\nContact Melanie Schmidt-Wilcke with questions about this series (m.sonne@gmx.net).
UID:4932-1131023@events.umich.edu
URL:https://events.umich.edu/event/4932
CLASS:PUBLIC
STATUS:CONFIRMED
CATEGORIES:global learning series
LOCATION:Northwood Community Center
CONTACT:
END:VEVENT
BEGIN:VEVENT
DTSTAMP:20101111T175739
DTSTART;TZID=America/Detroit:20110113T200000
SUMMARY:Performance:Red Sea Pedestrians
DESCRIPTION:The Red Sea Pedestrians are a musical melting pot\, bringing together six distinctive multi-instrumentalists and singer-songwriters to investigate klezmer music and a host of other styles. Their live shows and their new CD\, \"Adrift\,\" have built up a buzz that's extended across the Midwest from their home base in Kalamazoo. The Red Sea Pedestrians call themselves \"a one-of-a-kind\, full-blown\, instrument-swapping fusion between tradition and the here-and-now\,\" with high-energy neo-klezmer music and songs of celebration and wonder that mix styles from many cultures and eras. \"The music of The Red Sea Pedestrians may be based in tradition\, but it's also fresh and eclectic\,\" says Lorraine Caron of Kalamazoo's WMUK. \"Their playing is authentic and energetic and gets listeners where they live.\"
UID:3577-916233@events.umich.edu
URL:https://events.umich.edu/event/3577
CLASS:PUBLIC
STATUS:CONFIRMED
CATEGORIES:music
LOCATION:
CONTACT:
END:VEVENT
BEGIN:VEVENT
DTSTAMP:20101111T175633
DTSTART;TZID=America/Detroit:20110113T203000
DTEND;TZID=America/Detroit:20110113T230000
SUMMARY:Performance:Poetry Slam
DESCRIPTION:Doors open at 8:30\, and the event starts PROMPTLY at 9pm.\n\nCost is $5 per person.\n\nThere is an OPEN MIC session from 9-9:30pm where poets showcase their skills  without being judged.\n\nThe SLAM is a competition wherein 7 poets have 3 minutes to give the crowd their  best work. The winner of the slam will be photographed\, automatically entered into  the GRAND SLAM\, and will receive a special prize!\n\nFrom 10:15-11pm\, there will be a featured poet!\n\nCome...Listen...Perform...ENJOY!!!
UID:3696-911695@events.umich.edu
URL:https://events.umich.edu/event/3696
CLASS:PUBLIC
STATUS:CONFIRMED
CATEGORIES:literary arts
LOCATION:Michigan Union - The University Club (U-Club)
CONTACT:
END:VEVENT
END:VCALENDAR