BEGIN:VCALENDAR
VERSION:2.0
PRODID:-//UM//UM*Events//EN
CALSCALE:GREGORIAN
BEGIN:VTIMEZONE
TZID:America/Detroit
TZURL:http://tzurl.org/zoneinfo/America/Detroit
X-LIC-LOCATION:America/Detroit
BEGIN:DAYLIGHT
TZOFFSETFROM:-0500
TZOFFSETTO:-0400
TZNAME:EDT
DTSTART:20070311T020000
RRULE:FREQ=YEARLY;BYMONTH=3;BYDAY=2SU
END:DAYLIGHT
BEGIN:STANDARD
TZOFFSETFROM:-0400
TZOFFSETTO:-0500
TZNAME:EST
DTSTART:20071104T020000
RRULE:FREQ=YEARLY;BYMONTH=11;BYDAY=1SU
END:STANDARD
END:VTIMEZONE
BEGIN:VEVENT
DTSTAMP:20101208T160649
DTSTART;TZID=America/Detroit:20110114T083000
DTEND;TZID=America/Detroit:20110114T190000
SUMMARY:Exhibition:Celebrating 400 Years of the King James Bible
DESCRIPTION:The Bible exhibit is back! This exhibit traces the roots of the King James Version of the Bible\, showing both its direct ancestors and other\, related works up to its appearance in 1611. Attention is also given to the materials upon which the Biblical text was preserved\, from papyrus to parchment to paper. Original\, rare documents are on display.\n\nAll of the materials displayed in the exhibit are from the University of Michigan Library's Papyrus Collection and Special Collections Library.\n\nThe exhibit is available during Audubon Room hours:  Mon-Fri 8:30am-7pm\, Sat 10am-6pm\, Sun 1-7pm.
UID:4427-1130198@events.umich.edu
URL:https://events.umich.edu/event/4427
CLASS:PUBLIC
STATUS:CONFIRMED
CATEGORIES:
LOCATION:Hatcher Graduate Library - Audubon Room
CONTACT:
END:VEVENT
BEGIN:VEVENT
DTSTAMP:20101111T175702
DTSTART;TZID=America/Detroit:20110114T100000
SUMMARY:Exhibition:Mai-Thu Perret: An Ideal for Living
DESCRIPTION:Contemporary Swiss artist Mai-Thu Perret's multidisciplinary practice fuses feminist politics with classic modernist abstraction and utopian dreams. Her installations synthesize a range of media and genres--including literature\, design\, craft\, and performance–-conjuring an imaginary alternate history of twentieth-century art\, design\, and social activism. Much of Perret's work over the past decade has stemmed from \"The Crystal Frontier\"\, the fictional archive of a female utopian commune called New Ponderosa. From paintings and sculptures to ceramics and textiles or film\, Perret's works infuse the formal vocabulary of modernism with a distinctly handmade aesthetic. Perret's exhibition at UMMA will present an episodic overview of her work from the past decade and will include numerous works never before exhibited in North America.
UID:4183-913809@events.umich.edu
URL:https://events.umich.edu/event/4183
CLASS:PUBLIC
STATUS:CONFIRMED
CATEGORIES:visual arts
LOCATION:Museum of Art
CONTACT:
END:VEVENT
BEGIN:VEVENT
DTSTAMP:20101111T175904
DTSTART;TZID=America/Detroit:20110114T100000
SUMMARY:Exhibition:UMMA Projects: Simon Dybbroe MÃ¸ller
DESCRIPTION:Things are not always as they seem in the work of Simon Dybbroe MÃ¸ller. Indeed\, the Danish artist's works can at times appear to have been teleported from a slightly askew\, alternate version of the past. Seemingly familiar forms often appear in unexpected configurations and objects we think we recognize turn out to be something else entirely. An abstract wall painting emerges from beneath a layer of peeling plaster. A group of minimalist sculptures turn out to be the pieces of an enlarged Soma cube. This uncertainty is central to the experience of Dybbroe MÃ¸ller's work\, where an initial misrecognition leads to a moment of aesthetic discovery.\n\nDybbroe MÃ¸ller's penchant for puzzles and paradoxes reflects his interest in modernism's theoretical aspirations as well as its practical failings. Similarly\, his frequent adoption of “outmoded” media both provides him with a diverse artistic palette and a means of questioning the past century's faith in progress through technology and the avant-garde promise of continual artistic development.\n\nFor Dybbroe MÃ¸ller's first solo exhibition in a North American museum\, UMMA will present a new body of work that continues his ongoing engagement with and critique of the modernist paradigm of transparency.
UID:4185-921809@events.umich.edu
URL:https://events.umich.edu/event/4185
CLASS:PUBLIC
STATUS:CONFIRMED
CATEGORIES:visual arts
LOCATION:Museum of Art - Projects Gallery
CONTACT:
END:VEVENT
BEGIN:VEVENT
DTSTAMP:20101215T190241
DTSTART;TZID=America/Detroit:20110114T110000
SUMMARY:Workshop / Seminar:Drop-in and Draw: Fridays in the Gallery
DESCRIPTION:Feed the spirit and the mind and learn to draw on your lunch break. This drop-in gallery class offered by the Ann Arbor Art Center provides you with the opportunity to learn to draw with works in UMMA's collections as your inspiration. Learn the powers of close observation and experiment with proportion\, perspective\, line quality\, value\, composition\, and personal style. No experience necessary – all are welcome!
UID:4439-1129989@events.umich.edu
URL:https://events.umich.edu/event/4439
CLASS:PUBLIC
STATUS:CONFIRMED
CATEGORIES:visual arts
LOCATION:Museum of Art
CONTACT:
END:VEVENT
BEGIN:VEVENT
DTSTAMP:20101207T230211
DTSTART;TZID=America/Detroit:20110114T121500
DTEND;TZID=America/Detroit:20110114T124500
SUMMARY:Exhibition:Lunchtime Tour
DESCRIPTION:Finish your lunch then feed your spirit with art of the world. Come in to the beautiful and warm UMMA environment for a tour designed specifically for the lunch hour. Student Docents will offer you 30 minutes of conversation about art in the UMMA galleries around entertaining themes such as life\, love\, and heroes.
UID:4351-1072073@events.umich.edu
URL:https://events.umich.edu/event/4351
CLASS:PUBLIC
STATUS:CONFIRMED
CATEGORIES:visual arts
LOCATION:Museum of Art
CONTACT:
END:VEVENT
BEGIN:VEVENT
DTSTAMP:20101111T175816
DTSTART;TZID=America/Detroit:20110114T150000
SUMMARY:Social / Informal Gathering:MLK Weekend Dogsledding in the UP
DESCRIPTION:Michigan's Upper Peninsula is a winter wonderland of fun. Imagine driving your own  dogsled and feeling the force of these excitable canines pull us through the breath  taking landscape. After we spend some time with the dogs\, we have the option of going  snowshoeing in the afternoon - a more intimate way to get to know the area. We can  stay cozy and warm\, telling stories and drinking hot chocolate at night. We'll also  explore ice caves on Sunday.
UID:3054-918970@events.umich.edu
URL:https://events.umich.edu/event/3054
CLASS:PUBLIC
STATUS:CONFIRMED
CATEGORIES:
LOCATION:
CONTACT:
END:VEVENT
BEGIN:VEVENT
DTSTAMP:20101111T175603
DTSTART;TZID=America/Detroit:20110114T150000
SUMMARY:Exercise / Fitness:MLK Weekend Ice Climbing in Canada
DESCRIPTION:Ever scaled a frozen waterfall with only crampons and an ice axe? Whether you have or  you haven't - come ice climb with Outdoor Adventures! We'll provide the gear if you  provide the energy and willingness to make it to the top. We'll also relax in a warm  cabin and explore the winter wonderland of the area.
UID:3055-909432@events.umich.edu
URL:https://events.umich.edu/event/3055
CLASS:PUBLIC
STATUS:CONFIRMED
CATEGORIES:
LOCATION:
CONTACT:
END:VEVENT
BEGIN:VEVENT
DTSTAMP:20110114T000308
DTSTART;TZID=America/Detroit:20110114T163000
DTEND;TZID=America/Detroit:19691231T190000
SUMMARY:Performance:Interdisciplinary Music Forum:  Graduate Student Workshop
DESCRIPTION:Led by Jessica German (musicology) and Evan Ware (music theory)
UID:4955-1131033@events.umich.edu
URL:https://events.umich.edu/event/4955
CLASS:PUBLIC
STATUS:CONFIRMED
CATEGORIES:music
LOCATION:202 S. Thayer
CONTACT:
END:VEVENT
BEGIN:VEVENT
DTSTAMP:20110105T102424
DTSTART;TZID=America/Detroit:20110114T183000
SUMMARY:Exhibition:Research Through Making Exhibition Opening Reception
DESCRIPTION:The 2010 Research Through Making Faculty research grants were awarded to faculty for the production of a research or creative project that is predicated on MAKING. The exhibition opening will begin with presentations and remarks in the A+A Auditorium (Rm 2104) followed by a reception in the College Gallery (Rm 2106).\nFor more: taubmancollege.umich.edu/rtm
UID:4749-1130605@events.umich.edu
URL:https://events.umich.edu/event/4749
CLASS:PUBLIC
STATUS:CONFIRMED
CATEGORIES:architecture,exhibition,reception,research,urban planning
LOCATION:Art and Architecture Building - A+A Auditorium (Rm 2104)
CONTACT:
END:VEVENT
BEGIN:VEVENT
DTSTAMP:20101215T190243
DTSTART;TZID=America/Detroit:20110114T200000
SUMMARY:Performance:The Ark at UMMA: Student Songwriters Series Showcase
DESCRIPTION:This series\, now in its second year\, invites student songwriters from the University of Michigan\, Eastern Michigan University\, and Washtenaw Community College to submit their original music demos in order to compete for a live performance showcase at UMMA and a chance to perform at The Ark. Students will perform at three showcases in January\, February\, and March. Finalists from each showcase will perform at the finale on March 25\, during which the winner will be announced. Join our email list to find out who will be performing! Send your email address to Emily@theark.org. Visit www.theark.org for more detailed information.
UID:4440-1130031@events.umich.edu
URL:https://events.umich.edu/event/4440
CLASS:PUBLIC
STATUS:CONFIRMED
CATEGORIES:music
LOCATION:Museum of Art - Commons
CONTACT:
END:VEVENT
BEGIN:VEVENT
DTSTAMP:20101111T175855
DTSTART;TZID=America/Detroit:20110114T200000
SUMMARY:Performance:Yellow Room Gang
DESCRIPTION:The Yellow Room Gang is an octet of Michigan songwriters: \"One Shining Moment\" composer David Barrett\, Detroit native and Great American Song Contest winner Jim Bizer\, contemporary country-folk road warrior Annie Capps\, Irish-American chanteuse Kitty Donohoe\, four-time Detroit Music Award winner Jan Krist\, Michael Hough and David Tamulevich of the \"Music to Cure What Ails You\" duo Mustard's Retreat\, and southeast Michigan folk veteran Matt Watroba. The Yellow Room is the \"brilliantly yellow\" living room of Tamulevich's house on Ann Arbor's Old West Side\, where gang members meet monthly for musical brainstorming and mutual critique. Come and be a fly on the wall as the exchange of creative ideas flows freely! \"They all are talented individual performers\,\" says Rich Warren of WFMT's \"Folkstage\" program in Chicago\, \"but there's something special that happens when they're together.\" The Gang recently issued its second album\, \"Happy New Day\,\" to raves like this one from Sing Out! magazine: \"The friendship and creative spirit of this Gang shine through on every song.\"
UID:3578-921257@events.umich.edu
URL:https://events.umich.edu/event/3578
CLASS:PUBLIC
STATUS:CONFIRMED
CATEGORIES:music
LOCATION:
CONTACT:
END:VEVENT
END:VCALENDAR