BEGIN:VCALENDAR
VERSION:2.0
PRODID:-//UM//UM*Events//EN
CALSCALE:GREGORIAN
BEGIN:VTIMEZONE
TZID:America/Detroit
TZURL:http://tzurl.org/zoneinfo/America/Detroit
X-LIC-LOCATION:America/Detroit
BEGIN:DAYLIGHT
TZOFFSETFROM:-0500
TZOFFSETTO:-0400
TZNAME:EDT
DTSTART:20070311T020000
RRULE:FREQ=YEARLY;BYMONTH=3;BYDAY=2SU
END:DAYLIGHT
BEGIN:STANDARD
TZOFFSETFROM:-0400
TZOFFSETTO:-0500
TZNAME:EST
DTSTART:20071104T020000
RRULE:FREQ=YEARLY;BYMONTH=11;BYDAY=1SU
END:STANDARD
END:VTIMEZONE
BEGIN:VEVENT
DTSTAMP:20101208T160649
DTSTART;TZID=America/Detroit:20110121T083000
DTEND;TZID=America/Detroit:20110121T190000
SUMMARY:Exhibition:Celebrating 400 Years of the King James Bible
DESCRIPTION:The Bible exhibit is back! This exhibit traces the roots of the King James Version of the Bible\, showing both its direct ancestors and other\, related works up to its appearance in 1611. Attention is also given to the materials upon which the Biblical text was preserved\, from papyrus to parchment to paper. Original\, rare documents are on display.\n\nAll of the materials displayed in the exhibit are from the University of Michigan Library's Papyrus Collection and Special Collections Library.\n\nThe exhibit is available during Audubon Room hours:  Mon-Fri 8:30am-7pm\, Sat 10am-6pm\, Sun 1-7pm.
UID:4427-1130205@events.umich.edu
URL:https://events.umich.edu/event/4427
CLASS:PUBLIC
STATUS:CONFIRMED
CATEGORIES:
LOCATION:Hatcher Graduate Library - Audubon Room
CONTACT:
END:VEVENT
BEGIN:VEVENT
DTSTAMP:20101111T175702
DTSTART;TZID=America/Detroit:20110121T100000
SUMMARY:Exhibition:Mai-Thu Perret: An Ideal for Living
DESCRIPTION:Contemporary Swiss artist Mai-Thu Perret's multidisciplinary practice fuses feminist politics with classic modernist abstraction and utopian dreams. Her installations synthesize a range of media and genres--including literature\, design\, craft\, and performance–-conjuring an imaginary alternate history of twentieth-century art\, design\, and social activism. Much of Perret's work over the past decade has stemmed from \"The Crystal Frontier\"\, the fictional archive of a female utopian commune called New Ponderosa. From paintings and sculptures to ceramics and textiles or film\, Perret's works infuse the formal vocabulary of modernism with a distinctly handmade aesthetic. Perret's exhibition at UMMA will present an episodic overview of her work from the past decade and will include numerous works never before exhibited in North America.
UID:4183-913816@events.umich.edu
URL:https://events.umich.edu/event/4183
CLASS:PUBLIC
STATUS:CONFIRMED
CATEGORIES:visual arts
LOCATION:Museum of Art
CONTACT:
END:VEVENT
BEGIN:VEVENT
DTSTAMP:20101111T175904
DTSTART;TZID=America/Detroit:20110121T100000
SUMMARY:Exhibition:UMMA Projects: Simon Dybbroe MÃ¸ller
DESCRIPTION:Things are not always as they seem in the work of Simon Dybbroe MÃ¸ller. Indeed\, the Danish artist's works can at times appear to have been teleported from a slightly askew\, alternate version of the past. Seemingly familiar forms often appear in unexpected configurations and objects we think we recognize turn out to be something else entirely. An abstract wall painting emerges from beneath a layer of peeling plaster. A group of minimalist sculptures turn out to be the pieces of an enlarged Soma cube. This uncertainty is central to the experience of Dybbroe MÃ¸ller's work\, where an initial misrecognition leads to a moment of aesthetic discovery.\n\nDybbroe MÃ¸ller's penchant for puzzles and paradoxes reflects his interest in modernism's theoretical aspirations as well as its practical failings. Similarly\, his frequent adoption of “outmoded” media both provides him with a diverse artistic palette and a means of questioning the past century's faith in progress through technology and the avant-garde promise of continual artistic development.\n\nFor Dybbroe MÃ¸ller's first solo exhibition in a North American museum\, UMMA will present a new body of work that continues his ongoing engagement with and critique of the modernist paradigm of transparency.
UID:4185-921815@events.umich.edu
URL:https://events.umich.edu/event/4185
CLASS:PUBLIC
STATUS:CONFIRMED
CATEGORIES:visual arts
LOCATION:Museum of Art - Projects Gallery
CONTACT:
END:VEVENT
BEGIN:VEVENT
DTSTAMP:20101215T190241
DTSTART;TZID=America/Detroit:20110121T110000
SUMMARY:Workshop / Seminar:Drop-in and Draw: Fridays in the Gallery
DESCRIPTION:Feed the spirit and the mind and learn to draw on your lunch break. This drop-in gallery class offered by the Ann Arbor Art Center provides you with the opportunity to learn to draw with works in UMMA's collections as your inspiration. Learn the powers of close observation and experiment with proportion\, perspective\, line quality\, value\, composition\, and personal style. No experience necessary – all are welcome!
UID:4439-1129990@events.umich.edu
URL:https://events.umich.edu/event/4439
CLASS:PUBLIC
STATUS:CONFIRMED
CATEGORIES:visual arts
LOCATION:Museum of Art
CONTACT:
END:VEVENT
BEGIN:VEVENT
DTSTAMP:20110108T134501
DTSTART;TZID=America/Detroit:20110121T140000
SUMMARY:Lecture / Discussion:Influence\, Hybridization\, or Transculturation? Muslims\, Jews\, and Christians in the Music of Medieval Spain
DESCRIPTION:Part of The Connecting Sea: Charting the Mediterranean across the Disciplines. See http://www.ii.umich.edu/ces-euc for all events.
UID:4861-1130732@events.umich.edu
URL:https://events.umich.edu/event/4861
CLASS:PUBLIC
STATUS:CONFIRMED
CATEGORIES:lecture
LOCATION:School of Social Work Building - 1636 International Institute
CONTACT:
END:VEVENT
BEGIN:VEVENT
DTSTAMP:20110121T000234
DTSTART;TZID=America/Detroit:20110121T153000
SUMMARY:Performance:Interdisciplinary Music Forum:  Discussion of Readings
DESCRIPTION:
UID:4957-1131035@events.umich.edu
URL:https://events.umich.edu/event/4957
CLASS:PUBLIC
STATUS:CONFIRMED
CATEGORIES:music
LOCATION:202 S. Thayer - Osterman Common Room
CONTACT:
END:VEVENT
BEGIN:VEVENT
DTSTAMP:20110121T000234
DTSTART;TZID=America/Detroit:20110121T163000
SUMMARY:Performance:BFA Design Portfolio Exhibit Opening Reception
DESCRIPTION:
UID:4322-1129972@events.umich.edu
URL:https://events.umich.edu/event/4322
CLASS:PUBLIC
STATUS:CONFIRMED
CATEGORIES:music,theater
LOCATION:Duderstadt Center - Duderstadt Gallery
CONTACT:
END:VEVENT
BEGIN:VEVENT
DTSTAMP:20110121T000234
DTSTART;TZID=America/Detroit:20110121T170000
SUMMARY:Performance:Dept. of Musicology Distinguished Lecture Series:  Poppea s Progress - Ellen Rosand (Yale)
DESCRIPTION:PLEASE NOTE CORRECTED START TIME OF 5:00 PM.  The appearance of a new DVD of L’incoronazione di Poppea in 2009\, the fifth within a decade\, confirms the canonical status of Monteverdi’s last opera. Long a secret treasure of the distant past\, known just to musicologists and a few courageous early-music performers\, this remarkable work is now being presented regularly in major opera houses around the globe\, from Barcelona to Tokyo. Its success can be ascribed in part to more than a century of musicological fascination with the opera\, involving efforts to understand its laconic sources as well as its elusive meanings. This paper examines the impact of musicology - old\, new\, and otherwise - on the realization of Poppea on stage.
UID:4802-1130662@events.umich.edu
URL:https://events.umich.edu/event/4802
CLASS:PUBLIC
STATUS:CONFIRMED
CATEGORIES:music
LOCATION:Burton Memorial Tower - BMT 506
CONTACT:
END:VEVENT
BEGIN:VEVENT
DTSTAMP:20110105T102657
DTSTART;TZID=America/Detroit:20110121T183000
SUMMARY:Lecture / Discussion:Lecture: Joseph Rosa\, University of Michigan Museum of Art
DESCRIPTION:Most recently announced the University of Michigan Museum of Art’s new director\, Joseph Rosa was previously the Art Institute of Chicago’s John H. Bryan Curatorial Chair of Architecture and Design. He is the author of 13 books and his writings have appeared in Praxis\, Architectural Design\, Assemblage\, Casabella\, The History of Photography Journal\, Oculus\, Architekur & Bauforum\, and Progressive Architecture.\n\nRosa has curated over 30 exhibitions and was formerly the Helen Hilton Raiser Curator of Architecture and Design at the San Francisco Museum of Modern Art (SFMOMA)\, the Curator of Architecture at the Heinz Architectural Center at the Carnegie Museum of Art in Pittsburgh\, PA\, the Chief Curator at the National Building Museum in Washington\, D.C.\, and the Director of the Columbia Architecture Galleries. Rosa has been a Visiting Scholar at The Getty Center for the History of Art and the Humanities\, a recipient of grants from the National Endowment for the Arts and the Graham Foundation for Advanced Studies in the Fine Arts. He has also taught at Columbia University\, California College of the Arts\, Catholic University\, the University of California Berkeley\, and SCI-Arc.\n\nRosa received a B.Arch. in Architecture from the Pratt Institute\, a M.S. in Architecture and Urban Design from Columbia University’s Graduate School of Architecture\, Planning\, and Preservation\, and was a PhD. candidate in the Department of Art and Archaeology. He has worked in the architectural firms of Gwathmey Siegel and Associates\, Peter Eisenman\, and Agrest & Gandelsonas.
UID:4750-1130606@events.umich.edu
URL:https://events.umich.edu/event/4750
CLASS:PUBLIC
STATUS:CONFIRMED
CATEGORIES:lecture,architecture,umma
LOCATION:Art and Architecture Building - A+A Auditorium (Rm 2104)
CONTACT:
END:VEVENT
BEGIN:VEVENT
DTSTAMP:20101210T201602
DTSTART;TZID=America/Detroit:20110121T190000
SUMMARY:Exhibition:Mark Webster Reading Series
DESCRIPTION:One MFA student of fiction and one of poetry\, each introduced by a peer\, will read their work. The Mark Webster Reading Series presents emerging writers in a warm and relaxed setting. We encourage you to bring your friends–a Webster reading makes for an enjoyable and enlightening Friday evening.
UID:4447-1130477@events.umich.edu
URL:https://events.umich.edu/event/4447
CLASS:PUBLIC
STATUS:CONFIRMED
CATEGORIES:literary arts
LOCATION:Museum of Art - Helmut Stern Auditorium
CONTACT:
END:VEVENT
BEGIN:VEVENT
DTSTAMP:20110108T141821
DTSTART;TZID=America/Detroit:20110121T193000
SUMMARY:Lecture / Discussion:11th Annual Farrand Public Lecture: Walking Whales and Missing Links
DESCRIPTION:Scientists long before Darwin wondered why whales\, which are mammals\, not fish\, live in the sea.  The discovery of the tiny vestigial hind limbs of Basilosaurus was a major breakthrough in the understanding of the evolutionary history of whales.  World-renowned paleontologist Philip Gingerich will discuss the amazing discoveries of Basilosaurus and other ancestral whale fossils in the spectacular setting of the Exhibit Museum of Natural History\, where a 50-foot specimen of Basilosaurus is now under construction.  Reception follows.
UID:4864-1130735@events.umich.edu
URL:https://events.umich.edu/event/4864
CLASS:PUBLIC
STATUS:CONFIRMED
CATEGORIES:lecture
LOCATION:Ruthven Museums Building - Hall of Evolution
CONTACT:
END:VEVENT
BEGIN:VEVENT
DTSTAMP:20110110T120752
DTSTART;TZID=America/Detroit:20110121T193000
DTEND;TZID=America/Detroit:20110121T210000
SUMMARY:Performance:PureRhythM
DESCRIPTION:Come be entertained at RhythM Tap Ensemble and Pure Dance Xtreme's annual Winter dance showcase!\n\n**Special guests include dance teams Funktion and Michigan Bhangra\, and an acapella singing group!\n\nDoors open at 7:00\, show starts at 7:30. Tickets available at the door.\n
UID:4881-1130845@events.umich.edu
URL:https://events.umich.edu/event/4881
CLASS:PUBLIC
STATUS:CONFIRMED
CATEGORIES:music,dance,student org
LOCATION:Lydia Mendelssohn Theatre
CONTACT:
END:VEVENT
BEGIN:VEVENT
DTSTAMP:20101215T190240
DTSTART;TZID=America/Detroit:20110121T200000
SUMMARY:Performance:Robert Plant & The Band of Joy
DESCRIPTION:Former Lead man for Led Zeppelin is coming to Hill Auditorium!
UID:4425-1129970@events.umich.edu
URL:https://events.umich.edu/event/4425
CLASS:PUBLIC
STATUS:CONFIRMED
CATEGORIES:music
LOCATION:Hill Auditorium
CONTACT:
END:VEVENT
BEGIN:VEVENT
DTSTAMP:20110121T000234
DTSTART;TZID=America/Detroit:20110121T200000
SUMMARY:Performance:Senior Recital: Kirsten Filbrandt\, bassoon
DESCRIPTION:PROGRAM: Mignone - Concertino\; Villa-Lobos - Bachianas Brasileiras No. 5 and No. 6\; Marquez - Danza de Mediodia\; Mockert - Suite Argentina para Jugar con Andrea
UID:4918-1130969@events.umich.edu
URL:https://events.umich.edu/event/4918
CLASS:PUBLIC
STATUS:CONFIRMED
CATEGORIES:music
LOCATION:Earl V. Moore Building - Britton Recital Hall
CONTACT:
END:VEVENT
BEGIN:VEVENT
DTSTAMP:20101111T175720
DTSTART;TZID=America/Detroit:20110121T200000
SUMMARY:Performance:The Ragbirds
DESCRIPTION:
UID:4038-914932@events.umich.edu
URL:https://events.umich.edu/event/4038
CLASS:PUBLIC
STATUS:CONFIRMED
CATEGORIES:music
LOCATION:
CONTACT:
END:VEVENT
BEGIN:VEVENT
DTSTAMP:20110121T000234
DTSTART;TZID=America/Detroit:20110121T203000
SUMMARY:Performance:Islamic Music Concert
DESCRIPTION:Arabic instrumental music and recitation of Arabic epic poetry
UID:4516-1130286@events.umich.edu
URL:https://events.umich.edu/event/4516
CLASS:PUBLIC
STATUS:CONFIRMED
CATEGORIES:music
LOCATION:None/Other, Room: Residential College, Keene Auditorium
CONTACT:
END:VEVENT
BEGIN:VEVENT
DTSTAMP:20101116T230151
DTSTART;TZID=America/Detroit:20110121T203000
SUMMARY:Performance:Open Mic Night
DESCRIPTION:Sign-up for performers begins at 7:30 pm. The show begins at 8:30 pm.\n\nOpen Mic Nights provide a venue for musicians\, singer-songwriters\, and spoken-word artists to perform in a diverse show of creative expression. Each semester culminates in the Best of Best Show (April 15 for the Winter semester)\, where performers from previous events who impressed our judges perform and earn a $40 prize.
UID:4220-959559@events.umich.edu
URL:https://events.umich.edu/event/4220
CLASS:PUBLIC
STATUS:CONFIRMED
CATEGORIES:
LOCATION:Michigan League - Underground
CONTACT:
END:VEVENT
BEGIN:VEVENT
DTSTAMP:20101223T083843
DTSTART;TZID=America/Detroit:20110121T210000
SUMMARY:Performance:Penn Masala
DESCRIPTION:As part of Aurora 2011\, the South Asian Awareness Network presents internationally recognized A Capella group Penn Masala!
UID:4718-1130569@events.umich.edu
URL:https://events.umich.edu/event/4718
CLASS:PUBLIC
STATUS:CONFIRMED
CATEGORIES:south asian awareness network,saan conference,saan,penn masala,concert,aurora 2011,a capella
LOCATION:Rackham Graduate School (Horace H.) - Rackham Auditorium
CONTACT:
END:VEVENT
BEGIN:VEVENT
DTSTAMP:20101116T230151
DTSTART;TZID=America/Detroit:20110121T220000
DTEND;TZID=America/Detroit:20110121T020000
SUMMARY:Recreational / Games:UMix Late Night
DESCRIPTION:Activities include karaoke\, movies\, free Billiards and video games\, food\, and MUCH  more!  Check out our website (www.umich.edu/~uuap)\, Facebook page (search:  University Unions Arts and Programs) or our Twitter (www.twitter.com/uuap) for more  information and details!
UID:4218-959550@events.umich.edu
URL:https://events.umich.edu/event/4218
CLASS:PUBLIC
STATUS:CONFIRMED
CATEGORIES:
LOCATION:Michigan Union
CONTACT:
END:VEVENT
END:VCALENDAR