BEGIN:VCALENDAR
VERSION:2.0
PRODID:-//UM//UM*Events//EN
CALSCALE:GREGORIAN
BEGIN:VTIMEZONE
TZID:America/Detroit
TZURL:http://tzurl.org/zoneinfo/America/Detroit
X-LIC-LOCATION:America/Detroit
BEGIN:DAYLIGHT
TZOFFSETFROM:-0500
TZOFFSETTO:-0400
TZNAME:EDT
DTSTART:20070311T020000
RRULE:FREQ=YEARLY;BYMONTH=3;BYDAY=2SU
END:DAYLIGHT
BEGIN:STANDARD
TZOFFSETFROM:-0400
TZOFFSETTO:-0500
TZNAME:EST
DTSTART:20071104T020000
RRULE:FREQ=YEARLY;BYMONTH=11;BYDAY=1SU
END:STANDARD
END:VTIMEZONE
BEGIN:VEVENT
DTSTAMP:20110110T144947
DTSTART;TZID=America/Detroit:20110204T080000
DTEND;TZID=America/Detroit:20110204T170000
SUMMARY:Exhibition:White Nights 
DESCRIPTION:Artists Walter Martin and Paloma MuÃ±oz's three-dimensional\, magical scenes of alienation\, beauty\, and dark humor\, both photographed and set inside snow globes. \n
UID:4906-1130883@events.umich.edu
URL:https://events.umich.edu/event/4906
CLASS:PUBLIC
STATUS:CONFIRMED
CATEGORIES:visual arts
LOCATION:202 S. Thayer - Institute for the Humanities Gallery, room # 1010
CONTACT:
END:VEVENT
BEGIN:VEVENT
DTSTAMP:20101208T160649
DTSTART;TZID=America/Detroit:20110204T083000
DTEND;TZID=America/Detroit:20110204T190000
SUMMARY:Exhibition:Celebrating 400 Years of the King James Bible
DESCRIPTION:The Bible exhibit is back! This exhibit traces the roots of the King James Version of the Bible\, showing both its direct ancestors and other\, related works up to its appearance in 1611. Attention is also given to the materials upon which the Biblical text was preserved\, from papyrus to parchment to paper. Original\, rare documents are on display.\n\nAll of the materials displayed in the exhibit are from the University of Michigan Library's Papyrus Collection and Special Collections Library.\n\nThe exhibit is available during Audubon Room hours:  Mon-Fri 8:30am-7pm\, Sat 10am-6pm\, Sun 1-7pm.
UID:4427-1130219@events.umich.edu
URL:https://events.umich.edu/event/4427
CLASS:PUBLIC
STATUS:CONFIRMED
CATEGORIES:
LOCATION:Hatcher Graduate Library - Audubon Room
CONTACT:
END:VEVENT
BEGIN:VEVENT
DTSTAMP:20110104T115056
DTSTART;TZID=America/Detroit:20110204T090000
DTEND;TZID=America/Detroit:20110204T180000
SUMMARY:Lecture / Discussion:Lesbian/Queer Historiography Symposium
DESCRIPTION:The symposium will highlight the range of methodological approaches currently being devised for writing the history of same-sex love and desire in periods before the emergence of a widely-perceived\, distinct homosexual identity. Experts will cross historical periods in an effort to think comparatively about the methodological issues involved in writing a non-identitarian history of sexuality. Each of the participants has contributed significantly to the history of sexuality in previous work\, and is currently embarked on a project that reformulates central principles of the field.\n\nThe symposium will consider as well why the writing of lesbian history\, in contrast to gay male and transsexual history\, remains primarily the endeavor of scholars trained in literary studies. The day will consist of three 50-minute public lectures\, each followed by a response\, Q&A\, as well as a working lunch and a final roundtable.\n\nEach of the three featured speakers is in the process of finishing a monograph on the history of sexuality. Professor Doan’s book\, Disturbing Practices: History\, Sexuality\, and Women's Experience of Modern War\, 1914-18\, is forthcoming from University of Chicago Press. Partly dedicated to examining the utility of the concept of genealogy for queer history and partly dedicated to historical case studies\, this book examines the lives of women who did not identify as lesbian despite the presence of a cultural discourse on homosexuality. A chapter from the book\, \"Topsy-Turveydom\,\" was published in GLQ: A Journal of Lesbian and Gay Studies.\n\nProfessor Lanser's monograph\, Mapping Sapphic Modernity\, 1600-1800\, is a major rethinking of the history of western European lesbianism over the long eighteenth-century. A comparativist\, Lanser charts differences among English\, French\, and German discourses of Sapphic desire\, arguing that sapphic subjects function as a signifier of modernity and national identity. Aiming to \"flip the scholarly coin from the history of sexuality to the sexuality of history: from the premise that sexuality is historically constructed to the claim that history is also sexually constructed\,\" Lanser has published essays from this project in such venues as Textual Practice and Journal of the History of Sexuality.\n\nValerie Traub’s current project\, Making Sexual Knowledge: Thinking Sex with the Early Moderns\, is an outgrowth of The Renaissance of Lesbianism in Early Modern England\, which won the Best Book award from the Society of Early Modern Women in 2002. Poised at the intersection of historical and literary studies\, it explores the methods by which we come to \"know\" the history of sexuality\, including definitions of what sex is. With chapters ranging from sexual pedagogy to the sexuality of Shakespeare\, from popular films to women’s sexual knowledge in Renaissance drama\, it considers the various ways in which sex is \"good to think with.\" Essays from this project have been published in such venues as GLQ\, A Companion to Lesbian\, Gay\, Bisexual\, Transgender\, and Queer Studies\, and various edited collections.\n\nThis talk is part of IRWG's Lesbian\, Gay\, Queer Research Initiative series. It is free and open to the public.\n\nThis event is co-sponsored by Department of American Studies\, Department of Comparative Literature's \"Year of Comparison\"\, Department of English Language and Literature\, Department of History\, Department of Women's Studies\, Labadie Collection\, Rackham Interdisciplinary Workshop \"Doing Queer Studies Now\"\, Spectrum Center\, The Eisenberg Institute for Historical Studies and The Institute for the Humanities.
UID:4736-1130592@events.umich.edu
URL:https://events.umich.edu/event/4736
CLASS:PUBLIC
STATUS:CONFIRMED
CATEGORIES:women's studies,spectrumcenter,sc40,history,literary
LOCATION:Lane Hall - 2239
CONTACT:
END:VEVENT
BEGIN:VEVENT
DTSTAMP:20101111T175702
DTSTART;TZID=America/Detroit:20110204T100000
SUMMARY:Exhibition:Mai-Thu Perret: An Ideal for Living
DESCRIPTION:Contemporary Swiss artist Mai-Thu Perret's multidisciplinary practice fuses feminist politics with classic modernist abstraction and utopian dreams. Her installations synthesize a range of media and genres--including literature\, design\, craft\, and performance–-conjuring an imaginary alternate history of twentieth-century art\, design\, and social activism. Much of Perret's work over the past decade has stemmed from \"The Crystal Frontier\"\, the fictional archive of a female utopian commune called New Ponderosa. From paintings and sculptures to ceramics and textiles or film\, Perret's works infuse the formal vocabulary of modernism with a distinctly handmade aesthetic. Perret's exhibition at UMMA will present an episodic overview of her work from the past decade and will include numerous works never before exhibited in North America.
UID:4183-913830@events.umich.edu
URL:https://events.umich.edu/event/4183
CLASS:PUBLIC
STATUS:CONFIRMED
CATEGORIES:visual arts
LOCATION:Museum of Art
CONTACT:
END:VEVENT
BEGIN:VEVENT
DTSTAMP:20101111T175904
DTSTART;TZID=America/Detroit:20110204T100000
SUMMARY:Exhibition:UMMA Projects: Simon Dybbroe MÃ¸ller
DESCRIPTION:Things are not always as they seem in the work of Simon Dybbroe MÃ¸ller. Indeed\, the Danish artist's works can at times appear to have been teleported from a slightly askew\, alternate version of the past. Seemingly familiar forms often appear in unexpected configurations and objects we think we recognize turn out to be something else entirely. An abstract wall painting emerges from beneath a layer of peeling plaster. A group of minimalist sculptures turn out to be the pieces of an enlarged Soma cube. This uncertainty is central to the experience of Dybbroe MÃ¸ller's work\, where an initial misrecognition leads to a moment of aesthetic discovery.\n\nDybbroe MÃ¸ller's penchant for puzzles and paradoxes reflects his interest in modernism's theoretical aspirations as well as its practical failings. Similarly\, his frequent adoption of “outmoded” media both provides him with a diverse artistic palette and a means of questioning the past century's faith in progress through technology and the avant-garde promise of continual artistic development.\n\nFor Dybbroe MÃ¸ller's first solo exhibition in a North American museum\, UMMA will present a new body of work that continues his ongoing engagement with and critique of the modernist paradigm of transparency.
UID:4185-921827@events.umich.edu
URL:https://events.umich.edu/event/4185
CLASS:PUBLIC
STATUS:CONFIRMED
CATEGORIES:visual arts
LOCATION:Museum of Art - Projects Gallery
CONTACT:
END:VEVENT
BEGIN:VEVENT
DTSTAMP:20101111T175748
DTSTART;TZID=America/Detroit:20110204T150000
SUMMARY:Social / Informal Gathering:Dogsledding in the Upper Peninsula!
DESCRIPTION:Michigan's Upper Peninsula is a winter wonderland of fun.  Imagine driving your own  dogsled and feeling the force of these excitable canines pull you through the breath  taking landscape.  After we spend some time with the dogs\, we have the option of  going snowshoeing in the afternoon - a more intimate way to get to know the area.   Finally\, we can stay cozy and warm in the cabin\, telling stories and drinking hot  chocolate!
UID:3059-916724@events.umich.edu
URL:https://events.umich.edu/event/3059
CLASS:PUBLIC
STATUS:CONFIRMED
CATEGORIES:
LOCATION:
CONTACT:
END:VEVENT
BEGIN:VEVENT
DTSTAMP:20110204T000226
DTSTART;TZID=America/Detroit:20110204T153000
SUMMARY:Performance:Interdisciplinary Music Forum:  Discussion of Readings
DESCRIPTION:
UID:4960-1131038@events.umich.edu
URL:https://events.umich.edu/event/4960
CLASS:PUBLIC
STATUS:CONFIRMED
CATEGORIES:music
LOCATION:202 S. Thayer - Osterman Common Room
CONTACT:
END:VEVENT
BEGIN:VEVENT
DTSTAMP:20110118T143908
DTSTART;TZID=America/Detroit:20110204T160000
DTEND;TZID=America/Detroit:20110204T180000
SUMMARY:Lecture / Discussion:Water Conflicts and Technological Solutions to Climate Change: An Historical Analysis from the Peruvian Andes
DESCRIPTION:
UID:5067-1131134@events.umich.edu
URL:https://events.umich.edu/event/5067
CLASS:PUBLIC
STATUS:CONFIRMED
CATEGORIES:lecture
LOCATION:Tisch Hall - 1014
CONTACT:
END:VEVENT
BEGIN:VEVENT
DTSTAMP:20110105T103200
DTSTART;TZID=America/Detroit:20110204T183000
SUMMARY:Lecture / Discussion:Lecture: Richard Sennett\, New York University and the London School of Economics
DESCRIPTION:Richard Sennett was born in Chicago in 1943. He grew up in the Cabrini Green Housing Project\, one of the first racially-mixed public housing projects in the United States. At the age of six he began to study the piano and the cello\, eventually working with Frank Miller of the Chicago Symphony and Claus Adam of the Julliard Quartet. Mr. Sennett was one of the last students of the conductor Pierre Monteux. In 1963 a hand injury put a sudden end to his musical career\; for better or worse he then embarked on academic study.\n\nSennett trained at the University of Chicago and at Harvard University\, receiving his Ph.D. in 1969. He then moved to New York where\, in the 1970s he founded\, with Susan Sontag and Joseph Brodsky\, The New York Institute for the Humanities at New York University. In the 1980s he served as an advisor to UNESCO and as president of the American Council on Work\; he also taught occasionally at Harvard. In the mid-1990s Sennett began to divide his time between New York University and the London School of Economics. In addition to these academic homes\, he maintains informal connections to MIT\, Trinity College and Cambridge University.
UID:4752-1130608@events.umich.edu
URL:https://events.umich.edu/event/4752
CLASS:PUBLIC
STATUS:CONFIRMED
CATEGORIES:architecture,green,raoul wallenberg,sennett,stamps
LOCATION:Walgreen Drama Center - Stamps Auditorium
CONTACT:
END:VEVENT
BEGIN:VEVENT
DTSTAMP:20110107T115019
DTSTART;TZID=America/Detroit:20110204T190000
SUMMARY:Performance:Midwest Hip Hop Summit
DESCRIPTION:7th Annual Midwest Hip Hop Summit featuring Freeway\, OneBelo\, Invincible\, Buff 1\, Majestik Legend\, Binary Star\, and The ReMINDers.
UID:4841-1130696@events.umich.edu
URL:https://events.umich.edu/event/4841
CLASS:PUBLIC
STATUS:CONFIRMED
CATEGORIES:the reminders,onebelo,binary star,mesa,majestik legend,invincible,hip hop summit,hip hop congress,hip hop,freeway,buff 1
LOCATION:Michigan League - Ballroom
CONTACT:
END:VEVENT
BEGIN:VEVENT
DTSTAMP:20110126T105701
DTSTART;TZID=America/Detroit:20110204T190000
SUMMARY:Performance:Service Rocks
DESCRIPTION:Cameo of performances by community service organizations.
UID:5218-1131514@events.umich.edu
URL:https://events.umich.edu/event/5218
CLASS:PUBLIC
STATUS:CONFIRMED
CATEGORIES:k-grams,mendelsohn theatre,variety show
LOCATION:Lydia Mendelssohn Theatre
CONTACT:
END:VEVENT
BEGIN:VEVENT
DTSTAMP:20110204T000225
DTSTART;TZID=America/Detroit:20110204T200000
SUMMARY:Performance:Dancing Americas
DESCRIPTION:The University Dance Company’s 2011 concert celebrates the intertwining of music and culture throughout the Americas. Acclaimed dance artist Dianne McIntyre creates a new work set to music inspired by Bo Diddley\, Eric Dolphy\, and Dizzy Gillespie played by students in the UM Jazz Department. McIntyre’s extensive career has stretched from performing to choreographing for modern dance\, theatre\, television\, and film\, as well as winning numerous awards\, including the 2009 American Dance Festival Award for Distinguished Teaching. “One of the most engaging [dancers] you\&##39\;ll see anywhere”¦McIntyre whips together narrative\, exceptionally fluid dancing\, and music.” (Sarah Kaufman\, The Washington Post) Sandra Torijano premieres Tango con la vida\, a work examining the deep\, shared spirit underlying Latin America’s rich dance and music cultures. Towards a sudden silence by Melissa Beck is inspired by the poems of American poet\, UM graduate\, and Hopwood Award winner Marge Piercy. Rounding out the evening will be a MinEvent\, presenting an uninterrupted sequence of excerpts from masterworks by Merce Cunningham\, accompanied by John Cage’s “Cartridge Music” played live by the Digital Music Ensemble.  Tickets available at the League Ticket Office  734-764-2538
UID:3635-1130269@events.umich.edu
URL:https://events.umich.edu/event/3635
CLASS:PUBLIC
STATUS:CONFIRMED
CATEGORIES:music,dance
LOCATION:Power Center for the Performing Arts
CONTACT:
END:VEVENT
BEGIN:VEVENT
DTSTAMP:20101112T230149
DTSTART;TZID=America/Detroit:20110204T200000
SUMMARY:Performance:Hoots & Hellmouth
DESCRIPTION:
UID:4196-931185@events.umich.edu
URL:https://events.umich.edu/event/4196
CLASS:PUBLIC
STATUS:CONFIRMED
CATEGORIES:music
LOCATION:
CONTACT:
END:VEVENT
BEGIN:VEVENT
DTSTAMP:20110204T000226
DTSTART;TZID=America/Detroit:20110204T200000
SUMMARY:Performance:Student String Quartet Recital
DESCRIPTION:
UID:4803-1130663@events.umich.edu
URL:https://events.umich.edu/event/4803
CLASS:PUBLIC
STATUS:CONFIRMED
CATEGORIES:music
LOCATION:Earl V. Moore Building - Britton Recital Hall
CONTACT:
END:VEVENT
BEGIN:VEVENT
DTSTAMP:20110204T000225
DTSTART;TZID=America/Detroit:20110204T200000
SUMMARY:Performance:Symphony Band
DESCRIPTION:Michael Haithcock\, conductor\, Donald Sinta Saxophone Quartet.  “All-American”.   From American classics by George Gershswin and John Phillip Sousa to new works by current prize winning composers William Bolcom\, Michael Daugherty\, and Joseph Schwantner\, the rich variety of American music merges with the virtuosity of the Symphony Band for an evening of musical fireworks worthy of the Fourth of July!Pre-concert discussion at 7:15 in the lower lobby of Hill Auditorium featuring UM composers William Bolcom and Michael Daugherty who will discuss their works to be premiered this evening by the Symphony Band.PROGRAM:  Gershwin - Cuban Overture\; Schwantner - In Evening’s Stillness\; Daugherty - Lost Vegas (world premiere)\;  Bolcom - Concerto Grosso for Saxophone Quartet and Band (world premiere)\; King - The Melody Shop\; Fillmore - Rolling Thunder\; Sousa - The Stars and Stripes Forever
UID:3199-1130279@events.umich.edu
URL:https://events.umich.edu/event/3199
CLASS:PUBLIC
STATUS:CONFIRMED
CATEGORIES:music
LOCATION:Hill Auditorium
CONTACT:
END:VEVENT
BEGIN:VEVENT
DTSTAMP:20110107T111124
DTSTART;TZID=America/Detroit:20110204T210000
DTEND;TZID=America/Detroit:20110204T013000
SUMMARY:Reception / Open House:Paint it Black: A Pretty Greek Affair
DESCRIPTION:
UID:4839-1131072@events.umich.edu
URL:https://events.umich.edu/event/4839
CLASS:PUBLIC
STATUS:CONFIRMED
CATEGORIES:alpha kappa alpha,dance/party,greek life
LOCATION:Michigan Union - U-Club
CONTACT:
END:VEVENT
END:VCALENDAR