BEGIN:VCALENDAR
VERSION:2.0
PRODID:-//UM//UM*Events//EN
CALSCALE:GREGORIAN
BEGIN:VTIMEZONE
TZID:America/Detroit
TZURL:http://tzurl.org/zoneinfo/America/Detroit
X-LIC-LOCATION:America/Detroit
BEGIN:DAYLIGHT
TZOFFSETFROM:-0500
TZOFFSETTO:-0400
TZNAME:EDT
DTSTART:20070311T020000
RRULE:FREQ=YEARLY;BYMONTH=3;BYDAY=2SU
END:DAYLIGHT
BEGIN:STANDARD
TZOFFSETFROM:-0400
TZOFFSETTO:-0500
TZNAME:EST
DTSTART:20071104T020000
RRULE:FREQ=YEARLY;BYMONTH=11;BYDAY=1SU
END:STANDARD
END:VTIMEZONE
BEGIN:VEVENT
DTSTAMP:20150821T145610
DTSTART;TZID=America/Detroit:20150906T210000
DTEND;TZID=America/Detroit:20150907T010000
SUMMARY:Other:Meijer \"Back to College\" Event
DESCRIPTION:Need to buy those last minute items for your residence hall room?  Want to win free prizes?  Then this event is for you!  Meijer (the area's largest mega-store with groceries) welcomes new students with a fun-filled night of shopping\, games\, music\, free food\, tons of prizes\, and more!  We provide continuous shuttle service throughout the event from Regent's Plaza\, Bursley Hall\, and Markley Hall starting at 8:35pm.
UID:24000-1428093@events.umich.edu
URL:https://events.umich.edu/event/24000
CLASS:PUBLIC
STATUS:CONFIRMED
CATEGORIES:Welcome to Michigan
LOCATION:Off Campus Location
CONTACT:
END:VEVENT
BEGIN:VEVENT
DTSTAMP:20150919T120015
DTSTART;TZID=America/Detroit:20150907T000000
DTEND;TZID=America/Detroit:20150907T235959
SUMMARY:Rally / Mass Meeting:2015 Fall Recruitment of CUSA Board Members
DESCRIPTION:The recruitment of our new board members starts now!Click the link below and fill in the application if you are interested:http://goo.gl/forms/aQZEyTCIQrWe are looking forward to hearing from you!
UID:23666-1603302@events.umich.edu
URL:https://events.umich.edu/event/23666
CLASS:PUBLIC
STATUS:CONFIRMED
CATEGORIES:
LOCATION:East Hall
CONTACT:
END:VEVENT
BEGIN:VEVENT
DTSTAMP:20150817T150935
DTSTART;TZID=America/Detroit:20150907T080000
DTEND;TZID=America/Detroit:20150907T200000
SUMMARY:Exhibition:Gifts of Art presents A Collection to Wear: Glass Jewelry
DESCRIPTION:Working over an oxygen-propane torch flame\, Lisa Walsh creates the glass beads she uses in her original jewelry designs. Fascinated with rocks and stones from an early age\, she enjoys mimicking this organic theme using traditional flameworking techniques and incorporating precious metals into the glass at the molten stage. Walsh lives in Lafayette\, Indiana\, and has been creating glass art and jewelry designs since 1998.
UID:23856-1426495@events.umich.edu
URL:https://events.umich.edu/event/23856
CLASS:PUBLIC
STATUS:CONFIRMED
CATEGORIES:Art,Health & Wellness
LOCATION:University Hospitals - Gifts of Art Gallery — Taubman Health Center North Lobby, Floor 1.
CONTACT:
END:VEVENT
BEGIN:VEVENT
DTSTAMP:20150817T151231
DTSTART;TZID=America/Detroit:20150907T080000
DTEND;TZID=America/Detroit:20150907T200000
SUMMARY:Exhibition:Gifts of Art presents Annual UMHS Employee Art Exhibition
DESCRIPTION:Each year Gifts of Art presents an exhibition of artwork by U-M Health System faculty\, staff\, students\, volunteers and family members. It showcases the exceptional talent\, creativity and accomplishments of artists in the extensive (~26\,000) UMHS community. There are ribbon awards for Best in Category and Best in Show\, and a People's Choice award will be determined by votes of visitors to the exhibit by using the voting ballots and box provided on site. Winners will be announced at the Artist Reception and Award Ceremony held in the exhibit gallery\, date TBA. For more information\, please visit: www.med.umich.edu/goa/employee.htm.
UID:23857-1426592@events.umich.edu
URL:https://events.umich.edu/event/23857
CLASS:PUBLIC
STATUS:CONFIRMED
CATEGORIES:Art,Health & Wellness
LOCATION:University Hospitals - Gifts of Art Gallery — Taubman Health Center South Lobby, Floor 1.
CONTACT:
END:VEVENT
BEGIN:VEVENT
DTSTAMP:20150817T151816
DTSTART;TZID=America/Detroit:20150907T080000
DTEND;TZID=America/Detroit:20150907T200000
SUMMARY:Exhibition:Gifts of Art presents At Work & Play: Photography
DESCRIPTION:After retiring from his career in business and engineering\, Ohio artist Bill Franz became a volunteer photographer\, doing projects for numerous nonprofit organizations. His environmental portraits show people at work and at play in a variety of contexts. Franz’ work has been on exhibit in Ohio and neighboring states.
UID:23859-1426786@events.umich.edu
URL:https://events.umich.edu/event/23859
CLASS:PUBLIC
STATUS:CONFIRMED
CATEGORIES:Art,Health & Wellness
LOCATION:University Hospitals - Gifts of Art Gallery — University Hospital Main Corridor, Floor 2
CONTACT:
END:VEVENT
BEGIN:VEVENT
DTSTAMP:20150817T153824
DTSTART;TZID=America/Detroit:20150907T080000
DTEND;TZID=America/Detroit:20150907T170000
SUMMARY:Exhibition:Gifts of Art presents Light Within the Darkness of Nature: Oil on Canvas
DESCRIPTION:Using palette knives and an intuitive response to her oil paints and surface\, painter Sheryl Budnik first looks carefully at the land or sea\, noticing her emotional response. She paints what she feels is the heart of a place\, finding \"the light within the darkness of nature”\, or Lumen Naturae. This refers to Paracelsus’ Middle Ages idea that the light in nature allows inspiration and intuition to rise from the subconscious. Budnik evokes a memory of land or water with her abstract paintings in order to connect us with the spirit of the earth and leave us with an awareness that we are all nature.
UID:23864-1427174@events.umich.edu
URL:https://events.umich.edu/event/23864
CLASS:PUBLIC
STATUS:CONFIRMED
CATEGORIES:Art,Health & Wellness
LOCATION:University Hospitals - Gifts of Art Gallery — Comprehensive Cancer Center, Level 1.
CONTACT:
END:VEVENT
BEGIN:VEVENT
DTSTAMP:20150817T152013
DTSTART;TZID=America/Detroit:20150907T080000
DTEND;TZID=America/Detroit:20150907T200000
SUMMARY:Exhibition:Gifts of Art presents Palettes & Paths: Bead Woven Jewelry
DESCRIPTION:Returning Gifts of Art exhibiting artist Mary Cody designs colorful jewelry with a subtle message meant to inspire creativity and hope. She freely combines tiny 24 kt gold\, palladium and glass beads in her original weavings by \"picking up the pieces\,\" a look that came by accident after costly beads scattered across the floor. Cody sees her work as representing the lessons in our lives – how unforeseen events are often prior to beautiful blessings. Her bead woven jewelry has been in fine art shows from Ann Arbor\, Michigan to Bellevue\, Washington and has been described as miniature works of stained glass.
UID:23860-1426883@events.umich.edu
URL:https://events.umich.edu/event/23860
CLASS:PUBLIC
STATUS:CONFIRMED
CATEGORIES:Art,Health & Wellness
LOCATION:University Hospitals - Gifts of Art Gallery — University Hospital Main Corridor, Floor 2
CONTACT:
END:VEVENT
BEGIN:VEVENT
DTSTAMP:20150817T151530
DTSTART;TZID=America/Detroit:20150907T080000
DTEND;TZID=America/Detroit:20150907T200000
SUMMARY:Exhibition:Gifts of Art presents The Color of U-M Sports: Helicopter Photography
DESCRIPTION:As perhaps the world’s only artist-photographer who works primarily from a helicopter\, Dale Fisher captures and transforms his subjects using color\, light and shadows – all while skimming over his subjects at ground speeds of up to 120 miles per hour. In the US Navy\, he began shooting with a camera from the skies as an aerial reconnaissance photographer. In the ‘60s\, Fisher traveled the country in a Ford pickup truck with a camper top darkroom\, towing a rather lengthy trailer with his helicopter. Now working in the digital format\, Fisher currently resides and has his studio on a 200 year old farm in Grass Lake\, Michigan\, and his work can be found in public and private collections across the country.
UID:23858-1426689@events.umich.edu
URL:https://events.umich.edu/event/23858
CLASS:PUBLIC
STATUS:CONFIRMED
CATEGORIES:Art,Health & Wellness
LOCATION:University Hospitals - Gifts of Art Gallery — University Hospital Main Lobby, Floor 1.
CONTACT:
END:VEVENT
BEGIN:VEVENT
DTSTAMP:20150706T151727
DTSTART;TZID=America/Detroit:20150907T080000
DTEND;TZID=America/Detroit:20150907T170000
SUMMARY:Exhibition:Gifts of Art presents The Dinnerware Museum: A Place at the Table
DESCRIPTION:The Dinnerware Museum\, a new museum in Ann Arbor established in 2012\, features a collection of thousands of pieces of functional dinnerware from all over the world along with fine art referencing dinnerware created from ceramic\, metal\, glass\, paper\, plastic and more. This exhibition highlights portions of eight memorable place settings of American tableware dating from the 1930s to the present\, including sets designed by the leading 20th century designers Eva Zeisel\, Russel Wright\, Glidden Parker\, and Don Schreckengost as well as new dinnerware by contemporary artist Julia Galloway in 2014.
UID:23133-1420677@events.umich.edu
URL:https://events.umich.edu/event/23133
CLASS:PUBLIC
STATUS:CONFIRMED
CATEGORIES:Art,Health & Wellness
LOCATION:University Hospitals - Gifts of Art Gallery — Cancer Center Elevator Alcove, Level 2
CONTACT:
END:VEVENT
BEGIN:VEVENT
DTSTAMP:20150817T150649
DTSTART;TZID=America/Detroit:20150907T080000
DTEND;TZID=America/Detroit:20150907T200000
SUMMARY:Exhibition:Gifts of Art presents The Spirit of Place: Oil Paintings
DESCRIPTION:A full time painter\, Laurie Schirmer Carpenter studied art at the University of Colorado\, Denver but has deep ties to the Midwest. She has developed a special interest in the land and skies of this region\, which are often depicted in her paintings. While her paintings are of particular places or things in nature\, they are paintings first – ideas made visual. Most of them result from sketches\, en plein air paintings and photographs made during a walk or bike ride through the countryside. Using these references\, she creates the paintings in her studio that are often a composite of several places. Her oil paintings can be found in many private and corporate collections.
UID:23855-1426398@events.umich.edu
URL:https://events.umich.edu/event/23855
CLASS:PUBLIC
STATUS:CONFIRMED
CATEGORIES:Art,Health & Wellness
LOCATION:University Hospitals - Gifts of Art Gallery — Taubman Health Center North Lobby, Floor 1.
CONTACT:
END:VEVENT
BEGIN:VEVENT
DTSTAMP:20150716T115746
DTSTART;TZID=America/Detroit:20150907T090000
DTEND;TZID=America/Detroit:20150907T170000
SUMMARY:Exhibition:Exhibit: Women in Science
DESCRIPTION:Colorful comic book graphics in this panel exhibit invite young U-M Museum of Natural History visitors from every background to see themselves working in STEM fields (Science\, Technology\, Engineering\, and Mathematics)\, and changing the world.\n\nDeveloped by Ann Marie Macara\, a fifth-year graduate student in the U-M Department of Molecular\, Cellular\, and Developmental Biology\, the exhibit features four women scientists whose work had a major impact in their fields. These women persevered against the odds and are powerful role models who continue to inspire young women to follow in their footsteps in STEM.\n\nMary Anning represents Science for her discoveries of fossils from the Jurassic period. Annie Easley personifies Technology as one of the few African-American computer scientists to work at NASA (then NACA) as a ‘human computer’ and who then developed software for rockets. Sarah Goode stands for Engineering as the first African-American woman to receive a US patent for her invention of the folding cabinet bed. Finally\, Wang Zhenyi exemplifies Mathematics for her mathematical models of astronomical events\, including eclipses. \n  \nThe exhibit was made possible through the support of the U-M Life Sciences Institute\; a MAAS Professional Development Award\; the Program in Biomedical Science\; the Department of Molecular\, Cellular\, and Developmental Biology\; the Women in Science and Engineering Program\; and FEMMES (Females Engaged in More Math\, Engineering and the Sciences).
UID:23247-1422070@events.umich.edu
URL:https://events.umich.edu/event/23247
CLASS:PUBLIC
STATUS:CONFIRMED
CATEGORIES:Science,Women's Studies
LOCATION:Ruthven Museums Building - 4th floor
CONTACT:
END:VEVENT
BEGIN:VEVENT
DTSTAMP:20150313T140540
DTSTART;TZID=America/Detroit:20150907T090000
DTEND;TZID=America/Detroit:20150907T170000
SUMMARY:Exhibition:The Shape of the Universe
DESCRIPTION:This exhibit traces the history of our evolving understanding of the Universe\, from Einstein's discovery of space-time\, through the development of theories explaining the Big Bang and cosmic expansion\, up to cutting-edge research on gravity waves being conducted by U-M mathematician Lydia Bieri. This exhibit will include interactives\, video\, beautiful NASA photographs\, and artwork by local high school students.
UID:21954-1373061@events.umich.edu
URL:https://events.umich.edu/event/21954
CLASS:PUBLIC
STATUS:CONFIRMED
CATEGORIES:Astronomy,Exhibition,Science
LOCATION:Ruthven Museums Building
CONTACT:
END:VEVENT
BEGIN:VEVENT
DTSTAMP:20150828T144733
DTSTART;TZID=America/Detroit:20150907T100000
DTEND;TZID=America/Detroit:20150907T190000
SUMMARY:Other:Michigan Union Poster Sale
DESCRIPTION:THE BIGGEST POSTER SALE\n\nBiggest and Best Selection. Choose from over 2000 different images. FINE ART\, \nMUSIC\, MOVIES\, MODELS\, HUMOR\, ANIMALS\, PERSONALITIES\, \nLANDSCAPES\, MOTIVATIONALS\, PHOTOGRAPHY.\nMOST IMAGES ONLY $7\, $8\, AND $9.
UID:24181-1429569@events.umich.edu
URL:https://events.umich.edu/event/24181
CLASS:PUBLIC
STATUS:CONFIRMED
CATEGORIES:Welcome to Michigan
LOCATION:Michigan Union - Art Lounge
CONTACT:
END:VEVENT
BEGIN:VEVENT
DTSTAMP:20150907T060015
DTSTART;TZID=America/Detroit:20150907T100000
DTEND;TZID=America/Detroit:20150907T113000
SUMMARY:Exercise / Fitness:MONDAY morning ride: 10am up to north campus\, down Huron Parkway\, then back down Fuller Rd. 
DESCRIPTION:To mix things up\, we'll meet at Maiden Lane and Nielsen Ct. at 10am\, then head up to explore North Campus. They have a lot of nice buildings up there. This won't be as much of a lengthy ride as Dexter-and-back\, but there may be some climbing. All in all it will be a very friendly\, easy going ride. 
UID:24456-1494744@events.umich.edu
URL:https://events.umich.edu/event/24456
CLASS:PUBLIC
STATUS:CONFIRMED
CATEGORIES:
LOCATION:Maiden Lane and Nielsen Court
CONTACT:
END:VEVENT
BEGIN:VEVENT
DTSTAMP:20150331T090526
DTSTART;TZID=America/Detroit:20150907T100000
DTEND;TZID=America/Detroit:20150907T170000
SUMMARY:Exhibition:The Jewish Tradition of Tsedakah as Exemplified in Pushkes\, Charity Donation Boxes
DESCRIPTION:This exhibit features an eclectic selection of Pushkes (פּושקעס) – the common Yiddish moniker for charity/donation boxes. In Judaism\, dispensing of charity is not simply a monetary transaction. Rather\, the act is a beautiful exemplar of an individual’s conscious choice to help another person\, while also acknowledging the transience of material wealth and paying one’s good fortunes forward.\n\nThese Pushkes function as vessels that anonymize the donations within\, stressing that the act of giving should not be done for acknowledgement. Instead\, giving should signify a gesture of honest good will. Furthermore\, the amalgam of wealth inside these boxes is comprised of the materiality and benevolence of an entire community.\n\nצדקה תציל ממװת\nTsedakah tatsil mi-mavet\nCharity Saves from Death\n     — 156b\, Tractate Shabes\, Babylonian Talmud\n\nAll items on display were donated by Constance Harris and are on loan from the Jewish Heritage Collection Dedicated to Mark and Dave Harris\, Special Collections Library\, University of Michigan Library—except where otherwise noted.
UID:22410-1396110@events.umich.edu
URL:https://events.umich.edu/event/22410
CLASS:PUBLIC
STATUS:CONFIRMED
CATEGORIES:Exhibition,Jewish Studies,Library
LOCATION:Off Campus Location
CONTACT:
END:VEVENT
BEGIN:VEVENT
DTSTAMP:20150907T120012
DTSTART;TZID=America/Detroit:20150907T110000
DTEND;TZID=America/Detroit:20150907T140000
SUMMARY:Other:blueMUN at Northfest
DESCRIPTION:Come talk to us in person\, learn about blueMUN and how to become a member\, and let us get to know you!
UID:24066-1428351@events.umich.edu
URL:https://events.umich.edu/event/24066
CLASS:PUBLIC
STATUS:CONFIRMED
CATEGORIES:
LOCATION:North Campus
CONTACT:
END:VEVENT
BEGIN:VEVENT
DTSTAMP:20150907T120011
DTSTART;TZID=America/Detroit:20150907T110000
DTEND;TZID=America/Detroit:20150907T140000
SUMMARY:Fair / Festival:M-agination Films @ Northfest
DESCRIPTION:Living on north? Come say hello to M-agination Films members at Northfest! We'll be happy to answer questions and show you how you can get involved with M-agination Films this upcoming year. 
UID:23349-1423283@events.umich.edu
URL:https://events.umich.edu/event/23349
CLASS:PUBLIC
STATUS:CONFIRMED
CATEGORIES:
LOCATION:North Campus
CONTACT:
END:VEVENT
BEGIN:VEVENT
DTSTAMP:20150713T170633
DTSTART;TZID=America/Detroit:20150907T110000
DTEND;TZID=America/Detroit:20150907T140000
SUMMARY:Fair / Festival:NorthFest
DESCRIPTION:Join us in celebrating the new year with a street festival on north campus. Meet organization representatives and relax and enjoy a street fair with a variety of entertainment.
UID:23130-1420610@events.umich.edu
URL:https://events.umich.edu/event/23130
CLASS:PUBLIC
STATUS:CONFIRMED
CATEGORIES:Festival,Free,Student Org,Welcome to Michigan
LOCATION:Pierpont Commons - Outdoors
CONTACT:
END:VEVENT
BEGIN:VEVENT
DTSTAMP:20150907T120012
DTSTART;TZID=America/Detroit:20150907T110000
DTEND;TZID=America/Detroit:20150907T140000
SUMMARY:Fair / Festival:NorthFest
DESCRIPTION:NorthFest! Come learn about our organization\, meet members\, and sign up for some exciting events! North Campus Diag11 am - 2 pm 
UID:24410-1474318@events.umich.edu
URL:https://events.umich.edu/event/24410
CLASS:PUBLIC
STATUS:CONFIRMED
CATEGORIES:
LOCATION:North Campus Diag
CONTACT:
END:VEVENT
BEGIN:VEVENT
DTSTAMP:20150907T120012
DTSTART;TZID=America/Detroit:20150907T110000
DTEND;TZID=America/Detroit:20150907T140000
SUMMARY:Fair / Festival:Northfest 2015
DESCRIPTION:Come visit us at Northfest to learn more about the Michigan Paintball Club Ann Arbor and how to join. No experience necessary and everyone (that is UofM affiliated) can join!   
UID:23728-1425211@events.umich.edu
URL:https://events.umich.edu/event/23728
CLASS:PUBLIC
STATUS:CONFIRMED
CATEGORIES:
LOCATION:North Campus
CONTACT:
END:VEVENT
BEGIN:VEVENT
DTSTAMP:20150907T120012
DTSTART;TZID=America/Detroit:20150907T110000
DTEND;TZID=America/Detroit:20150907T140000
SUMMARY:Other:Northfest 2015
DESCRIPTION:Come learn about SWE and ways you can get involved at Northfest 2015!
UID:23869-1427328@events.umich.edu
URL:https://events.umich.edu/event/23869
CLASS:PUBLIC
STATUS:CONFIRMED
CATEGORIES:
LOCATION:U of M North Campus
CONTACT:
END:VEVENT
BEGIN:VEVENT
DTSTAMP:20150907T120050
DTSTART;TZID=America/Detroit:20150907T110000
DTEND;TZID=America/Detroit:20150907T140000
SUMMARY:Fair / Festival:Northfest 2015
DESCRIPTION:The American Advertising Federation (AAF) welcomes you to visit our table at Northfest 2015! Learn from current members about our organization\, our involvement in the National Student Advertising Compeition (NSAC) and the many other opportunities we have to offer.  In the meantime\, visit our page to learn more or contact acorera@umich.edu with any questions or inquiries. We're excited to see you there! 
UID:24120-1429200@events.umich.edu
URL:https://events.umich.edu/event/24120
CLASS:PUBLIC
STATUS:CONFIRMED
CATEGORIES:
LOCATION:North Campus 
CONTACT:
END:VEVENT
BEGIN:VEVENT
DTSTAMP:20150907T120013
DTSTART;TZID=America/Detroit:20150907T110000
DTEND;TZID=America/Detroit:20150907T140000
SUMMARY:Exhibition:UMARC at Go North! Fest
DESCRIPTION:Interested in knowing more about Amateur Radio?Come check out the UMARC booth at the 2015 Go North! Fest along Bonisteel Blvd. from 11am to 2pm.Talk to our members and play with some of the cool equipment we'll have at the booth.See you there!
UID:24455-1492702@events.umich.edu
URL:https://events.umich.edu/event/24455
CLASS:PUBLIC
STATUS:CONFIRMED
CATEGORIES:
LOCATION:Go North! Fest
CONTACT:
END:VEVENT
BEGIN:VEVENT
DTSTAMP:20150907T120013
DTSTART;TZID=America/Detroit:20150907T140000
DTEND;TZID=America/Detroit:20150907T153000
SUMMARY:Reception / Open House:Open Boathouse III (Bursley)
DESCRIPTION:Check out the University of Michigan Men's Rowing Team during one of our Open Boathouses! A bus will leave from Bursley at 2:00 PM and take you to the boathouse\, where you can meet coaches and rowers\, learn about our facilities and equipment\, and get free food and gear!
UID:23766-1425518@events.umich.edu
URL:https://events.umich.edu/event/23766
CLASS:PUBLIC
STATUS:CONFIRMED
CATEGORIES:
LOCATION:Bursley
CONTACT:
END:VEVENT
BEGIN:VEVENT
DTSTAMP:20150730T163326
DTSTART;TZID=America/Detroit:20150907T160000
DTEND;TZID=America/Detroit:20150907T170000
SUMMARY:Exercise / Fitness:Free Exercise Classes
DESCRIPTION:Try a free class hosted by U-Move Fitness.\n\n9/6 - Zumba Toning Class @ 2\n9/6 - Vinyasa Yoga Class @ 3\n9/7 - WERQ Class @ 4\n9/7 - Zumba Class @ 5
UID:23229-1421709@events.umich.edu
URL:https://events.umich.edu/event/23229
CLASS:PUBLIC
STATUS:CONFIRMED
CATEGORIES:Free,Kinesiology,Welcome to Michigan
LOCATION:Central Campus Recreation Building (Bell Pool) - 3275
CONTACT:
END:VEVENT
BEGIN:VEVENT
DTSTAMP:20150907T120013
DTSTART;TZID=America/Detroit:20150907T160000
DTEND;TZID=America/Detroit:20150907T173000
SUMMARY:Reception / Open House:Open Boathouse IV (Markley)
DESCRIPTION:Check out the University of Michigan Men's Rowing Team during one of our Open Boathouses! A bus will leave from Markley at 4:00 PM and take you to the boathouse\, where you can meet the coaches and rowers\, learn about our facilities and equipment\, and get free food and gear!
UID:23767-1425519@events.umich.edu
URL:https://events.umich.edu/event/23767
CLASS:PUBLIC
STATUS:CONFIRMED
CATEGORIES:
LOCATION:Markley
CONTACT:
END:VEVENT
BEGIN:VEVENT
DTSTAMP:20150907T180013
DTSTART;TZID=America/Detroit:20150907T160000
DTEND;TZID=America/Detroit:20150907T200000
SUMMARY:Other:Welcome Picnic 
DESCRIPTION:Want to meet other new students and have a great Labor Day before school starts? We're hosting a welcome back to school picnic at Willowtree Apartments. Stop by from 4pm - 8pm after Northfest and enjoy some good food and good company. 
UID:24461-1498789@events.umich.edu
URL:https://events.umich.edu/event/24461
CLASS:PUBLIC
STATUS:CONFIRMED
CATEGORIES:
LOCATION:Willowtree Apartments
CONTACT:
END:VEVENT
BEGIN:VEVENT
DTSTAMP:20150730T163326
DTSTART;TZID=America/Detroit:20150907T170000
DTEND;TZID=America/Detroit:20150907T180000
SUMMARY:Exercise / Fitness:Free Exercise Classes
DESCRIPTION:Try a free class hosted by U-Move Fitness.\n\n9/6 - Zumba Toning Class @ 2\n9/6 - Vinyasa Yoga Class @ 3\n9/7 - WERQ Class @ 4\n9/7 - Zumba Class @ 5
UID:23229-1421710@events.umich.edu
URL:https://events.umich.edu/event/23229
CLASS:PUBLIC
STATUS:CONFIRMED
CATEGORIES:Free,Kinesiology,Welcome to Michigan
LOCATION:Central Campus Recreation Building (Bell Pool) - 3275
CONTACT:
END:VEVENT
BEGIN:VEVENT
DTSTAMP:20150723T004523
DTSTART;TZID=America/Detroit:20150907T170000
DTEND;TZID=America/Detroit:20150907T200000
SUMMARY:Fair / Festival:RHA Pre-Class Bash
DESCRIPTION:Join the Residence Halls Association as they host an evening of activities\, food and fun. Come learn more about how you can join the Residence Halls Association and hall and multicultural councils in the hall you live in. This event is intended for students that live in University Housing.
UID:23262-1422487@events.umich.edu
URL:https://events.umich.edu/event/23262
CLASS:PUBLIC
STATUS:CONFIRMED
CATEGORIES:Food,Leadership,Social,Welcome to Michigan
LOCATION:Palmer Field
CONTACT:
END:VEVENT
BEGIN:VEVENT
DTSTAMP:20150901T140222
DTSTART;TZID=America/Detroit:20150907T173000
DTEND;TZID=America/Detroit:20150907T194500
SUMMARY:Performance:A Midsummer Night's Dream
DESCRIPTION:Two special Welcome Week performances of A Midsummer Night's Dream.\nStudent ID required\, free admission.  Box office located at the Nichols Arboretum 1610 Washington Heights entrance.
UID:23978-1428081@events.umich.edu
URL:https://events.umich.edu/event/23978
CLASS:PUBLIC
STATUS:CONFIRMED
CATEGORIES:Environment,Free,Outdoors,Theater,Welcome to Michigan
LOCATION:Nichols Arboretum - starts at 1610 Washington Heights  (outside performance)
CONTACT:
END:VEVENT
BEGIN:VEVENT
DTSTAMP:20150409T170630
DTSTART;TZID=America/Detroit:20150907T200000
DTEND;TZID=America/Detroit:20150907T230000
SUMMARY:Exhibition:Orson Welles: Beyond the Canon and into the Archives
DESCRIPTION:This student-researched exhibit—marking the centenary of Orson Welles\, one of America's greatest directors of film\, theater\, radio and television—highlights letters\, photographs\, scripts\, and production materials culled from the University of Michigan Library's extensive Orson Welles archives.\n\nOriginal items are on display in the Audubon Room\, which is open Mon-Fri 8:30am-7pm\, Sat 10am-6pm\, Sun 2-7pm.
UID:22554-1402798@events.umich.edu
URL:https://events.umich.edu/event/22554
CLASS:PUBLIC
STATUS:CONFIRMED
CATEGORIES:Exhibition,Film,Library
LOCATION:Hatcher Graduate Library - Gallery (Room 100) &amp; Audubon Room
CONTACT:
END:VEVENT
END:VCALENDAR