BEGIN:VCALENDAR
VERSION:2.0
PRODID:-//UM//UM*Events//EN
CALSCALE:GREGORIAN
BEGIN:VTIMEZONE
TZID:America/Detroit
TZURL:http://tzurl.org/zoneinfo/America/Detroit
X-LIC-LOCATION:America/Detroit
BEGIN:DAYLIGHT
TZOFFSETFROM:-0500
TZOFFSETTO:-0400
TZNAME:EDT
DTSTART:20070311T020000
RRULE:FREQ=YEARLY;BYMONTH=3;BYDAY=2SU
END:DAYLIGHT
BEGIN:STANDARD
TZOFFSETFROM:-0400
TZOFFSETTO:-0500
TZNAME:EST
DTSTART:20071104T020000
RRULE:FREQ=YEARLY;BYMONTH=11;BYDAY=1SU
END:STANDARD
END:VTIMEZONE
BEGIN:VEVENT
DTSTAMP:20151208T153106
DTSTART;TZID=America/Detroit:20160503T080000
DTEND;TZID=America/Detroit:20160503T170000
SUMMARY:Other:CEW offers Funding for Event Co-sponsorship for 2016
DESCRIPTION:The Center for the Education of Women (CEW) is seeking opportunities to partner with units on campus via its Frances and Sydney Lewis (FSL) Visiting Leaders Fund.  This endowment fund brings visiting women leaders to campus who are distinguished scholars and/or practitioners in their fields.  Any U-M department\, unit or organization (student\, staff or faculty) may submit a funding request to CEW via our online Google application form.  Requests for event support will be evaluated based on their consistency with the purpose of the FSL Visiting Leaders Fund and should be submitted at least six (6) weeks before the proposed programming.  Please note that only those events submitted via the CEW online form will be considered.\n\nDEADLINES:\n2016 Winter Semester: December 15\, 2015\n2016 Fall Semester: August 1\, 2016\n\nIn addition\, CEW can provide promotional support for events by listing on our online calendar.  To learn more about how CEW can support your U-M event\, please refer to this CEW webpage: http://www.cew.umich.edu/RFP)\n\nQuestions about event co-sponsorship may be directed to Janice Reuben\, CEW Senior Associate for Programs & Outreach\, at 734.764.6005  (reubenjs@umich.edu).
UID:27093-2308794@events.umich.edu
URL:https://events.umich.edu/event/27093
CLASS:PUBLIC
STATUS:CONFIRMED
CATEGORIES:Activism,Career,Community Service,Diversity,Inclusion,Leadership
LOCATION:Center for the Education of Women
CONTACT:
END:VEVENT
BEGIN:VEVENT
DTSTAMP:20160418T110610
DTSTART;TZID=America/Detroit:20160503T080000
DTEND;TZID=America/Detroit:20160503T170000
SUMMARY:Exhibition:Exhibit: The Many Faces and Figures of the Four Sons in the Passover Haggadah
DESCRIPTION:The Four Sons of the Passover Haggadah can now be viewed in their many versions at a unique exhibit at the Jean & Samuel Frankel Center for Judaic Studies. The exhibit\, featuring 29 Haggadahs from the Irwin M. Alterman Haggadah Collection\, will be on display through July.  It includes Haggadahs of various shapes and sizes\, ancient and modern\, and in a number of different languages.\n\nThe Alterman collection was acquired by the University of Michigan Library last year with the help of the Frankel Center\, and is housed in the Special Collections Library of the Harlan Hatcher Graduate Library. It includes more than 1\,800 Haggadahs and is believed to be one of the largest Haggadah collections in the world. The unique compilation belonged to the late Irwin Alterman of West Bloomfield\, and was donated by his widow\, Marilyn McCall Alterman. \n\nPhoto courtesy of Luna Archey
UID:30296-3402259@events.umich.edu
URL:https://events.umich.edu/event/30296
CLASS:PUBLIC
STATUS:CONFIRMED
CATEGORIES:Exhibition,Jewish Studies
LOCATION:202 S. Thayer - Room 2000
CONTACT:
END:VEVENT
BEGIN:VEVENT
DTSTAMP:20160325T124225
DTSTART;TZID=America/Detroit:20160503T080000
DTEND;TZID=America/Detroit:20160503T200000
SUMMARY:Exhibition:Gifts of Art presents Aging in America: Oil Portraits
DESCRIPTION:This show is a series of oil portraits by New Jersey based artist Janet Boltax of individuals who are 90 years of age and over. They are accompanied by excerpts of interviews with each person about their life and how they are coping with the aging process. Boltax is primarily a portrait painter who also does printmaking and mixed media. She teaches portrait painting\, color theory and composition at the Montclair Museum\, Montclair\, New Jersey\, and also works as a copy writer.
UID:29988-3284600@events.umich.edu
URL:https://events.umich.edu/event/29988
CLASS:PUBLIC
STATUS:CONFIRMED
CATEGORIES:Art,Health & Wellness
LOCATION:University Hospitals - Gifts of Art Gallery — Taubman Health Center North Lobby, Floor 1
CONTACT:
END:VEVENT
BEGIN:VEVENT
DTSTAMP:20160325T125341
DTSTART;TZID=America/Detroit:20160503T080000
DTEND;TZID=America/Detroit:20160503T200000
SUMMARY:Exhibition:Gifts of Art presents Among the Lost & Found: Collage on Panel
DESCRIPTION:In his work\, David Criner transforms twentieth century collage material in pursuit of an image that celebrates the present moment. The antiquated \"pop\" sensibility imbued by his sourced matter is countered by gestural\, spontaneous mark making\, creating compositions that manage to reference the past while also feeling timeless. Criner works out of Chicago\, and teaches at Northeastern Illinois University.
UID:29992-3285000@events.umich.edu
URL:https://events.umich.edu/event/29992
CLASS:PUBLIC
STATUS:CONFIRMED
CATEGORIES:Art,Health & Wellness
LOCATION:University Hospitals - Gifts of Art Gallery — University Hospital Main Corridor, Floor 2.
CONTACT:
END:VEVENT
BEGIN:VEVENT
DTSTAMP:20160325T124859
DTSTART;TZID=America/Detroit:20160503T080000
DTEND;TZID=America/Detroit:20160503T200000
SUMMARY:Exhibition:Gifts of Art presents K-12 Group Show
DESCRIPTION:Ann Arbor Public Schools has a comprehensive\, nationally recognized K-12 arts education program that encourages experience in a variety of media and subject matter. They also explore artistic historical and cultural connections. Finished pieces from students in all grades will be on display in both 2D and 3D. A variety of media and styles are represented including drawing\, painting\, printmaking\, ceramics\, sculpture\, photography and jewelry.
UID:29990-3284840@events.umich.edu
URL:https://events.umich.edu/event/29990
CLASS:PUBLIC
STATUS:CONFIRMED
CATEGORIES:Art,Health & Wellness
LOCATION:University Hospitals - Gifts of Art Gallery — Taubman Health Center South Lobby, Floor 1
CONTACT:
END:VEVENT
BEGIN:VEVENT
DTSTAMP:20160325T125827
DTSTART;TZID=America/Detroit:20160503T080000
DTEND;TZID=America/Detroit:20160503T170000
SUMMARY:Exhibition:Gifts of Art presents Light Begins at 40: A Detroit Photographer Looks Back
DESCRIPTION:In a world beset with problems and heartache\, for this retrospective\, Philip Dattilo shares photographs of cheer\, amusement and inspiration. A professional photographer since the 1970s\, Dattilo searched through 40 years of his personal photographs as well as those for medical\, architectural and industrial clients (including U-M). The search uncovered a gold mine of happy memories\, suggesting “Life can sometimes be good.”  His work includes the photo booklet Enjoy Detroit\, It’s Your City\, a family photographic portrait for President Gerald Ford\, and work on display in the permanent collection of the Charles H. Wright Museum of African American History in Detroit.
UID:29994-3285160@events.umich.edu
URL:https://events.umich.edu/event/29994
CLASS:PUBLIC
STATUS:CONFIRMED
CATEGORIES:Art,Health & Wellness
LOCATION:University Hospitals - Gifts of Art Gallery — Comprehensive Cancer Center, Level 1
CONTACT:
END:VEVENT
BEGIN:VEVENT
DTSTAMP:20160325T124541
DTSTART;TZID=America/Detroit:20160503T080000
DTEND;TZID=America/Detroit:20160503T200000
SUMMARY:Exhibition:Gifts of Art presents Recent Work: Ceramics
DESCRIPTION:Jeri Hollister draws inspiration from her experience growing up in rural Michigan and her time as a student at the University Michigan studying art history and ceramics. She employs traditional ceramics tools and building techniques to create her horse sculptures allowing the process to be evident in the finished work.
UID:29989-3284760@events.umich.edu
URL:https://events.umich.edu/event/29989
CLASS:PUBLIC
STATUS:CONFIRMED
CATEGORIES:Art,Health & Wellness
LOCATION:University Hospitals - Gifts of Art Gallery — Taubman Health Center North Lobby, Floor 1
CONTACT:
END:VEVENT
BEGIN:VEVENT
DTSTAMP:20160325T125604
DTSTART;TZID=America/Detroit:20160503T080000
DTEND;TZID=America/Detroit:20160503T200000
SUMMARY:Exhibition:Gifts of Art presents Surface & Structure: Jewelry & Metals
DESCRIPTION:Kristine Bolhuis is an independent jewelry maker working out of her studio in Ann Arbor\, Michigan. Her recent work has focused on lightweight metal constructions that move\, flex and collapse. She creates her work at the bench where it is conceived of and constructed from start to finish. She feels her process is one of exploration and discovery\, and it is full of surprises.
UID:29993-3285080@events.umich.edu
URL:https://events.umich.edu/event/29993
CLASS:PUBLIC
STATUS:CONFIRMED
CATEGORIES:Art,Health & Wellness
LOCATION:University Hospitals - Gifts of Art Gallery — University Hospital Main Corridor, Floor 2.
CONTACT:
END:VEVENT
BEGIN:VEVENT
DTSTAMP:20160325T125124
DTSTART;TZID=America/Detroit:20160503T080000
DTEND;TZID=America/Detroit:20160503T200000
SUMMARY:Exhibition:Gifts of Art presents Swimming Upstream: Quilts
DESCRIPTION:Self-taught textile artist\, author and curator Bonnie J. Smith lives and works in San Jose\, California. She attended Indiana University-Purdue University\, Indianapolis Campus (IUPUI)\; and Indiana Central College\; and has taken Master Dyeing Classes at Dartmouth College. Smith received the 2015 NICHE Award for design\, and her textile work was selected for exhibition in the United Nations\, Geneva\, Switzerland (2016). Swimming Upstream tells her personal journey with an injury that placed her temporarily in a wheel chair\, to finally finding the courage to start creating art and living life again.
UID:29991-3284920@events.umich.edu
URL:https://events.umich.edu/event/29991
CLASS:PUBLIC
STATUS:CONFIRMED
CATEGORIES:Art,Health & Wellness
LOCATION:University Hospitals - Gifts of Art Gallery — University Hospital Main Lobby, Floor 1.
CONTACT:
END:VEVENT
BEGIN:VEVENT
DTSTAMP:20151211T113926
DTSTART;TZID=America/Detroit:20160503T080000
DTEND;TZID=America/Detroit:20160503T170000
SUMMARY:Exhibition:Gifts of Art presents Works by Belle Kogan: First Female Industrial Designer
DESCRIPTION:This exhibition presents industrially-produced art pottery pieces designed by Belle Kogan (1902–2000)\, for Red Wing Potteries in Red Wing\, Minnesota. Kogan is considered the first prominent female industrial designer in the United States\, a founder of the profession\, and one of the 20th century's most significant designers. Her design aesthetic was heavily influenced by the geometric and streamlined shapes of Art Deco. Belle Kogan Associates\, her New York–based studio\, was the first American female-led design firm. Her contracts with Red Wing Potteries produced over 400 different art pottery shapes from the late 1930s to the early 1960s\, as well as several dinnerware and kitchenware lines. Belle Kogan and her firm designed products not only in ceramics but also clocks and small appliances\, glassware\, and pieces in silver\, plastics\, wrought iron and wood.
UID:27190-2334008@events.umich.edu
URL:https://events.umich.edu/event/27190
CLASS:PUBLIC
STATUS:CONFIRMED
CATEGORIES:Art,Health & Wellness
LOCATION:University Hospitals - Gifts of Art Gallery — Cancer Center Elevator Alcove, Level 2
CONTACT:
END:VEVENT
BEGIN:VEVENT
DTSTAMP:20160310T165634
DTSTART;TZID=America/Detroit:20160503T080000
DTEND;TZID=America/Detroit:20160503T235900
SUMMARY:Exhibition:Intersections/Connections
DESCRIPTION:This International Studies exhibit focuses on materials from across the world\, including many nations and cultures. Rather than displaying each area separately\, the exhibit concentrates on the connections and intersections among disparate regions.
UID:29615-3148148@events.umich.edu
URL:https://events.umich.edu/event/29615
CLASS:PUBLIC
STATUS:CONFIRMED
CATEGORIES:Exhibition,Library
LOCATION:Hatcher Graduate Library - Clark Library, 2nd Floor
CONTACT:
END:VEVENT
BEGIN:VEVENT
DTSTAMP:20160211T131722
DTSTART;TZID=America/Detroit:20160503T080000
DTEND;TZID=America/Detroit:20160503T220000
SUMMARY:Exhibition:Jon Onye Lockard: Celebrating His Life and Legacy\, 1932-2015
DESCRIPTION:This exhibit\, on display in the Fine Arts Library\, honors the life and work of the late U-M Professor Jon Onye Lockard\, who was instrumental in the development of African-American arts and culture in Michigan. His distinctive style of artistic expression captured the spirit of civil rights and black pride.\n\nAs an artist and educator\, Lockard was a mentor to many on the University of Michigan campus and beyond. Among other accolades\, he was a founder of the U-M Department of Afroamerican and African Studies. His paintings can be viewed across the U-M campus\, including many of the murals in residence hall multicultural lounges.\n\nHours: Sun 1-10pm\, Mon-Thurs 8am-10pm\, Fri 8am-5pm\, Sat 1-6pm\n\nJoin us for a reception on Tuesday\, February 23\, 3-6pm in the Fine Arts Library\, with honored guest Mrs. Leslie Kamil\, the artist's widow. Light refreshments will be served.
UID:28912-2895398@events.umich.edu
URL:https://events.umich.edu/event/28912
CLASS:PUBLIC
STATUS:CONFIRMED
CATEGORIES:Art,Exhibition,Library,Multicultural,Visual Arts
LOCATION:Tappan Hall - Fine Arts Library
CONTACT:
END:VEVENT
BEGIN:VEVENT
DTSTAMP:20160405T100031
DTSTART;TZID=America/Detroit:20160503T080000
DTEND;TZID=America/Detroit:20160503T170000
SUMMARY:Workshop / Seminar:U-M edX Workshop: Exploring MOOCs and Academic Innovation
DESCRIPTION:The Office of Digital Education & Innovation (DEI) invites you to join us for the U-M edX Workshop on May 3 – May 4 on central campus. This workshop is designed for faculty who will have an opportunity to:\n- Learn about U-M’s MOOC experience to date\n- Interact with U-M faculty and staff who will share their experiences\, challenges\, and insights\n- Learn from edX about creative initiatives underway at other edX partner institutions\n- Hear from edX directly about their main priorities for the coming year\n- Engage with U-M faculty\, DEI staff\, and the edX team to explore new ideas for academic innovation at Michigan\n\nFor more information and to RSVP: http://digitaleducation.umich.edu/event/edx-workshop/
UID:30209-3382067@events.umich.edu
URL:https://events.umich.edu/event/30209
CLASS:PUBLIC
STATUS:CONFIRMED
CATEGORIES:Alumni,Discussion,Education,Information and Technology,Lifelong Learning,Networking,Reception,Research,Workshop
LOCATION:North Quad
CONTACT:
END:VEVENT
BEGIN:VEVENT
DTSTAMP:20151118T141053
DTSTART;TZID=America/Detroit:20160503T083000
DTEND;TZID=America/Detroit:20160503T190000
SUMMARY:Exhibition:Shakespeare on Page and Stage: A Celebration
DESCRIPTION:This exhibit is a historical journey through different versions of Shakespeare’s plays as they were edited for publication or interpreted  for the stage. Starting with the Second Folio (1632)\, our display includes a selection of landmark editions by authors and scholars like John Dryden\, Nicholas Rowe\, Alexander Pope\, Samuel Johnson\, and Edmond Malone. It explores the staging and costuming of productions such as Charles Kean’s archaeologically-informed\, elaborately-costumed 1856 production of The Winter’s Tale\, and Maurice Browne-Ellen Van Volkenburg 1930 production of Othello casting Paul Robeson as the first black actor to play Othello in a century.\n\nMost of the titles included in this display come from the McMillan Shakespeare Library. Materials are also displayed from the Maurice Browne and Ellen Van Volkenburg Papers\, 1792-1968 and the Zelma Weisfeld Archive\, 1954-2006. All these books and artifacts are held in the Special Collections Library.\n\nAudubon Room Hours: Monday-Friday 8:30 am to 7 pm\, Saturday 10 am to 6 pm\, Sunday 1 pm to 7 pm
UID:26647-3564571@events.umich.edu
URL:https://events.umich.edu/event/26647
CLASS:PUBLIC
STATUS:CONFIRMED
CATEGORIES:Books,Exhibition,Free,Library
LOCATION:Hatcher Graduate Library - Audubon Room
CONTACT:
END:VEVENT
BEGIN:VEVENT
DTSTAMP:20160512T143154
DTSTART;TZID=America/Detroit:20160503T090000
DTEND;TZID=America/Detroit:20160503T170000
SUMMARY:Exhibition:Extreme Time
DESCRIPTION:Think you know all about time?  What about things that happen in femtoseconds or eons?  Time in the natural world is so extreme\, you can’t even perceive most of its scale unaided. You’ll be amazed by the types of time you can explore in our new exhibit\, and learn more about everyday time and how we measure it\, too!  The exhibit is open!
UID:27873-2579425@events.umich.edu
URL:https://events.umich.edu/event/27873
CLASS:PUBLIC
STATUS:CONFIRMED
CATEGORIES:Family,Free,Museum
LOCATION:Ruthven Museums Building
CONTACT:
END:VEVENT
BEGIN:VEVENT
DTSTAMP:20160407T085819
DTSTART;TZID=America/Detroit:20160503T090000
DTEND;TZID=America/Detroit:20160503T170000
SUMMARY:Workshop / Seminar:Statistics: A Review
DESCRIPTION:This workshop is a one-day intensive review of common statistical methods of design\, measurement\, analysis and presentation of scientific investigations. The workshop is designed for any scholar engaged in quantitative research.
UID:30281-3399976@events.umich.edu
URL:https://events.umich.edu/event/30281
CLASS:PUBLIC
STATUS:CONFIRMED
CATEGORIES:Research
LOCATION:Modern Languages Building - 2001A
CONTACT:
END:VEVENT
BEGIN:VEVENT
DTSTAMP:20160323T081336
DTSTART;TZID=America/Detroit:20160503T100000
DTEND;TZID=America/Detroit:20160503T163000
SUMMARY:Exhibition:Exhibit: Hidden Worlds: The Universe of Pollen Revealed in Large-scale Ceramic Sculptures
DESCRIPTION:Inspired by the beautiful forms that pollen takes\, the amazing power of these tiny grains of life\, and the challenges that honeybees and pollinators face\, U-M Stamps School of Art & Design professor Susan Crowell fashioned large-scale ceramic sculptures of pollen. The sculptures will be displayed in the conservatory at Matthaei Botanical Gardens. As part of the exhibit Crowell has also created three sculptures of  pollen collected from the 80-year-old agave that bloomed at Matthaei in 2014. The agave pollen sculptures are based on scanning electron microscope images of the pollen taken by the U-M Hospitals imaging lab.
UID:27101-3065101@events.umich.edu
URL:https://events.umich.edu/event/27101
CLASS:PUBLIC
STATUS:CONFIRMED
CATEGORIES:Environment,Visual Arts
LOCATION:Off Campus Location
CONTACT:
END:VEVENT
BEGIN:VEVENT
DTSTAMP:20151118T144634
DTSTART;TZID=America/Detroit:20160503T100000
DTEND;TZID=America/Detroit:20160503T170000
SUMMARY:Exhibition:From Christianity to Islam: Egypt between Late Antiquity and the Early Middle Ages
DESCRIPTION:Selected papyri from the University of Michigan's Papyrology Collection illustrate the government\, society\, and religious culture of Egypt during its transition from Byzantine Christian to Arab Islamic rule (4th to 8th centuries AD). Texts Greek\, Coptic Egyptian\, and Arabic\, many never before on public display\, further highlight the richness and diversity of the U-M Collection.\n\nOn display Monday through Friday\, 10am to 5pm.
UID:26651-2127484@events.umich.edu
URL:https://events.umich.edu/event/26651
CLASS:PUBLIC
STATUS:CONFIRMED
CATEGORIES:Exhibition,Free,History,Library
LOCATION:Hatcher Graduate Library - 7th Floor Exhibit Space
CONTACT:
END:VEVENT
BEGIN:VEVENT
DTSTAMP:20151221T130506
DTSTART;TZID=America/Detroit:20160503T103000
DTEND;TZID=America/Detroit:20160503T120000
SUMMARY:Other:Voices Valiant
DESCRIPTION:Voices Valiant is a vocal music ensemble at the University of Michigan for adults over the age of 50.\n\nThis chorus is designed for adults who:\n-- love to sing\n-- enjoy learning through music\n-- enjoy the social community that music can provide want to improve their mental and physical health through music. \n\nThere is no audition necessary.\n\nVoices Valiant will rehearse in three cycles in 2015-16: Fall Cycle\, Winter Cycle\, and Spring Cycle. Each cycle consists of 10 rehearsals and a performance. Whether you have experience reading music and singing in a choir\, or if this is your first choral experience\, you will enjoy being a member of this unique group.\n\n2015-16 repertoire theme: Everything Old is New Again!
UID:27464-2424741@events.umich.edu
URL:https://events.umich.edu/event/27464
CLASS:PUBLIC
STATUS:CONFIRMED
CATEGORIES:Culture,Lifelong Learning,Music,Networking,Retirement
LOCATION:Off Campus Location - Chapel
CONTACT:
END:VEVENT
BEGIN:VEVENT
DTSTAMP:20160404T105502
DTSTART;TZID=America/Detroit:20160503T110000
DTEND;TZID=America/Detroit:20160503T170000
SUMMARY:Exhibition:Albert Kahn: Under Construction
DESCRIPTION:In the past two decades there has been a tremendous swell of interest in Detroit architect Albert Kahn (1869–1942)\, arguably the most important architect of American industrialization. Albert Kahn: Under Construction focuses on the remarkable archive of photographs assembled by Albert Kahn Associates while building the powerhouses of American industry\, from the Highland Park Ford Plant to the Willow Run Bomber Plant. Shot by an array of professional photographers based mainly in Detroit\, these often striking documentary images were a novel strategy for conveying information about the daily progress of construction to busy managers at the main office. The exhibition foregrounds the photographic series as a way of illustrating change over time—showing buildings as they grew on site—and Kahn’s innovative solutions to the architectural challenges of his day.\n\n**Special hours Sundays: 12–5pm\, CLOSED Mondays
UID:29456-3120418@events.umich.edu
URL:https://events.umich.edu/event/29456
CLASS:PUBLIC
STATUS:CONFIRMED
CATEGORIES:Architecture,Art,Exhibition,Museum,UMMA
LOCATION:Museum of Art
CONTACT:
END:VEVENT
BEGIN:VEVENT
DTSTAMP:20160308T121704
DTSTART;TZID=America/Detroit:20160503T110000
DTEND;TZID=America/Detroit:20160503T170000
SUMMARY:Exhibition:Siebren Versteeg: LIKE II (2016)
DESCRIPTION:In Siebren Versteeg’s LIKE II (2016)\, a computer painting program creates a composition using a continuously changing algorithm\, and then runs a periodic Google search to find a matching image online. Every sixty seconds\, the painting made by the computer is uploaded to Google’s “search by image” feature\, and images that most closely match the composition are then downloaded and displayed.\n\nThe notion of abstraction plays a central role in this work. Throughout modernity\, artists have sought inventive ways to free painting from its tradition as a representational medium. LIKE II inverts this ambition\, finding the reality hidden within pure abstraction. Because the work evolves based on whatever content is available online at any given moment\, the artist relinquishes a certain degree of creative control. Versteeg says\, “As the nature of the images presented by the work is random\, the artist assumes both all and no responsibility for their presence and content.”\n\n**Special hours Sundays: 12–5pm\, CLOSED Mondays
UID:29503-3129502@events.umich.edu
URL:https://events.umich.edu/event/29503
CLASS:PUBLIC
STATUS:CONFIRMED
CATEGORIES:Art,Exhibition,Information and Technology,Museum,UMMA,Visual Arts
LOCATION:Museum of Art - Media Gallery
CONTACT:
END:VEVENT
BEGIN:VEVENT
DTSTAMP:20160202T134236
DTSTART;TZID=America/Detroit:20160503T110000
DTEND;TZID=America/Detroit:20160503T170000
SUMMARY:Exhibition:Xu Weixin: Monumental Portraits
DESCRIPTION:The first major U.S. exhibition of the accomplished Chinese artist Xu Weixin (b. 1958)\, Xu Weixin: Monumental Portraits will focus on two of his acclaimed\, large-size portrait series: Miner Portraits and Chinese Historical Figures: 1966–1976. The subjects in Miner Portraits are coal miners working in harsh conditions in contemporary China. Chinese Historical Figures: 1966–1976 depicts people who lived—known and unknown\, and some of whom eventually perished—during the turbulent time of the Cultural Revolution. By portraying these individuals with monumentality and poignant realism\, Xu Weixin brings our focus to their lives and ordeals\, inviting an emotional connection. Reflecting the artist’s deep interest in the human condition\, these single-person portraits challenge our expectations and compel us to see beyond official narratives of historical events and social conditions. Xu Weixin is currently a professor of painting and the former executive dean of the School of Arts\, Renmin University\, Beijing.
UID:28691-2810522@events.umich.edu
URL:https://events.umich.edu/event/28691
CLASS:PUBLIC
STATUS:CONFIRMED
CATEGORIES:Art,Chinese Studies,Exhibition,International,Museum,UMMA
LOCATION:Museum of Art - A. Alfred Taubman Gallery
CONTACT:
END:VEVENT
BEGIN:VEVENT
DTSTAMP:20160425T104646
DTSTART;TZID=America/Detroit:20160503T113000
DTEND;TZID=America/Detroit:20160503T130000
SUMMARY:Workshop / Seminar:Health\, History\, Demography and Development (H2D2)
DESCRIPTION:Abstract and paper not yet available
UID:30509-3553992@events.umich.edu
URL:https://events.umich.edu/event/30509
CLASS:PUBLIC
STATUS:CONFIRMED
CATEGORIES:Economics,seminar
LOCATION:Lorch Hall - 201
CONTACT:
END:VEVENT
BEGIN:VEVENT
DTSTAMP:20160413T090511
DTSTART;TZID=America/Detroit:20160503T120000
DTEND;TZID=America/Detroit:20160503T130000
SUMMARY:Lecture / Discussion:Department of Biological Chemistry Annual G. Robert Greenberg Lectureship in Biological Chemistry
DESCRIPTION:Dr. JoAnne Stubbe\, Professor of Chemistry and Biology at MIT\, will be giving our annual Robert G. Greenberg Lectureship in Biological Chemistry.  The title of her talk will be \"Radicals: Your Life is in their Hands.\"  This event will take place on Tuesday\, May 3rd\, 2016 from 12:00 PM to 1:00PM in North Lecture Hall\, MS II.
UID:30398-3452043@events.umich.edu
URL:https://events.umich.edu/event/30398
CLASS:PUBLIC
STATUS:CONFIRMED
CATEGORIES:
LOCATION:Medical Science Unit II - North Lecture Hall
CONTACT:
END:VEVENT
BEGIN:VEVENT
DTSTAMP:20160127T092922
DTSTART;TZID=America/Detroit:20160503T160000
DTEND;TZID=America/Detroit:20160503T180000
SUMMARY:Workshop / Seminar:Moving from Career Success to Retirement Success
DESCRIPTION:For those anticipating retirement in the next 24 months\, this six-session group on preparing for a satisfying retirement will combine exploration of relevant topics with creative expression and supportive discussion. The focus of this group will be on the transition of retirement and the challenges that come with it -- from questions like \"How will I define myself?\" to “How will I establish priorities and spend my time?”\n\nThis series will help you plan for the non-financial aspects of retirement\, such as redefining who you are\, revisiting what is most important to you\, exploring new interests and opportunities\, and maintaining social connections. You will also learn about what researchers find makes for a fulfilling retirement. \n\nThis program is open to all U-M personnel (staff\, faculty\, and students) and to the general public.\n\nYou must register for the entire series\, as each session is sequenced to provide an optimal experience. The registration fee of $150 covers all six sessions.\nhttp://www.cew.umich.edu/progevents/moving-career-success-retirement-success/20160113
UID:28448-2744386@events.umich.edu
URL:https://events.umich.edu/event/28448
CLASS:PUBLIC
STATUS:CONFIRMED
CATEGORIES:Career,Family,Health & Wellness,Networking,Workshop
LOCATION:Center for the Education of Women - Large conference room
CONTACT:
END:VEVENT
BEGIN:VEVENT
DTSTAMP:20160518T123005
DTSTART;TZID=America/Detroit:20160503T173000
DTEND;TZID=America/Detroit:20160503T183000
SUMMARY:Careers / Jobs:Interview Workshop for Varsity Apartments
DESCRIPTION:This is a workshop focused on interviewing skills for U-M students living in Varsity Apartments. 
UID:30628-3629815@events.umich.edu
URL:https://events.umich.edu/event/30628
CLASS:PUBLIC
STATUS:CONFIRMED
CATEGORIES:
LOCATION:425 E Washington St, Ann Arbor, MI 48104, USA
CONTACT:
END:VEVENT
END:VCALENDAR