BEGIN:VCALENDAR
VERSION:2.0
PRODID:-//UM//UM*Events//EN
CALSCALE:GREGORIAN
BEGIN:VTIMEZONE
TZID:America/Detroit
TZURL:http://tzurl.org/zoneinfo/America/Detroit
X-LIC-LOCATION:America/Detroit
BEGIN:DAYLIGHT
TZOFFSETFROM:-0500
TZOFFSETTO:-0400
TZNAME:EDT
DTSTART:20070311T020000
RRULE:FREQ=YEARLY;BYMONTH=3;BYDAY=2SU
END:DAYLIGHT
BEGIN:STANDARD
TZOFFSETFROM:-0400
TZOFFSETTO:-0500
TZNAME:EST
DTSTART:20071104T020000
RRULE:FREQ=YEARLY;BYMONTH=11;BYDAY=1SU
END:STANDARD
END:VTIMEZONE
BEGIN:VEVENT
DTSTAMP:20160508T120018
DTSTART;TZID=America/Detroit:20160507T000000
DTEND;TZID=America/Detroit:20160507T235959
SUMMARY:Other:CWPA Nationals
DESCRIPTION:Water Polo Nationals 
UID:30589-3662540@events.umich.edu
URL:https://events.umich.edu/event/30589
CLASS:PUBLIC
STATUS:CONFIRMED
CATEGORIES:
LOCATION:University of California-Santa Cruz
CONTACT:
END:VEVENT
BEGIN:VEVENT
DTSTAMP:20160515T120010
DTSTART;TZID=America/Detroit:20160507T000000
DTEND;TZID=America/Detroit:20160507T235959
SUMMARY:Other:Dad Vail/ECAC
DESCRIPTION:East-bound
UID:28633-3720161@events.umich.edu
URL:https://events.umich.edu/event/28633
CLASS:PUBLIC
STATUS:CONFIRMED
CATEGORIES:
LOCATION:Lake Quinsigamond/Schuylkill River
CONTACT:
END:VEVENT
BEGIN:VEVENT
DTSTAMP:20151208T153106
DTSTART;TZID=America/Detroit:20160507T080000
DTEND;TZID=America/Detroit:20160507T170000
SUMMARY:Other:CEW offers Funding for Event Co-sponsorship for 2016
DESCRIPTION:The Center for the Education of Women (CEW) is seeking opportunities to partner with units on campus via its Frances and Sydney Lewis (FSL) Visiting Leaders Fund.  This endowment fund brings visiting women leaders to campus who are distinguished scholars and/or practitioners in their fields.  Any U-M department\, unit or organization (student\, staff or faculty) may submit a funding request to CEW via our online Google application form.  Requests for event support will be evaluated based on their consistency with the purpose of the FSL Visiting Leaders Fund and should be submitted at least six (6) weeks before the proposed programming.  Please note that only those events submitted via the CEW online form will be considered.\n\nDEADLINES:\n2016 Winter Semester: December 15\, 2015\n2016 Fall Semester: August 1\, 2016\n\nIn addition\, CEW can provide promotional support for events by listing on our online calendar.  To learn more about how CEW can support your U-M event\, please refer to this CEW webpage: http://www.cew.umich.edu/RFP)\n\nQuestions about event co-sponsorship may be directed to Janice Reuben\, CEW Senior Associate for Programs & Outreach\, at 734.764.6005  (reubenjs@umich.edu).
UID:27093-2308798@events.umich.edu
URL:https://events.umich.edu/event/27093
CLASS:PUBLIC
STATUS:CONFIRMED
CATEGORIES:Activism,Career,Community Service,Diversity,Inclusion,Leadership
LOCATION:Center for the Education of Women
CONTACT:
END:VEVENT
BEGIN:VEVENT
DTSTAMP:20160325T124225
DTSTART;TZID=America/Detroit:20160507T080000
DTEND;TZID=America/Detroit:20160507T200000
SUMMARY:Exhibition:Gifts of Art presents Aging in America: Oil Portraits
DESCRIPTION:This show is a series of oil portraits by New Jersey based artist Janet Boltax of individuals who are 90 years of age and over. They are accompanied by excerpts of interviews with each person about their life and how they are coping with the aging process. Boltax is primarily a portrait painter who also does printmaking and mixed media. She teaches portrait painting\, color theory and composition at the Montclair Museum\, Montclair\, New Jersey\, and also works as a copy writer.
UID:29988-3284604@events.umich.edu
URL:https://events.umich.edu/event/29988
CLASS:PUBLIC
STATUS:CONFIRMED
CATEGORIES:Art,Health & Wellness
LOCATION:University Hospitals - Gifts of Art Gallery — Taubman Health Center North Lobby, Floor 1
CONTACT:
END:VEVENT
BEGIN:VEVENT
DTSTAMP:20160325T125341
DTSTART;TZID=America/Detroit:20160507T080000
DTEND;TZID=America/Detroit:20160507T200000
SUMMARY:Exhibition:Gifts of Art presents Among the Lost & Found: Collage on Panel
DESCRIPTION:In his work\, David Criner transforms twentieth century collage material in pursuit of an image that celebrates the present moment. The antiquated \"pop\" sensibility imbued by his sourced matter is countered by gestural\, spontaneous mark making\, creating compositions that manage to reference the past while also feeling timeless. Criner works out of Chicago\, and teaches at Northeastern Illinois University.
UID:29992-3285004@events.umich.edu
URL:https://events.umich.edu/event/29992
CLASS:PUBLIC
STATUS:CONFIRMED
CATEGORIES:Art,Health & Wellness
LOCATION:University Hospitals - Gifts of Art Gallery — University Hospital Main Corridor, Floor 2.
CONTACT:
END:VEVENT
BEGIN:VEVENT
DTSTAMP:20160325T124859
DTSTART;TZID=America/Detroit:20160507T080000
DTEND;TZID=America/Detroit:20160507T200000
SUMMARY:Exhibition:Gifts of Art presents K-12 Group Show
DESCRIPTION:Ann Arbor Public Schools has a comprehensive\, nationally recognized K-12 arts education program that encourages experience in a variety of media and subject matter. They also explore artistic historical and cultural connections. Finished pieces from students in all grades will be on display in both 2D and 3D. A variety of media and styles are represented including drawing\, painting\, printmaking\, ceramics\, sculpture\, photography and jewelry.
UID:29990-3284844@events.umich.edu
URL:https://events.umich.edu/event/29990
CLASS:PUBLIC
STATUS:CONFIRMED
CATEGORIES:Art,Health & Wellness
LOCATION:University Hospitals - Gifts of Art Gallery — Taubman Health Center South Lobby, Floor 1
CONTACT:
END:VEVENT
BEGIN:VEVENT
DTSTAMP:20160325T124541
DTSTART;TZID=America/Detroit:20160507T080000
DTEND;TZID=America/Detroit:20160507T200000
SUMMARY:Exhibition:Gifts of Art presents Recent Work: Ceramics
DESCRIPTION:Jeri Hollister draws inspiration from her experience growing up in rural Michigan and her time as a student at the University Michigan studying art history and ceramics. She employs traditional ceramics tools and building techniques to create her horse sculptures allowing the process to be evident in the finished work.
UID:29989-3284764@events.umich.edu
URL:https://events.umich.edu/event/29989
CLASS:PUBLIC
STATUS:CONFIRMED
CATEGORIES:Art,Health & Wellness
LOCATION:University Hospitals - Gifts of Art Gallery — Taubman Health Center North Lobby, Floor 1
CONTACT:
END:VEVENT
BEGIN:VEVENT
DTSTAMP:20160325T125604
DTSTART;TZID=America/Detroit:20160507T080000
DTEND;TZID=America/Detroit:20160507T200000
SUMMARY:Exhibition:Gifts of Art presents Surface & Structure: Jewelry & Metals
DESCRIPTION:Kristine Bolhuis is an independent jewelry maker working out of her studio in Ann Arbor\, Michigan. Her recent work has focused on lightweight metal constructions that move\, flex and collapse. She creates her work at the bench where it is conceived of and constructed from start to finish. She feels her process is one of exploration and discovery\, and it is full of surprises.
UID:29993-3285084@events.umich.edu
URL:https://events.umich.edu/event/29993
CLASS:PUBLIC
STATUS:CONFIRMED
CATEGORIES:Art,Health & Wellness
LOCATION:University Hospitals - Gifts of Art Gallery — University Hospital Main Corridor, Floor 2.
CONTACT:
END:VEVENT
BEGIN:VEVENT
DTSTAMP:20160325T125124
DTSTART;TZID=America/Detroit:20160507T080000
DTEND;TZID=America/Detroit:20160507T200000
SUMMARY:Exhibition:Gifts of Art presents Swimming Upstream: Quilts
DESCRIPTION:Self-taught textile artist\, author and curator Bonnie J. Smith lives and works in San Jose\, California. She attended Indiana University-Purdue University\, Indianapolis Campus (IUPUI)\; and Indiana Central College\; and has taken Master Dyeing Classes at Dartmouth College. Smith received the 2015 NICHE Award for design\, and her textile work was selected for exhibition in the United Nations\, Geneva\, Switzerland (2016). Swimming Upstream tells her personal journey with an injury that placed her temporarily in a wheel chair\, to finally finding the courage to start creating art and living life again.
UID:29991-3284924@events.umich.edu
URL:https://events.umich.edu/event/29991
CLASS:PUBLIC
STATUS:CONFIRMED
CATEGORIES:Art,Health & Wellness
LOCATION:University Hospitals - Gifts of Art Gallery — University Hospital Main Lobby, Floor 1.
CONTACT:
END:VEVENT
BEGIN:VEVENT
DTSTAMP:20151211T113926
DTSTART;TZID=America/Detroit:20160507T080000
DTEND;TZID=America/Detroit:20160507T170000
SUMMARY:Exhibition:Gifts of Art presents Works by Belle Kogan: First Female Industrial Designer
DESCRIPTION:This exhibition presents industrially-produced art pottery pieces designed by Belle Kogan (1902–2000)\, for Red Wing Potteries in Red Wing\, Minnesota. Kogan is considered the first prominent female industrial designer in the United States\, a founder of the profession\, and one of the 20th century's most significant designers. Her design aesthetic was heavily influenced by the geometric and streamlined shapes of Art Deco. Belle Kogan Associates\, her New York–based studio\, was the first American female-led design firm. Her contracts with Red Wing Potteries produced over 400 different art pottery shapes from the late 1930s to the early 1960s\, as well as several dinnerware and kitchenware lines. Belle Kogan and her firm designed products not only in ceramics but also clocks and small appliances\, glassware\, and pieces in silver\, plastics\, wrought iron and wood.
UID:27190-2334012@events.umich.edu
URL:https://events.umich.edu/event/27190
CLASS:PUBLIC
STATUS:CONFIRMED
CATEGORIES:Art,Health & Wellness
LOCATION:University Hospitals - Gifts of Art Gallery — Cancer Center Elevator Alcove, Level 2
CONTACT:
END:VEVENT
BEGIN:VEVENT
DTSTAMP:20160310T165634
DTSTART;TZID=America/Detroit:20160507T080000
DTEND;TZID=America/Detroit:20160507T235900
SUMMARY:Exhibition:Intersections/Connections
DESCRIPTION:This International Studies exhibit focuses on materials from across the world\, including many nations and cultures. Rather than displaying each area separately\, the exhibit concentrates on the connections and intersections among disparate regions.
UID:29615-3148152@events.umich.edu
URL:https://events.umich.edu/event/29615
CLASS:PUBLIC
STATUS:CONFIRMED
CATEGORIES:Exhibition,Library
LOCATION:Hatcher Graduate Library - Clark Library, 2nd Floor
CONTACT:
END:VEVENT
BEGIN:VEVENT
DTSTAMP:20160321T142524
DTSTART;TZID=America/Detroit:20160507T080000
DTEND;TZID=America/Detroit:20160507T170000
SUMMARY:Conference / Symposium:Science with Passion and a Moral Compass
DESCRIPTION:Please join us at a festschrift symposium to celebrate Professor John Vandermeer\, Asa Gray Distinguished University Professor of Ecology and Evolutionary Biology and Arthur F. Thurnau Professor. No\, he's not retiring\, but he is celebrating his 76th birthday. \n\nFore more information and to register please visit the eventbrite website below.\n\nhttp://www.eventbrite.com/e/science-with-passion-a-moral-compass-a-symposium-honoring-john-vandermeer-tickets-20124830911?aff=eivtefrnd
UID:28915-2895412@events.umich.edu
URL:https://events.umich.edu/event/28915
CLASS:PUBLIC
STATUS:CONFIRMED
CATEGORIES:Biology,Ecology,Environment,International,Science
LOCATION:Dana Natural Resources  Building
CONTACT:
END:VEVENT
BEGIN:VEVENT
DTSTAMP:20160506T145633
DTSTART;TZID=America/Detroit:20160507T080000
DTEND;TZID=America/Detroit:20160507T180000
SUMMARY:Conference / Symposium:Science with Passion and a Moral Compass - A Symposium in Honor of John Vandermeer
DESCRIPTION:Science with Passion and a Moral Compass: a Symposium honoring John Vandermeer (May 6-8).  The event will be catered by Zingerman's\, includes drinks and many toasts to John from colleagues spanning over 40 years of John's career! Vegan and vegetarian options will be available throughout.\nFriday May 6 informal gathering Tap Room\, Arbor Brewing Company Brewpub
UID:30616-3621696@events.umich.edu
URL:https://events.umich.edu/event/30616
CLASS:PUBLIC
STATUS:CONFIRMED
CATEGORIES:Biology,Research,Science,symposium
LOCATION:Dana Natural Resources  Building - 1040
CONTACT:
END:VEVENT
BEGIN:VEVENT
DTSTAMP:20160425T153450
DTSTART;TZID=America/Detroit:20160507T090000
DTEND;TZID=America/Detroit:20160507T160000
SUMMARY:Conference / Symposium:Archaeology and the Hellenistic Near East
DESCRIPTION:9 - 9:15 | Introduction by Christopher Ratté and Sara Forsdyke\, U of Michigan\n\n9:15 - 9:50 am | J. Theodore Peña\, U of California at Berkeley\nPapyrological evidence for the reuse of amphoras for the bottling of new wine in Hellenistic\, Roman\, and Byzantine Egypt \n\n9:50 - 10:25 am | Mark Lawall\, U of Manitoba\nBy ship and by mule: transport amphoras and Ptolemaic Egypt\n\n10:25 - 11 am | Lisa Çakmak\, St. Louis Museum of Art\nMore than just cups: multicultural influence on the production and decoration of Attic black-figure beakers or \"kalathoi\"\n\n11:15 - 11:50 am | Nicholas Cahill\, U of Wisconsin-Madison\nGreek temples to Anatolian fields: the temple of Artemis at Sardis \n\n11:50 - 12:25 pm  | Christopher Ratté\, U of Michigan\nNotion in Ionia and other failed cities of the Hellenistic era \n\n12:30 - 1:30 Lunch\n\n1:30 - 2:05 pm | Jennifer Gates-Foster\, U of North Carolina\nA late third century BCE floor deposit from Bir Samut in context\n\n2:05 - 2:40 pm | Andrea Berlin\, Boston U\nBack to Tel Anafa\n\n3 - 4 pm | Panel Discussion\, moderated by Henry Wright\, U of Michigan
UID:27683-2553050@events.umich.edu
URL:https://events.umich.edu/event/27683
CLASS:PUBLIC
STATUS:CONFIRMED
CATEGORIES:Classical Studies
LOCATION:Kelsey Museum of Archaeology
CONTACT:
END:VEVENT
BEGIN:VEVENT
DTSTAMP:20160512T143154
DTSTART;TZID=America/Detroit:20160507T090000
DTEND;TZID=America/Detroit:20160507T170000
SUMMARY:Exhibition:Extreme Time
DESCRIPTION:Think you know all about time?  What about things that happen in femtoseconds or eons?  Time in the natural world is so extreme\, you can’t even perceive most of its scale unaided. You’ll be amazed by the types of time you can explore in our new exhibit\, and learn more about everyday time and how we measure it\, too!  The exhibit is open!
UID:27873-2579309@events.umich.edu
URL:https://events.umich.edu/event/27873
CLASS:PUBLIC
STATUS:CONFIRMED
CATEGORIES:Family,Free,Museum
LOCATION:Ruthven Museums Building
CONTACT:
END:VEVENT
BEGIN:VEVENT
DTSTAMP:20160503T072332
DTSTART;TZID=America/Detroit:20160507T090000
DTEND;TZID=America/Detroit:20160507T140000
SUMMARY:Community Service:Public E-Waste Recycling Event
DESCRIPTION:Responsibly recycle your end of life electronics at this e-Waste recycling event.  The event is free and open to all.  See our website for a list of materials accepted and other details.
UID:29915-3264125@events.umich.edu
URL:https://events.umich.edu/event/29915
CLASS:PUBLIC
STATUS:CONFIRMED
CATEGORIES:Environment,Sustainability
LOCATION:Off Campus Location - Enter off Main street, first entrance south of Stadium
CONTACT:
END:VEVENT
BEGIN:VEVENT
DTSTAMP:20160323T081336
DTSTART;TZID=America/Detroit:20160507T100000
DTEND;TZID=America/Detroit:20160507T163000
SUMMARY:Exhibition:Exhibit: Hidden Worlds: The Universe of Pollen Revealed in Large-scale Ceramic Sculptures
DESCRIPTION:Inspired by the beautiful forms that pollen takes\, the amazing power of these tiny grains of life\, and the challenges that honeybees and pollinators face\, U-M Stamps School of Art & Design professor Susan Crowell fashioned large-scale ceramic sculptures of pollen. The sculptures will be displayed in the conservatory at Matthaei Botanical Gardens. As part of the exhibit Crowell has also created three sculptures of  pollen collected from the 80-year-old agave that bloomed at Matthaei in 2014. The agave pollen sculptures are based on scanning electron microscope images of the pollen taken by the U-M Hospitals imaging lab.
UID:27101-2308852@events.umich.edu
URL:https://events.umich.edu/event/27101
CLASS:PUBLIC
STATUS:CONFIRMED
CATEGORIES:Environment,Visual Arts
LOCATION:Matthaei Botanical Gardens
CONTACT:
END:VEVENT
BEGIN:VEVENT
DTSTAMP:20160421T105421
DTSTART;TZID=America/Detroit:20160507T100000
DTEND;TZID=America/Detroit:20160507T200000
SUMMARY:Exhibition:Picture This!
DESCRIPTION:An exhibit of photographs taken of and by young patients—many of whom were born with facial differences or cleft palates—in U-M Mott Hospital’s Craniofacial Anomalies Program. Paired with professional photographers\, the children learned new ways to look at and through the camera lens.
UID:30488-3519878@events.umich.edu
URL:https://events.umich.edu/event/30488
CLASS:PUBLIC
STATUS:CONFIRMED
CATEGORIES:Exhibition,Family,Free,Health & Wellness,Storytelling,Visual Arts
LOCATION:Matthaei Botanical Gardens
CONTACT:
END:VEVENT
BEGIN:VEVENT
DTSTAMP:20160522T063004
DTSTART;TZID=America/Detroit:20160507T110000
DTEND;TZID=America/Detroit:20160507T170000
SUMMARY:Careers / Jobs:3rd Annual Beyond the Professoriate Online Conference- Career Day for PhDs
DESCRIPTION:The 3rd Annual Beyond the Professoriate online conference\, 7 and 14 May 2016.\n\nA Virtual Conference for PhD in Career Transition\n\nThis conference is for graduate students and recent PhDs from STEM\, social sciences\, and humanities disciplines. During this two-day event\, attendees will hear from doctoral-degree holders who successfully transitioned to work beyond the professoriate and learn job search strategies from career education professionals.\n\n2016 Ticket Prices:\n\nEarly Bird (Expires April 15th)\nAttend 1 Day – $25 US\nAttend 2 Days- $39 US\n\nLate Registration (After April 16th)\nAttend 1 Day – $30\nAttend 2 Days- $49\n\nRegistration opens March 1\, 2016  \nRegister by going to beyondprof.com\n
UID:29011-2949370@events.umich.edu
URL:https://events.umich.edu/event/29011
CLASS:PUBLIC
STATUS:CONFIRMED
CATEGORIES:
LOCATION:University of Michigan, Ann Arbor, MI, USA
CONTACT:
END:VEVENT
BEGIN:VEVENT
DTSTAMP:20160404T105502
DTSTART;TZID=America/Detroit:20160507T110000
DTEND;TZID=America/Detroit:20160507T170000
SUMMARY:Exhibition:Albert Kahn: Under Construction
DESCRIPTION:In the past two decades there has been a tremendous swell of interest in Detroit architect Albert Kahn (1869–1942)\, arguably the most important architect of American industrialization. Albert Kahn: Under Construction focuses on the remarkable archive of photographs assembled by Albert Kahn Associates while building the powerhouses of American industry\, from the Highland Park Ford Plant to the Willow Run Bomber Plant. Shot by an array of professional photographers based mainly in Detroit\, these often striking documentary images were a novel strategy for conveying information about the daily progress of construction to busy managers at the main office. The exhibition foregrounds the photographic series as a way of illustrating change over time—showing buildings as they grew on site—and Kahn’s innovative solutions to the architectural challenges of his day.\n\n**Special hours Sundays: 12–5pm\, CLOSED Mondays
UID:29456-3120422@events.umich.edu
URL:https://events.umich.edu/event/29456
CLASS:PUBLIC
STATUS:CONFIRMED
CATEGORIES:Architecture,Art,Exhibition,Museum,UMMA
LOCATION:Museum of Art
CONTACT:
END:VEVENT
BEGIN:VEVENT
DTSTAMP:20160308T121704
DTSTART;TZID=America/Detroit:20160507T110000
DTEND;TZID=America/Detroit:20160507T170000
SUMMARY:Exhibition:Siebren Versteeg: LIKE II (2016)
DESCRIPTION:In Siebren Versteeg’s LIKE II (2016)\, a computer painting program creates a composition using a continuously changing algorithm\, and then runs a periodic Google search to find a matching image online. Every sixty seconds\, the painting made by the computer is uploaded to Google’s “search by image” feature\, and images that most closely match the composition are then downloaded and displayed.\n\nThe notion of abstraction plays a central role in this work. Throughout modernity\, artists have sought inventive ways to free painting from its tradition as a representational medium. LIKE II inverts this ambition\, finding the reality hidden within pure abstraction. Because the work evolves based on whatever content is available online at any given moment\, the artist relinquishes a certain degree of creative control. Versteeg says\, “As the nature of the images presented by the work is random\, the artist assumes both all and no responsibility for their presence and content.”\n\n**Special hours Sundays: 12–5pm\, CLOSED Mondays
UID:29503-3129506@events.umich.edu
URL:https://events.umich.edu/event/29503
CLASS:PUBLIC
STATUS:CONFIRMED
CATEGORIES:Art,Exhibition,Information and Technology,Museum,UMMA,Visual Arts
LOCATION:Museum of Art - Media Gallery
CONTACT:
END:VEVENT
BEGIN:VEVENT
DTSTAMP:20160202T134236
DTSTART;TZID=America/Detroit:20160507T110000
DTEND;TZID=America/Detroit:20160507T170000
SUMMARY:Exhibition:Xu Weixin: Monumental Portraits
DESCRIPTION:The first major U.S. exhibition of the accomplished Chinese artist Xu Weixin (b. 1958)\, Xu Weixin: Monumental Portraits will focus on two of his acclaimed\, large-size portrait series: Miner Portraits and Chinese Historical Figures: 1966–1976. The subjects in Miner Portraits are coal miners working in harsh conditions in contemporary China. Chinese Historical Figures: 1966–1976 depicts people who lived—known and unknown\, and some of whom eventually perished—during the turbulent time of the Cultural Revolution. By portraying these individuals with monumentality and poignant realism\, Xu Weixin brings our focus to their lives and ordeals\, inviting an emotional connection. Reflecting the artist’s deep interest in the human condition\, these single-person portraits challenge our expectations and compel us to see beyond official narratives of historical events and social conditions. Xu Weixin is currently a professor of painting and the former executive dean of the School of Arts\, Renmin University\, Beijing.
UID:28691-2810526@events.umich.edu
URL:https://events.umich.edu/event/28691
CLASS:PUBLIC
STATUS:CONFIRMED
CATEGORIES:Art,Chinese Studies,Exhibition,International,Museum,UMMA
LOCATION:Museum of Art - A. Alfred Taubman Gallery
CONTACT:
END:VEVENT
BEGIN:VEVENT
DTSTAMP:20160211T131722
DTSTART;TZID=America/Detroit:20160507T130000
DTEND;TZID=America/Detroit:20160507T180000
SUMMARY:Exhibition:Jon Onye Lockard: Celebrating His Life and Legacy\, 1932-2015
DESCRIPTION:This exhibit\, on display in the Fine Arts Library\, honors the life and work of the late U-M Professor Jon Onye Lockard\, who was instrumental in the development of African-American arts and culture in Michigan. His distinctive style of artistic expression captured the spirit of civil rights and black pride.\n\nAs an artist and educator\, Lockard was a mentor to many on the University of Michigan campus and beyond. Among other accolades\, he was a founder of the U-M Department of Afroamerican and African Studies. His paintings can be viewed across the U-M campus\, including many of the murals in residence hall multicultural lounges.\n\nHours: Sun 1-10pm\, Mon-Thurs 8am-10pm\, Fri 8am-5pm\, Sat 1-6pm\n\nJoin us for a reception on Tuesday\, February 23\, 3-6pm in the Fine Arts Library\, with honored guest Mrs. Leslie Kamil\, the artist's widow. Light refreshments will be served.
UID:28912-2895402@events.umich.edu
URL:https://events.umich.edu/event/28912
CLASS:PUBLIC
STATUS:CONFIRMED
CATEGORIES:Art,Exhibition,Library,Multicultural,Visual Arts
LOCATION:Tappan Hall - Fine Arts Library
CONTACT:
END:VEVENT
BEGIN:VEVENT
DTSTAMP:20160503T121507
DTSTART;TZID=America/Detroit:20160507T160000
SUMMARY:Performance:Student Recital: Laura Michelle Grems\, percussion
DESCRIPTION:PROGRAM: Kraft - selections from English Suite\; Molenhof - Music of the Day\; Arlen - Somewhere Over the Rainbow\; Reynolds - Five Duos for Alto Saxophone and Percussion.
UID:30607-3621664@events.umich.edu
URL:https://events.umich.edu/event/30607
CLASS:PUBLIC
STATUS:CONFIRMED
CATEGORIES:Free,Music,North campus
LOCATION:Earl V. Moore Building - McIntosh Theatre
CONTACT:
END:VEVENT
BEGIN:VEVENT
DTSTAMP:20160507T180010
DTSTART;TZID=America/Detroit:20160507T190000
DTEND;TZID=America/Detroit:20160507T200000
SUMMARY:Other:UMMS Biorhythms Spring Show!
DESCRIPTION:The University of Michigan Medical School presents the spring dance performance of their dance group\, Biorhythms! Dance styles include hip hop\, jazz\, contemporary\, and Mance. Additionally\, there will be a guest appearance by Trauma and the Meninges.
UID:30162-3359626@events.umich.edu
URL:https://events.umich.edu/event/30162
CLASS:PUBLIC
STATUS:CONFIRMED
CATEGORIES:
LOCATION:Lydia Mendelssohn Theater
CONTACT:
END:VEVENT
BEGIN:VEVENT
DTSTAMP:20160518T180010
DTSTART;TZID=America/Detroit:20160507T200000
DTEND;TZID=America/Detroit:20160507T235959
SUMMARY:Recreational / Games:Free tango lessons and parties\, weekly with MATC
DESCRIPTION:Lessons\, guided practice\, and parties -- free for beginner-level tango dancers. Throughout Spring-Summer:Mondays - Dance party and individual help at Pittsfield Grange 8pm (except 5/16)Wednesdays - Tango lesson and practice time at Mason Hall 8pmEvery other Saturday - Dance party in UM Union The classic Argentine style of tango is a dance with a hug-like embrace that cultivates a sense of dynamic balance. Ann Arbor has a welcoming and diverse tango community\, with meetups happening several times a week. The UM club hosts lessons and DJ'd practices on Wednesdays in Mason Hall\, and dance parties on Mondays and every other Saturday. Join us when you can\, and we'll supply the partners! Please RSVP and share on Facebook: https://www.facebook.com/events/1599829860308119/ Questions?  Email matcTango@umich.edu
UID:30581-3740386@events.umich.edu
URL:https://events.umich.edu/event/30581
CLASS:PUBLIC
STATUS:CONFIRMED
CATEGORIES:
LOCATION:UM Union
CONTACT:
END:VEVENT
BEGIN:VEVENT
DTSTAMP:20160324T132214
DTSTART;TZID=America/Detroit:20160507T200000
SUMMARY:Performance:HAIRSPRAY In Concert
DESCRIPTION:Ann Arbor In Concert presents the classic Broadway show HAIRSPRAY one night only at the Power Center. It's 1962 in Baltimore\, and the lovable plus-size teen Tracy Turnblad has only one desire - to dance on the popular Corny Collins Show. When her dream comes true\, Tracy is transformed from social outcast to sudden star. She must use her newfound power to dethrone the reigning Teen Queen\, win the affections of the heartthrob Link Larkin\, and integrate a TV network\, all without denting her 'do!
UID:29960-3275485@events.umich.edu
URL:https://events.umich.edu/event/29960
CLASS:PUBLIC
STATUS:CONFIRMED
CATEGORIES:Theater
LOCATION:Power Center for the Performing Arts
CONTACT:
END:VEVENT
BEGIN:VEVENT
DTSTAMP:20160301T120542
DTSTART;TZID=America/Detroit:20160507T200000
SUMMARY:Performance:Lucy Kaplansky
DESCRIPTION:The daughter of the famed Polish-Canadian mathematician Irving Kaplansky (who once wrote a song based on the first 14 digits of pi that his daughter has been known to perform)\, Lucy Kaplansky started out singing in Chicago bars. Then\, barely out of high school\, she took off for New York City. There she found a fertile community of songwriters and performers—Suzanne Vega\, John Gorka\, Bill Morrissey\, Cliff Eberhardt\, and others—where she fit right in. She's a singer-songwriter with an extraordinary feel for the range of human emotion. Lucy puts her own spin on contemporary songwriter folk with warm\, powerful vocals and guitar playing that draws guitar gods (or geeks) to talk shop with her. Lucy Kaplansky\, says the Boston Globe\, \"is becoming the troubadour laureate of modern city folk.\" We haven't seen Lucy's full show at The Ark for several years\, so it's time to come out and see what this wonderful songwriter has been up to and working through
UID:25381-1745453@events.umich.edu
URL:https://events.umich.edu/event/25381
CLASS:PUBLIC
STATUS:CONFIRMED
CATEGORIES:Music,The Ark
LOCATION:Off Campus Location - The Ark, 316 S. Main, Ann Arbor, MI
CONTACT:
END:VEVENT
END:VCALENDAR