BEGIN:VCALENDAR
VERSION:2.0
PRODID:-//UM//UM*Events//EN
CALSCALE:GREGORIAN
BEGIN:VTIMEZONE
TZID:America/Detroit
TZURL:http://tzurl.org/zoneinfo/America/Detroit
X-LIC-LOCATION:America/Detroit
BEGIN:DAYLIGHT
TZOFFSETFROM:-0500
TZOFFSETTO:-0400
TZNAME:EDT
DTSTART:20070311T020000
RRULE:FREQ=YEARLY;BYMONTH=3;BYDAY=2SU
END:DAYLIGHT
BEGIN:STANDARD
TZOFFSETFROM:-0400
TZOFFSETTO:-0500
TZNAME:EST
DTSTART:20071104T020000
RRULE:FREQ=YEARLY;BYMONTH=11;BYDAY=1SU
END:STANDARD
END:VTIMEZONE
BEGIN:VEVENT
DTSTAMP:20160508T120018
DTSTART;TZID=America/Detroit:20160509T000000
DTEND;TZID=America/Detroit:20160508T180000
SUMMARY:Other:CWPA Nationals
DESCRIPTION:Water Polo Nationals 
UID:30589-3662542@events.umich.edu
URL:https://events.umich.edu/event/30589
CLASS:PUBLIC
STATUS:CONFIRMED
CATEGORIES:
LOCATION:University of California-Santa Cruz
CONTACT:
END:VEVENT
BEGIN:VEVENT
DTSTAMP:20160515T120010
DTSTART;TZID=America/Detroit:20160509T000000
DTEND;TZID=America/Detroit:20160509T235959
SUMMARY:Other:Dad Vail/ECAC
DESCRIPTION:East-bound
UID:28633-3720163@events.umich.edu
URL:https://events.umich.edu/event/28633
CLASS:PUBLIC
STATUS:CONFIRMED
CATEGORIES:
LOCATION:Lake Quinsigamond/Schuylkill River
CONTACT:
END:VEVENT
BEGIN:VEVENT
DTSTAMP:20160518T180010
DTSTART;TZID=America/Detroit:20160509T000000
DTEND;TZID=America/Detroit:20160509T235959
SUMMARY:Recreational / Games:Free tango lessons and parties\, weekly with MATC
DESCRIPTION:Lessons\, guided practice\, and parties -- free for beginner-level tango dancers. Throughout Spring-Summer:Mondays - Dance party and individual help at Pittsfield Grange 8pm (except 5/16)Wednesdays - Tango lesson and practice time at Mason Hall 8pmEvery other Saturday - Dance party in UM Union The classic Argentine style of tango is a dance with a hug-like embrace that cultivates a sense of dynamic balance. Ann Arbor has a welcoming and diverse tango community\, with meetups happening several times a week. The UM club hosts lessons and DJ'd practices on Wednesdays in Mason Hall\, and dance parties on Mondays and every other Saturday. Join us when you can\, and we'll supply the partners! Please RSVP and share on Facebook: https://www.facebook.com/events/1599829860308119/ Questions?  Email matcTango@umich.edu
UID:30581-3740388@events.umich.edu
URL:https://events.umich.edu/event/30581
CLASS:PUBLIC
STATUS:CONFIRMED
CATEGORIES:
LOCATION:UM Union
CONTACT:
END:VEVENT
BEGIN:VEVENT
DTSTAMP:20151208T153106
DTSTART;TZID=America/Detroit:20160509T080000
DTEND;TZID=America/Detroit:20160509T170000
SUMMARY:Other:CEW offers Funding for Event Co-sponsorship for 2016
DESCRIPTION:The Center for the Education of Women (CEW) is seeking opportunities to partner with units on campus via its Frances and Sydney Lewis (FSL) Visiting Leaders Fund.  This endowment fund brings visiting women leaders to campus who are distinguished scholars and/or practitioners in their fields.  Any U-M department\, unit or organization (student\, staff or faculty) may submit a funding request to CEW via our online Google application form.  Requests for event support will be evaluated based on their consistency with the purpose of the FSL Visiting Leaders Fund and should be submitted at least six (6) weeks before the proposed programming.  Please note that only those events submitted via the CEW online form will be considered.\n\nDEADLINES:\n2016 Winter Semester: December 15\, 2015\n2016 Fall Semester: August 1\, 2016\n\nIn addition\, CEW can provide promotional support for events by listing on our online calendar.  To learn more about how CEW can support your U-M event\, please refer to this CEW webpage: http://www.cew.umich.edu/RFP)\n\nQuestions about event co-sponsorship may be directed to Janice Reuben\, CEW Senior Associate for Programs & Outreach\, at 734.764.6005  (reubenjs@umich.edu).
UID:27093-2308800@events.umich.edu
URL:https://events.umich.edu/event/27093
CLASS:PUBLIC
STATUS:CONFIRMED
CATEGORIES:Career,Leadership,Activism,Community Service,Diversity,Inclusion
LOCATION:Center for the Education of Women
CONTACT:
END:VEVENT
BEGIN:VEVENT
DTSTAMP:20160418T110610
DTSTART;TZID=America/Detroit:20160509T080000
DTEND;TZID=America/Detroit:20160509T170000
SUMMARY:Exhibition:Exhibit: The Many Faces and Figures of the Four Sons in the Passover Haggadah
DESCRIPTION:The Four Sons of the Passover Haggadah can now be viewed in their many versions at a unique exhibit at the Jean & Samuel Frankel Center for Judaic Studies. The exhibit\, featuring 29 Haggadahs from the Irwin M. Alterman Haggadah Collection\, will be on display through July.  It includes Haggadahs of various shapes and sizes\, ancient and modern\, and in a number of different languages.\n\nThe Alterman collection was acquired by the University of Michigan Library last year with the help of the Frankel Center\, and is housed in the Special Collections Library of the Harlan Hatcher Graduate Library. It includes more than 1\,800 Haggadahs and is believed to be one of the largest Haggadah collections in the world. The unique compilation belonged to the late Irwin Alterman of West Bloomfield\, and was donated by his widow\, Marilyn McCall Alterman. \n\nPhoto courtesy of Luna Archey
UID:30296-3402265@events.umich.edu
URL:https://events.umich.edu/event/30296
CLASS:PUBLIC
STATUS:CONFIRMED
CATEGORIES:Jewish Studies,Exhibition
LOCATION:202 S. Thayer - Room 2000
CONTACT:
END:VEVENT
BEGIN:VEVENT
DTSTAMP:20160325T124225
DTSTART;TZID=America/Detroit:20160509T080000
DTEND;TZID=America/Detroit:20160509T200000
SUMMARY:Exhibition:Gifts of Art presents Aging in America: Oil Portraits
DESCRIPTION:This show is a series of oil portraits by New Jersey based artist Janet Boltax of individuals who are 90 years of age and over. They are accompanied by excerpts of interviews with each person about their life and how they are coping with the aging process. Boltax is primarily a portrait painter who also does printmaking and mixed media. She teaches portrait painting\, color theory and composition at the Montclair Museum\, Montclair\, New Jersey\, and also works as a copy writer.
UID:29988-3284606@events.umich.edu
URL:https://events.umich.edu/event/29988
CLASS:PUBLIC
STATUS:CONFIRMED
CATEGORIES:Art,Health & Wellness
LOCATION:University Hospitals - Gifts of Art Gallery — Taubman Health Center North Lobby, Floor 1
CONTACT:
END:VEVENT
BEGIN:VEVENT
DTSTAMP:20160325T125341
DTSTART;TZID=America/Detroit:20160509T080000
DTEND;TZID=America/Detroit:20160509T200000
SUMMARY:Exhibition:Gifts of Art presents Among the Lost & Found: Collage on Panel
DESCRIPTION:In his work\, David Criner transforms twentieth century collage material in pursuit of an image that celebrates the present moment. The antiquated \"pop\" sensibility imbued by his sourced matter is countered by gestural\, spontaneous mark making\, creating compositions that manage to reference the past while also feeling timeless. Criner works out of Chicago\, and teaches at Northeastern Illinois University.
UID:29992-3285006@events.umich.edu
URL:https://events.umich.edu/event/29992
CLASS:PUBLIC
STATUS:CONFIRMED
CATEGORIES:Art,Health & Wellness
LOCATION:University Hospitals - Gifts of Art Gallery — University Hospital Main Corridor, Floor 2.
CONTACT:
END:VEVENT
BEGIN:VEVENT
DTSTAMP:20160325T124859
DTSTART;TZID=America/Detroit:20160509T080000
DTEND;TZID=America/Detroit:20160509T200000
SUMMARY:Exhibition:Gifts of Art presents K-12 Group Show
DESCRIPTION:Ann Arbor Public Schools has a comprehensive\, nationally recognized K-12 arts education program that encourages experience in a variety of media and subject matter. They also explore artistic historical and cultural connections. Finished pieces from students in all grades will be on display in both 2D and 3D. A variety of media and styles are represented including drawing\, painting\, printmaking\, ceramics\, sculpture\, photography and jewelry.
UID:29990-3284846@events.umich.edu
URL:https://events.umich.edu/event/29990
CLASS:PUBLIC
STATUS:CONFIRMED
CATEGORIES:Health & Wellness,Art
LOCATION:University Hospitals - Gifts of Art Gallery — Taubman Health Center South Lobby, Floor 1
CONTACT:
END:VEVENT
BEGIN:VEVENT
DTSTAMP:20160325T125827
DTSTART;TZID=America/Detroit:20160509T080000
DTEND;TZID=America/Detroit:20160509T170000
SUMMARY:Exhibition:Gifts of Art presents Light Begins at 40: A Detroit Photographer Looks Back
DESCRIPTION:In a world beset with problems and heartache\, for this retrospective\, Philip Dattilo shares photographs of cheer\, amusement and inspiration. A professional photographer since the 1970s\, Dattilo searched through 40 years of his personal photographs as well as those for medical\, architectural and industrial clients (including U-M). The search uncovered a gold mine of happy memories\, suggesting “Life can sometimes be good.”  His work includes the photo booklet Enjoy Detroit\, It’s Your City\, a family photographic portrait for President Gerald Ford\, and work on display in the permanent collection of the Charles H. Wright Museum of African American History in Detroit.
UID:29994-3285166@events.umich.edu
URL:https://events.umich.edu/event/29994
CLASS:PUBLIC
STATUS:CONFIRMED
CATEGORIES:Health & Wellness,Art
LOCATION:University Hospitals - Gifts of Art Gallery — Comprehensive Cancer Center, Level 1
CONTACT:
END:VEVENT
BEGIN:VEVENT
DTSTAMP:20160325T124541
DTSTART;TZID=America/Detroit:20160509T080000
DTEND;TZID=America/Detroit:20160509T200000
SUMMARY:Exhibition:Gifts of Art presents Recent Work: Ceramics
DESCRIPTION:Jeri Hollister draws inspiration from her experience growing up in rural Michigan and her time as a student at the University Michigan studying art history and ceramics. She employs traditional ceramics tools and building techniques to create her horse sculptures allowing the process to be evident in the finished work.
UID:29989-3284766@events.umich.edu
URL:https://events.umich.edu/event/29989
CLASS:PUBLIC
STATUS:CONFIRMED
CATEGORIES:Art,Health & Wellness
LOCATION:University Hospitals - Gifts of Art Gallery — Taubman Health Center North Lobby, Floor 1
CONTACT:
END:VEVENT
BEGIN:VEVENT
DTSTAMP:20160325T125604
DTSTART;TZID=America/Detroit:20160509T080000
DTEND;TZID=America/Detroit:20160509T200000
SUMMARY:Exhibition:Gifts of Art presents Surface & Structure: Jewelry & Metals
DESCRIPTION:Kristine Bolhuis is an independent jewelry maker working out of her studio in Ann Arbor\, Michigan. Her recent work has focused on lightweight metal constructions that move\, flex and collapse. She creates her work at the bench where it is conceived of and constructed from start to finish. She feels her process is one of exploration and discovery\, and it is full of surprises.
UID:29993-3285086@events.umich.edu
URL:https://events.umich.edu/event/29993
CLASS:PUBLIC
STATUS:CONFIRMED
CATEGORIES:Art,Health & Wellness
LOCATION:University Hospitals - Gifts of Art Gallery — University Hospital Main Corridor, Floor 2.
CONTACT:
END:VEVENT
BEGIN:VEVENT
DTSTAMP:20160325T125124
DTSTART;TZID=America/Detroit:20160509T080000
DTEND;TZID=America/Detroit:20160509T200000
SUMMARY:Exhibition:Gifts of Art presents Swimming Upstream: Quilts
DESCRIPTION:Self-taught textile artist\, author and curator Bonnie J. Smith lives and works in San Jose\, California. She attended Indiana University-Purdue University\, Indianapolis Campus (IUPUI)\; and Indiana Central College\; and has taken Master Dyeing Classes at Dartmouth College. Smith received the 2015 NICHE Award for design\, and her textile work was selected for exhibition in the United Nations\, Geneva\, Switzerland (2016). Swimming Upstream tells her personal journey with an injury that placed her temporarily in a wheel chair\, to finally finding the courage to start creating art and living life again.
UID:29991-3284926@events.umich.edu
URL:https://events.umich.edu/event/29991
CLASS:PUBLIC
STATUS:CONFIRMED
CATEGORIES:Health & Wellness,Art
LOCATION:University Hospitals - Gifts of Art Gallery — University Hospital Main Lobby, Floor 1.
CONTACT:
END:VEVENT
BEGIN:VEVENT
DTSTAMP:20151211T113926
DTSTART;TZID=America/Detroit:20160509T080000
DTEND;TZID=America/Detroit:20160509T170000
SUMMARY:Exhibition:Gifts of Art presents Works by Belle Kogan: First Female Industrial Designer
DESCRIPTION:This exhibition presents industrially-produced art pottery pieces designed by Belle Kogan (1902–2000)\, for Red Wing Potteries in Red Wing\, Minnesota. Kogan is considered the first prominent female industrial designer in the United States\, a founder of the profession\, and one of the 20th century's most significant designers. Her design aesthetic was heavily influenced by the geometric and streamlined shapes of Art Deco. Belle Kogan Associates\, her New York–based studio\, was the first American female-led design firm. Her contracts with Red Wing Potteries produced over 400 different art pottery shapes from the late 1930s to the early 1960s\, as well as several dinnerware and kitchenware lines. Belle Kogan and her firm designed products not only in ceramics but also clocks and small appliances\, glassware\, and pieces in silver\, plastics\, wrought iron and wood.
UID:27190-2334014@events.umich.edu
URL:https://events.umich.edu/event/27190
CLASS:PUBLIC
STATUS:CONFIRMED
CATEGORIES:Health & Wellness,Art
LOCATION:University Hospitals - Gifts of Art Gallery — Cancer Center Elevator Alcove, Level 2
CONTACT:
END:VEVENT
BEGIN:VEVENT
DTSTAMP:20160310T165634
DTSTART;TZID=America/Detroit:20160509T080000
DTEND;TZID=America/Detroit:20160509T235900
SUMMARY:Exhibition:Intersections/Connections
DESCRIPTION:This International Studies exhibit focuses on materials from across the world\, including many nations and cultures. Rather than displaying each area separately\, the exhibit concentrates on the connections and intersections among disparate regions.
UID:29615-3148154@events.umich.edu
URL:https://events.umich.edu/event/29615
CLASS:PUBLIC
STATUS:CONFIRMED
CATEGORIES:Library,Exhibition
LOCATION:Hatcher Graduate Library - Clark Library, 2nd Floor
CONTACT:
END:VEVENT
BEGIN:VEVENT
DTSTAMP:20160211T131722
DTSTART;TZID=America/Detroit:20160509T080000
DTEND;TZID=America/Detroit:20160509T220000
SUMMARY:Exhibition:Jon Onye Lockard: Celebrating His Life and Legacy\, 1932-2015
DESCRIPTION:This exhibit\, on display in the Fine Arts Library\, honors the life and work of the late U-M Professor Jon Onye Lockard\, who was instrumental in the development of African-American arts and culture in Michigan. His distinctive style of artistic expression captured the spirit of civil rights and black pride.\n\nAs an artist and educator\, Lockard was a mentor to many on the University of Michigan campus and beyond. Among other accolades\, he was a founder of the U-M Department of Afroamerican and African Studies. His paintings can be viewed across the U-M campus\, including many of the murals in residence hall multicultural lounges.\n\nHours: Sun 1-10pm\, Mon-Thurs 8am-10pm\, Fri 8am-5pm\, Sat 1-6pm\n\nJoin us for a reception on Tuesday\, February 23\, 3-6pm in the Fine Arts Library\, with honored guest Mrs. Leslie Kamil\, the artist's widow. Light refreshments will be served.
UID:28912-2895404@events.umich.edu
URL:https://events.umich.edu/event/28912
CLASS:PUBLIC
STATUS:CONFIRMED
CATEGORIES:Visual Arts,Art,Exhibition,Multicultural,Library
LOCATION:Tappan Hall - Fine Arts Library
CONTACT:
END:VEVENT
BEGIN:VEVENT
DTSTAMP:20160512T143154
DTSTART;TZID=America/Detroit:20160509T090000
DTEND;TZID=America/Detroit:20160509T170000
SUMMARY:Exhibition:Extreme Time
DESCRIPTION:Think you know all about time?  What about things that happen in femtoseconds or eons?  Time in the natural world is so extreme\, you can’t even perceive most of its scale unaided. You’ll be amazed by the types of time you can explore in our new exhibit\, and learn more about everyday time and how we measure it\, too!  The exhibit is open!
UID:27873-2579397@events.umich.edu
URL:https://events.umich.edu/event/27873
CLASS:PUBLIC
STATUS:CONFIRMED
CATEGORIES:Free,Family,Museum
LOCATION:Ruthven Museums Building
CONTACT:
END:VEVENT
BEGIN:VEVENT
DTSTAMP:20160407T092340
DTSTART;TZID=America/Detroit:20160509T090000
DTEND;TZID=America/Detroit:20160509T170000
SUMMARY:Workshop / Seminar:Introduction to SPSS
DESCRIPTION:This workshop is designed to introduce participants to SPSS for Windows. It will cover the fundamentals of SPSS\, within-case transformations\, data management with multiple files\, and basic statistics and graphics. Useful for any scholar engaged in quantitative research.
UID:30283-3399978@events.umich.edu
URL:https://events.umich.edu/event/30283
CLASS:PUBLIC
STATUS:CONFIRMED
CATEGORIES:Research
LOCATION:Modern Languages Building - 2001A
CONTACT:
END:VEVENT
BEGIN:VEVENT
DTSTAMP:20160506T162225
DTSTART;TZID=America/Detroit:20160509T100000
DTEND;TZID=America/Detroit:20160509T170000
SUMMARY:Exhibition:A New Treasure Trove at Special Collections
DESCRIPTION:This display showcases recent acquisitions that strengthen our extraordinary holdings in the areas of radical literature\, transportation history\, film\, rare books\, culinary history\, Islamic manuscripts\, children’s literature\, and Judaica. View an eclectic display of unique artifacts that reflect the broad range of our collections.\n\nArtifacts on display include historical treasures like Emma Goldman’s well-traveled suitcase\, Orson Welles’ cutting script for the film Around the World\, a fifteenth-century manuscript containing an Arabic treatise of materia media attributed to Galen\, a 1850 contract for the remount of the moving machinery of the St. Peterburg and Moscow Railway\, and Mildred Taylor’s illustrated novella for children\, The Gold Cadillac\, narrating a Northern black family’s experience of Southern segregation and prejudice during the 1950s as seen through the eyes of a young girl.\n\nExhibit Hours: Monday-Friday\, 10am-5pm\nClosed Memorial Day\, 4th of July\, and Labor Day
UID:30662-3646121@events.umich.edu
URL:https://events.umich.edu/event/30662
CLASS:PUBLIC
STATUS:CONFIRMED
CATEGORIES:Library,Exhibition
LOCATION:Hatcher Graduate Library - 7th Floor Exhibit Space
CONTACT:
END:VEVENT
BEGIN:VEVENT
DTSTAMP:20160421T105421
DTSTART;TZID=America/Detroit:20160509T100000
DTEND;TZID=America/Detroit:20160509T200000
SUMMARY:Exhibition:Picture This!
DESCRIPTION:An exhibit of photographs taken of and by young patients—many of whom were born with facial differences or cleft palates—in U-M Mott Hospital’s Craniofacial Anomalies Program. Paired with professional photographers\, the children learned new ways to look at and through the camera lens.
UID:30488-3519880@events.umich.edu
URL:https://events.umich.edu/event/30488
CLASS:PUBLIC
STATUS:CONFIRMED
CATEGORIES:Free,Visual Arts,Storytelling,Health & Wellness,Family,Exhibition
LOCATION:Matthaei Botanical Gardens
CONTACT:
END:VEVENT
BEGIN:VEVENT
DTSTAMP:20151208T154015
DTSTART;TZID=America/Detroit:20160509T103000
DTEND;TZID=America/Detroit:20160509T123000
SUMMARY:Well-being:Mindfulness-Based Dementia Care
DESCRIPTION:A free\, 7-week program specifically designed for family caregivers of persons with dementia. Learn how the practice of mindfulness can help you cope with the challenges and stresses of dementia care\, and also greatly improve the experience of the person in your care. For information and to register call U-M Memory Connection at 734.936.8803. (Note: program skips May 2\, with Day of Mindfulness\, 10 am-4 pm on Mon. April 25.)
UID:27094-2308835@events.umich.edu
URL:https://events.umich.edu/event/27094
CLASS:PUBLIC
STATUS:CONFIRMED
CATEGORIES:Health & Wellness
LOCATION:Matthaei Botanical Gardens
CONTACT:
END:VEVENT
BEGIN:VEVENT
DTSTAMP:20160404T105502
DTSTART;TZID=America/Detroit:20160509T110000
DTEND;TZID=America/Detroit:20160509T170000
SUMMARY:Exhibition:Albert Kahn: Under Construction
DESCRIPTION:In the past two decades there has been a tremendous swell of interest in Detroit architect Albert Kahn (1869–1942)\, arguably the most important architect of American industrialization. Albert Kahn: Under Construction focuses on the remarkable archive of photographs assembled by Albert Kahn Associates while building the powerhouses of American industry\, from the Highland Park Ford Plant to the Willow Run Bomber Plant. Shot by an array of professional photographers based mainly in Detroit\, these often striking documentary images were a novel strategy for conveying information about the daily progress of construction to busy managers at the main office. The exhibition foregrounds the photographic series as a way of illustrating change over time—showing buildings as they grew on site—and Kahn’s innovative solutions to the architectural challenges of his day.\n\n**Special hours Sundays: 12–5pm\, CLOSED Mondays
UID:29456-3120424@events.umich.edu
URL:https://events.umich.edu/event/29456
CLASS:PUBLIC
STATUS:CONFIRMED
CATEGORIES:Architecture,Art,Exhibition,Museum,UMMA
LOCATION:Museum of Art
CONTACT:
END:VEVENT
BEGIN:VEVENT
DTSTAMP:20160308T121704
DTSTART;TZID=America/Detroit:20160509T110000
DTEND;TZID=America/Detroit:20160509T170000
SUMMARY:Exhibition:Siebren Versteeg: LIKE II (2016)
DESCRIPTION:In Siebren Versteeg’s LIKE II (2016)\, a computer painting program creates a composition using a continuously changing algorithm\, and then runs a periodic Google search to find a matching image online. Every sixty seconds\, the painting made by the computer is uploaded to Google’s “search by image” feature\, and images that most closely match the composition are then downloaded and displayed.\n\nThe notion of abstraction plays a central role in this work. Throughout modernity\, artists have sought inventive ways to free painting from its tradition as a representational medium. LIKE II inverts this ambition\, finding the reality hidden within pure abstraction. Because the work evolves based on whatever content is available online at any given moment\, the artist relinquishes a certain degree of creative control. Versteeg says\, “As the nature of the images presented by the work is random\, the artist assumes both all and no responsibility for their presence and content.”\n\n**Special hours Sundays: 12–5pm\, CLOSED Mondays
UID:29503-3129508@events.umich.edu
URL:https://events.umich.edu/event/29503
CLASS:PUBLIC
STATUS:CONFIRMED
CATEGORIES:Art,Exhibition,Visual Arts,UMMA,Museum,Information and Technology
LOCATION:Museum of Art - Media Gallery
CONTACT:
END:VEVENT
BEGIN:VEVENT
DTSTAMP:20160502T133929
DTSTART;TZID=America/Detroit:20160509T120000
DTEND;TZID=America/Detroit:20160509T130000
SUMMARY:Workshop / Seminar:U-M Fulbright Information Session
DESCRIPTION:A U-M Fulbright Program Advisor will describe the application and selection process and provide suggestions for making your application more competitive. \n\nLaptops are welcome and encouraged.
UID:30596-3613572@events.umich.edu
URL:https://events.umich.edu/event/30596
CLASS:PUBLIC
STATUS:CONFIRMED
CATEGORIES:International
LOCATION:School of Social Work Building - 1644
CONTACT:
END:VEVENT
BEGIN:VEVENT
DTSTAMP:20160429T114958
DTSTART;TZID=America/Detroit:20160509T160000
DTEND;TZID=America/Detroit:20160509T180000
SUMMARY:Reception / Open House:U-M Office of Research\, Distinguished University Innovator Award Lecture and Reception
DESCRIPTION:S. Jack Hu\nVice President for Research\nCordially invites you to attend the University of Michigan\n2016 Distinguished University Innovator Award Lecture and Reception in honor of James A. Shayman\, M.D. \nProfessor of Internal Medicine and Pharmacology\nAgnes C. and Frank D. McKay Professor\, Medical School\n\nTitle of talk:  Why I Study Rare Diseases\n\nMonday\, May 9\, 2016\, at 4:00 PM\nForum Hall in Palmer Commons\n100 Washtenaw Avenue\n\nReception Follows\n\nSponsored by the U-M Office of Research
UID:30579-3587196@events.umich.edu
URL:https://events.umich.edu/event/30579
CLASS:PUBLIC
STATUS:CONFIRMED
CATEGORIES:Research,Social
LOCATION:Palmer Commons - Forum Hall
CONTACT:
END:VEVENT
BEGIN:VEVENT
DTSTAMP:20160223T142354
DTSTART;TZID=America/Detroit:20160509T190000
DTEND;TZID=America/Detroit:20160509T210000
SUMMARY:Class / Instruction:Beekeeping in Cambodia
DESCRIPTION:M.C Hearing discusses what it’s like to raise bees in Cambodia\, followed by a talk by Win Harless on swarm management practices.
UID:29151-3004190@events.umich.edu
URL:https://events.umich.edu/event/29151
CLASS:PUBLIC
STATUS:CONFIRMED
CATEGORIES:Environment
LOCATION:Matthaei Botanical Gardens
CONTACT:
END:VEVENT
BEGIN:VEVENT
DTSTAMP:20160509T180011
DTSTART;TZID=America/Detroit:20160509T200000
DTEND;TZID=America/Detroit:20160509T233000
SUMMARY:Recreational / Games:Free tango lessons and parties\, weekly with MATC
DESCRIPTION:Lessons\, guided practice\, and parties -- free for beginner-level tango dancers. Throughout Spring-Summer:Mondays - Dance party and individual help at Pittsfield Grange 8pm (except 5/16)Wednesdays - Tango lesson and practice time at Mason Hall 8pmEvery other Saturday - Dance party in UM Union The classic Argentine style of tango is a dance with a hug-like embrace that cultivates a sense of dynamic balance. Ann Arbor has a welcoming and diverse tango community\, with meetups happening several times a week. The UM club hosts lessons and DJ'd practices on Wednesdays in Mason Hall\, and dance parties on Mondays and every other Saturday. Join us when you can\, and we'll supply the partners! Please RSVP and share on Facebook: https://www.facebook.com/events/1599829860308119/ Questions?  Email matcTango@umich.edu
UID:30582-3589182@events.umich.edu
URL:https://events.umich.edu/event/30582
CLASS:PUBLIC
STATUS:CONFIRMED
CATEGORIES:
LOCATION:Pittsfield Grange Dance Hall
CONTACT:
END:VEVENT
END:VCALENDAR