BEGIN:VCALENDAR
VERSION:2.0
PRODID:-//UM//UM*Events//EN
CALSCALE:GREGORIAN
BEGIN:VTIMEZONE
TZID:America/Detroit
TZURL:http://tzurl.org/zoneinfo/America/Detroit
X-LIC-LOCATION:America/Detroit
BEGIN:DAYLIGHT
TZOFFSETFROM:-0500
TZOFFSETTO:-0400
TZNAME:EDT
DTSTART:20070311T020000
RRULE:FREQ=YEARLY;BYMONTH=3;BYDAY=2SU
END:DAYLIGHT
BEGIN:STANDARD
TZOFFSETFROM:-0400
TZOFFSETTO:-0500
TZNAME:EST
DTSTART:20071104T020000
RRULE:FREQ=YEARLY;BYMONTH=11;BYDAY=1SU
END:STANDARD
END:VTIMEZONE
BEGIN:VEVENT
DTSTAMP:20160418T110610
DTSTART;TZID=America/Detroit:20160610T080000
DTEND;TZID=America/Detroit:20160610T170000
SUMMARY:Exhibition:Exhibit: The Many Faces and Figures of the Four Sons in the Passover Haggadah
DESCRIPTION:The Four Sons of the Passover Haggadah can now be viewed in their many versions at a unique exhibit at the Jean & Samuel Frankel Center for Judaic Studies. The exhibit\, featuring 29 Haggadahs from the Irwin M. Alterman Haggadah Collection\, will be on display through July.  It includes Haggadahs of various shapes and sizes\, ancient and modern\, and in a number of different languages.\n\nThe Alterman collection was acquired by the University of Michigan Library last year with the help of the Frankel Center\, and is housed in the Special Collections Library of the Harlan Hatcher Graduate Library. It includes more than 1\,800 Haggadahs and is believed to be one of the largest Haggadah collections in the world. The unique compilation belonged to the late Irwin Alterman of West Bloomfield\, and was donated by his widow\, Marilyn McCall Alterman. \n\nPhoto courtesy of Luna Archey
UID:30296-3402297@events.umich.edu
URL:https://events.umich.edu/event/30296
CLASS:PUBLIC
STATUS:CONFIRMED
CATEGORIES:Exhibition,Jewish Studies
LOCATION:202 S. Thayer - Room 2000
CONTACT:
END:VEVENT
BEGIN:VEVENT
DTSTAMP:20160325T124225
DTSTART;TZID=America/Detroit:20160610T080000
DTEND;TZID=America/Detroit:20160610T200000
SUMMARY:Exhibition:Gifts of Art presents Aging in America: Oil Portraits
DESCRIPTION:This show is a series of oil portraits by New Jersey based artist Janet Boltax of individuals who are 90 years of age and over. They are accompanied by excerpts of interviews with each person about their life and how they are coping with the aging process. Boltax is primarily a portrait painter who also does printmaking and mixed media. She teaches portrait painting\, color theory and composition at the Montclair Museum\, Montclair\, New Jersey\, and also works as a copy writer.
UID:29988-3284638@events.umich.edu
URL:https://events.umich.edu/event/29988
CLASS:PUBLIC
STATUS:CONFIRMED
CATEGORIES:Art,Health & Wellness
LOCATION:University Hospitals - Gifts of Art Gallery — Taubman Health Center North Lobby, Floor 1
CONTACT:
END:VEVENT
BEGIN:VEVENT
DTSTAMP:20160325T125341
DTSTART;TZID=America/Detroit:20160610T080000
DTEND;TZID=America/Detroit:20160610T200000
SUMMARY:Exhibition:Gifts of Art presents Among the Lost & Found: Collage on Panel
DESCRIPTION:In his work\, David Criner transforms twentieth century collage material in pursuit of an image that celebrates the present moment. The antiquated \"pop\" sensibility imbued by his sourced matter is countered by gestural\, spontaneous mark making\, creating compositions that manage to reference the past while also feeling timeless. Criner works out of Chicago\, and teaches at Northeastern Illinois University.
UID:29992-3285038@events.umich.edu
URL:https://events.umich.edu/event/29992
CLASS:PUBLIC
STATUS:CONFIRMED
CATEGORIES:Art,Health & Wellness
LOCATION:University Hospitals - Gifts of Art Gallery — University Hospital Main Corridor, Floor 2.
CONTACT:
END:VEVENT
BEGIN:VEVENT
DTSTAMP:20160325T124859
DTSTART;TZID=America/Detroit:20160610T080000
DTEND;TZID=America/Detroit:20160610T200000
SUMMARY:Exhibition:Gifts of Art presents K-12 Group Show
DESCRIPTION:Ann Arbor Public Schools has a comprehensive\, nationally recognized K-12 arts education program that encourages experience in a variety of media and subject matter. They also explore artistic historical and cultural connections. Finished pieces from students in all grades will be on display in both 2D and 3D. A variety of media and styles are represented including drawing\, painting\, printmaking\, ceramics\, sculpture\, photography and jewelry.
UID:29990-3284878@events.umich.edu
URL:https://events.umich.edu/event/29990
CLASS:PUBLIC
STATUS:CONFIRMED
CATEGORIES:Art,Health & Wellness
LOCATION:University Hospitals - Gifts of Art Gallery — Taubman Health Center South Lobby, Floor 1
CONTACT:
END:VEVENT
BEGIN:VEVENT
DTSTAMP:20160325T125827
DTSTART;TZID=America/Detroit:20160610T080000
DTEND;TZID=America/Detroit:20160610T170000
SUMMARY:Exhibition:Gifts of Art presents Light Begins at 40: A Detroit Photographer Looks Back
DESCRIPTION:In a world beset with problems and heartache\, for this retrospective\, Philip Dattilo shares photographs of cheer\, amusement and inspiration. A professional photographer since the 1970s\, Dattilo searched through 40 years of his personal photographs as well as those for medical\, architectural and industrial clients (including U-M). The search uncovered a gold mine of happy memories\, suggesting “Life can sometimes be good.”  His work includes the photo booklet Enjoy Detroit\, It’s Your City\, a family photographic portrait for President Gerald Ford\, and work on display in the permanent collection of the Charles H. Wright Museum of African American History in Detroit.
UID:29994-3285198@events.umich.edu
URL:https://events.umich.edu/event/29994
CLASS:PUBLIC
STATUS:CONFIRMED
CATEGORIES:Art,Health & Wellness
LOCATION:University Hospitals - Gifts of Art Gallery — Comprehensive Cancer Center, Level 1
CONTACT:
END:VEVENT
BEGIN:VEVENT
DTSTAMP:20160325T124541
DTSTART;TZID=America/Detroit:20160610T080000
DTEND;TZID=America/Detroit:20160610T200000
SUMMARY:Exhibition:Gifts of Art presents Recent Work: Ceramics
DESCRIPTION:Jeri Hollister draws inspiration from her experience growing up in rural Michigan and her time as a student at the University Michigan studying art history and ceramics. She employs traditional ceramics tools and building techniques to create her horse sculptures allowing the process to be evident in the finished work.
UID:29989-3284798@events.umich.edu
URL:https://events.umich.edu/event/29989
CLASS:PUBLIC
STATUS:CONFIRMED
CATEGORIES:Art,Health & Wellness
LOCATION:University Hospitals - Gifts of Art Gallery — Taubman Health Center North Lobby, Floor 1
CONTACT:
END:VEVENT
BEGIN:VEVENT
DTSTAMP:20160325T125604
DTSTART;TZID=America/Detroit:20160610T080000
DTEND;TZID=America/Detroit:20160610T200000
SUMMARY:Exhibition:Gifts of Art presents Surface & Structure: Jewelry & Metals
DESCRIPTION:Kristine Bolhuis is an independent jewelry maker working out of her studio in Ann Arbor\, Michigan. Her recent work has focused on lightweight metal constructions that move\, flex and collapse. She creates her work at the bench where it is conceived of and constructed from start to finish. She feels her process is one of exploration and discovery\, and it is full of surprises.
UID:29993-3285118@events.umich.edu
URL:https://events.umich.edu/event/29993
CLASS:PUBLIC
STATUS:CONFIRMED
CATEGORIES:Art,Health & Wellness
LOCATION:University Hospitals - Gifts of Art Gallery — University Hospital Main Corridor, Floor 2.
CONTACT:
END:VEVENT
BEGIN:VEVENT
DTSTAMP:20160325T125124
DTSTART;TZID=America/Detroit:20160610T080000
DTEND;TZID=America/Detroit:20160610T200000
SUMMARY:Exhibition:Gifts of Art presents Swimming Upstream: Quilts
DESCRIPTION:Self-taught textile artist\, author and curator Bonnie J. Smith lives and works in San Jose\, California. She attended Indiana University-Purdue University\, Indianapolis Campus (IUPUI)\; and Indiana Central College\; and has taken Master Dyeing Classes at Dartmouth College. Smith received the 2015 NICHE Award for design\, and her textile work was selected for exhibition in the United Nations\, Geneva\, Switzerland (2016). Swimming Upstream tells her personal journey with an injury that placed her temporarily in a wheel chair\, to finally finding the courage to start creating art and living life again.
UID:29991-3284958@events.umich.edu
URL:https://events.umich.edu/event/29991
CLASS:PUBLIC
STATUS:CONFIRMED
CATEGORIES:Art,Health & Wellness
LOCATION:University Hospitals - Gifts of Art Gallery — University Hospital Main Lobby, Floor 1.
CONTACT:
END:VEVENT
BEGIN:VEVENT
DTSTAMP:20151211T113926
DTSTART;TZID=America/Detroit:20160610T080000
DTEND;TZID=America/Detroit:20160610T170000
SUMMARY:Exhibition:Gifts of Art presents Works by Belle Kogan: First Female Industrial Designer
DESCRIPTION:This exhibition presents industrially-produced art pottery pieces designed by Belle Kogan (1902–2000)\, for Red Wing Potteries in Red Wing\, Minnesota. Kogan is considered the first prominent female industrial designer in the United States\, a founder of the profession\, and one of the 20th century's most significant designers. Her design aesthetic was heavily influenced by the geometric and streamlined shapes of Art Deco. Belle Kogan Associates\, her New York–based studio\, was the first American female-led design firm. Her contracts with Red Wing Potteries produced over 400 different art pottery shapes from the late 1930s to the early 1960s\, as well as several dinnerware and kitchenware lines. Belle Kogan and her firm designed products not only in ceramics but also clocks and small appliances\, glassware\, and pieces in silver\, plastics\, wrought iron and wood.
UID:27190-2334046@events.umich.edu
URL:https://events.umich.edu/event/27190
CLASS:PUBLIC
STATUS:CONFIRMED
CATEGORIES:Art,Health & Wellness
LOCATION:University Hospitals - Gifts of Art Gallery — Cancer Center Elevator Alcove, Level 2
CONTACT:
END:VEVENT
BEGIN:VEVENT
DTSTAMP:20160310T165634
DTSTART;TZID=America/Detroit:20160610T080000
DTEND;TZID=America/Detroit:20160610T235900
SUMMARY:Exhibition:Intersections/Connections
DESCRIPTION:This International Studies exhibit focuses on materials from across the world\, including many nations and cultures. Rather than displaying each area separately\, the exhibit concentrates on the connections and intersections among disparate regions.
UID:29615-3148186@events.umich.edu
URL:https://events.umich.edu/event/29615
CLASS:PUBLIC
STATUS:CONFIRMED
CATEGORIES:Exhibition,Library
LOCATION:Hatcher Graduate Library - Clark Library, 2nd Floor
CONTACT:
END:VEVENT
BEGIN:VEVENT
DTSTAMP:20160512T143154
DTSTART;TZID=America/Detroit:20160610T090000
DTEND;TZID=America/Detroit:20160610T170000
SUMMARY:Exhibition:Extreme Time
DESCRIPTION:Think you know all about time?  What about things that happen in femtoseconds or eons?  Time in the natural world is so extreme\, you can’t even perceive most of its scale unaided. You’ll be amazed by the types of time you can explore in our new exhibit\, and learn more about everyday time and how we measure it\, too!  The exhibit is open!
UID:27873-2579285@events.umich.edu
URL:https://events.umich.edu/event/27873
CLASS:PUBLIC
STATUS:CONFIRMED
CATEGORIES:Family,Free,Museum
LOCATION:Ruthven Museums Building
CONTACT:
END:VEVENT
BEGIN:VEVENT
DTSTAMP:20160506T162225
DTSTART;TZID=America/Detroit:20160610T100000
DTEND;TZID=America/Detroit:20160610T170000
SUMMARY:Exhibition:A New Treasure Trove at Special Collections
DESCRIPTION:This display showcases recent acquisitions that strengthen our extraordinary holdings in the areas of radical literature\, transportation history\, film\, rare books\, culinary history\, Islamic manuscripts\, children’s literature\, and Judaica. View an eclectic display of unique artifacts that reflect the broad range of our collections.\n\nArtifacts on display include historical treasures like Emma Goldman’s well-traveled suitcase\, Orson Welles’ cutting script for the film Around the World\, a fifteenth-century manuscript containing an Arabic treatise of materia media attributed to Galen\, a 1850 contract for the remount of the moving machinery of the St. Peterburg and Moscow Railway\, and Mildred Taylor’s illustrated novella for children\, The Gold Cadillac\, narrating a Northern black family’s experience of Southern segregation and prejudice during the 1950s as seen through the eyes of a young girl.\n\nExhibit Hours: Monday-Friday\, 10am-5pm\nClosed Memorial Day\, 4th of July\, and Labor Day
UID:30662-3646153@events.umich.edu
URL:https://events.umich.edu/event/30662
CLASS:PUBLIC
STATUS:CONFIRMED
CATEGORIES:Exhibition,Library
LOCATION:Hatcher Graduate Library - 7th Floor Exhibit Space
CONTACT:
END:VEVENT
BEGIN:VEVENT
DTSTAMP:20160421T105421
DTSTART;TZID=America/Detroit:20160610T100000
DTEND;TZID=America/Detroit:20160610T200000
SUMMARY:Exhibition:Picture This!
DESCRIPTION:An exhibit of photographs taken of and by young patients—many of whom were born with facial differences or cleft palates—in U-M Mott Hospital’s Craniofacial Anomalies Program. Paired with professional photographers\, the children learned new ways to look at and through the camera lens.
UID:30488-3519912@events.umich.edu
URL:https://events.umich.edu/event/30488
CLASS:PUBLIC
STATUS:CONFIRMED
CATEGORIES:Exhibition,Family,Free,Health & Wellness,Storytelling,Visual Arts
LOCATION:Matthaei Botanical Gardens
CONTACT:
END:VEVENT
BEGIN:VEVENT
DTSTAMP:20160523T155817
DTSTART;TZID=America/Detroit:20160610T100000
DTEND;TZID=America/Detroit:20160610T160000
SUMMARY:Exhibition:Supporting Scholarship: Eight Topics Documented in the Clements Library
DESCRIPTION:Come and see what brings researchers from around the world to the William L Clements Library to explore its historical collections. This exhibit highlights eight research topics that the holdings of the Clements support. They include: Exploration and Discovery\; Colonial America\; Conflict\; Age of Revolution\; Education\; Business and Trade\; Religion & Reform\; and The Under-Represented. \n\nVisit to see rare treasures that reflect the broad range of early maps\, manuscripts\, books\, prints\, and photography in our collections.  For more information about the Library and using it for research\, please visit our website at clements.umich.edu. \n\nThis exhibit will close on October 28\, 2016.
UID:30795-3776660@events.umich.edu
URL:https://events.umich.edu/event/30795
CLASS:PUBLIC
STATUS:CONFIRMED
CATEGORIES:Education,Exhibition,History,Library,Lifelong Learning
LOCATION:William Clements Library
CONTACT:
END:VEVENT
BEGIN:VEVENT
DTSTAMP:20160404T105502
DTSTART;TZID=America/Detroit:20160610T110000
DTEND;TZID=America/Detroit:20160610T170000
SUMMARY:Exhibition:Albert Kahn: Under Construction
DESCRIPTION:In the past two decades there has been a tremendous swell of interest in Detroit architect Albert Kahn (1869–1942)\, arguably the most important architect of American industrialization. Albert Kahn: Under Construction focuses on the remarkable archive of photographs assembled by Albert Kahn Associates while building the powerhouses of American industry\, from the Highland Park Ford Plant to the Willow Run Bomber Plant. Shot by an array of professional photographers based mainly in Detroit\, these often striking documentary images were a novel strategy for conveying information about the daily progress of construction to busy managers at the main office. The exhibition foregrounds the photographic series as a way of illustrating change over time—showing buildings as they grew on site—and Kahn’s innovative solutions to the architectural challenges of his day.\n\n**Special hours Sundays: 12–5pm\, CLOSED Mondays
UID:29456-3120456@events.umich.edu
URL:https://events.umich.edu/event/29456
CLASS:PUBLIC
STATUS:CONFIRMED
CATEGORIES:Architecture,Art,Exhibition,Museum,UMMA
LOCATION:Museum of Art
CONTACT:
END:VEVENT
BEGIN:VEVENT
DTSTAMP:20160329T123251
DTSTART;TZID=America/Detroit:20160610T110000
DTEND;TZID=America/Detroit:20160610T170000
SUMMARY:Exhibition:In Focus: Jeanne Gang
DESCRIPTION:Widely acclaimed for her integrative approach to materials\, technology\, and ecological context\, Chicago-based architect Jeanne Gang was selected as a MacArthur Fellow in 2011. Shortly thereafter Gang proposed an ambitious restoration of the Chicago riverfront through a series of small but transformational projects. The WMS Boathouse\, designed by Gang and located north of downtown\, is one such project\, encompassing a field house with state-of-the art training facilities\, a boat storage building\, and a floating dock at the river’s edge. Completed in 2013\, the 22\,000-square-foot boathouse is the city’s premier rowing center\, serving a range of public rowing clubs\, many of whose amateur athletes come from the city’s underserved communities.\n\nThis installation showcases dynamic exterior and interior sketches of the complex—recently acquired by UMMA—depicting the distinctive rhythmic contours of the roof\, derived from studies of rowers in motion\, and the open\, angular\, and light-filled spaces within.\n\n**Special hours Sundays: 12–5pm\, CLOSED Mondays
UID:30041-3321285@events.umich.edu
URL:https://events.umich.edu/event/30041
CLASS:PUBLIC
STATUS:CONFIRMED
CATEGORIES:Architecture,Art,Exhibition,Museum,UMMA,Visual Arts
LOCATION:Museum of Art
CONTACT:
END:VEVENT
BEGIN:VEVENT
DTSTAMP:20160329T124905
DTSTART;TZID=America/Detroit:20160610T110000
DTEND;TZID=America/Detroit:20160610T170000
SUMMARY:Exhibition:Manuel Álvarez Bravo: Mexico’s Poet of Light
DESCRIPTION:Manuel Álvarez Bravo spent nearly his entire career photographing his native Mexico. His style drew upon numerous international influences\, ranging from the Modernism of Edward Weston and Tina Modotti\, whom he met when they spent time in Mexico in the 1920s\, to the formally exquisite photojournalism of Henri Cartier-Bresson and Walker Evans\, whose work he knew in New York\, and the Surrealism of André Breton\, who visited Mexico around 1940.\n\nAlthough not strictly Surrealist\, many of Álvarez Bravo’s works manifest a similarly fantastical mood\; one of the artist’s most arresting qualities is his ability to imbue scenes of everyday life with an otherworldly\, metaphysical power. The twenty-three photographs in the exhibition\, drawn from UMMA’s collections\, show the artist’s ability to synthesize a personal—even nationalistic—style that merged the motifs of Mexican religious and indigenous works and plant forms (such as agave leaves) with a Modernist approach to image making. Throughout\, the presence of light as a wondrous metaphor and revealer of life animates even the emptiest and most silent of Álvarez Bravo’s scenes.\n\n**Special hours Sundays: 12–5pm\, CLOSED Mondays
UID:30043-3321371@events.umich.edu
URL:https://events.umich.edu/event/30043
CLASS:PUBLIC
STATUS:CONFIRMED
CATEGORIES:Exhibition,Museum,UMMA,Visual Arts
LOCATION:Museum of Art - Photography Gallery
CONTACT:
END:VEVENT
BEGIN:VEVENT
DTSTAMP:20160606T133204
DTSTART;TZID=America/Detroit:20160610T110000
DTEND;TZID=America/Detroit:20160610T130000
SUMMARY:Social / Informal Gathering:PCAP Volunteer Coffee Hour
DESCRIPTION:Arielle Goodman\, Interim Membership Coordinator\, will lead outdoor activities and a brainstorming session for Prison Creative Arts Project students\, volunteers\, and community members. The group will decide as a collective what kind of trainings\, activities\, and/or events they would like to engage in over the summer. Coffee and snacks provided. Please RSVP to acgood@umich.edu.
UID:30907-3867105@events.umich.edu
URL:https://events.umich.edu/event/30907
CLASS:PUBLIC
STATUS:CONFIRMED
CATEGORIES:Activism,Social,Volunteer
LOCATION:East Quadrangle - 1807 East Quad
CONTACT:
END:VEVENT
BEGIN:VEVENT
DTSTAMP:20160308T121704
DTSTART;TZID=America/Detroit:20160610T110000
DTEND;TZID=America/Detroit:20160610T170000
SUMMARY:Exhibition:Siebren Versteeg: LIKE II (2016)
DESCRIPTION:In Siebren Versteeg’s LIKE II (2016)\, a computer painting program creates a composition using a continuously changing algorithm\, and then runs a periodic Google search to find a matching image online. Every sixty seconds\, the painting made by the computer is uploaded to Google’s “search by image” feature\, and images that most closely match the composition are then downloaded and displayed.\n\nThe notion of abstraction plays a central role in this work. Throughout modernity\, artists have sought inventive ways to free painting from its tradition as a representational medium. LIKE II inverts this ambition\, finding the reality hidden within pure abstraction. Because the work evolves based on whatever content is available online at any given moment\, the artist relinquishes a certain degree of creative control. Versteeg says\, “As the nature of the images presented by the work is random\, the artist assumes both all and no responsibility for their presence and content.”\n\n**Special hours Sundays: 12–5pm\, CLOSED Mondays
UID:29503-3129540@events.umich.edu
URL:https://events.umich.edu/event/29503
CLASS:PUBLIC
STATUS:CONFIRMED
CATEGORIES:Art,Exhibition,Information and Technology,Museum,UMMA,Visual Arts
LOCATION:Museum of Art - Media Gallery
CONTACT:
END:VEVENT
BEGIN:VEVENT
DTSTAMP:20160518T153725
DTSTART;TZID=America/Detroit:20160610T130000
DTEND;TZID=America/Detroit:20160610T133000
SUMMARY:Presentation:Study Abroad First Step Session
DESCRIPTION:Where will study abroad take you? Find out at a CGIS First Step session.\nPresentations are every Tuesday\, Wednesday\, Thursday\, and Friday from 1–1:30pm from June 8–August 4 (except July 5-6).\nTake your first step toward a study abroad experience at UM and learn more about study programs around the world\, scholarships and other financial aid\, and much more.\nAttending a CGIS First Step session is a required part of applying to a CGIS study abroad program. Fulfill this requirement before the school year even begins!
UID:30742-3738376@events.umich.edu
URL:https://events.umich.edu/event/30742
CLASS:PUBLIC
STATUS:CONFIRMED
CATEGORIES:Diversity,Inclusion,International,Language,Social Impact,Social Justice,Study Abroad,Undergraduate
LOCATION:East Quadrangle - 1338
CONTACT:
END:VEVENT
BEGIN:VEVENT
DTSTAMP:20160203T151931
DTSTART;TZID=America/Detroit:20160610T170000
DTEND;TZID=America/Detroit:20160610T200000
SUMMARY:Exhibition:Fridays After Five
DESCRIPTION:Stop in to UMMA to enjoy special exhibitions\, music\, and engaging activities at Fridays After 5! With all of UMMA's galleries remaining open until 8pm\, this exciting series provides an interactive atmosphere for all audiences. While you're here\, browse the UMMA Store for a wide variety of specialty items. The Museum is always free.\n\nAlso\, be sure to save the date for our upcoming Fridays After 5:\n\nApril 8\, 2016\nMay 13\, 2016\nJune 10\, 2016\nJuly 22\, 2016\n\nUMMA Fridays After 5 are generously supported by Comerica Bank and the Community Foundation for Southeast Michigan. The media sponsor for Fridays After 5 is Michigan Radio.
UID:28756-2821392@events.umich.edu
URL:https://events.umich.edu/event/28756
CLASS:PUBLIC
STATUS:CONFIRMED
CATEGORIES:Art,Culture,Diversity,Multicultural,Museum,UMMA,Visual Arts
LOCATION:Museum of Art
CONTACT:
END:VEVENT
BEGIN:VEVENT
DTSTAMP:20160420T143937
DTSTART;TZID=America/Detroit:20160610T170000
DTEND;TZID=America/Detroit:20160610T200000
SUMMARY:Reception / Open House:Fridays After Five
DESCRIPTION:Stop in to UMMA to enjoy special exhibitions\, music\, and engaging activities at Fridays After 5! With all of UMMA's galleries remaining open until 8pm\, this exciting series provides an interactive atmosphere for all audiences. While you're here\, browse the UMMA Store for a wide variety of specialty items. The Museum is always free.\n\nAlso\, be sure to save the date for our upcoming Fridays After 5:\n\nJuly 22\, 2016\n\nUMMA Fridays After 5 are generously supported by Comerica Bank and the Community Foundation for Southeast Michigan. The media sponsor for Fridays After 5 is Michigan Radio.
UID:30471-3513527@events.umich.edu
URL:https://events.umich.edu/event/30471
CLASS:PUBLIC
STATUS:CONFIRMED
CATEGORIES:Africa,Art,Culture,Discussion,Diversity,Education,Exhibition,Film,Free,Graduate,History,Inclusion,India,Literature,Media,Multicultural,Museum,Music,Reception,UMMA,Undergraduate,Visual Arts
LOCATION:Museum of Art
CONTACT:
END:VEVENT
BEGIN:VEVENT
DTSTAMP:20160531T141826
DTSTART;TZID=America/Detroit:20160610T180000
DTEND;TZID=America/Detroit:20160610T210000
SUMMARY:Fair / Festival:City of Ann Arbor Green Fair
DESCRIPTION:The City of Ann Arbor mayor's office is hosting the 16th annual Mayor's Green Fair on Main Street Friday\, June 10\, 6–9 p.m. to celebrate our community's environmental leadership as exhibited by citizens\, nonprofits\, government and businesses. \n\nAnn Arbor's downtown Main Street will be closed to car traffic between Huron and William streets\, remaining open for pedestrians\, Green Fair guests and displays of environmental information\, \"green\" products\, live music and general enjoyment of the urban outdoor environment. Information\, entertainment and hands-on activities for all ages will be provided. Live music will be performed by The Glen Levens\, and local vendors will sell organic food on Liberty Street near Main Street.\n\nThe Green Fair hosts three related events:\n\n​The Environmental Leaders Area showcases environmental nonprofit organizations\, government agencies and participating businesses that have earned the \"WasteKnot*\" partners and/or Community Partners for Clean Streams designation from Washtenaw County. Many of the exhibit areas will provide information and host hands-on activities for all ages\, such as environmental information\, crafts and live birds of prey demonstrations.\n\nThe Clean Energy Expo\, coordinated by the local nonprofit organization Clean Energy Coalition\, provides a forum for innovative energy-saving designs and actions\, including displays of alternative fuel vehicles\, demonstrations of green building materials\, solar energy installations\, renewable energy installations and more!\n\nThe Green Commute Area\, sponsored by the getDowntown Program\, showcases a variety of ordinary and innovative sustainable transportation choices — ranging from ArborBike\, the new bike share program for Ann Arbor\, to AAATA's hybrid buses and Zipcars. Valet bike parking will be offered.\n\nGreen Fair 2016 is a zero-waste event.\n\nVolunteers needed! \nAnyone interested in helping out or requires additional information can contact:​\n\nChristine Schopieray\nCity of Ann Arbor Mayor's Office \n734.794.6161\, ext. 41602\ncschopieray@a2gov.org
UID:30833-3802912@events.umich.edu
URL:https://events.umich.edu/event/30833
CLASS:PUBLIC
STATUS:CONFIRMED
CATEGORIES:Biology,Environment
LOCATION:Off Campus Location
CONTACT:
END:VEVENT
BEGIN:VEVENT
DTSTAMP:20160512T155532
DTSTART;TZID=America/Detroit:20160610T200000
SUMMARY:Performance:31st Annual Spring Season (Ann Arbor Dance Works)
DESCRIPTION:Exciting contemporary dances by guest artists Alessio Silvestrin (Tokyo)\, Sarah Konner & Austin Selden (NYC)\, & UM faculty Missy Beck\, Bill DeYoung\, & Sean Hoskins. Performers include faculty\, alumni\, & UM Dance and Music students. Artistic Director: Jessica Fogel\, Lighting Design: Mary Cole. Since its founding\, Ann Arbor Dance Works has produced choreography to critical acclaim nationally and internationally. \"Audience members could feel an intimate connection with all the performers ... exhilarating ... evocative ... glowing ... radiantly danced.\" - Dance Magazine
UID:30674-3676782@events.umich.edu
URL:https://events.umich.edu/event/30674
CLASS:PUBLIC
STATUS:CONFIRMED
CATEGORIES:Dance
LOCATION:Dance Building - Betty Pease Studio Theater
CONTACT:
END:VEVENT
BEGIN:VEVENT
DTSTAMP:20160513T181507
DTSTART;TZID=America/Detroit:20160610T200000
SUMMARY:Performance:Ann Arbor Dance Works 31st Annual Spring Season Performances
DESCRIPTION:Original dance works presented by guest artists Alessio Silvestrin (Tokyo)\, Sarah Konner (NYC)\, Austin Selden (NYC)\, and University of Michigan Dance faculty Missy Beck\, Bill DeYoung\, and Sean Hoskins. Performers include faculty\, guest artists\, alumni\, and U-M dance and music students.\n\nTickets available at Michigan Union Ticket Office (MUTO) or 734-763-8587
UID:30724-3706023@events.umich.edu
URL:https://events.umich.edu/event/30724
CLASS:PUBLIC
STATUS:CONFIRMED
CATEGORIES:Dance
LOCATION:Dance Building - Betty Pease Studio Theatre
CONTACT:
END:VEVENT
BEGIN:VEVENT
DTSTAMP:20160301T121253
DTSTART;TZID=America/Detroit:20160610T200000
SUMMARY:Performance:Josh White Jr
DESCRIPTION:Josh White Jr. describes himself as a secular\, folk/blues\, pop\, jazz vocalist\, guitarist\, songwriter\, actor\, adult and children's concert performer and recording artist\, teacher\, and social activist. He carries forward the musical legacy of his father\, who brought a taste of the blues to New York's folk scene and then to the whole world in the 1930s and 1940s. Josh Jr. grew up performing on stage with his father\, and he can take you back to personal encounters with the likes of Franklin and Eleanor Roosevelt\, Langston Hughes\, Paul Robeson\, Bojangles\, Leadbelly\, Joe Louis\, Woody Guthrie\, Billie Holiday\, Pete Seeger\, Dorothy Gish\, Burl Ives\, Odetta\, Miriam Makeba\, and Nina Simone. He has continued to record music ranging from folk to country to kids' music\, and his latest\, \"Tuning for the Blues\,\" delved into some classics of the blues genre. Josh White Jr. is a longtime resident of southeastern Michigan and a real local resource.
UID:26890-2245498@events.umich.edu
URL:https://events.umich.edu/event/26890
CLASS:PUBLIC
STATUS:CONFIRMED
CATEGORIES:Music,The Ark
LOCATION:Off Campus Location - The Ark, 316 S. Main, Ann Arbor, MI
CONTACT:
END:VEVENT
END:VCALENDAR