BEGIN:VCALENDAR
VERSION:2.0
PRODID:-//UM//UM*Events//EN
CALSCALE:GREGORIAN
BEGIN:VTIMEZONE
TZID:America/Detroit
TZURL:http://tzurl.org/zoneinfo/America/Detroit
X-LIC-LOCATION:America/Detroit
BEGIN:DAYLIGHT
TZOFFSETFROM:-0500
TZOFFSETTO:-0400
TZNAME:EDT
DTSTART:20070311T020000
RRULE:FREQ=YEARLY;BYMONTH=3;BYDAY=2SU
END:DAYLIGHT
BEGIN:STANDARD
TZOFFSETFROM:-0400
TZOFFSETTO:-0500
TZNAME:EST
DTSTART:20071104T020000
RRULE:FREQ=YEARLY;BYMONTH=11;BYDAY=1SU
END:STANDARD
END:VTIMEZONE
BEGIN:VEVENT
DTSTAMP:20160325T124225
DTSTART;TZID=America/Detroit:20160612T080000
DTEND;TZID=America/Detroit:20160612T200000
SUMMARY:Exhibition:Gifts of Art presents Aging in America: Oil Portraits
DESCRIPTION:This show is a series of oil portraits by New Jersey based artist Janet Boltax of individuals who are 90 years of age and over. They are accompanied by excerpts of interviews with each person about their life and how they are coping with the aging process. Boltax is primarily a portrait painter who also does printmaking and mixed media. She teaches portrait painting\, color theory and composition at the Montclair Museum\, Montclair\, New Jersey\, and also works as a copy writer.
UID:29988-3284640@events.umich.edu
URL:https://events.umich.edu/event/29988
CLASS:PUBLIC
STATUS:CONFIRMED
CATEGORIES:Art,Health & Wellness
LOCATION:University Hospitals - Gifts of Art Gallery — Taubman Health Center North Lobby, Floor 1
CONTACT:
END:VEVENT
BEGIN:VEVENT
DTSTAMP:20160325T125341
DTSTART;TZID=America/Detroit:20160612T080000
DTEND;TZID=America/Detroit:20160612T200000
SUMMARY:Exhibition:Gifts of Art presents Among the Lost & Found: Collage on Panel
DESCRIPTION:In his work\, David Criner transforms twentieth century collage material in pursuit of an image that celebrates the present moment. The antiquated \"pop\" sensibility imbued by his sourced matter is countered by gestural\, spontaneous mark making\, creating compositions that manage to reference the past while also feeling timeless. Criner works out of Chicago\, and teaches at Northeastern Illinois University.
UID:29992-3285040@events.umich.edu
URL:https://events.umich.edu/event/29992
CLASS:PUBLIC
STATUS:CONFIRMED
CATEGORIES:Art,Health & Wellness
LOCATION:University Hospitals - Gifts of Art Gallery — University Hospital Main Corridor, Floor 2.
CONTACT:
END:VEVENT
BEGIN:VEVENT
DTSTAMP:20160325T124859
DTSTART;TZID=America/Detroit:20160612T080000
DTEND;TZID=America/Detroit:20160612T200000
SUMMARY:Exhibition:Gifts of Art presents K-12 Group Show
DESCRIPTION:Ann Arbor Public Schools has a comprehensive\, nationally recognized K-12 arts education program that encourages experience in a variety of media and subject matter. They also explore artistic historical and cultural connections. Finished pieces from students in all grades will be on display in both 2D and 3D. A variety of media and styles are represented including drawing\, painting\, printmaking\, ceramics\, sculpture\, photography and jewelry.
UID:29990-3284880@events.umich.edu
URL:https://events.umich.edu/event/29990
CLASS:PUBLIC
STATUS:CONFIRMED
CATEGORIES:Art,Health & Wellness
LOCATION:University Hospitals - Gifts of Art Gallery — Taubman Health Center South Lobby, Floor 1
CONTACT:
END:VEVENT
BEGIN:VEVENT
DTSTAMP:20160325T124541
DTSTART;TZID=America/Detroit:20160612T080000
DTEND;TZID=America/Detroit:20160612T200000
SUMMARY:Exhibition:Gifts of Art presents Recent Work: Ceramics
DESCRIPTION:Jeri Hollister draws inspiration from her experience growing up in rural Michigan and her time as a student at the University Michigan studying art history and ceramics. She employs traditional ceramics tools and building techniques to create her horse sculptures allowing the process to be evident in the finished work.
UID:29989-3284800@events.umich.edu
URL:https://events.umich.edu/event/29989
CLASS:PUBLIC
STATUS:CONFIRMED
CATEGORIES:Art,Health & Wellness
LOCATION:University Hospitals - Gifts of Art Gallery — Taubman Health Center North Lobby, Floor 1
CONTACT:
END:VEVENT
BEGIN:VEVENT
DTSTAMP:20160325T125604
DTSTART;TZID=America/Detroit:20160612T080000
DTEND;TZID=America/Detroit:20160612T200000
SUMMARY:Exhibition:Gifts of Art presents Surface & Structure: Jewelry & Metals
DESCRIPTION:Kristine Bolhuis is an independent jewelry maker working out of her studio in Ann Arbor\, Michigan. Her recent work has focused on lightweight metal constructions that move\, flex and collapse. She creates her work at the bench where it is conceived of and constructed from start to finish. She feels her process is one of exploration and discovery\, and it is full of surprises.
UID:29993-3285120@events.umich.edu
URL:https://events.umich.edu/event/29993
CLASS:PUBLIC
STATUS:CONFIRMED
CATEGORIES:Art,Health & Wellness
LOCATION:University Hospitals - Gifts of Art Gallery — University Hospital Main Corridor, Floor 2.
CONTACT:
END:VEVENT
BEGIN:VEVENT
DTSTAMP:20160325T125124
DTSTART;TZID=America/Detroit:20160612T080000
DTEND;TZID=America/Detroit:20160612T200000
SUMMARY:Exhibition:Gifts of Art presents Swimming Upstream: Quilts
DESCRIPTION:Self-taught textile artist\, author and curator Bonnie J. Smith lives and works in San Jose\, California. She attended Indiana University-Purdue University\, Indianapolis Campus (IUPUI)\; and Indiana Central College\; and has taken Master Dyeing Classes at Dartmouth College. Smith received the 2015 NICHE Award for design\, and her textile work was selected for exhibition in the United Nations\, Geneva\, Switzerland (2016). Swimming Upstream tells her personal journey with an injury that placed her temporarily in a wheel chair\, to finally finding the courage to start creating art and living life again.
UID:29991-3284960@events.umich.edu
URL:https://events.umich.edu/event/29991
CLASS:PUBLIC
STATUS:CONFIRMED
CATEGORIES:Art,Health & Wellness
LOCATION:University Hospitals - Gifts of Art Gallery — University Hospital Main Lobby, Floor 1.
CONTACT:
END:VEVENT
BEGIN:VEVENT
DTSTAMP:20151211T113926
DTSTART;TZID=America/Detroit:20160612T080000
DTEND;TZID=America/Detroit:20160612T170000
SUMMARY:Exhibition:Gifts of Art presents Works by Belle Kogan: First Female Industrial Designer
DESCRIPTION:This exhibition presents industrially-produced art pottery pieces designed by Belle Kogan (1902–2000)\, for Red Wing Potteries in Red Wing\, Minnesota. Kogan is considered the first prominent female industrial designer in the United States\, a founder of the profession\, and one of the 20th century's most significant designers. Her design aesthetic was heavily influenced by the geometric and streamlined shapes of Art Deco. Belle Kogan Associates\, her New York–based studio\, was the first American female-led design firm. Her contracts with Red Wing Potteries produced over 400 different art pottery shapes from the late 1930s to the early 1960s\, as well as several dinnerware and kitchenware lines. Belle Kogan and her firm designed products not only in ceramics but also clocks and small appliances\, glassware\, and pieces in silver\, plastics\, wrought iron and wood.
UID:27190-2334048@events.umich.edu
URL:https://events.umich.edu/event/27190
CLASS:PUBLIC
STATUS:CONFIRMED
CATEGORIES:Art,Health & Wellness
LOCATION:University Hospitals - Gifts of Art Gallery — Cancer Center Elevator Alcove, Level 2
CONTACT:
END:VEVENT
BEGIN:VEVENT
DTSTAMP:20160310T165634
DTSTART;TZID=America/Detroit:20160612T080000
DTEND;TZID=America/Detroit:20160612T235900
SUMMARY:Exhibition:Intersections/Connections
DESCRIPTION:This International Studies exhibit focuses on materials from across the world\, including many nations and cultures. Rather than displaying each area separately\, the exhibit concentrates on the connections and intersections among disparate regions.
UID:29615-3148188@events.umich.edu
URL:https://events.umich.edu/event/29615
CLASS:PUBLIC
STATUS:CONFIRMED
CATEGORIES:Exhibition,Library
LOCATION:Hatcher Graduate Library - Clark Library, 2nd Floor
CONTACT:
END:VEVENT
BEGIN:VEVENT
DTSTAMP:20160420T144312
DTSTART;TZID=America/Detroit:20160612T100000
DTEND;TZID=America/Detroit:20160612T120000
SUMMARY:Workshop / Seminar:“My Turn” Special ASD Access Hours
DESCRIPTION:UMMA is pleased to participate in a new program developed by the Ann Arbor Hands On Museum (AAHOM). “My Turn” was developed to implement accessible and inclusive programming\, particularly for families affected by Autism Spectrum Disorder (ASD). On Sunday\, June 12\, UMMA will open early exclusively for its inaugural “My Turn” ASD friendly program allowing families to enjoy art in a fun and welcoming atmosphere. Families will have access to special activities in the galleries that will help encourage exploration and discovery.\n\n\n\"My Turn\" programs are coordinated by the Ann Arbor Hands-On Museum and take place on second Sundays throughout the year.  For more information visit www.myturncommunity.org.\nSunday\, 12 June\, 2016\n10 a.m.–12 p.m.\n\nRegistration for this program is required. Please go to www.myturncommunity.org. For more information\, call 734-647-0522.
UID:30472-3513528@events.umich.edu
URL:https://events.umich.edu/event/30472
CLASS:PUBLIC
STATUS:CONFIRMED
CATEGORIES:Art,Diversity,Education,Inclusion,Multicultural,Museum,Psychology,Public Health,Science,Social,Social Impact,Sociology,UMMA,Visual Arts,Workshop
LOCATION:Museum of Art
CONTACT:
END:VEVENT
BEGIN:VEVENT
DTSTAMP:20160421T105421
DTSTART;TZID=America/Detroit:20160612T100000
DTEND;TZID=America/Detroit:20160612T200000
SUMMARY:Exhibition:Picture This!
DESCRIPTION:An exhibit of photographs taken of and by young patients—many of whom were born with facial differences or cleft palates—in U-M Mott Hospital’s Craniofacial Anomalies Program. Paired with professional photographers\, the children learned new ways to look at and through the camera lens.
UID:30488-3519914@events.umich.edu
URL:https://events.umich.edu/event/30488
CLASS:PUBLIC
STATUS:CONFIRMED
CATEGORIES:Exhibition,Family,Free,Health & Wellness,Storytelling,Visual Arts
LOCATION:Matthaei Botanical Gardens
CONTACT:
END:VEVENT
BEGIN:VEVENT
DTSTAMP:20160404T105502
DTSTART;TZID=America/Detroit:20160612T110000
DTEND;TZID=America/Detroit:20160612T170000
SUMMARY:Exhibition:Albert Kahn: Under Construction
DESCRIPTION:In the past two decades there has been a tremendous swell of interest in Detroit architect Albert Kahn (1869–1942)\, arguably the most important architect of American industrialization. Albert Kahn: Under Construction focuses on the remarkable archive of photographs assembled by Albert Kahn Associates while building the powerhouses of American industry\, from the Highland Park Ford Plant to the Willow Run Bomber Plant. Shot by an array of professional photographers based mainly in Detroit\, these often striking documentary images were a novel strategy for conveying information about the daily progress of construction to busy managers at the main office. The exhibition foregrounds the photographic series as a way of illustrating change over time—showing buildings as they grew on site—and Kahn’s innovative solutions to the architectural challenges of his day.\n\n**Special hours Sundays: 12–5pm\, CLOSED Mondays
UID:29456-3120458@events.umich.edu
URL:https://events.umich.edu/event/29456
CLASS:PUBLIC
STATUS:CONFIRMED
CATEGORIES:Architecture,Art,Exhibition,Museum,UMMA
LOCATION:Museum of Art
CONTACT:
END:VEVENT
BEGIN:VEVENT
DTSTAMP:20160422T134945
DTSTART;TZID=America/Detroit:20160612T110000
DTEND;TZID=America/Detroit:20160612T170000
SUMMARY:Exhibition:Catherine Opie: 700 Nimes Road
DESCRIPTION:This exhibition presents new and recent work by Los Angeles-based artist Catherine Opie\, one of the essential figures in contemporary photography. Beginning in 2010\, Opie spent six months taking photographs at the Bel Air\, California\, residence of Elizabeth Taylor (1932–2011). The exhibition includes fifty works drawn from two series\, Closets and Jewels and 700 Nimes Road. Opie’s lens captures the essence of the Hollywood legend through her personal objects and mementos\, and portrays Taylor’s life experience and eccentricity as an illusory subject\, one that cannot be specifically designated or precisely described. In the artist’s words\, the project is not about the relationship to celebrity but about “the relationship to what is human.”
UID:30494-3530501@events.umich.edu
URL:https://events.umich.edu/event/30494
CLASS:PUBLIC
STATUS:CONFIRMED
CATEGORIES:Art,Exhibition,Museum,UMMA
LOCATION:Museum of Art - A. Alfred Taubman Gallery
CONTACT:
END:VEVENT
BEGIN:VEVENT
DTSTAMP:20160422T140125
DTSTART;TZID=America/Detroit:20160612T110000
DTEND;TZID=America/Detroit:20160612T170000
SUMMARY:Exhibition:Catie Newell: Overnight
DESCRIPTION:Detroit-based architect Catie Newell’s work is focused on the tactile\, sensory qualities of the materials we use to build things: their texture\, density\, or malleability. Her investigations combine architectural research\, material studies\, and art experiments\, a strategy she began as a student that now defines her career.\n\nThe most important element in her formal vocabulary is light\, not only as a “material” in its own right\, but also as a condition. Varying in strength\, form\, and duration\, light constructs architecture as a situational experience rather than a fixed space. Newell’s fascination with light is a fascination with darkness. Through urban interventions\, installations\, and photographs\, she investigates how darkness creates alternate environments\, with unseen geographies\, untold histories\, and secret identities.\n\nNewell\, assistant professor of architecture at U-M Taubman College of Architecture and Urban Planning\, is a recent recipient of the Rome Prize in architecture. Overnight includes photographs from her Rome project as well as new photography from the series Nightly\, featuring nighttime images of Detroit streetscapes and interiors\, alongside a site-specific sculptural installation commissioned by the Museum.
UID:30497-3530564@events.umich.edu
URL:https://events.umich.edu/event/30497
CLASS:PUBLIC
STATUS:CONFIRMED
CATEGORIES:Art,Exhibition,Museum,UMMA
LOCATION:Museum of Art - Irving Stenn, Jr. Family Gallery
CONTACT:
END:VEVENT
BEGIN:VEVENT
DTSTAMP:20160329T123251
DTSTART;TZID=America/Detroit:20160612T110000
DTEND;TZID=America/Detroit:20160612T170000
SUMMARY:Exhibition:In Focus: Jeanne Gang
DESCRIPTION:Widely acclaimed for her integrative approach to materials\, technology\, and ecological context\, Chicago-based architect Jeanne Gang was selected as a MacArthur Fellow in 2011. Shortly thereafter Gang proposed an ambitious restoration of the Chicago riverfront through a series of small but transformational projects. The WMS Boathouse\, designed by Gang and located north of downtown\, is one such project\, encompassing a field house with state-of-the art training facilities\, a boat storage building\, and a floating dock at the river’s edge. Completed in 2013\, the 22\,000-square-foot boathouse is the city’s premier rowing center\, serving a range of public rowing clubs\, many of whose amateur athletes come from the city’s underserved communities.\n\nThis installation showcases dynamic exterior and interior sketches of the complex—recently acquired by UMMA—depicting the distinctive rhythmic contours of the roof\, derived from studies of rowers in motion\, and the open\, angular\, and light-filled spaces within.\n\n**Special hours Sundays: 12–5pm\, CLOSED Mondays
UID:30041-3321287@events.umich.edu
URL:https://events.umich.edu/event/30041
CLASS:PUBLIC
STATUS:CONFIRMED
CATEGORIES:Architecture,Art,Exhibition,Museum,UMMA,Visual Arts
LOCATION:Museum of Art
CONTACT:
END:VEVENT
BEGIN:VEVENT
DTSTAMP:20160329T124905
DTSTART;TZID=America/Detroit:20160612T110000
DTEND;TZID=America/Detroit:20160612T170000
SUMMARY:Exhibition:Manuel Álvarez Bravo: Mexico’s Poet of Light
DESCRIPTION:Manuel Álvarez Bravo spent nearly his entire career photographing his native Mexico. His style drew upon numerous international influences\, ranging from the Modernism of Edward Weston and Tina Modotti\, whom he met when they spent time in Mexico in the 1920s\, to the formally exquisite photojournalism of Henri Cartier-Bresson and Walker Evans\, whose work he knew in New York\, and the Surrealism of André Breton\, who visited Mexico around 1940.\n\nAlthough not strictly Surrealist\, many of Álvarez Bravo’s works manifest a similarly fantastical mood\; one of the artist’s most arresting qualities is his ability to imbue scenes of everyday life with an otherworldly\, metaphysical power. The twenty-three photographs in the exhibition\, drawn from UMMA’s collections\, show the artist’s ability to synthesize a personal—even nationalistic—style that merged the motifs of Mexican religious and indigenous works and plant forms (such as agave leaves) with a Modernist approach to image making. Throughout\, the presence of light as a wondrous metaphor and revealer of life animates even the emptiest and most silent of Álvarez Bravo’s scenes.\n\n**Special hours Sundays: 12–5pm\, CLOSED Mondays
UID:30043-3321373@events.umich.edu
URL:https://events.umich.edu/event/30043
CLASS:PUBLIC
STATUS:CONFIRMED
CATEGORIES:Exhibition,Museum,UMMA,Visual Arts
LOCATION:Museum of Art - Photography Gallery
CONTACT:
END:VEVENT
BEGIN:VEVENT
DTSTAMP:20160308T121704
DTSTART;TZID=America/Detroit:20160612T110000
DTEND;TZID=America/Detroit:20160612T170000
SUMMARY:Exhibition:Siebren Versteeg: LIKE II (2016)
DESCRIPTION:In Siebren Versteeg’s LIKE II (2016)\, a computer painting program creates a composition using a continuously changing algorithm\, and then runs a periodic Google search to find a matching image online. Every sixty seconds\, the painting made by the computer is uploaded to Google’s “search by image” feature\, and images that most closely match the composition are then downloaded and displayed.\n\nThe notion of abstraction plays a central role in this work. Throughout modernity\, artists have sought inventive ways to free painting from its tradition as a representational medium. LIKE II inverts this ambition\, finding the reality hidden within pure abstraction. Because the work evolves based on whatever content is available online at any given moment\, the artist relinquishes a certain degree of creative control. Versteeg says\, “As the nature of the images presented by the work is random\, the artist assumes both all and no responsibility for their presence and content.”\n\n**Special hours Sundays: 12–5pm\, CLOSED Mondays
UID:29503-3129542@events.umich.edu
URL:https://events.umich.edu/event/29503
CLASS:PUBLIC
STATUS:CONFIRMED
CATEGORIES:Art,Exhibition,Information and Technology,Museum,UMMA,Visual Arts
LOCATION:Museum of Art - Media Gallery
CONTACT:
END:VEVENT
BEGIN:VEVENT
DTSTAMP:20160512T143154
DTSTART;TZID=America/Detroit:20160612T120000
DTEND;TZID=America/Detroit:20160612T170000
SUMMARY:Exhibition:Extreme Time
DESCRIPTION:Think you know all about time?  What about things that happen in femtoseconds or eons?  Time in the natural world is so extreme\, you can’t even perceive most of its scale unaided. You’ll be amazed by the types of time you can explore in our new exhibit\, and learn more about everyday time and how we measure it\, too!  The exhibit is open!
UID:27873-2579373@events.umich.edu
URL:https://events.umich.edu/event/27873
CLASS:PUBLIC
STATUS:CONFIRMED
CATEGORIES:Family,Free,Museum
LOCATION:Ruthven Museums Building
CONTACT:
END:VEVENT
BEGIN:VEVENT
DTSTAMP:20150916T221313
DTSTART;TZID=America/Detroit:20160612T130000
DTEND;TZID=America/Detroit:20160612T150000
SUMMARY:Meeting:Martha Cook Alumnae Association Meeting
DESCRIPTION:Meetings are open to all alumnae of the Martha Cook Building. \n\nAll meetings will start at 1:00 p.m. and run 1.5 to 2 hours.
UID:24366-1460159@events.umich.edu
URL:https://events.umich.edu/event/24366
CLASS:PUBLIC
STATUS:CONFIRMED
CATEGORIES:Alumni
LOCATION:Off Campus Location
CONTACT:
END:VEVENT
BEGIN:VEVENT
DTSTAMP:20160411T163628
DTSTART;TZID=America/Detroit:20160612T130000
DTEND;TZID=America/Detroit:20160612T160000
SUMMARY:Exhibition:Scientist Spotlight
DESCRIPTION:Visit with University of Michigan scientists and participate in activities related to their research!  U-M scientists will be stationed throughout the Museum with unique interactive activities focusing on their own current work. These scientists are part of the Museum’s Portal to the Public program which is designed to bring researchers and public audiences together in face-to-face interactions.  This program is best suited for inquisitive\, interested\, and fun-loving audiences\, who want to learn and try something new. Is that you? Join us.\n\nFree and open to the public.  Suitable for upper elementary through adult visitors.
UID:30344-3695167@events.umich.edu
URL:https://events.umich.edu/event/30344
CLASS:PUBLIC
STATUS:CONFIRMED
CATEGORIES:Exhibition,Free,Graduate,Museum
LOCATION:Ruthven Museums Building
CONTACT:
END:VEVENT
BEGIN:VEVENT
DTSTAMP:20160420T144851
DTSTART;TZID=America/Detroit:20160612T140000
DTEND;TZID=America/Detroit:20160612T150000
SUMMARY:Lecture / Discussion:Guided Tour - Engaging With Art
DESCRIPTION:UMMA docents will guide visitors through the galleries on tours as diverse as their interests and areas of expertise. Each docent plans a theme and includes a variety of styles and media to illuminate his or her ideas. Themes may be repeated but each docent's approach and choice of objects is unique.
UID:30473-3513529@events.umich.edu
URL:https://events.umich.edu/event/30473
CLASS:PUBLIC
STATUS:CONFIRMED
CATEGORIES:Art,Discussion,Education,Free,History,International,Lecture,Multicultural,Social,UMMA,Visual Arts
LOCATION:Museum of Art
CONTACT:
END:VEVENT
BEGIN:VEVENT
DTSTAMP:20160605T083135
DTSTART;TZID=America/Detroit:20160612T140000
DTEND;TZID=America/Detroit:20160612T150000
SUMMARY:Performance:Peony Blossoms and Pure Melodies Concert (RESCHEDULED)
DESCRIPTION:The best time of the year to enjoy the most beautiful peony garden in the State! An afternoon of live vocal concert\, featuring Chinese flower songs\, will be performed by the CIUM Singers (sung in Chinese). This annual garden concert is presented by the U-M Confucius Institute and U-M Matthaei Botanical Gardens & Nichols Arboretum. Free and open to the public.
UID:30776-3881065@events.umich.edu
URL:https://events.umich.edu/event/30776
CLASS:PUBLIC
STATUS:CONFIRMED
CATEGORIES:Music
LOCATION:Off Campus Location
CONTACT:
END:VEVENT
BEGIN:VEVENT
DTSTAMP:20160609T082400
DTSTART;TZID=America/Detroit:20160612T170000
DTEND;TZID=America/Detroit:20160612T200000
SUMMARY:Fair / Festival:Ann Arbor Summer Festival KidZone
DESCRIPTION:Come explore the fun and fascinating world of biology\, and learn more about the nature in your backyard with U-M scientists as your guides! Check out the stunning diversity of fungi under a microscope\, learn what a bat’s skull can tell us about how they live\, see the weird partnerships that plants make with microscopic creatures in the soil\, and more. These short\, hands-on activities are based on research\, giving you a chance to see living things from a biologist’s perspective and learn how to think like a scientist!\n\nAn interactive area for our youngest festival-goers\, the KidZone tent provides a fun and safe area for children and their parents to discover and explore a wide variety of hands-on activities with different community partners.
UID:30949-3912981@events.umich.edu
URL:https://events.umich.edu/event/30949
CLASS:PUBLIC
STATUS:CONFIRMED
CATEGORIES:Biology,Children,Ecology,Environment,Family,Festival,Free,Games,Outdoors,Research,Science,Sustainability
LOCATION:Ingalls Mall
CONTACT:
END:VEVENT
BEGIN:VEVENT
DTSTAMP:20160627T123004
DTSTART;TZID=America/Detroit:20160612T174500
SUMMARY:Careers / Jobs:2016 Wall Street Exchange (WSE) Professional Development and Leadership Program
DESCRIPTION:The Financial Women’s Association is now accepting applications from young women and men for its 2016 Wall Street Exchange (WSE) Professional Development and Leadership Program.\n \nWSE is not an internship opportunity. It is a career development program designed to augment and coincide with the summer internship experience of qualified rising college seniors working as summer interns in the New York metropolitan area. The program consists of a series of events hosted by top firms and companies for professional and personal development.\n \nBenefits of participation in WSE include:\n·         Enhancing job search skills through workshops on resume writing\, interview techniques\, business etiquette\, and more\n\n·         Developing leadership techniques and other soft skills necessary to execute a successful job search\n\n·         Building a professional network with fellow program participants and interns and employees from sponsor firms\n\n           \nWe invite you to share this information with prospective qualified applicants. For program details\, a preliminary agenda\, and application instructions\, please visit: http://fwa.org/wall-street-exchange-program/.\n \nApplications are due Monday\, April 4\, 2016. There is no cost to students to apply or participate.\n \nInterested students should apply to the program as early as possible\, even if they have not finalized their summer employment or internship plans. Proof of internship can be provided prior to the start of the program during the week of June 1\, 2016. Space in the program is limited.\n \nPlease feel free to contact me directly with any questions you might have about the program: \n\nAriel Siegel\nProgram Manager\, Financial Women’s Association\nPrograms@fwa.org\n212-533-2141 x229
UID:28851-2870517@events.umich.edu
URL:https://events.umich.edu/event/28851
CLASS:PUBLIC
STATUS:CONFIRMED
CATEGORIES:
LOCATION:New York, NY, USA
CONTACT:
END:VEVENT
END:VCALENDAR