BEGIN:VCALENDAR
VERSION:2.0
PRODID:-//UM//UM*Events//EN
CALSCALE:GREGORIAN
BEGIN:VTIMEZONE
TZID:America/Detroit
TZURL:http://tzurl.org/zoneinfo/America/Detroit
X-LIC-LOCATION:America/Detroit
BEGIN:DAYLIGHT
TZOFFSETFROM:-0500
TZOFFSETTO:-0400
TZNAME:EDT
DTSTART:20070311T020000
RRULE:FREQ=YEARLY;BYMONTH=3;BYDAY=2SU
END:DAYLIGHT
BEGIN:STANDARD
TZOFFSETFROM:-0400
TZOFFSETTO:-0500
TZNAME:EST
DTSTART:20071104T020000
RRULE:FREQ=YEARLY;BYMONTH=11;BYDAY=1SU
END:STANDARD
END:VTIMEZONE
BEGIN:VEVENT
DTSTAMP:20160601T114052
DTSTART;TZID=America/Detroit:20160615T073000
DTEND;TZID=America/Detroit:20160615T190000
SUMMARY:Social / Informal Gathering:Strawberry Festival
DESCRIPTION:Come enjoy strawberry inspired food at all meals!
UID:30880-3857107@events.umich.edu
URL:https://events.umich.edu/event/30880
CLASS:PUBLIC
STATUS:CONFIRMED
CATEGORIES:Food
LOCATION:Mosher-Jordan Hall
CONTACT:
END:VEVENT
BEGIN:VEVENT
DTSTAMP:20160418T110610
DTSTART;TZID=America/Detroit:20160615T080000
DTEND;TZID=America/Detroit:20160615T170000
SUMMARY:Exhibition:Exhibit: The Many Faces and Figures of the Four Sons in the Passover Haggadah
DESCRIPTION:The Four Sons of the Passover Haggadah can now be viewed in their many versions at a unique exhibit at the Jean & Samuel Frankel Center for Judaic Studies. The exhibit\, featuring 29 Haggadahs from the Irwin M. Alterman Haggadah Collection\, will be on display through July.  It includes Haggadahs of various shapes and sizes\, ancient and modern\, and in a number of different languages.\n\nThe Alterman collection was acquired by the University of Michigan Library last year with the help of the Frankel Center\, and is housed in the Special Collections Library of the Harlan Hatcher Graduate Library. It includes more than 1\,800 Haggadahs and is believed to be one of the largest Haggadah collections in the world. The unique compilation belonged to the late Irwin Alterman of West Bloomfield\, and was donated by his widow\, Marilyn McCall Alterman. \n\nPhoto courtesy of Luna Archey
UID:30296-3402302@events.umich.edu
URL:https://events.umich.edu/event/30296
CLASS:PUBLIC
STATUS:CONFIRMED
CATEGORIES:Exhibition,Jewish Studies
LOCATION:202 S. Thayer - Room 2000
CONTACT:
END:VEVENT
BEGIN:VEVENT
DTSTAMP:20151211T113926
DTSTART;TZID=America/Detroit:20160615T080000
DTEND;TZID=America/Detroit:20160615T170000
SUMMARY:Exhibition:Gifts of Art presents Works by Belle Kogan: First Female Industrial Designer
DESCRIPTION:This exhibition presents industrially-produced art pottery pieces designed by Belle Kogan (1902–2000)\, for Red Wing Potteries in Red Wing\, Minnesota. Kogan is considered the first prominent female industrial designer in the United States\, a founder of the profession\, and one of the 20th century's most significant designers. Her design aesthetic was heavily influenced by the geometric and streamlined shapes of Art Deco. Belle Kogan Associates\, her New York–based studio\, was the first American female-led design firm. Her contracts with Red Wing Potteries produced over 400 different art pottery shapes from the late 1930s to the early 1960s\, as well as several dinnerware and kitchenware lines. Belle Kogan and her firm designed products not only in ceramics but also clocks and small appliances\, glassware\, and pieces in silver\, plastics\, wrought iron and wood.
UID:27190-2334051@events.umich.edu
URL:https://events.umich.edu/event/27190
CLASS:PUBLIC
STATUS:CONFIRMED
CATEGORIES:Art,Health & Wellness
LOCATION:University Hospitals - Gifts of Art Gallery — Cancer Center Elevator Alcove, Level 2
CONTACT:
END:VEVENT
BEGIN:VEVENT
DTSTAMP:20160310T165634
DTSTART;TZID=America/Detroit:20160615T080000
DTEND;TZID=America/Detroit:20160615T235900
SUMMARY:Exhibition:Intersections/Connections
DESCRIPTION:This International Studies exhibit focuses on materials from across the world\, including many nations and cultures. Rather than displaying each area separately\, the exhibit concentrates on the connections and intersections among disparate regions.
UID:29615-3148191@events.umich.edu
URL:https://events.umich.edu/event/29615
CLASS:PUBLIC
STATUS:CONFIRMED
CATEGORIES:Library,Exhibition
LOCATION:Hatcher Graduate Library - Clark Library, 2nd Floor
CONTACT:
END:VEVENT
BEGIN:VEVENT
DTSTAMP:20160531T121557
DTSTART;TZID=America/Detroit:20160615T090000
DTEND;TZID=America/Detroit:20160615T120000
SUMMARY:Workshop / Seminar:Boosting Your Self-Esteem and Confidence
DESCRIPTION:Pioneering Psychologist Dr. Nathaniel Branden writes: “The reputation you have with yourself—your self-esteem—is the single most important factor for a fulfilling life.” Are you critical of yourself? Are you an over-achiever? Do you feel like you have to be perfect? Do you feel selfish when you put your own needs ahead of others? This session provides a safe\, supportive space to learn and practice new behaviors to facilitate lasting change.\n\nYou will learn to:\n\nIdentify the various symptoms of low self-esteem\nRecognize where low self-esteem originates and determine its overall impact\nFind and use new behaviors to facilitate lasting change in your confidence\n\nYou will benefit by:\n\nRealizing improved self esteem and confidence\nUnderstanding how to be more comfortable in your own skin\nTaking steps to change how you see yourself\nUnderstanding how low self-esteem is playing out in your life\n\nAudience:\n\nAnyone who wants to rediscover their best self and experience more authenticity\, self-respect\, satisfaction with life\, enthusiasm\, and comfort in your own skin
UID:30848-3843084@events.umich.edu
URL:https://events.umich.edu/event/30848
CLASS:PUBLIC
STATUS:CONFIRMED
CATEGORIES:Workshop,Professional Development,Networking,Leadership,Career
LOCATION:Administrative Services Building
CONTACT:
END:VEVENT
BEGIN:VEVENT
DTSTAMP:20160512T143154
DTSTART;TZID=America/Detroit:20160615T090000
DTEND;TZID=America/Detroit:20160615T170000
SUMMARY:Exhibition:Extreme Time
DESCRIPTION:Think you know all about time?  What about things that happen in femtoseconds or eons?  Time in the natural world is so extreme\, you can’t even perceive most of its scale unaided. You’ll be amazed by the types of time you can explore in our new exhibit\, and learn more about everyday time and how we measure it\, too!  The exhibit is open!
UID:27873-2579460@events.umich.edu
URL:https://events.umich.edu/event/27873
CLASS:PUBLIC
STATUS:CONFIRMED
CATEGORIES:Family,Free,Museum
LOCATION:Ruthven Museums Building
CONTACT:
END:VEVENT
BEGIN:VEVENT
DTSTAMP:20160506T162225
DTSTART;TZID=America/Detroit:20160615T100000
DTEND;TZID=America/Detroit:20160615T170000
SUMMARY:Exhibition:A New Treasure Trove at Special Collections
DESCRIPTION:This display showcases recent acquisitions that strengthen our extraordinary holdings in the areas of radical literature\, transportation history\, film\, rare books\, culinary history\, Islamic manuscripts\, children’s literature\, and Judaica. View an eclectic display of unique artifacts that reflect the broad range of our collections.\n\nArtifacts on display include historical treasures like Emma Goldman’s well-traveled suitcase\, Orson Welles’ cutting script for the film Around the World\, a fifteenth-century manuscript containing an Arabic treatise of materia media attributed to Galen\, a 1850 contract for the remount of the moving machinery of the St. Peterburg and Moscow Railway\, and Mildred Taylor’s illustrated novella for children\, The Gold Cadillac\, narrating a Northern black family’s experience of Southern segregation and prejudice during the 1950s as seen through the eyes of a young girl.\n\nExhibit Hours: Monday-Friday\, 10am-5pm\nClosed Memorial Day\, 4th of July\, and Labor Day
UID:30662-3646158@events.umich.edu
URL:https://events.umich.edu/event/30662
CLASS:PUBLIC
STATUS:CONFIRMED
CATEGORIES:Exhibition,Library
LOCATION:Hatcher Graduate Library - 7th Floor Exhibit Space
CONTACT:
END:VEVENT
BEGIN:VEVENT
DTSTAMP:20160421T105421
DTSTART;TZID=America/Detroit:20160615T100000
DTEND;TZID=America/Detroit:20160615T200000
SUMMARY:Exhibition:Picture This!
DESCRIPTION:An exhibit of photographs taken of and by young patients—many of whom were born with facial differences or cleft palates—in U-M Mott Hospital’s Craniofacial Anomalies Program. Paired with professional photographers\, the children learned new ways to look at and through the camera lens.
UID:30488-3519917@events.umich.edu
URL:https://events.umich.edu/event/30488
CLASS:PUBLIC
STATUS:CONFIRMED
CATEGORIES:Free,Family,Storytelling,Visual Arts,Exhibition,Health & Wellness
LOCATION:Matthaei Botanical Gardens
CONTACT:
END:VEVENT
BEGIN:VEVENT
DTSTAMP:20160404T105502
DTSTART;TZID=America/Detroit:20160615T110000
DTEND;TZID=America/Detroit:20160615T170000
SUMMARY:Exhibition:Albert Kahn: Under Construction
DESCRIPTION:In the past two decades there has been a tremendous swell of interest in Detroit architect Albert Kahn (1869–1942)\, arguably the most important architect of American industrialization. Albert Kahn: Under Construction focuses on the remarkable archive of photographs assembled by Albert Kahn Associates while building the powerhouses of American industry\, from the Highland Park Ford Plant to the Willow Run Bomber Plant. Shot by an array of professional photographers based mainly in Detroit\, these often striking documentary images were a novel strategy for conveying information about the daily progress of construction to busy managers at the main office. The exhibition foregrounds the photographic series as a way of illustrating change over time—showing buildings as they grew on site—and Kahn’s innovative solutions to the architectural challenges of his day.\n\n**Special hours Sundays: 12–5pm\, CLOSED Mondays
UID:29456-3120461@events.umich.edu
URL:https://events.umich.edu/event/29456
CLASS:PUBLIC
STATUS:CONFIRMED
CATEGORIES:UMMA,Museum,Exhibition,Architecture,Art
LOCATION:Museum of Art
CONTACT:
END:VEVENT
BEGIN:VEVENT
DTSTAMP:20160422T134945
DTSTART;TZID=America/Detroit:20160615T110000
DTEND;TZID=America/Detroit:20160615T170000
SUMMARY:Exhibition:Catherine Opie: 700 Nimes Road
DESCRIPTION:This exhibition presents new and recent work by Los Angeles-based artist Catherine Opie\, one of the essential figures in contemporary photography. Beginning in 2010\, Opie spent six months taking photographs at the Bel Air\, California\, residence of Elizabeth Taylor (1932–2011). The exhibition includes fifty works drawn from two series\, Closets and Jewels and 700 Nimes Road. Opie’s lens captures the essence of the Hollywood legend through her personal objects and mementos\, and portrays Taylor’s life experience and eccentricity as an illusory subject\, one that cannot be specifically designated or precisely described. In the artist’s words\, the project is not about the relationship to celebrity but about “the relationship to what is human.”
UID:30494-3530504@events.umich.edu
URL:https://events.umich.edu/event/30494
CLASS:PUBLIC
STATUS:CONFIRMED
CATEGORIES:UMMA,Museum,Exhibition,Art
LOCATION:Museum of Art - A. Alfred Taubman Gallery
CONTACT:
END:VEVENT
BEGIN:VEVENT
DTSTAMP:20160422T140125
DTSTART;TZID=America/Detroit:20160615T110000
DTEND;TZID=America/Detroit:20160615T170000
SUMMARY:Exhibition:Catie Newell: Overnight
DESCRIPTION:Detroit-based architect Catie Newell’s work is focused on the tactile\, sensory qualities of the materials we use to build things: their texture\, density\, or malleability. Her investigations combine architectural research\, material studies\, and art experiments\, a strategy she began as a student that now defines her career.\n\nThe most important element in her formal vocabulary is light\, not only as a “material” in its own right\, but also as a condition. Varying in strength\, form\, and duration\, light constructs architecture as a situational experience rather than a fixed space. Newell’s fascination with light is a fascination with darkness. Through urban interventions\, installations\, and photographs\, she investigates how darkness creates alternate environments\, with unseen geographies\, untold histories\, and secret identities.\n\nNewell\, assistant professor of architecture at U-M Taubman College of Architecture and Urban Planning\, is a recent recipient of the Rome Prize in architecture. Overnight includes photographs from her Rome project as well as new photography from the series Nightly\, featuring nighttime images of Detroit streetscapes and interiors\, alongside a site-specific sculptural installation commissioned by the Museum.
UID:30497-3530567@events.umich.edu
URL:https://events.umich.edu/event/30497
CLASS:PUBLIC
STATUS:CONFIRMED
CATEGORIES:UMMA,Museum,Exhibition,Art
LOCATION:Museum of Art - Irving Stenn, Jr. Family Gallery
CONTACT:
END:VEVENT
BEGIN:VEVENT
DTSTAMP:20160329T123251
DTSTART;TZID=America/Detroit:20160615T110000
DTEND;TZID=America/Detroit:20160615T170000
SUMMARY:Exhibition:In Focus: Jeanne Gang
DESCRIPTION:Widely acclaimed for her integrative approach to materials\, technology\, and ecological context\, Chicago-based architect Jeanne Gang was selected as a MacArthur Fellow in 2011. Shortly thereafter Gang proposed an ambitious restoration of the Chicago riverfront through a series of small but transformational projects. The WMS Boathouse\, designed by Gang and located north of downtown\, is one such project\, encompassing a field house with state-of-the art training facilities\, a boat storage building\, and a floating dock at the river’s edge. Completed in 2013\, the 22\,000-square-foot boathouse is the city’s premier rowing center\, serving a range of public rowing clubs\, many of whose amateur athletes come from the city’s underserved communities.\n\nThis installation showcases dynamic exterior and interior sketches of the complex—recently acquired by UMMA—depicting the distinctive rhythmic contours of the roof\, derived from studies of rowers in motion\, and the open\, angular\, and light-filled spaces within.\n\n**Special hours Sundays: 12–5pm\, CLOSED Mondays
UID:30041-3321290@events.umich.edu
URL:https://events.umich.edu/event/30041
CLASS:PUBLIC
STATUS:CONFIRMED
CATEGORIES:UMMA,Museum,Architecture,Art,Exhibition,Visual Arts
LOCATION:Museum of Art
CONTACT:
END:VEVENT
BEGIN:VEVENT
DTSTAMP:20160329T124905
DTSTART;TZID=America/Detroit:20160615T110000
DTEND;TZID=America/Detroit:20160615T170000
SUMMARY:Exhibition:Manuel Álvarez Bravo: Mexico’s Poet of Light
DESCRIPTION:Manuel Álvarez Bravo spent nearly his entire career photographing his native Mexico. His style drew upon numerous international influences\, ranging from the Modernism of Edward Weston and Tina Modotti\, whom he met when they spent time in Mexico in the 1920s\, to the formally exquisite photojournalism of Henri Cartier-Bresson and Walker Evans\, whose work he knew in New York\, and the Surrealism of André Breton\, who visited Mexico around 1940.\n\nAlthough not strictly Surrealist\, many of Álvarez Bravo’s works manifest a similarly fantastical mood\; one of the artist’s most arresting qualities is his ability to imbue scenes of everyday life with an otherworldly\, metaphysical power. The twenty-three photographs in the exhibition\, drawn from UMMA’s collections\, show the artist’s ability to synthesize a personal—even nationalistic—style that merged the motifs of Mexican religious and indigenous works and plant forms (such as agave leaves) with a Modernist approach to image making. Throughout\, the presence of light as a wondrous metaphor and revealer of life animates even the emptiest and most silent of Álvarez Bravo’s scenes.\n\n**Special hours Sundays: 12–5pm\, CLOSED Mondays
UID:30043-3321376@events.umich.edu
URL:https://events.umich.edu/event/30043
CLASS:PUBLIC
STATUS:CONFIRMED
CATEGORIES:Visual Arts,UMMA,Museum,Exhibition
LOCATION:Museum of Art - Photography Gallery
CONTACT:
END:VEVENT
BEGIN:VEVENT
DTSTAMP:20160308T121704
DTSTART;TZID=America/Detroit:20160615T110000
DTEND;TZID=America/Detroit:20160615T170000
SUMMARY:Exhibition:Siebren Versteeg: LIKE II (2016)
DESCRIPTION:In Siebren Versteeg’s LIKE II (2016)\, a computer painting program creates a composition using a continuously changing algorithm\, and then runs a periodic Google search to find a matching image online. Every sixty seconds\, the painting made by the computer is uploaded to Google’s “search by image” feature\, and images that most closely match the composition are then downloaded and displayed.\n\nThe notion of abstraction plays a central role in this work. Throughout modernity\, artists have sought inventive ways to free painting from its tradition as a representational medium. LIKE II inverts this ambition\, finding the reality hidden within pure abstraction. Because the work evolves based on whatever content is available online at any given moment\, the artist relinquishes a certain degree of creative control. Versteeg says\, “As the nature of the images presented by the work is random\, the artist assumes both all and no responsibility for their presence and content.”\n\n**Special hours Sundays: 12–5pm\, CLOSED Mondays
UID:29503-3129545@events.umich.edu
URL:https://events.umich.edu/event/29503
CLASS:PUBLIC
STATUS:CONFIRMED
CATEGORIES:UMMA,Information and Technology,Exhibition,Art,Visual Arts,Museum
LOCATION:Museum of Art - Media Gallery
CONTACT:
END:VEVENT
BEGIN:VEVENT
DTSTAMP:20160425T135456
DTSTART;TZID=America/Detroit:20160615T113000
DTEND;TZID=America/Detroit:20160615T130000
SUMMARY:Workshop / Seminar:Causal Inference in Education Research Seminar (CIERS)
DESCRIPTION:Abstract and paper not yet available
UID:30516-3556103@events.umich.edu
URL:https://events.umich.edu/event/30516
CLASS:PUBLIC
STATUS:CONFIRMED
CATEGORIES:seminar,Research,Economics,Education
LOCATION:Weill Hall (Ford School) - 3240
CONTACT:
END:VEVENT
BEGIN:VEVENT
DTSTAMP:20160518T153725
DTSTART;TZID=America/Detroit:20160615T130000
DTEND;TZID=America/Detroit:20160615T133000
SUMMARY:Presentation:Study Abroad First Step Session
DESCRIPTION:Where will study abroad take you? Find out at a CGIS First Step session.\nPresentations are every Tuesday\, Wednesday\, Thursday\, and Friday from 1–1:30pm from June 8–August 4 (except July 5-6).\nTake your first step toward a study abroad experience at UM and learn more about study programs around the world\, scholarships and other financial aid\, and much more.\nAttending a CGIS First Step session is a required part of applying to a CGIS study abroad program. Fulfill this requirement before the school year even begins!
UID:30742-3738381@events.umich.edu
URL:https://events.umich.edu/event/30742
CLASS:PUBLIC
STATUS:CONFIRMED
CATEGORIES:Social Justice,Undergraduate,Study Abroad,Social Impact,Language,International,Inclusion,Diversity
LOCATION:East Quadrangle - 1338
CONTACT:
END:VEVENT
BEGIN:VEVENT
DTSTAMP:20160615T120010
DTSTART;TZID=America/Detroit:20160615T150000
DTEND;TZID=America/Detroit:20160615T160000
SUMMARY:Other:Mobile Making and Tea Party
DESCRIPTION:Hello GradSWE Members! Let’s have fun! Let’s have build stuff!We invite you to join us at the Johnson’s Rooms from 3-4pm next Wednesday (06/15/2015)\, and build a Baby Mobile for Christina’s little one with felt\, glue\, and a lot of ideas. We will also have a Tea Party with an assortment of flavors and colors\, and some homemade cookies. Don’t have a full hour? Don’t worry! Just stop by\, enjoy some tea\, and make a mobile attachment at your leisure!Also\, if you are interested in bringing homemade cookies or baked goods to the event\, please let us know in the comments section of your RSVP!Registration requested.
UID:30926-3894975@events.umich.edu
URL:https://events.umich.edu/event/30926
CLASS:PUBLIC
STATUS:CONFIRMED
CATEGORIES:
LOCATION:Johnson&#039;s Building
CONTACT:
END:VEVENT
BEGIN:VEVENT
DTSTAMP:20160315T114946
DTSTART;TZID=America/Detroit:20160615T200000
SUMMARY:Performance:A.J. Croce
DESCRIPTION:The son of 1970s icon Jim Croce\, Adrian James Croce suffered another tragedy in childhood: he went completely blind at age four. As he gradually regained partial sight in one eye\, he began to play the piano\, emulating records by Ray Charles and Stevie Wonder. He grew into a musician who was anything but a Jim Croce clone\, taking off from classic piano blues and growing into a unique keyboard-playing songwriter\, with a preference for vintage instruments and a way of making a lot out of a very minimal song. A lot of musicians call themselves eclectic\, but few can claim this: each of A.J.'s first five album releases hit the charts in a different genre (jazz\, Americana\, blues\, AAA\, college\, and top 40\, if you're keeping score). A.J. Croce has grown as a musician with each new release\, and his latest\, \"Twelve Tales\,\" was recorded i Nashville with a team of producers that included the late greats Cowboy Jack Clement and Allen Toussaint.
UID:29506-3129587@events.umich.edu
URL:https://events.umich.edu/event/29506
CLASS:PUBLIC
STATUS:CONFIRMED
CATEGORIES:Music,The Ark
LOCATION:Off Campus Location - The Ark, 316 S. Main, Ann Arbor, MI
CONTACT:
END:VEVENT
END:VCALENDAR