BEGIN:VCALENDAR
VERSION:2.0
PRODID:-//UM//UM*Events//EN
CALSCALE:GREGORIAN
BEGIN:VTIMEZONE
TZID:America/Detroit
TZURL:http://tzurl.org/zoneinfo/America/Detroit
X-LIC-LOCATION:America/Detroit
BEGIN:DAYLIGHT
TZOFFSETFROM:-0500
TZOFFSETTO:-0400
TZNAME:EDT
DTSTART:20070311T020000
RRULE:FREQ=YEARLY;BYMONTH=3;BYDAY=2SU
END:DAYLIGHT
BEGIN:STANDARD
TZOFFSETFROM:-0400
TZOFFSETTO:-0500
TZNAME:EST
DTSTART:20071104T020000
RRULE:FREQ=YEARLY;BYMONTH=11;BYDAY=1SU
END:STANDARD
END:VTIMEZONE
BEGIN:VEVENT
DTSTAMP:20160601T114052
DTSTART;TZID=America/Detroit:20160617T073000
DTEND;TZID=America/Detroit:20160617T190000
SUMMARY:Social / Informal Gathering:Strawberry Festival
DESCRIPTION:Come enjoy strawberry inspired food at all meals!
UID:30880-3857109@events.umich.edu
URL:https://events.umich.edu/event/30880
CLASS:PUBLIC
STATUS:CONFIRMED
CATEGORIES:Food
LOCATION:Mosher-Jordan Hall
CONTACT:
END:VEVENT
BEGIN:VEVENT
DTSTAMP:20160418T110610
DTSTART;TZID=America/Detroit:20160617T080000
DTEND;TZID=America/Detroit:20160617T170000
SUMMARY:Exhibition:Exhibit: The Many Faces and Figures of the Four Sons in the Passover Haggadah
DESCRIPTION:The Four Sons of the Passover Haggadah can now be viewed in their many versions at a unique exhibit at the Jean & Samuel Frankel Center for Judaic Studies. The exhibit\, featuring 29 Haggadahs from the Irwin M. Alterman Haggadah Collection\, will be on display through July.  It includes Haggadahs of various shapes and sizes\, ancient and modern\, and in a number of different languages.\n\nThe Alterman collection was acquired by the University of Michigan Library last year with the help of the Frankel Center\, and is housed in the Special Collections Library of the Harlan Hatcher Graduate Library. It includes more than 1\,800 Haggadahs and is believed to be one of the largest Haggadah collections in the world. The unique compilation belonged to the late Irwin Alterman of West Bloomfield\, and was donated by his widow\, Marilyn McCall Alterman. \n\nPhoto courtesy of Luna Archey
UID:30296-3402304@events.umich.edu
URL:https://events.umich.edu/event/30296
CLASS:PUBLIC
STATUS:CONFIRMED
CATEGORIES:Exhibition,Jewish Studies
LOCATION:202 S. Thayer - Room 2000
CONTACT:
END:VEVENT
BEGIN:VEVENT
DTSTAMP:20151211T113926
DTSTART;TZID=America/Detroit:20160617T080000
DTEND;TZID=America/Detroit:20160617T170000
SUMMARY:Exhibition:Gifts of Art presents Works by Belle Kogan: First Female Industrial Designer
DESCRIPTION:This exhibition presents industrially-produced art pottery pieces designed by Belle Kogan (1902–2000)\, for Red Wing Potteries in Red Wing\, Minnesota. Kogan is considered the first prominent female industrial designer in the United States\, a founder of the profession\, and one of the 20th century's most significant designers. Her design aesthetic was heavily influenced by the geometric and streamlined shapes of Art Deco. Belle Kogan Associates\, her New York–based studio\, was the first American female-led design firm. Her contracts with Red Wing Potteries produced over 400 different art pottery shapes from the late 1930s to the early 1960s\, as well as several dinnerware and kitchenware lines. Belle Kogan and her firm designed products not only in ceramics but also clocks and small appliances\, glassware\, and pieces in silver\, plastics\, wrought iron and wood.
UID:27190-2334053@events.umich.edu
URL:https://events.umich.edu/event/27190
CLASS:PUBLIC
STATUS:CONFIRMED
CATEGORIES:Art,Health & Wellness
LOCATION:University Hospitals - Gifts of Art Gallery — Cancer Center Elevator Alcove, Level 2
CONTACT:
END:VEVENT
BEGIN:VEVENT
DTSTAMP:20160310T165634
DTSTART;TZID=America/Detroit:20160617T080000
DTEND;TZID=America/Detroit:20160617T235900
SUMMARY:Exhibition:Intersections/Connections
DESCRIPTION:This International Studies exhibit focuses on materials from across the world\, including many nations and cultures. Rather than displaying each area separately\, the exhibit concentrates on the connections and intersections among disparate regions.
UID:29615-3148193@events.umich.edu
URL:https://events.umich.edu/event/29615
CLASS:PUBLIC
STATUS:CONFIRMED
CATEGORIES:Exhibition,Library
LOCATION:Hatcher Graduate Library - Clark Library, 2nd Floor
CONTACT:
END:VEVENT
BEGIN:VEVENT
DTSTAMP:20160531T160445
DTSTART;TZID=America/Detroit:20160617T083000
DTEND;TZID=America/Detroit:20160617T163000
SUMMARY:Conference / Symposium:How We Can Improve Health Science Communication
DESCRIPTION:This two-day conference brings together scholars in health communication\, information processing\, decision making\, and learning to formulate more effective ways to convey health research findings to the public. The goals are to improve the means\, messages\, and outcomes of health science communication and to explore research agendas that will continue to advance scientific communication.
UID:30866-3843106@events.umich.edu
URL:https://events.umich.edu/event/30866
CLASS:PUBLIC
STATUS:CONFIRMED
CATEGORIES:Media,Medicine,Nursing,Politics,Pre Med,Psychology,Public Health,Public Policy,Science,Sociology,Women's Studies
LOCATION:Institute For Social Research - 1430
CONTACT:
END:VEVENT
BEGIN:VEVENT
DTSTAMP:20160525T114106
DTSTART;TZID=America/Detroit:20160617T090000
DTEND;TZID=America/Detroit:20160617T170000
SUMMARY:Workshop / Seminar:CSIE|UM Symposium
DESCRIPTION:The annual CSIE|UM Symposium is organized and run by the graduate students and postdocs on the CSIE|UM Organizing Committee. In 2014\, the Department of Chemistry launched Chemical Sciences at the Interface of Education (CSIE|UM). It is an internally funded\, institutionalized program that creates a sustainable model for engaging faculty in instructional development.\n\nPlease pre-register by Friday\, June 10th\nat: http://goo.gl/forms/InXaekBOsQ
UID:30812-3786796@events.umich.edu
URL:https://events.umich.edu/event/30812
CLASS:PUBLIC
STATUS:CONFIRMED
CATEGORIES:AEM Featured,Chemistry,Education,symposium
LOCATION:Chemistry Dow Lab - 1640
CONTACT:
END:VEVENT
BEGIN:VEVENT
DTSTAMP:20160512T143154
DTSTART;TZID=America/Detroit:20160617T090000
DTEND;TZID=America/Detroit:20160617T170000
SUMMARY:Exhibition:Extreme Time
DESCRIPTION:Think you know all about time?  What about things that happen in femtoseconds or eons?  Time in the natural world is so extreme\, you can’t even perceive most of its scale unaided. You’ll be amazed by the types of time you can explore in our new exhibit\, and learn more about everyday time and how we measure it\, too!  The exhibit is open!
UID:27873-2579286@events.umich.edu
URL:https://events.umich.edu/event/27873
CLASS:PUBLIC
STATUS:CONFIRMED
CATEGORIES:Family,Free,Museum
LOCATION:Ruthven Museums Building
CONTACT:
END:VEVENT
BEGIN:VEVENT
DTSTAMP:20160531T131629
DTSTART;TZID=America/Detroit:20160617T090000
DTEND;TZID=America/Detroit:20160617T120000
SUMMARY:Workshop / Seminar:Optimism…Even in the Face of Reality
DESCRIPTION:Staying optimistic when in turbulence can sometimes be difficult and overwhelming. This class explores how optimistic approaches to work can create a positive work experience\, even in times of challenge or change.\n\nYou will learn to:\n\nDetermine the difference between “optimism” and “realistic optimism” and their relationship to your success\nDescribe how an optimistic perspective can concretely impact your personal productivity and relationships\nRecognize how your explanatory style can reframe experiences more positively\nApply the right strategies to shift your mindset toward optimism and make a positive impact on your work\n\nYou will benefit by:\n\nGaining a better understanding of the nature and impact of optimistic thinking\nKnowing how to increase the practice of optimism in your daily life\nAppreciating how shifting your perspective to a more optimistic direction can improve your personal satisfaction and happiness\n\nAudience:\n\nAnyone who would like to incorporate optimism into their daily life
UID:30855-3843094@events.umich.edu
URL:https://events.umich.edu/event/30855
CLASS:PUBLIC
STATUS:CONFIRMED
CATEGORIES:Career,Networking,Professional Development,Workshop
LOCATION:Administrative Services Building
CONTACT:
END:VEVENT
BEGIN:VEVENT
DTSTAMP:20160506T162225
DTSTART;TZID=America/Detroit:20160617T100000
DTEND;TZID=America/Detroit:20160617T170000
SUMMARY:Exhibition:A New Treasure Trove at Special Collections
DESCRIPTION:This display showcases recent acquisitions that strengthen our extraordinary holdings in the areas of radical literature\, transportation history\, film\, rare books\, culinary history\, Islamic manuscripts\, children’s literature\, and Judaica. View an eclectic display of unique artifacts that reflect the broad range of our collections.\n\nArtifacts on display include historical treasures like Emma Goldman’s well-traveled suitcase\, Orson Welles’ cutting script for the film Around the World\, a fifteenth-century manuscript containing an Arabic treatise of materia media attributed to Galen\, a 1850 contract for the remount of the moving machinery of the St. Peterburg and Moscow Railway\, and Mildred Taylor’s illustrated novella for children\, The Gold Cadillac\, narrating a Northern black family’s experience of Southern segregation and prejudice during the 1950s as seen through the eyes of a young girl.\n\nExhibit Hours: Monday-Friday\, 10am-5pm\nClosed Memorial Day\, 4th of July\, and Labor Day
UID:30662-3646160@events.umich.edu
URL:https://events.umich.edu/event/30662
CLASS:PUBLIC
STATUS:CONFIRMED
CATEGORIES:Exhibition,Library
LOCATION:Hatcher Graduate Library - 7th Floor Exhibit Space
CONTACT:
END:VEVENT
BEGIN:VEVENT
DTSTAMP:20160613T150536
DTSTART;TZID=America/Detroit:20160617T100000
DTEND;TZID=America/Detroit:20160617T150000
SUMMARY:Social / Informal Gathering:Artwork Mailing Party
DESCRIPTION:Come join us as we head to the North Campus to package art to send to folks! Lunch will be provided and it is a good opportunity to catch up with the PCAP fam! Please email acgood@umich.edu if you are interested in attending!
UID:30917-3946822@events.umich.edu
URL:https://events.umich.edu/event/30917
CLASS:PUBLIC
STATUS:CONFIRMED
CATEGORIES:Art,North campus,Social,Visual Arts,Volunteer
LOCATION:Off Campus Location - Penny W. Stamps School of Art &amp; Design Faculty Studios
CONTACT:
END:VEVENT
BEGIN:VEVENT
DTSTAMP:20160421T105421
DTSTART;TZID=America/Detroit:20160617T100000
DTEND;TZID=America/Detroit:20160617T200000
SUMMARY:Exhibition:Picture This!
DESCRIPTION:An exhibit of photographs taken of and by young patients—many of whom were born with facial differences or cleft palates—in U-M Mott Hospital’s Craniofacial Anomalies Program. Paired with professional photographers\, the children learned new ways to look at and through the camera lens.
UID:30488-3519919@events.umich.edu
URL:https://events.umich.edu/event/30488
CLASS:PUBLIC
STATUS:CONFIRMED
CATEGORIES:Exhibition,Family,Free,Health & Wellness,Storytelling,Visual Arts
LOCATION:Matthaei Botanical Gardens
CONTACT:
END:VEVENT
BEGIN:VEVENT
DTSTAMP:20160523T155817
DTSTART;TZID=America/Detroit:20160617T100000
DTEND;TZID=America/Detroit:20160617T160000
SUMMARY:Exhibition:Supporting Scholarship: Eight Topics Documented in the Clements Library
DESCRIPTION:Come and see what brings researchers from around the world to the William L Clements Library to explore its historical collections. This exhibit highlights eight research topics that the holdings of the Clements support. They include: Exploration and Discovery\; Colonial America\; Conflict\; Age of Revolution\; Education\; Business and Trade\; Religion & Reform\; and The Under-Represented. \n\nVisit to see rare treasures that reflect the broad range of early maps\, manuscripts\, books\, prints\, and photography in our collections.  For more information about the Library and using it for research\, please visit our website at clements.umich.edu. \n\nThis exhibit will close on October 28\, 2016.
UID:30795-3776661@events.umich.edu
URL:https://events.umich.edu/event/30795
CLASS:PUBLIC
STATUS:CONFIRMED
CATEGORIES:Education,Exhibition,History,Library,Lifelong Learning
LOCATION:William Clements Library
CONTACT:
END:VEVENT
BEGIN:VEVENT
DTSTAMP:20160404T105502
DTSTART;TZID=America/Detroit:20160617T110000
DTEND;TZID=America/Detroit:20160617T170000
SUMMARY:Exhibition:Albert Kahn: Under Construction
DESCRIPTION:In the past two decades there has been a tremendous swell of interest in Detroit architect Albert Kahn (1869–1942)\, arguably the most important architect of American industrialization. Albert Kahn: Under Construction focuses on the remarkable archive of photographs assembled by Albert Kahn Associates while building the powerhouses of American industry\, from the Highland Park Ford Plant to the Willow Run Bomber Plant. Shot by an array of professional photographers based mainly in Detroit\, these often striking documentary images were a novel strategy for conveying information about the daily progress of construction to busy managers at the main office. The exhibition foregrounds the photographic series as a way of illustrating change over time—showing buildings as they grew on site—and Kahn’s innovative solutions to the architectural challenges of his day.\n\n**Special hours Sundays: 12–5pm\, CLOSED Mondays
UID:29456-3120463@events.umich.edu
URL:https://events.umich.edu/event/29456
CLASS:PUBLIC
STATUS:CONFIRMED
CATEGORIES:Architecture,Art,Exhibition,Museum,UMMA
LOCATION:Museum of Art
CONTACT:
END:VEVENT
BEGIN:VEVENT
DTSTAMP:20160422T134945
DTSTART;TZID=America/Detroit:20160617T110000
DTEND;TZID=America/Detroit:20160617T170000
SUMMARY:Exhibition:Catherine Opie: 700 Nimes Road
DESCRIPTION:This exhibition presents new and recent work by Los Angeles-based artist Catherine Opie\, one of the essential figures in contemporary photography. Beginning in 2010\, Opie spent six months taking photographs at the Bel Air\, California\, residence of Elizabeth Taylor (1932–2011). The exhibition includes fifty works drawn from two series\, Closets and Jewels and 700 Nimes Road. Opie’s lens captures the essence of the Hollywood legend through her personal objects and mementos\, and portrays Taylor’s life experience and eccentricity as an illusory subject\, one that cannot be specifically designated or precisely described. In the artist’s words\, the project is not about the relationship to celebrity but about “the relationship to what is human.”
UID:30494-3530506@events.umich.edu
URL:https://events.umich.edu/event/30494
CLASS:PUBLIC
STATUS:CONFIRMED
CATEGORIES:Art,Exhibition,Museum,UMMA
LOCATION:Museum of Art - A. Alfred Taubman Gallery
CONTACT:
END:VEVENT
BEGIN:VEVENT
DTSTAMP:20160422T140125
DTSTART;TZID=America/Detroit:20160617T110000
DTEND;TZID=America/Detroit:20160617T170000
SUMMARY:Exhibition:Catie Newell: Overnight
DESCRIPTION:Detroit-based architect Catie Newell’s work is focused on the tactile\, sensory qualities of the materials we use to build things: their texture\, density\, or malleability. Her investigations combine architectural research\, material studies\, and art experiments\, a strategy she began as a student that now defines her career.\n\nThe most important element in her formal vocabulary is light\, not only as a “material” in its own right\, but also as a condition. Varying in strength\, form\, and duration\, light constructs architecture as a situational experience rather than a fixed space. Newell’s fascination with light is a fascination with darkness. Through urban interventions\, installations\, and photographs\, she investigates how darkness creates alternate environments\, with unseen geographies\, untold histories\, and secret identities.\n\nNewell\, assistant professor of architecture at U-M Taubman College of Architecture and Urban Planning\, is a recent recipient of the Rome Prize in architecture. Overnight includes photographs from her Rome project as well as new photography from the series Nightly\, featuring nighttime images of Detroit streetscapes and interiors\, alongside a site-specific sculptural installation commissioned by the Museum.
UID:30497-3530569@events.umich.edu
URL:https://events.umich.edu/event/30497
CLASS:PUBLIC
STATUS:CONFIRMED
CATEGORIES:Art,Exhibition,Museum,UMMA
LOCATION:Museum of Art - Irving Stenn, Jr. Family Gallery
CONTACT:
END:VEVENT
BEGIN:VEVENT
DTSTAMP:20160329T123251
DTSTART;TZID=America/Detroit:20160617T110000
DTEND;TZID=America/Detroit:20160617T170000
SUMMARY:Exhibition:In Focus: Jeanne Gang
DESCRIPTION:Widely acclaimed for her integrative approach to materials\, technology\, and ecological context\, Chicago-based architect Jeanne Gang was selected as a MacArthur Fellow in 2011. Shortly thereafter Gang proposed an ambitious restoration of the Chicago riverfront through a series of small but transformational projects. The WMS Boathouse\, designed by Gang and located north of downtown\, is one such project\, encompassing a field house with state-of-the art training facilities\, a boat storage building\, and a floating dock at the river’s edge. Completed in 2013\, the 22\,000-square-foot boathouse is the city’s premier rowing center\, serving a range of public rowing clubs\, many of whose amateur athletes come from the city’s underserved communities.\n\nThis installation showcases dynamic exterior and interior sketches of the complex—recently acquired by UMMA—depicting the distinctive rhythmic contours of the roof\, derived from studies of rowers in motion\, and the open\, angular\, and light-filled spaces within.\n\n**Special hours Sundays: 12–5pm\, CLOSED Mondays
UID:30041-3321292@events.umich.edu
URL:https://events.umich.edu/event/30041
CLASS:PUBLIC
STATUS:CONFIRMED
CATEGORIES:Architecture,Art,Exhibition,Museum,UMMA,Visual Arts
LOCATION:Museum of Art
CONTACT:
END:VEVENT
BEGIN:VEVENT
DTSTAMP:20160329T124905
DTSTART;TZID=America/Detroit:20160617T110000
DTEND;TZID=America/Detroit:20160617T170000
SUMMARY:Exhibition:Manuel Álvarez Bravo: Mexico’s Poet of Light
DESCRIPTION:Manuel Álvarez Bravo spent nearly his entire career photographing his native Mexico. His style drew upon numerous international influences\, ranging from the Modernism of Edward Weston and Tina Modotti\, whom he met when they spent time in Mexico in the 1920s\, to the formally exquisite photojournalism of Henri Cartier-Bresson and Walker Evans\, whose work he knew in New York\, and the Surrealism of André Breton\, who visited Mexico around 1940.\n\nAlthough not strictly Surrealist\, many of Álvarez Bravo’s works manifest a similarly fantastical mood\; one of the artist’s most arresting qualities is his ability to imbue scenes of everyday life with an otherworldly\, metaphysical power. The twenty-three photographs in the exhibition\, drawn from UMMA’s collections\, show the artist’s ability to synthesize a personal—even nationalistic—style that merged the motifs of Mexican religious and indigenous works and plant forms (such as agave leaves) with a Modernist approach to image making. Throughout\, the presence of light as a wondrous metaphor and revealer of life animates even the emptiest and most silent of Álvarez Bravo’s scenes.\n\n**Special hours Sundays: 12–5pm\, CLOSED Mondays
UID:30043-3321378@events.umich.edu
URL:https://events.umich.edu/event/30043
CLASS:PUBLIC
STATUS:CONFIRMED
CATEGORIES:Exhibition,Museum,UMMA,Visual Arts
LOCATION:Museum of Art - Photography Gallery
CONTACT:
END:VEVENT
BEGIN:VEVENT
DTSTAMP:20160308T121704
DTSTART;TZID=America/Detroit:20160617T110000
DTEND;TZID=America/Detroit:20160617T170000
SUMMARY:Exhibition:Siebren Versteeg: LIKE II (2016)
DESCRIPTION:In Siebren Versteeg’s LIKE II (2016)\, a computer painting program creates a composition using a continuously changing algorithm\, and then runs a periodic Google search to find a matching image online. Every sixty seconds\, the painting made by the computer is uploaded to Google’s “search by image” feature\, and images that most closely match the composition are then downloaded and displayed.\n\nThe notion of abstraction plays a central role in this work. Throughout modernity\, artists have sought inventive ways to free painting from its tradition as a representational medium. LIKE II inverts this ambition\, finding the reality hidden within pure abstraction. Because the work evolves based on whatever content is available online at any given moment\, the artist relinquishes a certain degree of creative control. Versteeg says\, “As the nature of the images presented by the work is random\, the artist assumes both all and no responsibility for their presence and content.”\n\n**Special hours Sundays: 12–5pm\, CLOSED Mondays
UID:29503-3129547@events.umich.edu
URL:https://events.umich.edu/event/29503
CLASS:PUBLIC
STATUS:CONFIRMED
CATEGORIES:Art,Exhibition,Information and Technology,Museum,UMMA,Visual Arts
LOCATION:Museum of Art - Media Gallery
CONTACT:
END:VEVENT
BEGIN:VEVENT
DTSTAMP:20160518T153725
DTSTART;TZID=America/Detroit:20160617T130000
DTEND;TZID=America/Detroit:20160617T133000
SUMMARY:Presentation:Study Abroad First Step Session
DESCRIPTION:Where will study abroad take you? Find out at a CGIS First Step session.\nPresentations are every Tuesday\, Wednesday\, Thursday\, and Friday from 1–1:30pm from June 8–August 4 (except July 5-6).\nTake your first step toward a study abroad experience at UM and learn more about study programs around the world\, scholarships and other financial aid\, and much more.\nAttending a CGIS First Step session is a required part of applying to a CGIS study abroad program. Fulfill this requirement before the school year even begins!
UID:30742-3738383@events.umich.edu
URL:https://events.umich.edu/event/30742
CLASS:PUBLIC
STATUS:CONFIRMED
CATEGORIES:Diversity,Inclusion,International,Language,Social Impact,Social Justice,Study Abroad,Undergraduate
LOCATION:East Quadrangle - 1338
CONTACT:
END:VEVENT
BEGIN:VEVENT
DTSTAMP:20160607T122455
DTSTART;TZID=America/Detroit:20160617T150000
DTEND;TZID=America/Detroit:20160617T190000
SUMMARY:Social / Informal Gathering:A2 Tech Trek
DESCRIPTION:Downtown Ann Arbor technology companies are opening their doors to the public!\n\nCheck-in at one of the following locations\, grab a map and start the trek:\n\n1. SPARK Central:  330 E. Liberty St. Ann Arbor\, MI 48104\n\n2. Menlo Innovations:   505 E Liberty St LL500\, Ann Arbor\, MI 48104 \n\n3. MLive Media Group:  111 N Ashley St\, Ann Arbor\, MI 48104\n\nWho: \n\nEveryone is invited - students\, adults\, professionals\, jobseekers\, and families!  Over 800 participated last year.\n\nWhat to expect:\n\nMaps will be provided for a self-guided tour to over 50 companies. \n\nInspiration\, education\, games\, innovation\, product demonstrations and fun at each location\nFood and refreshments  \nPrizes and incentives -- visit as many locations as possible and share your experience on social media.  \n\nThe goal is to inspire students to become future entrepreneurs\, job seekers to find new opportunities and others in the community to support the entrepreneurial community.  These are the businesses that are driving the economy forward in the Ann Arbor region.\n\nHosted by Ann Arbor SPARK.
UID:30931-3898998@events.umich.edu
URL:https://events.umich.edu/event/30931
CLASS:PUBLIC
STATUS:CONFIRMED
CATEGORIES:Entrepreneurship
LOCATION:Off Campus Location
CONTACT:
END:VEVENT
BEGIN:VEVENT
DTSTAMP:20160606T160228
DTSTART;TZID=America/Detroit:20160617T150000
DTEND;TZID=America/Detroit:20160617T210000
SUMMARY:Other:Book Crawl: Downtown Ypsilanti
DESCRIPTION:Join us in local restaurants\, bars\, bookstores\, and shops to hear Michigan authors and poets read from their latest works. The Book Crawl is a great chance to chat with the authors\, buy a great book\, enjoy a bite to eat\, or chat with friends over a refreshing beverage! Join us at one or all of Friday's downtown Ypsilanti locations:\n\n3:00-5:00 pm – Ypsilanti District Library\n229 West Michigan Avenue\, Ypsilanti\n3:00 pm Storytelling with LaRon Williams\, Library Park Plaza\n4:00 pm Comic eBook creator Jazmin Truesdale will talk about creating ethnic and gender diversity in superheroes\, 1st floor inside\nFeaturing:   Summer Reading Program signup\, giveaways\, kids activities\, and a visit from the Bookmobile\n\n5:00 pm – Black Stone Bookstore & Cultural Center\n214 W Michigan Ave\, Ypsilanti\nFeaturing: Tiya Miles\n\n6:00 pm – Beezy’s Cafe\n20 N Washington St\, Ypsilanti\nFeaturing: What Ypsi Reads—hear Ypsi notables talk about their favorite books\n\n7:00 pm – Chin-Azzaro Gallery\n9 S Washington St\, Ypsilanti\nFeaturing:  Deedra Climer\, Heather Neff\n\n8:00pm – Ypsi Alehouse\n124 Pearl St\, Ypsilanti\nFeaturing:  R.J. Fox\, Tj O’Connor\n\nThe Ann Arbor Book Festival (http://aabookfestival.org/2016-festival/) promotes reading\, heightens awareness of literacy challenges\, and showcases the rich culture of the written word in Michigan and beyond.
UID:30921-3891032@events.umich.edu
URL:https://events.umich.edu/event/30921
CLASS:PUBLIC
STATUS:CONFIRMED
CATEGORIES:Books,Library,Literature,Poetry,Writing
LOCATION:Off Campus Location
CONTACT:
END:VEVENT
BEGIN:VEVENT
DTSTAMP:20160316T175313
DTSTART;TZID=America/Detroit:20160617T200000
SUMMARY:Performance:Vance Gilbert
DESCRIPTION:Check back soon for more information.
UID:29770-3203001@events.umich.edu
URL:https://events.umich.edu/event/29770
CLASS:PUBLIC
STATUS:CONFIRMED
CATEGORIES:Music,The Ark
LOCATION:Off Campus Location - The Ark, 316 S. Main, Ann Arbor, MI
CONTACT:
END:VEVENT
BEGIN:VEVENT
DTSTAMP:20160617T180014
DTSTART;TZID=America/Detroit:20160617T220000
DTEND;TZID=America/Detroit:20160618T000000
SUMMARY:Exhibition:Astronomy Open House
DESCRIPTION:Visit the Student Astronomical Society's Astronomy Open Houses to learn about astronomy\, physics\, and optics! This Friday is a special event\, Statewide Astronomy Night\, and we will be holding an extra long open house this week. Join the Bentley Historical Library\, UM Museum of Natural History\, and Department of Astronomy for more cool events\, including a lecture on dark matter\, tours of the observatory hosting the oldest US-made lens still in use\, and more!Open houses are run by members of the Student Astronomical Society and are free\, as well as open to all ages. We always have planetarium shows\, science demos\, and observatory tours. When the weather allows it\, we have observing on the roof of Angell Hall\, where we have a 0.4 M telescope in our observatory dome\, plus multiple smaller telescopes and binoculars. See our website\, umichsas.com\, for more information!
UID:30709-3699216@events.umich.edu
URL:https://events.umich.edu/event/30709
CLASS:PUBLIC
STATUS:CONFIRMED
CATEGORIES:
LOCATION:Angell Hall
CONTACT:
END:VEVENT
END:VCALENDAR