BEGIN:VCALENDAR
VERSION:2.0
PRODID:-//UM//UM*Events//EN
CALSCALE:GREGORIAN
BEGIN:VTIMEZONE
TZID:America/Detroit
TZURL:http://tzurl.org/zoneinfo/America/Detroit
X-LIC-LOCATION:America/Detroit
BEGIN:DAYLIGHT
TZOFFSETFROM:-0500
TZOFFSETTO:-0400
TZNAME:EDT
DTSTART:20070311T020000
RRULE:FREQ=YEARLY;BYMONTH=3;BYDAY=2SU
END:DAYLIGHT
BEGIN:STANDARD
TZOFFSETFROM:-0400
TZOFFSETTO:-0500
TZNAME:EST
DTSTART:20071104T020000
RRULE:FREQ=YEARLY;BYMONTH=11;BYDAY=1SU
END:STANDARD
END:VTIMEZONE
BEGIN:VEVENT
DTSTAMP:20160617T180014
DTSTART;TZID=America/Detroit:20160617T220000
DTEND;TZID=America/Detroit:20160618T000000
SUMMARY:Exhibition:Astronomy Open House
DESCRIPTION:Visit the Student Astronomical Society's Astronomy Open Houses to learn about astronomy\, physics\, and optics! This Friday is a special event\, Statewide Astronomy Night\, and we will be holding an extra long open house this week. Join the Bentley Historical Library\, UM Museum of Natural History\, and Department of Astronomy for more cool events\, including a lecture on dark matter\, tours of the observatory hosting the oldest US-made lens still in use\, and more!Open houses are run by members of the Student Astronomical Society and are free\, as well as open to all ages. We always have planetarium shows\, science demos\, and observatory tours. When the weather allows it\, we have observing on the roof of Angell Hall\, where we have a 0.4 M telescope in our observatory dome\, plus multiple smaller telescopes and binoculars. See our website\, umichsas.com\, for more information!
UID:30709-3699216@events.umich.edu
URL:https://events.umich.edu/event/30709
CLASS:PUBLIC
STATUS:CONFIRMED
CATEGORIES:
LOCATION:Angell Hall
CONTACT:
END:VEVENT
BEGIN:VEVENT
DTSTAMP:20151211T113926
DTSTART;TZID=America/Detroit:20160618T080000
DTEND;TZID=America/Detroit:20160618T170000
SUMMARY:Exhibition:Gifts of Art presents Works by Belle Kogan: First Female Industrial Designer
DESCRIPTION:This exhibition presents industrially-produced art pottery pieces designed by Belle Kogan (1902–2000)\, for Red Wing Potteries in Red Wing\, Minnesota. Kogan is considered the first prominent female industrial designer in the United States\, a founder of the profession\, and one of the 20th century's most significant designers. Her design aesthetic was heavily influenced by the geometric and streamlined shapes of Art Deco. Belle Kogan Associates\, her New York–based studio\, was the first American female-led design firm. Her contracts with Red Wing Potteries produced over 400 different art pottery shapes from the late 1930s to the early 1960s\, as well as several dinnerware and kitchenware lines. Belle Kogan and her firm designed products not only in ceramics but also clocks and small appliances\, glassware\, and pieces in silver\, plastics\, wrought iron and wood.
UID:27190-2334054@events.umich.edu
URL:https://events.umich.edu/event/27190
CLASS:PUBLIC
STATUS:CONFIRMED
CATEGORIES:Art,Health & Wellness
LOCATION:University Hospitals - Gifts of Art Gallery — Cancer Center Elevator Alcove, Level 2
CONTACT:
END:VEVENT
BEGIN:VEVENT
DTSTAMP:20160310T165634
DTSTART;TZID=America/Detroit:20160618T080000
DTEND;TZID=America/Detroit:20160618T235900
SUMMARY:Exhibition:Intersections/Connections
DESCRIPTION:This International Studies exhibit focuses on materials from across the world\, including many nations and cultures. Rather than displaying each area separately\, the exhibit concentrates on the connections and intersections among disparate regions.
UID:29615-3148194@events.umich.edu
URL:https://events.umich.edu/event/29615
CLASS:PUBLIC
STATUS:CONFIRMED
CATEGORIES:Library,Exhibition
LOCATION:Hatcher Graduate Library - Clark Library, 2nd Floor
CONTACT:
END:VEVENT
BEGIN:VEVENT
DTSTAMP:20160512T143154
DTSTART;TZID=America/Detroit:20160618T090000
DTEND;TZID=America/Detroit:20160618T170000
SUMMARY:Exhibition:Extreme Time
DESCRIPTION:Think you know all about time?  What about things that happen in femtoseconds or eons?  Time in the natural world is so extreme\, you can’t even perceive most of its scale unaided. You’ll be amazed by the types of time you can explore in our new exhibit\, and learn more about everyday time and how we measure it\, too!  The exhibit is open!
UID:27873-2579315@events.umich.edu
URL:https://events.umich.edu/event/27873
CLASS:PUBLIC
STATUS:CONFIRMED
CATEGORIES:Family,Free,Museum
LOCATION:Ruthven Museums Building
CONTACT:
END:VEVENT
BEGIN:VEVENT
DTSTAMP:20160608T101833
DTSTART;TZID=America/Detroit:20160618T090000
DTEND;TZID=America/Detroit:20160618T120000
SUMMARY:Other:Free Dental Services
DESCRIPTION:On Saturday\, June 18th\, the Dental School is offering free exams\, cleanings and simple fillings.  All are welcome but you must preregister to attend.  Send an email to umtaftclinic@gmail.com to make your appointment.
UID:30944-3904990@events.umich.edu
URL:https://events.umich.edu/event/30944
CLASS:PUBLIC
STATUS:CONFIRMED
CATEGORIES:Free
LOCATION:Dental & W.K. Kellogg Institute
CONTACT:
END:VEVENT
BEGIN:VEVENT
DTSTAMP:20160531T160445
DTSTART;TZID=America/Detroit:20160618T090000
DTEND;TZID=America/Detroit:20160618T123000
SUMMARY:Conference / Symposium:How We Can Improve Health Science Communication
DESCRIPTION:This two-day conference brings together scholars in health communication\, information processing\, decision making\, and learning to formulate more effective ways to convey health research findings to the public. The goals are to improve the means\, messages\, and outcomes of health science communication and to explore research agendas that will continue to advance scientific communication.
UID:30866-3843107@events.umich.edu
URL:https://events.umich.edu/event/30866
CLASS:PUBLIC
STATUS:CONFIRMED
CATEGORIES:Psychology,Women's Studies,Sociology,Science,Public Policy,Public Health,Media,Medicine,Nursing,Politics,Pre Med
LOCATION:Michigan League - Henderson Room
CONTACT:
END:VEVENT
BEGIN:VEVENT
DTSTAMP:20160618T120022
DTSTART;TZID=America/Detroit:20160618T100000
DTEND;TZID=America/Detroit:20160618T130000
SUMMARY:Exercise / Fitness:Kayaking
DESCRIPTION:Fee: $5\, please bring exact cash if possible.It’s Summer time! It’s kayaking time!Join us for some kayaking on the Huron River. We will be heading out some summer break and fun on Saturday (06/18/2016) at 10 a.m. to go to the river and paddle.You can meet us at Gallup Park\, or you can carpool with us (contact us if you need a ride or are available to drive).Keep it comfortable: come in comfortable clothes (keep the temperature and the sun in  mind)\, bring sunblock\, water\, snacks\, and a baggy to keep car keys and cell phones dry.Registration required. Click here for carpool (only one question).
UID:30943-3901011@events.umich.edu
URL:https://events.umich.edu/event/30943
CLASS:PUBLIC
STATUS:CONFIRMED
CATEGORIES:
LOCATION:Gallup Park
CONTACT:
END:VEVENT
BEGIN:VEVENT
DTSTAMP:20160421T105421
DTSTART;TZID=America/Detroit:20160618T100000
DTEND;TZID=America/Detroit:20160618T200000
SUMMARY:Exhibition:Picture This!
DESCRIPTION:An exhibit of photographs taken of and by young patients—many of whom were born with facial differences or cleft palates—in U-M Mott Hospital’s Craniofacial Anomalies Program. Paired with professional photographers\, the children learned new ways to look at and through the camera lens.
UID:30488-3519920@events.umich.edu
URL:https://events.umich.edu/event/30488
CLASS:PUBLIC
STATUS:CONFIRMED
CATEGORIES:Health & Wellness,Visual Arts,Storytelling,Free,Family,Exhibition
LOCATION:Matthaei Botanical Gardens
CONTACT:
END:VEVENT
BEGIN:VEVENT
DTSTAMP:20160404T105502
DTSTART;TZID=America/Detroit:20160618T110000
DTEND;TZID=America/Detroit:20160618T170000
SUMMARY:Exhibition:Albert Kahn: Under Construction
DESCRIPTION:In the past two decades there has been a tremendous swell of interest in Detroit architect Albert Kahn (1869–1942)\, arguably the most important architect of American industrialization. Albert Kahn: Under Construction focuses on the remarkable archive of photographs assembled by Albert Kahn Associates while building the powerhouses of American industry\, from the Highland Park Ford Plant to the Willow Run Bomber Plant. Shot by an array of professional photographers based mainly in Detroit\, these often striking documentary images were a novel strategy for conveying information about the daily progress of construction to busy managers at the main office. The exhibition foregrounds the photographic series as a way of illustrating change over time—showing buildings as they grew on site—and Kahn’s innovative solutions to the architectural challenges of his day.\n\n**Special hours Sundays: 12–5pm\, CLOSED Mondays
UID:29456-3120464@events.umich.edu
URL:https://events.umich.edu/event/29456
CLASS:PUBLIC
STATUS:CONFIRMED
CATEGORIES:Museum,UMMA,Art,Architecture,Exhibition
LOCATION:Museum of Art
CONTACT:
END:VEVENT
BEGIN:VEVENT
DTSTAMP:20160422T134945
DTSTART;TZID=America/Detroit:20160618T110000
DTEND;TZID=America/Detroit:20160618T170000
SUMMARY:Exhibition:Catherine Opie: 700 Nimes Road
DESCRIPTION:This exhibition presents new and recent work by Los Angeles-based artist Catherine Opie\, one of the essential figures in contemporary photography. Beginning in 2010\, Opie spent six months taking photographs at the Bel Air\, California\, residence of Elizabeth Taylor (1932–2011). The exhibition includes fifty works drawn from two series\, Closets and Jewels and 700 Nimes Road. Opie’s lens captures the essence of the Hollywood legend through her personal objects and mementos\, and portrays Taylor’s life experience and eccentricity as an illusory subject\, one that cannot be specifically designated or precisely described. In the artist’s words\, the project is not about the relationship to celebrity but about “the relationship to what is human.”
UID:30494-3530507@events.umich.edu
URL:https://events.umich.edu/event/30494
CLASS:PUBLIC
STATUS:CONFIRMED
CATEGORIES:Art,Exhibition,Museum,UMMA
LOCATION:Museum of Art - A. Alfred Taubman Gallery
CONTACT:
END:VEVENT
BEGIN:VEVENT
DTSTAMP:20160422T140125
DTSTART;TZID=America/Detroit:20160618T110000
DTEND;TZID=America/Detroit:20160618T170000
SUMMARY:Exhibition:Catie Newell: Overnight
DESCRIPTION:Detroit-based architect Catie Newell’s work is focused on the tactile\, sensory qualities of the materials we use to build things: their texture\, density\, or malleability. Her investigations combine architectural research\, material studies\, and art experiments\, a strategy she began as a student that now defines her career.\n\nThe most important element in her formal vocabulary is light\, not only as a “material” in its own right\, but also as a condition. Varying in strength\, form\, and duration\, light constructs architecture as a situational experience rather than a fixed space. Newell’s fascination with light is a fascination with darkness. Through urban interventions\, installations\, and photographs\, she investigates how darkness creates alternate environments\, with unseen geographies\, untold histories\, and secret identities.\n\nNewell\, assistant professor of architecture at U-M Taubman College of Architecture and Urban Planning\, is a recent recipient of the Rome Prize in architecture. Overnight includes photographs from her Rome project as well as new photography from the series Nightly\, featuring nighttime images of Detroit streetscapes and interiors\, alongside a site-specific sculptural installation commissioned by the Museum.
UID:30497-3530570@events.umich.edu
URL:https://events.umich.edu/event/30497
CLASS:PUBLIC
STATUS:CONFIRMED
CATEGORIES:Museum,UMMA,Exhibition,Art
LOCATION:Museum of Art - Irving Stenn, Jr. Family Gallery
CONTACT:
END:VEVENT
BEGIN:VEVENT
DTSTAMP:20160329T123251
DTSTART;TZID=America/Detroit:20160618T110000
DTEND;TZID=America/Detroit:20160618T170000
SUMMARY:Exhibition:In Focus: Jeanne Gang
DESCRIPTION:Widely acclaimed for her integrative approach to materials\, technology\, and ecological context\, Chicago-based architect Jeanne Gang was selected as a MacArthur Fellow in 2011. Shortly thereafter Gang proposed an ambitious restoration of the Chicago riverfront through a series of small but transformational projects. The WMS Boathouse\, designed by Gang and located north of downtown\, is one such project\, encompassing a field house with state-of-the art training facilities\, a boat storage building\, and a floating dock at the river’s edge. Completed in 2013\, the 22\,000-square-foot boathouse is the city’s premier rowing center\, serving a range of public rowing clubs\, many of whose amateur athletes come from the city’s underserved communities.\n\nThis installation showcases dynamic exterior and interior sketches of the complex—recently acquired by UMMA—depicting the distinctive rhythmic contours of the roof\, derived from studies of rowers in motion\, and the open\, angular\, and light-filled spaces within.\n\n**Special hours Sundays: 12–5pm\, CLOSED Mondays
UID:30041-3321293@events.umich.edu
URL:https://events.umich.edu/event/30041
CLASS:PUBLIC
STATUS:CONFIRMED
CATEGORIES:Museum,Exhibition,UMMA,Art,Architecture,Visual Arts
LOCATION:Museum of Art
CONTACT:
END:VEVENT
BEGIN:VEVENT
DTSTAMP:20160329T124905
DTSTART;TZID=America/Detroit:20160618T110000
DTEND;TZID=America/Detroit:20160618T170000
SUMMARY:Exhibition:Manuel Álvarez Bravo: Mexico’s Poet of Light
DESCRIPTION:Manuel Álvarez Bravo spent nearly his entire career photographing his native Mexico. His style drew upon numerous international influences\, ranging from the Modernism of Edward Weston and Tina Modotti\, whom he met when they spent time in Mexico in the 1920s\, to the formally exquisite photojournalism of Henri Cartier-Bresson and Walker Evans\, whose work he knew in New York\, and the Surrealism of André Breton\, who visited Mexico around 1940.\n\nAlthough not strictly Surrealist\, many of Álvarez Bravo’s works manifest a similarly fantastical mood\; one of the artist’s most arresting qualities is his ability to imbue scenes of everyday life with an otherworldly\, metaphysical power. The twenty-three photographs in the exhibition\, drawn from UMMA’s collections\, show the artist’s ability to synthesize a personal—even nationalistic—style that merged the motifs of Mexican religious and indigenous works and plant forms (such as agave leaves) with a Modernist approach to image making. Throughout\, the presence of light as a wondrous metaphor and revealer of life animates even the emptiest and most silent of Álvarez Bravo’s scenes.\n\n**Special hours Sundays: 12–5pm\, CLOSED Mondays
UID:30043-3321379@events.umich.edu
URL:https://events.umich.edu/event/30043
CLASS:PUBLIC
STATUS:CONFIRMED
CATEGORIES:UMMA,Visual Arts,Exhibition,Museum
LOCATION:Museum of Art - Photography Gallery
CONTACT:
END:VEVENT
BEGIN:VEVENT
DTSTAMP:20160308T121704
DTSTART;TZID=America/Detroit:20160618T110000
DTEND;TZID=America/Detroit:20160618T170000
SUMMARY:Exhibition:Siebren Versteeg: LIKE II (2016)
DESCRIPTION:In Siebren Versteeg’s LIKE II (2016)\, a computer painting program creates a composition using a continuously changing algorithm\, and then runs a periodic Google search to find a matching image online. Every sixty seconds\, the painting made by the computer is uploaded to Google’s “search by image” feature\, and images that most closely match the composition are then downloaded and displayed.\n\nThe notion of abstraction plays a central role in this work. Throughout modernity\, artists have sought inventive ways to free painting from its tradition as a representational medium. LIKE II inverts this ambition\, finding the reality hidden within pure abstraction. Because the work evolves based on whatever content is available online at any given moment\, the artist relinquishes a certain degree of creative control. Versteeg says\, “As the nature of the images presented by the work is random\, the artist assumes both all and no responsibility for their presence and content.”\n\n**Special hours Sundays: 12–5pm\, CLOSED Mondays
UID:29503-3129548@events.umich.edu
URL:https://events.umich.edu/event/29503
CLASS:PUBLIC
STATUS:CONFIRMED
CATEGORIES:Visual Arts,UMMA,Museum,Information and Technology,Exhibition,Art
LOCATION:Museum of Art - Media Gallery
CONTACT:
END:VEVENT
BEGIN:VEVENT
DTSTAMP:20160422T140757
DTSTART;TZID=America/Detroit:20160618T110000
DTEND;TZID=America/Detroit:20160618T170000
SUMMARY:Exhibition:The Connoisseurs’ Legacy: The Collection of Nesta and Walter Spink
DESCRIPTION:The Connoisseurs’ Legacy: The Collection of Nesta and Walter Spink celebrates gifts to the museum from two accomplished scholars with eclectic interests\, a keen appreciation of form\, and a love of learning from objects. Nesta Spink\, curator at UMMA from 1967 to 1979\, is regarded as the preeminent authority on the lithographs of James McNeill Whistler. U-M professor emeritus Walter Spink is a world-renowned specialist on early Buddhist art and architecture in India. This selection of their gifts\, exhibited together for the first time\, provides insight into the minds of two connoisseurs with tastes that range far beyond their areas of specialization\; highlights include exquisite Whistler prints that are rarely on display and a rich representation of South Asian folk art. The Connoisseurs’ Legacy also honors the Spinks’ long relationship with the museum\, their roles as teachers of future scholars and curators\, and their commitment to public education.
UID:30500-3530714@events.umich.edu
URL:https://events.umich.edu/event/30500
CLASS:PUBLIC
STATUS:CONFIRMED
CATEGORIES:Art,Exhibition,UMMA,Museum,India
LOCATION:Museum of Art - A. Alfred Taubman Gallery
CONTACT:
END:VEVENT
BEGIN:VEVENT
DTSTAMP:20160606T160513
DTSTART;TZID=America/Detroit:20160618T120000
DTEND;TZID=America/Detroit:20160618T170000
SUMMARY:Fair / Festival:Ann Arbor Book Festival: Street Fair
DESCRIPTION:Join like-minded bibliophiles as they set up shop along a beautiful stretch between the University of Michigan and downtown Ann Arbor. This event will gather authors\, libraries and literacy groups\, publishers\, artisans\, and writers groups\, and will include dynamic programming.\n\nThe Ann Arbor Book Festival (http://aabookfestival.org/2016-festival/) promotes reading\, heightens awareness of literacy challenges\, and showcases the rich culture of the written word in Michigan and beyond.
UID:30922-3891033@events.umich.edu
URL:https://events.umich.edu/event/30922
CLASS:PUBLIC
STATUS:CONFIRMED
CATEGORIES:Books,Library,Literature,Poetry,Writing
LOCATION:Off Campus Location
CONTACT:
END:VEVENT
BEGIN:VEVENT
DTSTAMP:20160606T161241
DTSTART;TZID=America/Detroit:20160618T130000
DTEND;TZID=America/Detroit:20160618T160000
SUMMARY:Workshop / Seminar:Ann Arbor Book Festival: Writer's Workshop
DESCRIPTION:The Writer’s Workshop is an afternoon series of author craft talks where attendees can learn new tricks of the trade in sessions led by a noted group of writers and instructors from Michigan and beyond. Find out more and buy tickets: http://aabookfestival.org/2016-festival/writers-workshop/\n\n     1-2 pm: Craft Talk with Jim Ottaviani\n\n     2-3 pm: Craft Talk with Chris McCormick\n\n     3-4 pm: Craft Talk with Airea “Dee” Matthews\n\nTickets are available for each individual talk\, as well as a discounted rate for attending all three talks.\n\nThe Ann Arbor Book Festival (http://aabookfestival.org/2016-festival/) promotes reading\, heightens awareness of literacy challenges\, and showcases the rich culture of the written word in Michigan and beyond.
UID:30924-3891035@events.umich.edu
URL:https://events.umich.edu/event/30924
CLASS:PUBLIC
STATUS:CONFIRMED
CATEGORIES:Writing,Workshop,Poetry,Literature,Library,Books
LOCATION:Off Campus Location
CONTACT:
END:VEVENT
BEGIN:VEVENT
DTSTAMP:20160606T160739
DTSTART;TZID=America/Detroit:20160618T140000
DTEND;TZID=America/Detroit:20160618T220000
SUMMARY:Other:Book Crawl: Downtown Ann Arbor
DESCRIPTION:Join us in local restaurants\, bars\, bookstores\, and shops to hear Michigan authors and poets read from their latest works. The Book Crawl is a great chance to chat with the authors\, buy a great book\, enjoy a bite to eat\, or chat with friends over a refreshing beverage! Join us at one or all of Saturday's downtown Ann Arbor locations:\n\n2:00 pm – Aunt Agatha’s New & Used Mysteries\, Detection & True Crime Books\n213 South Fourth Avenue\, Ann Arbor\nFeaturing: Michael Harvey\n\n3:00 pm – Vault of Midnight\n219 S. Main St\, Ann Arbor\nFeaturing: Jim Ottaviani\n\n4:00 pm – Conor O’Neill’s\n318 S. Main St\, Ann Arbor\nFeaturing: Michigan Notable Authors Panel including featured authorRob St. Mary\n\n5:00 pm – Shinola Ann Arbor\n301 S. Main St\, Ann Arbor\nFeaturing: Emlyn Chand\, H. Melt\n\n6:00 pm – Arena\n203 E Washington St\nFeaturing: Ken Magee\, Zilka Joseph\n\n7:00 pm – Literati Bookstore\n124 E Washington St\nFeaturing: TBA\n\n8:00 pm – Crazy Wisdom Bookstore & Tea Room\n114 S. Main St\nFeaturing: Robin Gaines\, David Pratt\n\n9:00 pm – Aventura\n216 E Washington St\, Ann Arbor\, MI 48104\nFeaturing: Joy Gaines-Friedler\, Jeff Kass\n\nThe Ann Arbor Book Festival (http://aabookfestival.org/2016-festival/) promotes reading\, heightens awareness of literacy challenges\, and showcases the rich culture of the written word in Michigan and beyond.
UID:30923-3891034@events.umich.edu
URL:https://events.umich.edu/event/30923
CLASS:PUBLIC
STATUS:CONFIRMED
CATEGORIES:Library,Writing,Poetry,Literature,Books
LOCATION:Off Campus Location
CONTACT:
END:VEVENT
BEGIN:VEVENT
DTSTAMP:20160517T085933
DTSTART;TZID=America/Detroit:20160618T200000
DTEND;TZID=America/Detroit:20160618T220000
SUMMARY:Performance:Bebel Gilberto at Ann Arbor Summer Fest
DESCRIPTION:Renown Brazilian singer Bebel Gilberto will be performing as part of the Ann Arbor Summer Festival. For more information see http://a2sf.org/events/bebel-gilberto/.
UID:30731-3734335@events.umich.edu
URL:https://events.umich.edu/event/30731
CLASS:PUBLIC
STATUS:CONFIRMED
CATEGORIES:Music
LOCATION:Power Center for the Performing Arts
CONTACT:
END:VEVENT
BEGIN:VEVENT
DTSTAMP:20160315T115040
DTSTART;TZID=America/Detroit:20160618T200000
SUMMARY:Performance:Hayes Carll
DESCRIPTION:Hayes Carll is an odd mix. Wildly literate\, impossibly romantic\, absolutely a slave to the music\, this modern-day Texan is completely committed to the truth and unafraid to skewer pomposity\, hypocrisy and small-minded thinking. He connects with music lovers across genre lines. Playing rock clubs and honkytonks\, Bonnaroo\, Stones Fest\, SXSW and NXNE\, he and his band the Gulf Coast Orchestra merge Ray Wylie Hubband’s lean freewheeling squalor with Todd Snider’s brazen Gen Y reality and a healthy dose of love among unhealthy people. Hayes returns to The Ark with the Joe Henry–produced \"Lovers and Leavers\,\" his first new album in five years. \"I went through a divorce. I fell in love. Changes were made\, realizations were realized\, and life was lived\,\" Hayes explains. \"But\, I kept on writing songs\, on my own and with a cast of accomplished characters who combined their own stories and perspectives with mine. “Lovers and Leavers” isn’t funny or raucous. There are very few hoots and almost no hollers. But it is joyous\, and it makes me smile. No\, it’s not my “Blood on the Tracks\,” nor is it any kind of opus. It’s my fifth record—a reflection of a specific time and place.It is quiet\, like I wanted it to be. Like I wanted to be.\" Tonight's opener is Emily Gimble\, granddaughter of Texas fiddle legend Johnny Gimble.
UID:29253-3031666@events.umich.edu
URL:https://events.umich.edu/event/29253
CLASS:PUBLIC
STATUS:CONFIRMED
CATEGORIES:Music,The Ark
LOCATION:Off Campus Location - The Ark, 316 S. Main, Ann Arbor, MI
CONTACT:
END:VEVENT
END:VCALENDAR