BEGIN:VCALENDAR
VERSION:2.0
PRODID:-//UM//UM*Events//EN
CALSCALE:GREGORIAN
BEGIN:VTIMEZONE
TZID:America/Detroit
TZURL:http://tzurl.org/zoneinfo/America/Detroit
X-LIC-LOCATION:America/Detroit
BEGIN:DAYLIGHT
TZOFFSETFROM:-0500
TZOFFSETTO:-0400
TZNAME:EDT
DTSTART:20070311T020000
RRULE:FREQ=YEARLY;BYMONTH=3;BYDAY=2SU
END:DAYLIGHT
BEGIN:STANDARD
TZOFFSETFROM:-0400
TZOFFSETTO:-0500
TZNAME:EST
DTSTART:20071104T020000
RRULE:FREQ=YEARLY;BYMONTH=11;BYDAY=1SU
END:STANDARD
END:VTIMEZONE
BEGIN:VEVENT
DTSTAMP:20160513T150824
DTSTART;TZID=America/Detroit:20160826T080000
DTEND;TZID=America/Detroit:20160826T200000
SUMMARY:Exhibition:Gifts of Art presents Abstraction: A Graphic Study
DESCRIPTION:Chicago-based artist Natasha Kohli uses abstract acrylic paintings to convey her messages of positivity and love by pouring that energy into each piece. As a self-taught artist\, Kohli is not bound to school taught rules but rather follows instinct and spontaneity. This also allows her to freely create her own processes. Moments of introspection and feelings of acceptance are what Kohli wishes to offer viewers of her work\, and these goals are inspired by her deep love of spirituality and Bikram yoga.
UID:30719-3703721@events.umich.edu
URL:https://events.umich.edu/event/30719
CLASS:PUBLIC
STATUS:CONFIRMED
CATEGORIES:Art,Health & Wellness
LOCATION:University Hospitals - Gifts of Art Gallery — University Hospital Main Lobby, Floor 1
CONTACT:
END:VEVENT
BEGIN:VEVENT
DTSTAMP:20160513T151140
DTSTART;TZID=America/Detroit:20160826T080000
DTEND;TZID=America/Detroit:20160826T200000
SUMMARY:Exhibition:Gifts of Art presents Concrete Ephemera: Street Art Captured
DESCRIPTION:David Zinn has been drawing on sidewalks for well over a decade\, using chalk and charcoal to create anamorphic 3D creatures which\, when viewed at a precise angle\, appear to exist in the real world. They often incorporate parts of the landscape and found objects\, such as cracks in concrete or leaves on the ground. He is inspired by a desire to place cheerful art underfoot in unexpected places and to embrace the temporary nature of all things. For this exhibit\, photographs of his street art installations will be on display. Zinn is a lifelong Michigander with a degree in creative writing from the U-M Residential College\, and he worked for many years as a children’s radio host on WCBN and Michigan Radio. Zinn will also give an artist demonstration alongside a musical performance by Magdalen Fossum in the University Hospital Courtyard on Thurs\, July 21\, 2016 from 12:00-1:00 pm.
UID:30720-3703805@events.umich.edu
URL:https://events.umich.edu/event/30720
CLASS:PUBLIC
STATUS:CONFIRMED
CATEGORIES:Art,Health & Wellness
LOCATION:University Hospitals - Gifts of Art Gallery — University Hospital Main Corridor, Floor 2
CONTACT:
END:VEVENT
BEGIN:VEVENT
DTSTAMP:20160513T143042
DTSTART;TZID=America/Detroit:20160826T080000
DTEND;TZID=America/Detroit:20160826T200000
SUMMARY:Exhibition:Gifts of Art presents Detroit Area Artists Photo Portrait Project
DESCRIPTION:Donita Simpson is a Detroit based photographer who creates images of Detroit area artists in their personal creative environments. She has an M.F.A. in photography from Wayne State University\, and her work is currently on exhibit in The Outwin 2016: American Portraiture Today at the Smithsonian National Portrait Gallery. The Detroit Area Artists Portrait Project contains images of artists that have been making art in and around the city for over 20 years. They are captured in an environment that inspires them\, often their home or their studio.
UID:30717-3703553@events.umich.edu
URL:https://events.umich.edu/event/30717
CLASS:PUBLIC
STATUS:CONFIRMED
CATEGORIES:Art,Health & Wellness
LOCATION:Taubman Center - Gifts of Art Gallery — Taubman Health Center South Lobby, Floor 1
CONTACT:
END:VEVENT
BEGIN:VEVENT
DTSTAMP:20160513T144136
DTSTART;TZID=America/Detroit:20160826T080000
DTEND;TZID=America/Detroit:20160826T200000
SUMMARY:Exhibition:Gifts of Art presents Dimensions: Group Show
DESCRIPTION:This group exhibit features a collection of contemporary artist’s books. Many different styles of alternative bindings and printing methods will be shown that often push the boundaries of traditional books and\, in the process\, become art objects. The show will also include mixed media sculptural pieces by Ray Wetzel and Phillip Dewey. The Michigan and Ohio book artists include Char Bacon\, Ruth Bardenstein\, Elizabeth Begue\, Barbara Brown\, Cecilia Escobar\, Alvey Jones and Norma Penchansky-Glasser.
UID:30718-3703637@events.umich.edu
URL:https://events.umich.edu/event/30718
CLASS:PUBLIC
STATUS:CONFIRMED
CATEGORIES:Art,Health & Wellness
LOCATION:Taubman Center - Gifts of Art Gallery — Taubman Health Center South Lobby, Floor 1
CONTACT:
END:VEVENT
BEGIN:VEVENT
DTSTAMP:20160513T142303
DTSTART;TZID=America/Detroit:20160826T080000
DTEND;TZID=America/Detroit:20160826T200000
SUMMARY:Exhibition:Gifts of Art presents Landscapes Imagined: Oil on Canvas
DESCRIPTION:Victoria Veedell creates atmospheric landscape paintings in oil on canvas\, capturing the fleeting moments of light in nature. The root of her work is an emotional reaction to the environment\, implying landscapes not necessarily seen but felt. Veedell lives and works in San Francisco\, and she is inspired by her global travels to places as far away as India and as near as Napa Valley\, California. Travel is an important component of her work as it allows her to observe and compare gradients of color\, light and atmosphere in different geographic locations.
UID:30715-3703385@events.umich.edu
URL:https://events.umich.edu/event/30715
CLASS:PUBLIC
STATUS:CONFIRMED
CATEGORIES:Art,Health & Wellness
LOCATION:Taubman Center - Gifts of Art Gallery — Taubman Health Center North Lobby, Floor 1
CONTACT:
END:VEVENT
BEGIN:VEVENT
DTSTAMP:20160513T151832
DTSTART;TZID=America/Detroit:20160826T080000
DTEND;TZID=America/Detroit:20160826T170000
SUMMARY:Exhibition:Gifts of Art presents Portals: Fiber Art Quilts
DESCRIPTION:Creative Seasons is a small yet vibrant group of non-traditional quilters from Southeast Michigan that meets monthly. The group’s purpose is to share knowledge\, techniques and work collaboratively on projects and exhibits as decided by the group. The definition of a portal is a door\, means of entrance\, gateway\, approach or architectural composition surrounding an opening. The group chose to interpret this theme with a broad variety of art quilts incorporating hand-dyed and painted fabrics as well as a variety of surface embellishments.
UID:30722-3703973@events.umich.edu
URL:https://events.umich.edu/event/30722
CLASS:PUBLIC
STATUS:CONFIRMED
CATEGORIES:Art,Health & Wellness
LOCATION:Cancer Center - Gifts of Art Gallery — Comprehensive Cancer Center, Level 1
CONTACT:
END:VEVENT
BEGIN:VEVENT
DTSTAMP:20160513T151534
DTSTART;TZID=America/Detroit:20160826T080000
DTEND;TZID=America/Detroit:20160826T200000
SUMMARY:Exhibition:Gifts of Art presents Seriously Playful Jewelry: Mixed Media
DESCRIPTION:Rural Pennsylvania artists Lisa & Scott Cylinder have been husband and wife collaborators in Chickenscratch Art Jewelry since 1988\, having met at Tyler School of Art in Philadelphia\, Pennsylvania. Working together they have developed a wonderful exchange and interplay of ideas\, concepts and techniques\, involving meticulous fabrication with many different materials and processes. Their influences are varied and vast: modern art\, scientific phenomena\, 20th century artifacts\, nature and film play upon their ideas and how they manifest them into jewelry objects. Lisa & Scott Cylinder work to create art that stimulates conversation and curiosity.
UID:30721-3703889@events.umich.edu
URL:https://events.umich.edu/event/30721
CLASS:PUBLIC
STATUS:CONFIRMED
CATEGORIES:Art,Health & Wellness
LOCATION:University Hospitals - Gifts of Art Gallery — University Hospital Main Corridor, Floor 2.
CONTACT:
END:VEVENT
BEGIN:VEVENT
DTSTAMP:20160513T142706
DTSTART;TZID=America/Detroit:20160826T080000
DTEND;TZID=America/Detroit:20160826T200000
SUMMARY:Exhibition:Gifts of Art presents The Whimsical World of Bechler Pottery
DESCRIPTION:The mixed media work of Stacey and Corey Bechler is whimsical\, colorful and fun. They use popular icons such as fish\, birds\, dogs and landscapes as their subjects\, and they make them look whimsical with elaborate colors\, shapes and textures. They work to create a powerful visual contrast within each piece. Using clay and glaze as a base for each of their pieces\, they often add touches of copper\, assorted wires and driftwood found near their beach home.  They live on the shore of Lake Michigan inside Sleeping Bear Dunes National Park.
UID:30716-3703469@events.umich.edu
URL:https://events.umich.edu/event/30716
CLASS:PUBLIC
STATUS:CONFIRMED
CATEGORIES:Art,Health & Wellness
LOCATION:Taubman Center - Gifts of Art Gallery — Taubman Health Center North Lobby, Floor 1
CONTACT:
END:VEVENT
BEGIN:VEVENT
DTSTAMP:20160622T094409
DTSTART;TZID=America/Detroit:20160826T080000
DTEND;TZID=America/Detroit:20160826T170000
SUMMARY:Exhibition:Proclaiming Emancipation
DESCRIPTION:Today the Emancipation Proclamation is one of our nation’s critical documents. It symbolizes a remarkable turning point: slavery’s extinction in the United States became possible and indeed highly likely. Still\, our views of that moment may be as varied as they were 150 years ago.\n\nProclaiming Emancipation explores reflections upon the Proclamation and the meaning of emancipation through the holdings of the William L. Clements Library\, with select items from collaborating institutions. \n\nThrough an exploration of freedom\, military service\, executive power and visual representations\, Proclaiming Emancipation pays tribute to a near-sacred document steeped in the logic of history and the imaginings of myth.\n-----------------------------------------------------\nSponsored by the Program in Race\, Law & History and the William L. Clements Library\, in cooperation with the University of Michigan Library. Martha S. Jones and Clayton Lewis\, curators.\n\nPROCLAIMING EMANCIPATION has been made possible through the generous support of Faith (AB ‘69) and Stephen (AB ‘66\, JD ‘69) Brown\, and at the University of Michigan: College of Literature\, Science and the Arts\, Office of the Vice President for Research\, Department of Afroamerican and African Studies\, Rackham Graduate School\, Institute for the Humanities\, Law in Slavery and Freedom Project\, and the Understanding Race Theme Semester.
UID:31039-4010911@events.umich.edu
URL:https://events.umich.edu/event/31039
CLASS:PUBLIC
STATUS:CONFIRMED
CATEGORIES:African American,Detroit,Diversity,Exhibition,History,Law,Library,Rackham,Research,Social Justice
LOCATION:Detroit Center - Monts Hall Gallery
CONTACT:
END:VEVENT
BEGIN:VEVENT
DTSTAMP:20160915T121551
DTSTART;TZID=America/Detroit:20160826T090000
DTEND;TZID=America/Detroit:20160826T170000
SUMMARY:Exhibition:Exhibition. Invisible Women: Portraits of Aging in Ukraine
DESCRIPTION:Photography by Ashley Bigham\, 2015-16 Walter B. Sanders Fellow\, Taubman College of Architecture and Urban Planning\, U-M\; Watercolors by Grace Mahoney\, doctoral student in Slavic languages and literatures\, U-M.\n\nIn this exhibition\, artists Bigham and Mahoney investigate the visibility and social role of Ukraine’s older generation of women—embodied in a figure both iconic and ubiquitous\, the babusya. Seen in public transport\, in the market\, and on the street\, each babusya has a story to tell. Each has something to say\, something to gossip about\, and something to complain about. The current generation of Ukrainian grandmothers survived World War II\, the Holodomor\, and multiple repressions. They are also active in the present—although civic activism is often thought to be the province of the young\, many babusya joined in the actions of Ukraine’s Revolution of Dignity in Kyiv and throughout the country. Now they witness the war in Eastern Ukraine. Many of them have lost their homes and some of them have lost their children or grandchildren. The generation called\, “The Children of War” are now seniors of war. \n    \nIn addition to their historic significance as a generation\, these women are present in the spheres of daily life throughout the country. Possibly overlooked in society\, these women are vibrant and active in the public spaces of contemporary Ukraine. Working in the open-air bazaars\, resting on public park benches\, or strolling through cemeteries\, these women stake their claim on the urban space—blending\, coalescing\, disappearing. This exhibit endeavors to tell the stories of these grannies. It’s an invitation to look closer\, to see the stories which are written on their faces – they are old and tired\, but not invisible. \n    \nAshley Bigham is a lecturer and the 2015-2016 Walter B. Sanders Fellow at the University of Michigan Taubman College of Architecture and Urban Planning. Prior to her appointment at Taubman College\, Ashley was a Fulbright Fellow in Lviv\, Ukraine\, researching and teaching at the Center of Urban History of East Central Europe. Bigham holds a Master of Architecture from Yale University and a Bachelor of Architecture from the University of Tennessee. \n    \nGrace Mahoney is a Ph.D. student in Slavic Languages and Literatures. In 2014-15 she lived in Ukraine on a U.S. Student Fulbright fellowship and interned with the Revolution of Dignity Museum in Kyiv in summer 2016. She has Bachelor's degrees in Visual Art and English Literature from Seattle University. Her work from this show was originally shown in the exhibition Portraits of the Unlost at America House in Kyiv in summer 2015. \n    \nAn artists’ talk will be held from 4-5:30 pm on Friday\, September 23 in 1636 SSWB.\n\nExhibition sponsors: Center for Russian\, East European\, and Eurasian Studies\; A. Alfred Taubman College of Architecture + Urban Planning\; Women's Studies Department\; Department of Slavic Languages & Literatures
UID:31592-4364080@events.umich.edu
URL:https://events.umich.edu/event/31592
CLASS:PUBLIC
STATUS:CONFIRMED
CATEGORIES:Art,European,International,Visual Arts
LOCATION:School of Social Work Building - International Institute Gallery
CONTACT:
END:VEVENT
BEGIN:VEVENT
DTSTAMP:20160512T143154
DTSTART;TZID=America/Detroit:20160826T090000
DTEND;TZID=America/Detroit:20160826T170000
SUMMARY:Exhibition:Extreme Time
DESCRIPTION:Think you know all about time?  What about things that happen in femtoseconds or eons?  Time in the natural world is so extreme\, you can’t even perceive most of its scale unaided. You’ll be amazed by the types of time you can explore in our new exhibit\, and learn more about everyday time and how we measure it\, too!  The exhibit is open!
UID:27873-2579296@events.umich.edu
URL:https://events.umich.edu/event/27873
CLASS:PUBLIC
STATUS:CONFIRMED
CATEGORIES:Family,Free,Museum
LOCATION:Ruthven Museums Building
CONTACT:
END:VEVENT
BEGIN:VEVENT
DTSTAMP:20160506T162225
DTSTART;TZID=America/Detroit:20160826T100000
DTEND;TZID=America/Detroit:20160826T170000
SUMMARY:Exhibition:A New Treasure Trove at Special Collections
DESCRIPTION:This display showcases recent acquisitions that strengthen our extraordinary holdings in the areas of radical literature\, transportation history\, film\, rare books\, culinary history\, Islamic manuscripts\, children’s literature\, and Judaica. View an eclectic display of unique artifacts that reflect the broad range of our collections.\n\nArtifacts on display include historical treasures like Emma Goldman’s well-traveled suitcase\, Orson Welles’ cutting script for the film Around the World\, a fifteenth-century manuscript containing an Arabic treatise of materia media attributed to Galen\, a 1850 contract for the remount of the moving machinery of the St. Peterburg and Moscow Railway\, and Mildred Taylor’s illustrated novella for children\, The Gold Cadillac\, narrating a Northern black family’s experience of Southern segregation and prejudice during the 1950s as seen through the eyes of a young girl.\n\nExhibit Hours: Monday-Friday\, 10am-5pm\nClosed Memorial Day\, 4th of July\, and Labor Day
UID:30662-3646230@events.umich.edu
URL:https://events.umich.edu/event/30662
CLASS:PUBLIC
STATUS:CONFIRMED
CATEGORIES:Exhibition,Library
LOCATION:Hatcher Graduate Library - 7th Floor Exhibit Space
CONTACT:
END:VEVENT
BEGIN:VEVENT
DTSTAMP:20160523T155817
DTSTART;TZID=America/Detroit:20160826T100000
DTEND;TZID=America/Detroit:20160826T160000
SUMMARY:Exhibition:Supporting Scholarship: Eight Topics Documented in the Clements Library
DESCRIPTION:Come and see what brings researchers from around the world to the William L Clements Library to explore its historical collections. This exhibit highlights eight research topics that the holdings of the Clements support. They include: Exploration and Discovery\; Colonial America\; Conflict\; Age of Revolution\; Education\; Business and Trade\; Religion & Reform\; and The Under-Represented. \n\nVisit to see rare treasures that reflect the broad range of early maps\, manuscripts\, books\, prints\, and photography in our collections.  For more information about the Library and using it for research\, please visit our website at clements.umich.edu. \n\nThis exhibit will close on October 28\, 2016.
UID:30795-3776671@events.umich.edu
URL:https://events.umich.edu/event/30795
CLASS:PUBLIC
STATUS:CONFIRMED
CATEGORIES:Education,Exhibition,History,Library,Lifelong Learning
LOCATION:William Clements Library
CONTACT:
END:VEVENT
BEGIN:VEVENT
DTSTAMP:20160422T140125
DTSTART;TZID=America/Detroit:20160826T110000
DTEND;TZID=America/Detroit:20160826T170000
SUMMARY:Exhibition:Catie Newell: Overnight
DESCRIPTION:Detroit-based architect Catie Newell’s work is focused on the tactile\, sensory qualities of the materials we use to build things: their texture\, density\, or malleability. Her investigations combine architectural research\, material studies\, and art experiments\, a strategy she began as a student that now defines her career.\n\nThe most important element in her formal vocabulary is light\, not only as a “material” in its own right\, but also as a condition. Varying in strength\, form\, and duration\, light constructs architecture as a situational experience rather than a fixed space. Newell’s fascination with light is a fascination with darkness. Through urban interventions\, installations\, and photographs\, she investigates how darkness creates alternate environments\, with unseen geographies\, untold histories\, and secret identities.\n\nNewell\, assistant professor of architecture at U-M Taubman College of Architecture and Urban Planning\, is a recent recipient of the Rome Prize in architecture. Overnight includes photographs from her Rome project as well as new photography from the series Nightly\, featuring nighttime images of Detroit streetscapes and interiors\, alongside a site-specific sculptural installation commissioned by the Museum.
UID:30497-3530639@events.umich.edu
URL:https://events.umich.edu/event/30497
CLASS:PUBLIC
STATUS:CONFIRMED
CATEGORIES:Art,Exhibition,Museum,UMMA
LOCATION:Museum of Art - Irving Stenn, Jr. Family Gallery
CONTACT:
END:VEVENT
BEGIN:VEVENT
DTSTAMP:20160329T124905
DTSTART;TZID=America/Detroit:20160826T110000
DTEND;TZID=America/Detroit:20160826T170000
SUMMARY:Exhibition:Manuel Álvarez Bravo: Mexico’s Poet of Light
DESCRIPTION:Manuel Álvarez Bravo spent nearly his entire career photographing his native Mexico. His style drew upon numerous international influences\, ranging from the Modernism of Edward Weston and Tina Modotti\, whom he met when they spent time in Mexico in the 1920s\, to the formally exquisite photojournalism of Henri Cartier-Bresson and Walker Evans\, whose work he knew in New York\, and the Surrealism of André Breton\, who visited Mexico around 1940.\n\nAlthough not strictly Surrealist\, many of Álvarez Bravo’s works manifest a similarly fantastical mood\; one of the artist’s most arresting qualities is his ability to imbue scenes of everyday life with an otherworldly\, metaphysical power. The twenty-three photographs in the exhibition\, drawn from UMMA’s collections\, show the artist’s ability to synthesize a personal—even nationalistic—style that merged the motifs of Mexican religious and indigenous works and plant forms (such as agave leaves) with a Modernist approach to image making. Throughout\, the presence of light as a wondrous metaphor and revealer of life animates even the emptiest and most silent of Álvarez Bravo’s scenes.\n\n**Special hours Sundays: 12–5pm\, CLOSED Mondays
UID:30043-3321448@events.umich.edu
URL:https://events.umich.edu/event/30043
CLASS:PUBLIC
STATUS:CONFIRMED
CATEGORIES:Exhibition,Museum,UMMA,Visual Arts
LOCATION:Museum of Art - Photography Gallery
CONTACT:
END:VEVENT
BEGIN:VEVENT
DTSTAMP:20160706T154352
DTSTART;TZID=America/Detroit:20160826T110000
DTEND;TZID=America/Detroit:20160826T170000
SUMMARY:Exhibition:Mira Henry: The View Inside
DESCRIPTION:Before joining the faculty of the Southern California Institute of Architecture in Los Angeles\, Mira Henry spent several years as a project architect\, immersed in the everyday\, banal details of how buildings get built: construction drawings\, material specs\, and building codes. She became an expert in seeing the world the way an architect sees it. But as a progressive architectural thinker\, Henry’s inspiration has been to deconstruct that vision\, to “unsee” the very forms and representations that constitute an architect’s basic language.\n\nThrough speculative experiments and conceptual drawings Henry discovers in static architectural details an unsettling range of figurative expression\, including\, for example\, the way the profiles of roof eaves resemble human heads. Wallpaper\, with its ability to mask\, transform\, or animate a space\, is also a prominent element in her work. Her projects explore how these features animate our subjective experience—what she calls our “shifting fantasies”—of architectural space.\nLead support for this exhibition is provided by the Herbert W. and Susan L. Johe Endowment.
UID:31189-4136543@events.umich.edu
URL:https://events.umich.edu/event/31189
CLASS:PUBLIC
STATUS:CONFIRMED
CATEGORIES:Architecture,Art,UMMA
LOCATION:Off Campus Location
CONTACT:
END:VEVENT
BEGIN:VEVENT
DTSTAMP:20160726T110558
DTSTART;TZID=America/Detroit:20160826T110000
DTEND;TZID=America/Detroit:20160826T120000
SUMMARY:Workshop / Seminar:Tech Talk: Meet the Canvas Crew
DESCRIPTION:Learn the ins and outs of using Canvas\, including tips on using the mobile app\, integrating Canvas with your Google calendar\, and customizing your notifications.
UID:31520-4311343@events.umich.edu
URL:https://events.umich.edu/event/31520
CLASS:PUBLIC
STATUS:CONFIRMED
CATEGORIES:Information and Technology,Workshop
LOCATION:Michigan Union - G-312
CONTACT:
END:VEVENT
BEGIN:VEVENT
DTSTAMP:20160422T140757
DTSTART;TZID=America/Detroit:20160826T110000
DTEND;TZID=America/Detroit:20160826T170000
SUMMARY:Exhibition:The Connoisseurs’ Legacy: The Collection of Nesta and Walter Spink
DESCRIPTION:The Connoisseurs’ Legacy: The Collection of Nesta and Walter Spink celebrates gifts to the museum from two accomplished scholars with eclectic interests\, a keen appreciation of form\, and a love of learning from objects. Nesta Spink\, curator at UMMA from 1967 to 1979\, is regarded as the preeminent authority on the lithographs of James McNeill Whistler. U-M professor emeritus Walter Spink is a world-renowned specialist on early Buddhist art and architecture in India. This selection of their gifts\, exhibited together for the first time\, provides insight into the minds of two connoisseurs with tastes that range far beyond their areas of specialization\; highlights include exquisite Whistler prints that are rarely on display and a rich representation of South Asian folk art. The Connoisseurs’ Legacy also honors the Spinks’ long relationship with the museum\, their roles as teachers of future scholars and curators\, and their commitment to public education.
UID:30500-3530783@events.umich.edu
URL:https://events.umich.edu/event/30500
CLASS:PUBLIC
STATUS:CONFIRMED
CATEGORIES:Art,Exhibition,India,Museum,UMMA
LOCATION:Museum of Art - A. Alfred Taubman Gallery
CONTACT:
END:VEVENT
BEGIN:VEVENT
DTSTAMP:20160804T121736
DTSTART;TZID=America/Detroit:20160826T113000
DTEND;TZID=America/Detroit:20160826T121500
SUMMARY:Presentation:The Sky Tonight: Live Star Talk
DESCRIPTION:Bright stars\, constellations\, planets\, and telescopic objects in the current night sky will be discussed in this live “star talk.” Then leave Earth and fly out into space to examine the planets and other distant objects.
UID:31693-4390635@events.umich.edu
URL:https://events.umich.edu/event/31693
CLASS:PUBLIC
STATUS:CONFIRMED
CATEGORIES:Family,Museum
LOCATION:Ruthven Museums Building
CONTACT:
END:VEVENT
BEGIN:VEVENT
DTSTAMP:20160804T122728
DTSTART;TZID=America/Detroit:20160826T123000
DTEND;TZID=America/Detroit:20160826T131500
SUMMARY:Presentation:Larry Cat\, In Space
DESCRIPTION:Larry Cat\, In Space is a playful\, imaginative cartoon presentation about an inquisitive cat that takes a trip to the Moon. We learn that his human\, Diana\, has been sent to the Moon. Larry finds a way to sneak on board a shuttle\, and goes looking for Diana. Along the way\, he learns about space and the Moon.
UID:31694-4392914@events.umich.edu
URL:https://events.umich.edu/event/31694
CLASS:PUBLIC
STATUS:CONFIRMED
CATEGORIES:Family,Museum
LOCATION:Ruthven Museums Building
CONTACT:
END:VEVENT
BEGIN:VEVENT
DTSTAMP:20160804T121736
DTSTART;TZID=America/Detroit:20160826T133000
DTEND;TZID=America/Detroit:20160826T141500
SUMMARY:Presentation:The Sky Tonight: Live Star Talk
DESCRIPTION:Bright stars\, constellations\, planets\, and telescopic objects in the current night sky will be discussed in this live “star talk.” Then leave Earth and fly out into space to examine the planets and other distant objects.
UID:31693-4390665@events.umich.edu
URL:https://events.umich.edu/event/31693
CLASS:PUBLIC
STATUS:CONFIRMED
CATEGORIES:Family,Museum
LOCATION:Ruthven Museums Building
CONTACT:
END:VEVENT
BEGIN:VEVENT
DTSTAMP:20160826T145810
DTSTART;TZID=America/Detroit:20160826T140000
DTEND;TZID=America/Detroit:20160826T150000
SUMMARY:Lecture / Discussion:Dieudonne Fokou
DESCRIPTION:Dieudonne Fokou from Cameroon experiments continuously with new media\, as he explores different modes of creation in the plastic arts. Please join us as he discusses his art and fascinating means of expressing his hopes for a better world.
UID:32547-4592209@events.umich.edu
URL:https://events.umich.edu/event/32547
CLASS:PUBLIC
STATUS:CONFIRMED
CATEGORIES:Activism,Africa,Culture,Ecology,Environment,Outdoors,Social Justice,Sustainability,Visual Arts
LOCATION:Off Campus Location
CONTACT:
END:VEVENT
BEGIN:VEVENT
DTSTAMP:20160804T121736
DTSTART;TZID=America/Detroit:20160826T143000
DTEND;TZID=America/Detroit:20160826T151500
SUMMARY:Presentation:The Sky Tonight: Live Star Talk
DESCRIPTION:Bright stars\, constellations\, planets\, and telescopic objects in the current night sky will be discussed in this live “star talk.” Then leave Earth and fly out into space to examine the planets and other distant objects.
UID:31693-4392883@events.umich.edu
URL:https://events.umich.edu/event/31693
CLASS:PUBLIC
STATUS:CONFIRMED
CATEGORIES:Family,Museum
LOCATION:Ruthven Museums Building
CONTACT:
END:VEVENT
BEGIN:VEVENT
DTSTAMP:20170629T121705
DTSTART;TZID=America/Detroit:20160826T190000
SUMMARY:Sporting Event:Michigan Volleyball vs. Saint Louis
DESCRIPTION:Michigan Volleyball vs. Saint Louis
UID:32594-4594619@events.umich.edu
URL:https://events.umich.edu/event/32594
CLASS:PUBLIC
STATUS:CONFIRMED
CATEGORIES:Athletics,Athletics - Volleyball
LOCATION:Off Campus Location
CONTACT:
END:VEVENT
BEGIN:VEVENT
DTSTAMP:20160711T115103
DTSTART;TZID=America/Detroit:20160826T200000
SUMMARY:Performance:Ellis Paul
DESCRIPTION:\"I got a word machine in my head. It's a damn noisy contraption. Constantly running. No 'off' switch\,\" says Ellis Paul. After growing up on a potato farm in northern Maine\, Ellis started writing songs while he was attending Boston College on a track scholarship and was laid up for several months with an injury. He's often called the quintessential New England songwriter\, and he's got a baker's dozen of Boston Music Awards to prove it. Ellis's passionate\, literate character sketches\, delivered in a soaring\, lyrical voice\, have influenced a generation of folksters toward the shamelessly poetic. The Boston Globe calls Ellis \"literate\, provocative\, urbanely romantic.\" Whatever you call him\, he's one of the major songwriters of our time. Ellis's latest\, \"Chasing Beauty\,\" was produced by Kristian Bush of the country band Sugarland. Says Absolute Punk\, which you might not think would be reviewing Ellis's albums: \"Everyone can relate to Ellis Paul and his songs\, and for that reason he continues to be a national treasure.\"
UID:29355-3076211@events.umich.edu
URL:https://events.umich.edu/event/29355
CLASS:PUBLIC
STATUS:CONFIRMED
CATEGORIES:Music,The Ark
LOCATION:Off Campus Location - The Ark, 316 S. Main, Ann Arbor, MI
CONTACT:
END:VEVENT
END:VCALENDAR