BEGIN:VCALENDAR
VERSION:2.0
PRODID:-//UM//UM*Events//EN
CALSCALE:GREGORIAN
BEGIN:VTIMEZONE
TZID:America/Detroit
TZURL:http://tzurl.org/zoneinfo/America/Detroit
X-LIC-LOCATION:America/Detroit
BEGIN:DAYLIGHT
TZOFFSETFROM:-0500
TZOFFSETTO:-0400
TZNAME:EDT
DTSTART:20070311T020000
RRULE:FREQ=YEARLY;BYMONTH=3;BYDAY=2SU
END:DAYLIGHT
BEGIN:STANDARD
TZOFFSETFROM:-0400
TZOFFSETTO:-0500
TZNAME:EST
DTSTART:20071104T020000
RRULE:FREQ=YEARLY;BYMONTH=11;BYDAY=1SU
END:STANDARD
END:VTIMEZONE
BEGIN:VEVENT
DTSTAMP:20160826T113227
DTSTART;TZID=America/Detroit:20160909T220000
DTEND;TZID=America/Detroit:20160910T020000
SUMMARY:Social / Informal Gathering:UMix Olympics
DESCRIPTION:Spend a night in the Michigan Union reliving the recent Summer Olympics! Challenge friends on the inflatable Joust or Boxing Ring\, play Bingo\, make a Photo Finish Photo Holder\, and enjoy a throw back showing of Space Jam. We also have a Pasta Buffet at Midnight featuring Olympic themed treats! Celebrate your first week of classes with the Center of Campus Involvement and UMix Late Night at the UMix Olympics.
UID:32516-4589871@events.umich.edu
URL:https://events.umich.edu/event/32516
CLASS:PUBLIC
STATUS:CONFIRMED
CATEGORIES:Food,Free,Games,Umix,Welcome to Michigan
LOCATION:Michigan Union
CONTACT:
END:VEVENT
BEGIN:VEVENT
DTSTAMP:20160910T180139
DTSTART;TZID=America/Detroit:20160910T000000
DTEND;TZID=America/Detroit:20160910T235959
SUMMARY:Sporting Event:Spartan Invite
DESCRIPTION:Michigan State University's Spartan Invite Water Polo Tournament in East Lansing\, MI
UID:31843-4731262@events.umich.edu
URL:https://events.umich.edu/event/31843
CLASS:PUBLIC
STATUS:CONFIRMED
CATEGORIES:
LOCATION:IM West Outdoor Pool
CONTACT:
END:VEVENT
BEGIN:VEVENT
DTSTAMP:20160513T150824
DTSTART;TZID=America/Detroit:20160910T080000
DTEND;TZID=America/Detroit:20160910T200000
SUMMARY:Exhibition:Gifts of Art presents Abstraction: A Graphic Study
DESCRIPTION:Chicago-based artist Natasha Kohli uses abstract acrylic paintings to convey her messages of positivity and love by pouring that energy into each piece. As a self-taught artist\, Kohli is not bound to school taught rules but rather follows instinct and spontaneity. This also allows her to freely create her own processes. Moments of introspection and feelings of acceptance are what Kohli wishes to offer viewers of her work\, and these goals are inspired by her deep love of spirituality and Bikram yoga.
UID:30719-3703736@events.umich.edu
URL:https://events.umich.edu/event/30719
CLASS:PUBLIC
STATUS:CONFIRMED
CATEGORIES:Art,Health & Wellness
LOCATION:University Hospitals - Gifts of Art Gallery — University Hospital Main Lobby, Floor 1
CONTACT:
END:VEVENT
BEGIN:VEVENT
DTSTAMP:20160513T151140
DTSTART;TZID=America/Detroit:20160910T080000
DTEND;TZID=America/Detroit:20160910T200000
SUMMARY:Exhibition:Gifts of Art presents Concrete Ephemera: Street Art Captured
DESCRIPTION:David Zinn has been drawing on sidewalks for well over a decade\, using chalk and charcoal to create anamorphic 3D creatures which\, when viewed at a precise angle\, appear to exist in the real world. They often incorporate parts of the landscape and found objects\, such as cracks in concrete or leaves on the ground. He is inspired by a desire to place cheerful art underfoot in unexpected places and to embrace the temporary nature of all things. For this exhibit\, photographs of his street art installations will be on display. Zinn is a lifelong Michigander with a degree in creative writing from the U-M Residential College\, and he worked for many years as a children’s radio host on WCBN and Michigan Radio. Zinn will also give an artist demonstration alongside a musical performance by Magdalen Fossum in the University Hospital Courtyard on Thurs\, July 21\, 2016 from 12:00-1:00 pm.
UID:30720-3703820@events.umich.edu
URL:https://events.umich.edu/event/30720
CLASS:PUBLIC
STATUS:CONFIRMED
CATEGORIES:Art,Health & Wellness
LOCATION:University Hospitals - Gifts of Art Gallery — University Hospital Main Corridor, Floor 2
CONTACT:
END:VEVENT
BEGIN:VEVENT
DTSTAMP:20160513T143042
DTSTART;TZID=America/Detroit:20160910T080000
DTEND;TZID=America/Detroit:20160910T200000
SUMMARY:Exhibition:Gifts of Art presents Detroit Area Artists Photo Portrait Project
DESCRIPTION:Donita Simpson is a Detroit based photographer who creates images of Detroit area artists in their personal creative environments. She has an M.F.A. in photography from Wayne State University\, and her work is currently on exhibit in The Outwin 2016: American Portraiture Today at the Smithsonian National Portrait Gallery. The Detroit Area Artists Portrait Project contains images of artists that have been making art in and around the city for over 20 years. They are captured in an environment that inspires them\, often their home or their studio.
UID:30717-3703568@events.umich.edu
URL:https://events.umich.edu/event/30717
CLASS:PUBLIC
STATUS:CONFIRMED
CATEGORIES:Art,Health & Wellness
LOCATION:Taubman Center - Gifts of Art Gallery — Taubman Health Center South Lobby, Floor 1
CONTACT:
END:VEVENT
BEGIN:VEVENT
DTSTAMP:20160513T144136
DTSTART;TZID=America/Detroit:20160910T080000
DTEND;TZID=America/Detroit:20160910T200000
SUMMARY:Exhibition:Gifts of Art presents Dimensions: Group Show
DESCRIPTION:This group exhibit features a collection of contemporary artist’s books. Many different styles of alternative bindings and printing methods will be shown that often push the boundaries of traditional books and\, in the process\, become art objects. The show will also include mixed media sculptural pieces by Ray Wetzel and Phillip Dewey. The Michigan and Ohio book artists include Char Bacon\, Ruth Bardenstein\, Elizabeth Begue\, Barbara Brown\, Cecilia Escobar\, Alvey Jones and Norma Penchansky-Glasser.
UID:30718-3703652@events.umich.edu
URL:https://events.umich.edu/event/30718
CLASS:PUBLIC
STATUS:CONFIRMED
CATEGORIES:Art,Health & Wellness
LOCATION:Taubman Center - Gifts of Art Gallery — Taubman Health Center South Lobby, Floor 1
CONTACT:
END:VEVENT
BEGIN:VEVENT
DTSTAMP:20160513T142303
DTSTART;TZID=America/Detroit:20160910T080000
DTEND;TZID=America/Detroit:20160910T200000
SUMMARY:Exhibition:Gifts of Art presents Landscapes Imagined: Oil on Canvas
DESCRIPTION:Victoria Veedell creates atmospheric landscape paintings in oil on canvas\, capturing the fleeting moments of light in nature. The root of her work is an emotional reaction to the environment\, implying landscapes not necessarily seen but felt. Veedell lives and works in San Francisco\, and she is inspired by her global travels to places as far away as India and as near as Napa Valley\, California. Travel is an important component of her work as it allows her to observe and compare gradients of color\, light and atmosphere in different geographic locations.
UID:30715-3703400@events.umich.edu
URL:https://events.umich.edu/event/30715
CLASS:PUBLIC
STATUS:CONFIRMED
CATEGORIES:Art,Health & Wellness
LOCATION:Taubman Center - Gifts of Art Gallery — Taubman Health Center North Lobby, Floor 1
CONTACT:
END:VEVENT
BEGIN:VEVENT
DTSTAMP:20160513T151832
DTSTART;TZID=America/Detroit:20160910T080000
DTEND;TZID=America/Detroit:20160910T170000
SUMMARY:Exhibition:Gifts of Art presents Portals: Fiber Art Quilts
DESCRIPTION:Creative Seasons is a small yet vibrant group of non-traditional quilters from Southeast Michigan that meets monthly. The group’s purpose is to share knowledge\, techniques and work collaboratively on projects and exhibits as decided by the group. The definition of a portal is a door\, means of entrance\, gateway\, approach or architectural composition surrounding an opening. The group chose to interpret this theme with a broad variety of art quilts incorporating hand-dyed and painted fabrics as well as a variety of surface embellishments.
UID:30722-3703988@events.umich.edu
URL:https://events.umich.edu/event/30722
CLASS:PUBLIC
STATUS:CONFIRMED
CATEGORIES:Art,Health & Wellness
LOCATION:Cancer Center - Gifts of Art Gallery — Comprehensive Cancer Center, Level 1
CONTACT:
END:VEVENT
BEGIN:VEVENT
DTSTAMP:20160513T151534
DTSTART;TZID=America/Detroit:20160910T080000
DTEND;TZID=America/Detroit:20160910T200000
SUMMARY:Exhibition:Gifts of Art presents Seriously Playful Jewelry: Mixed Media
DESCRIPTION:Rural Pennsylvania artists Lisa & Scott Cylinder have been husband and wife collaborators in Chickenscratch Art Jewelry since 1988\, having met at Tyler School of Art in Philadelphia\, Pennsylvania. Working together they have developed a wonderful exchange and interplay of ideas\, concepts and techniques\, involving meticulous fabrication with many different materials and processes. Their influences are varied and vast: modern art\, scientific phenomena\, 20th century artifacts\, nature and film play upon their ideas and how they manifest them into jewelry objects. Lisa & Scott Cylinder work to create art that stimulates conversation and curiosity.
UID:30721-3703904@events.umich.edu
URL:https://events.umich.edu/event/30721
CLASS:PUBLIC
STATUS:CONFIRMED
CATEGORIES:Art,Health & Wellness
LOCATION:University Hospitals - Gifts of Art Gallery — University Hospital Main Corridor, Floor 2.
CONTACT:
END:VEVENT
BEGIN:VEVENT
DTSTAMP:20160513T142706
DTSTART;TZID=America/Detroit:20160910T080000
DTEND;TZID=America/Detroit:20160910T200000
SUMMARY:Exhibition:Gifts of Art presents The Whimsical World of Bechler Pottery
DESCRIPTION:The mixed media work of Stacey and Corey Bechler is whimsical\, colorful and fun. They use popular icons such as fish\, birds\, dogs and landscapes as their subjects\, and they make them look whimsical with elaborate colors\, shapes and textures. They work to create a powerful visual contrast within each piece. Using clay and glaze as a base for each of their pieces\, they often add touches of copper\, assorted wires and driftwood found near their beach home.  They live on the shore of Lake Michigan inside Sleeping Bear Dunes National Park.
UID:30716-3703484@events.umich.edu
URL:https://events.umich.edu/event/30716
CLASS:PUBLIC
STATUS:CONFIRMED
CATEGORIES:Art,Health & Wellness
LOCATION:Taubman Center - Gifts of Art Gallery — Taubman Health Center North Lobby, Floor 1
CONTACT:
END:VEVENT
BEGIN:VEVENT
DTSTAMP:20160826T111548
DTSTART;TZID=America/Detroit:20160910T083000
DTEND;TZID=America/Detroit:20160910T160000
SUMMARY:Other:Taubman College Detroit Tour
DESCRIPTION:New architecture and urban planning students: get on board for our annual bus tour of Detroit! It is a close-up look at the history\, architecture\, and latest developments in Michigan's urban center. Highlights include downtown\, the riverfront\, and Eastern Market. Bring your camera! A box lunch is included for those who RSVP.\n\nPlease meet at the Art & Architecture Building\, Bonisteel Entrance\, at 830am to depart for Detroit. There will be 2 buses available\, both following the same tour. We expect to return to the colelge between 330 and 4pm.\n\nAttendance is limited to architecture and urban planning students only\, please.
UID:32517-4589875@events.umich.edu
URL:https://events.umich.edu/event/32517
CLASS:PUBLIC
STATUS:CONFIRMED
CATEGORIES:Architecture,Detroit,Welcome to Michigan
LOCATION:Art and Architecture Building
CONTACT:
END:VEVENT
BEGIN:VEVENT
DTSTAMP:20160826T103450
DTSTART;TZID=America/Detroit:20160910T100000
DTEND;TZID=America/Detroit:20160910T225000
SUMMARY:Exercise / Fitness:Group-X Free Week
DESCRIPTION:Join us for Group-X Free Week to try out any of our 80+ group fitness classes\, at any time\, in any location - for FREE between September 6th and 18th!
UID:32501-4589877@events.umich.edu
URL:https://events.umich.edu/event/32501
CLASS:PUBLIC
STATUS:CONFIRMED
CATEGORIES:Fitness,Free,Rec Sports,Welcome to Michigan
LOCATION:Central Campus Recreation Building (Bell Pool) - Room 3275
CONTACT:
END:VEVENT
BEGIN:VEVENT
DTSTAMP:20160816T170457
DTSTART;TZID=America/Detroit:20160910T100000
DTEND;TZID=America/Detroit:20160910T180000
SUMMARY:Exhibition:It's Still Terrific! Citizen Kane at 75
DESCRIPTION:Artifacts from the University of Michigan Library's various Orson Welles collections highlight the production of Citizen Kane\, often called the greatest film ever made. The year 2016 marks the film's 75th anniversary.\n\nAudubon Room Hours: Monday-Friday 8:30 am to 7 pm\, Saturday 10 am to 6 pm\, Sunday 1 pm to 7 pm
UID:32121-4499571@events.umich.edu
URL:https://events.umich.edu/event/32121
CLASS:PUBLIC
STATUS:CONFIRMED
CATEGORIES:Exhibition,Film,Library
LOCATION:Hatcher Graduate Library - Audubon Room
CONTACT:
END:VEVENT
BEGIN:VEVENT
DTSTAMP:20160908T142822
DTSTART;TZID=America/Detroit:20160910T100000
DTEND;TZID=America/Detroit:20160910T170000
SUMMARY:Exhibition:Residential College Art Gallery Exhibit
DESCRIPTION:Student Print Exchange - Ann Arbor/Havana Printmaking show - Opening Reception September 9\, 2016 4-6pm
UID:33299-4712564@events.umich.edu
URL:https://events.umich.edu/event/33299
CLASS:PUBLIC
STATUS:CONFIRMED
CATEGORIES:Art,Culture,Free,Multicultural,Museum,Visual Arts
LOCATION:East Quadrangle - Residential College Art Gallery
CONTACT:
END:VEVENT
BEGIN:VEVENT
DTSTAMP:20160422T140125
DTSTART;TZID=America/Detroit:20160910T110000
DTEND;TZID=America/Detroit:20160910T170000
SUMMARY:Exhibition:Catie Newell: Overnight
DESCRIPTION:Detroit-based architect Catie Newell’s work is focused on the tactile\, sensory qualities of the materials we use to build things: their texture\, density\, or malleability. Her investigations combine architectural research\, material studies\, and art experiments\, a strategy she began as a student that now defines her career.\n\nThe most important element in her formal vocabulary is light\, not only as a “material” in its own right\, but also as a condition. Varying in strength\, form\, and duration\, light constructs architecture as a situational experience rather than a fixed space. Newell’s fascination with light is a fascination with darkness. Through urban interventions\, installations\, and photographs\, she investigates how darkness creates alternate environments\, with unseen geographies\, untold histories\, and secret identities.\n\nNewell\, assistant professor of architecture at U-M Taubman College of Architecture and Urban Planning\, is a recent recipient of the Rome Prize in architecture. Overnight includes photographs from her Rome project as well as new photography from the series Nightly\, featuring nighttime images of Detroit streetscapes and interiors\, alongside a site-specific sculptural installation commissioned by the Museum.
UID:30497-3530654@events.umich.edu
URL:https://events.umich.edu/event/30497
CLASS:PUBLIC
STATUS:CONFIRMED
CATEGORIES:Art,Exhibition,Museum,UMMA
LOCATION:Museum of Art - Irving Stenn, Jr. Family Gallery
CONTACT:
END:VEVENT
BEGIN:VEVENT
DTSTAMP:20160329T124905
DTSTART;TZID=America/Detroit:20160910T110000
DTEND;TZID=America/Detroit:20160910T170000
SUMMARY:Exhibition:Manuel Álvarez Bravo: Mexico’s Poet of Light
DESCRIPTION:Manuel Álvarez Bravo spent nearly his entire career photographing his native Mexico. His style drew upon numerous international influences\, ranging from the Modernism of Edward Weston and Tina Modotti\, whom he met when they spent time in Mexico in the 1920s\, to the formally exquisite photojournalism of Henri Cartier-Bresson and Walker Evans\, whose work he knew in New York\, and the Surrealism of André Breton\, who visited Mexico around 1940.\n\nAlthough not strictly Surrealist\, many of Álvarez Bravo’s works manifest a similarly fantastical mood\; one of the artist’s most arresting qualities is his ability to imbue scenes of everyday life with an otherworldly\, metaphysical power. The twenty-three photographs in the exhibition\, drawn from UMMA’s collections\, show the artist’s ability to synthesize a personal—even nationalistic—style that merged the motifs of Mexican religious and indigenous works and plant forms (such as agave leaves) with a Modernist approach to image making. Throughout\, the presence of light as a wondrous metaphor and revealer of life animates even the emptiest and most silent of Álvarez Bravo’s scenes.\n\n**Special hours Sundays: 12–5pm\, CLOSED Mondays
UID:30043-3321463@events.umich.edu
URL:https://events.umich.edu/event/30043
CLASS:PUBLIC
STATUS:CONFIRMED
CATEGORIES:Exhibition,Museum,UMMA,Visual Arts
LOCATION:Museum of Art - Photography Gallery
CONTACT:
END:VEVENT
BEGIN:VEVENT
DTSTAMP:20160706T154352
DTSTART;TZID=America/Detroit:20160910T110000
DTEND;TZID=America/Detroit:20160910T170000
SUMMARY:Exhibition:Mira Henry: The View Inside
DESCRIPTION:Before joining the faculty of the Southern California Institute of Architecture in Los Angeles\, Mira Henry spent several years as a project architect\, immersed in the everyday\, banal details of how buildings get built: construction drawings\, material specs\, and building codes. She became an expert in seeing the world the way an architect sees it. But as a progressive architectural thinker\, Henry’s inspiration has been to deconstruct that vision\, to “unsee” the very forms and representations that constitute an architect’s basic language.\n\nThrough speculative experiments and conceptual drawings Henry discovers in static architectural details an unsettling range of figurative expression\, including\, for example\, the way the profiles of roof eaves resemble human heads. Wallpaper\, with its ability to mask\, transform\, or animate a space\, is also a prominent element in her work. Her projects explore how these features animate our subjective experience—what she calls our “shifting fantasies”—of architectural space.\nLead support for this exhibition is provided by the Herbert W. and Susan L. Johe Endowment.
UID:31189-4136558@events.umich.edu
URL:https://events.umich.edu/event/31189
CLASS:PUBLIC
STATUS:CONFIRMED
CATEGORIES:Architecture,Art,UMMA
LOCATION:Off Campus Location
CONTACT:
END:VEVENT
BEGIN:VEVENT
DTSTAMP:20160422T140757
DTSTART;TZID=America/Detroit:20160910T110000
DTEND;TZID=America/Detroit:20160910T170000
SUMMARY:Exhibition:The Connoisseurs’ Legacy: The Collection of Nesta and Walter Spink
DESCRIPTION:The Connoisseurs’ Legacy: The Collection of Nesta and Walter Spink celebrates gifts to the museum from two accomplished scholars with eclectic interests\, a keen appreciation of form\, and a love of learning from objects. Nesta Spink\, curator at UMMA from 1967 to 1979\, is regarded as the preeminent authority on the lithographs of James McNeill Whistler. U-M professor emeritus Walter Spink is a world-renowned specialist on early Buddhist art and architecture in India. This selection of their gifts\, exhibited together for the first time\, provides insight into the minds of two connoisseurs with tastes that range far beyond their areas of specialization\; highlights include exquisite Whistler prints that are rarely on display and a rich representation of South Asian folk art. The Connoisseurs’ Legacy also honors the Spinks’ long relationship with the museum\, their roles as teachers of future scholars and curators\, and their commitment to public education.
UID:30500-3530798@events.umich.edu
URL:https://events.umich.edu/event/30500
CLASS:PUBLIC
STATUS:CONFIRMED
CATEGORIES:Art,Exhibition,India,Museum,UMMA
LOCATION:Museum of Art - A. Alfred Taubman Gallery
CONTACT:
END:VEVENT
BEGIN:VEVENT
DTSTAMP:20160801T114258
DTSTART;TZID=America/Detroit:20160910T113000
DTEND;TZID=America/Detroit:20160910T120000
SUMMARY:Presentation:The Sky Tonight: Live Star Talk
DESCRIPTION:Bright stars\, constellations\, planets\, and telescopic objects in the current night sky will be discussed in this live “star talk.” Then leave Earth and fly out into space to examine the planets and other distant objects.
UID:31600-4364134@events.umich.edu
URL:https://events.umich.edu/event/31600
CLASS:PUBLIC
STATUS:CONFIRMED
CATEGORIES:Family,Museum
LOCATION:Ruthven Museums Building - Planetarium
CONTACT:
END:VEVENT
BEGIN:VEVENT
DTSTAMP:20170503T001522
DTSTART;TZID=America/Detroit:20160910T120000
SUMMARY:Sporting Event:Michigan Football vs. Central Florida - Military Appreciation
DESCRIPTION:Michigan Football vs. Central Florida - Military Appreciation
UID:32587-4594612@events.umich.edu
URL:https://events.umich.edu/event/32587
CLASS:PUBLIC
STATUS:CONFIRMED
CATEGORIES:Athletics,Athletics - Football
LOCATION:Off Campus Location
CONTACT:
END:VEVENT
BEGIN:VEVENT
DTSTAMP:20160801T125518
DTSTART;TZID=America/Detroit:20160910T123000
DTEND;TZID=America/Detroit:20160910T130000
SUMMARY:Film Screening:Extrasolar Planets
DESCRIPTION:Are there planets that orbit other stars? If so\, are any of them habitable worlds like Earth?  Life developed on our planet\, so could it arise elsewhere? How can we find those other planets?  This fulldome movie explores these questions.
UID:31605-4366354@events.umich.edu
URL:https://events.umich.edu/event/31605
CLASS:PUBLIC
STATUS:CONFIRMED
CATEGORIES:Family,Film,Museum
LOCATION:Ruthven Museums Building - Planetarium
CONTACT:
END:VEVENT
BEGIN:VEVENT
DTSTAMP:20161001T112821
DTSTART;TZID=America/Detroit:20160910T124500
DTEND;TZID=America/Detroit:20160910T144500
SUMMARY:Meeting:Citizens' Climate Lobby Monthly Meeting
DESCRIPTION:Worried about climate change? Wondering how you can make a real difference? Come to the monthly meeting of the Ann Arbor chapter of Citizens' Climate Lobby (CCL). CCL is a national\, grassroots organization working to enact federal legislation to put a price on CO2. Our meetings consist of dialing in to a national conference call (featuring different guest speakers each month)\, followed by local discussion of actions.
UID:24911-3341733@events.umich.edu
URL:https://events.umich.edu/event/24911
CLASS:PUBLIC
STATUS:CONFIRMED
CATEGORIES:Activism,Climate Change,Environment,Free,Politics,Sustainability,Volunteer
LOCATION:Off Campus Location
CONTACT:
END:VEVENT
BEGIN:VEVENT
DTSTAMP:20170629T061507
DTSTART;TZID=America/Detroit:20160910T130000
SUMMARY:Sporting Event:Michigan Field Hockey vs. Villanova
DESCRIPTION:Michigan Field Hockey vs. Villanova
UID:32557-4594582@events.umich.edu
URL:https://events.umich.edu/event/32557
CLASS:PUBLIC
STATUS:CONFIRMED
CATEGORIES:Athletics,Athletics - Field Hockey
LOCATION:Off Campus Location
CONTACT:
END:VEVENT
BEGIN:VEVENT
DTSTAMP:20160801T114258
DTSTART;TZID=America/Detroit:20160910T133000
DTEND;TZID=America/Detroit:20160910T140000
SUMMARY:Presentation:The Sky Tonight: Live Star Talk
DESCRIPTION:Bright stars\, constellations\, planets\, and telescopic objects in the current night sky will be discussed in this live “star talk.” Then leave Earth and fly out into space to examine the planets and other distant objects.
UID:31600-4364138@events.umich.edu
URL:https://events.umich.edu/event/31600
CLASS:PUBLIC
STATUS:CONFIRMED
CATEGORIES:Family,Museum
LOCATION:Ruthven Museums Building - Planetarium
CONTACT:
END:VEVENT
BEGIN:VEVENT
DTSTAMP:20160907T185922
DTSTART;TZID=America/Detroit:20160910T140000
DTEND;TZID=America/Detroit:20160910T160000
SUMMARY:Film Screening:Liberation Film Series: Tribute to General Gordon Baker\, Jr.
DESCRIPTION:As part of the Charles H. Wright Museum of African American History's 2016-2017 Liberation Film Series\, on September 10\, 2016 from 2-4 pm there will be a tribute to General Gordon Baker\, Jr. and a commemoration of the 1967 Detroit Rebellion. Featured speakers\, including Frank Joyce\, Will McClendon\, Dr. John H. Bracey\, Jr. will be discussing the 1966 Kercheval Incident\, as well as Detroit in the national context of the rebellions of the 1960s. The event is free and open to the public.\n\nSemester in Detroit faculty and alumni\, as well as friends and family of General Gordon Baker Jr. will be present to give information about the Semester in Detroit program's General Gordon Baker Jr. Memorial Endowment Fund (more information can be found here: http://lsa.umich.edu/sid/giving/general-baker-scholarship.html)\n\nWe hope to see you there! Those wishing to join us from Ann Arbor can take the UM Detroit Connector (http://ridemdcc.umich.edu/schedule) - the Cultural Center stop is a short walk from the Wright Museum.\n\nNote - event description and photo courtesy of the Charles H. Wright Museum Website (http://thewright.org/index.php/component/itsocial/event/1985)
UID:33235-4705430@events.umich.edu
URL:https://events.umich.edu/event/33235
CLASS:PUBLIC
STATUS:CONFIRMED
CATEGORIES:African American,Detroit,Free,Scholarship,Social Impact
LOCATION:Off Campus Location
CONTACT:
END:VEVENT
BEGIN:VEVENT
DTSTAMP:20160714T182010
DTSTART;TZID=America/Detroit:20160910T140000
DTEND;TZID=America/Detroit:20160910T150000
SUMMARY:Other:Saturday Sampler Tour | Back to School!
DESCRIPTION:On this guided tour learn more about learning in the ancient Near East\, Greece\, Rome\, and Egypt. Be surprised by the many ways school is the same 2000 years or more later\, and the ways education it has changed. This tour includes a fun\, take-home booklet of activities for kids.
UID:31359-4209894@events.umich.edu
URL:https://events.umich.edu/event/31359
CLASS:PUBLIC
STATUS:CONFIRMED
CATEGORIES:Archaeology,Children,Classical Studies,Family,Museum,Tour
LOCATION:Kelsey Museum of Archaeology
CONTACT:
END:VEVENT
BEGIN:VEVENT
DTSTAMP:20160801T125728
DTSTART;TZID=America/Detroit:20160910T143000
DTEND;TZID=America/Detroit:20160910T150000
SUMMARY:Presentation:My Universe
DESCRIPTION:In this live program\, our student operators will tell and show you what they find fascinating about the Universe.  This can be almost anything!  Every show is a different experience.
UID:31607-4366362@events.umich.edu
URL:https://events.umich.edu/event/31607
CLASS:PUBLIC
STATUS:CONFIRMED
CATEGORIES:Family,Museum
LOCATION:Ruthven Museums Building - Planetarium
CONTACT:
END:VEVENT
BEGIN:VEVENT
DTSTAMP:20160801T114258
DTSTART;TZID=America/Detroit:20160910T153000
DTEND;TZID=America/Detroit:20160910T160000
SUMMARY:Presentation:The Sky Tonight: Live Star Talk
DESCRIPTION:Bright stars\, constellations\, planets\, and telescopic objects in the current night sky will be discussed in this live “star talk.” Then leave Earth and fly out into space to examine the planets and other distant objects.
UID:31600-4364143@events.umich.edu
URL:https://events.umich.edu/event/31600
CLASS:PUBLIC
STATUS:CONFIRMED
CATEGORIES:Family,Museum
LOCATION:Ruthven Museums Building - Planetarium
CONTACT:
END:VEVENT
BEGIN:VEVENT
DTSTAMP:20160901T120152
DTSTART;TZID=America/Detroit:20160910T160000
DTEND;TZID=America/Detroit:20160910T170000
SUMMARY:Other:Honors Conversion Workshops
DESCRIPTION:Honors courses are offered in a wide variety of disciplines to allow you as much flexibility as possible in choosing courses that meet your interests and academic goals. We realize\, however\, that in a college with thousands of courses offered each term\, there is no way we can offer an Honors component for every course that Honors students are interested in taking. Attend ONE conversion workshop (or make an advising appointment) for details and access to the conversion paperwork required. (This is necessary\, even if you have completed Honors course conversions in the past).
UID:32987-4643721@events.umich.edu
URL:https://events.umich.edu/event/32987
CLASS:PUBLIC
STATUS:CONFIRMED
CATEGORIES:Lsa Honors
LOCATION:Mason Hall - 1330
CONTACT:
END:VEVENT
BEGIN:VEVENT
DTSTAMP:20160910T180114
DTSTART;TZID=America/Detroit:20160910T173000
DTEND;TZID=America/Detroit:20160910T193000
SUMMARY:Meeting:Welcome Picnic
DESCRIPTION:Welcome picnic to kick off the new school year. Food will be provided and games will be played.
UID:32900-4636216@events.umich.edu
URL:https://events.umich.edu/event/32900
CLASS:PUBLIC
STATUS:CONFIRMED
CATEGORIES:
LOCATION:Gallup Park, First Picnic Shelter
CONTACT:
END:VEVENT
BEGIN:VEVENT
DTSTAMP:20160910T180026
DTSTART;TZID=America/Detroit:20160910T183000
DTEND;TZID=America/Detroit:20160910T200000
SUMMARY:Exercise / Fitness:Flirty Fitness with ABSW & The Body Shop Xperts
DESCRIPTION:Need a workout and hate the gym? \n Need to work on your dance moves?\n Want to meet other body positive women?DO YOU WANT TO FEEL EMPOWERED & CONFIDENT? Join us as we participate in some much needed self-care and fitness exercises with the Body Shop Xperts dance group! Body Shop Xperts is a company that offers alternative forms of dance and fitness for your everyday woman. With an impressive group of technically trained and certified instructors\, The Body Shop Xperts LLC is able to offer workshops such as Yoga\, Boot camp\, Heels and much more. ABSWS wants to empower individuals to feel sexy and in control of your body\, and health\, with this fun dance experience. SO WEAR SOMETHING CUTE! BRING YOUR HEELS! AND A GOOD ATTITUDE! *HEELS OPTIONAL. NO EXPERIENCE NECESSARY.* ONLY ONE WEEK AWAY! RSVP through our event page on Facebook or find us on Eventbrite under \"Flirty Fitness with ABSW & The Body Shop Xperts\"!
UID:33093-4686089@events.umich.edu
URL:https://events.umich.edu/event/33093
CLASS:PUBLIC
STATUS:CONFIRMED
CATEGORIES:
LOCATION:Trotter Multicultural Center
CONTACT:
END:VEVENT
BEGIN:VEVENT
DTSTAMP:20160910T180139
DTSTART;TZID=America/Detroit:20160911T000000
DTEND;TZID=America/Detroit:20160910T190000
SUMMARY:Sporting Event:Spartan Invite
DESCRIPTION:Michigan State University's Spartan Invite Water Polo Tournament in East Lansing\, MI
UID:31843-4731263@events.umich.edu
URL:https://events.umich.edu/event/31843
CLASS:PUBLIC
STATUS:CONFIRMED
CATEGORIES:
LOCATION:IM West Outdoor Pool
CONTACT:
END:VEVENT
END:VCALENDAR