BEGIN:VCALENDAR
VERSION:2.0
PRODID:-//UM//UM*Events//EN
CALSCALE:GREGORIAN
BEGIN:VTIMEZONE
TZID:America/Detroit
TZURL:http://tzurl.org/zoneinfo/America/Detroit
X-LIC-LOCATION:America/Detroit
BEGIN:DAYLIGHT
TZOFFSETFROM:-0500
TZOFFSETTO:-0400
TZNAME:EDT
DTSTART:20070311T020000
RRULE:FREQ=YEARLY;BYMONTH=3;BYDAY=2SU
END:DAYLIGHT
BEGIN:STANDARD
TZOFFSETFROM:-0400
TZOFFSETTO:-0500
TZNAME:EST
DTSTART:20071104T020000
RRULE:FREQ=YEARLY;BYMONTH=11;BYDAY=1SU
END:STANDARD
END:VTIMEZONE
BEGIN:VEVENT
DTSTAMP:20170528T120008
DTSTART;TZID=America/Detroit:20170529T000000
DTEND;TZID=America/Detroit:20170528T160000
SUMMARY:Other:ACRA National Championship
DESCRIPTION: The Wolverines hope to win their 10th consecutive national championship in Gainesville GA\, in the culmination of their 2016-2017 season.
UID:36770-8959250@events.umich.edu
URL:https://events.umich.edu/event/36770
CLASS:PUBLIC
STATUS:CONFIRMED
CATEGORIES:
LOCATION:Gainesville, GA
CONTACT:
END:VEVENT
BEGIN:VEVENT
DTSTAMP:20170522T134725
DTSTART;TZID=America/Detroit:20170529T000000
DTEND;TZID=America/Detroit:20170529T235900
SUMMARY:Other:Memorial Day
DESCRIPTION:No classes are held. U-M offices are closed.
UID:41019-8910483@events.umich.edu
URL:https://events.umich.edu/event/41019
CLASS:PUBLIC
STATUS:CONFIRMED
CATEGORIES:Holiday
LOCATION:Off Campus Location
CONTACT:
END:VEVENT
BEGIN:VEVENT
DTSTAMP:20170529T120007
DTSTART;TZID=America/Detroit:20170529T000000
DTEND;TZID=America/Detroit:20170529T235959
SUMMARY:Other:Nationals
DESCRIPTION:National tournament
UID:40599-8967350@events.umich.edu
URL:https://events.umich.edu/event/40599
CLASS:PUBLIC
STATUS:CONFIRMED
CATEGORIES:
LOCATION:mason, ohio
CONTACT:
END:VEVENT
BEGIN:VEVENT
DTSTAMP:20170529T120009
DTSTART;TZID=America/Detroit:20170529T000000
DTEND;TZID=America/Detroit:20170529T235959
SUMMARY:Other:NATIONALS
DESCRIPTION:Where the best ultimate in college ultimate is played
UID:40905-8967421@events.umich.edu
URL:https://events.umich.edu/event/40905
CLASS:PUBLIC
STATUS:CONFIRMED
CATEGORIES:
LOCATION:Heritage Oak Park
CONTACT:
END:VEVENT
BEGIN:VEVENT
DTSTAMP:20170606T101038
DTSTART;TZID=America/Detroit:20170529T070000
DTEND;TZID=America/Detroit:20170529T200000
SUMMARY:Other:The Nichols Arboretum Peony Garden
DESCRIPTION:The largest collection of heirloom peonies in North America blooms each spring with as many as 10\,000 blossoms at peak. The peony garden began in 1922 with a donation by U-M alumnus W.E. Upjohn. Today the garden is undergoing a multi-year renovation project that includes new additions of heirloom varieties as well as Japanese\, Chinese\, and American tree peonies. Peony season runs Memorial Day through mid-June\, depending on the weather. For regular updates of the bloom season visit the dedicated website that offers regular bloom updates during the season: http://peony.mbgna.umich.edu. Free admission.
UID:41061-8918709@events.umich.edu
URL:https://events.umich.edu/event/41061
CLASS:PUBLIC
STATUS:CONFIRMED
CATEGORIES:Culture,Environment,Outdoors
LOCATION:Off Campus Location
CONTACT:
END:VEVENT
BEGIN:VEVENT
DTSTAMP:20170603T180007
DTSTART;TZID=America/Detroit:20170529T080000
DTEND;TZID=America/Detroit:20170529T235959
SUMMARY:Other:College Sailing  Co-Ed Fleet Race Nationals
DESCRIPTION:National championship regatta 
UID:40927-9010147@events.umich.edu
URL:https://events.umich.edu/event/40927
CLASS:PUBLIC
STATUS:CONFIRMED
CATEGORIES:
LOCATION:Charleston, South Carolina
CONTACT:
END:VEVENT
BEGIN:VEVENT
DTSTAMP:20170302T144920
DTSTART;TZID=America/Detroit:20170529T080000
DTEND;TZID=America/Detroit:20170529T200000
SUMMARY:Exhibition:Gifts of Art presents Blossom by Blossom: Elvish Ceramics
DESCRIPTION:Gabrielle Soltis creates works from the Gyldenstjerne Porcelain Company lineage. The story goes that sometime in the early 1700s\, a young Danish nobleman by the name of Einar Gyldenstjerne fell in love and married an Elvish woman named Gwyneira (surname unknown) who shared the family recipe for how to create hard-paste porcelain. The first items produced by the company are dated to 1715. Soltis’ porcelain flowers in this tradition are assembled meticulously petal by petal. She studied ceramics at the College for Creative Studies in Detroit\, Michigan and is interested in European history and fiction.
UID:39319-7944462@events.umich.edu
URL:https://events.umich.edu/event/39319
CLASS:PUBLIC
STATUS:CONFIRMED
CATEGORIES:Art,Health & Wellness
LOCATION:Taubman Center - Gifts of Art Gallery — Taubman Health Center South Lobby, Floor 1.
CONTACT:
END:VEVENT
BEGIN:VEVENT
DTSTAMP:20170302T141111
DTSTART;TZID=America/Detroit:20170529T080000
DTEND;TZID=America/Detroit:20170529T200000
SUMMARY:Exhibition:Gifts of Art presents Cakeasaurus: Scenes from a Picture Book
DESCRIPTION:One caffeinated afternoon in 2008\, a monster appeared to Marian Short\, bragging about his many cake thefts. He was arrogant\, sugar-fueled and oddly appealing. Being a printmaker\, Short began carving the tale into woodblocks. This picture book exhibit follows the confectionary exploits of Cakeasaurus\, one cake-deprived town\, and one little boy about to turn five. It also shows the evolution of a long-term project\, with print variations and peeks into artistic process. Short is an Ann Arbor based artist and writer\, whose work has appeared in local and national exhibitions.
UID:39316-7944208@events.umich.edu
URL:https://events.umich.edu/event/39316
CLASS:PUBLIC
STATUS:CONFIRMED
CATEGORIES:Art,Health & Wellness
LOCATION:Taubman Center - Gifts of Art Gallery — Taubman Health Center North Lobby, Floor 1.
CONTACT:
END:VEVENT
BEGIN:VEVENT
DTSTAMP:20170302T145447
DTSTART;TZID=America/Detroit:20170529T080000
DTEND;TZID=America/Detroit:20170529T200000
SUMMARY:Exhibition:Gifts of Art presents Creating Emotion: Hand Painted Intaglio Prints
DESCRIPTION:Dale Osterle\, originally from Boston\, MA\, received her Bachelor of Fine Arts degree from the Rhode Island School of Design. This body of work is hand painted intaglio prints of romantic and expressionist landscapes\, all created from memory. She makes her prints by etching into magnesium plates\, embossing oil paint into paper with three different rollers of color\, and hand-coloring the prints with colored pencil\, marker and paint. Her work hangs in art galleries all over the country and the world\, including the United Nations\, the Kennedy Center and the National Museum of Women in the Arts.
UID:39322-7944631@events.umich.edu
URL:https://events.umich.edu/event/39322
CLASS:PUBLIC
STATUS:CONFIRMED
CATEGORIES:Art,Health & Wellness
LOCATION:University Hospitals - Gifts of Art Gallery — University Hospital Main Corridor, Floor 2
CONTACT:
END:VEVENT
BEGIN:VEVENT
DTSTAMP:20170302T145146
DTSTART;TZID=America/Detroit:20170529T080000
DTEND;TZID=America/Detroit:20170529T200000
SUMMARY:Exhibition:Gifts of Art presents Deep Ocean View: Acrylic on Canvas
DESCRIPTION:Westland\, Michigan artist Durwood Coffey was influenced at an early age by his artistic family\, especially by his father and brother who were both enamored with drawing. In the US Marine Corps\, he served as a combat artist\, whose job is to interpret and illustrate fellow Marine experiences with emotional resonance\, all while protecting himself and others. After spending his working life as an illustrator\, in 2001 Coffey decided to focus entirely on his own paintings of images from the animal kingdom. In this exhibition\, the viewer is plunged up-close into the beautiful world of the sea.
UID:39320-7944546@events.umich.edu
URL:https://events.umich.edu/event/39320
CLASS:PUBLIC
STATUS:CONFIRMED
CATEGORIES:Art,Health & Wellness
LOCATION:University Hospitals - Gifts of Art Gallery — University Hospital Main Lobby, Floor 1
CONTACT:
END:VEVENT
BEGIN:VEVENT
DTSTAMP:20170302T150203
DTSTART;TZID=America/Detroit:20170529T080000
DTEND;TZID=America/Detroit:20170529T170000
SUMMARY:Exhibition:Gifts of Art presents Exploring Color & Pattern: Photography
DESCRIPTION:Dr. Robert P. Kelch retired from his position as Executive Vice President for Medical Affairs at U-M in the fall of 2009. He enjoyed a wonderful career in academic medicine  ̶  as a pediatric endocrinologist\, physician investigator and administrator. Retirement has given Kelch much more time and energy to devote to his lifelong interest in photography. He especially enjoys photographing beautiful scenes\, animals and objects during his many travels and around his home in South Haven\, Michigan.
UID:39324-7944799@events.umich.edu
URL:https://events.umich.edu/event/39324
CLASS:PUBLIC
STATUS:CONFIRMED
CATEGORIES:Art,Health & Wellness
LOCATION:Cancer Center - Gifts of Art Gallery — Comprehensive Cancer Center, Level 1
CONTACT:
END:VEVENT
BEGIN:VEVENT
DTSTAMP:20170302T143459
DTSTART;TZID=America/Detroit:20170529T080000
DTEND;TZID=America/Detroit:20170529T200000
SUMMARY:Exhibition:Gifts of Art presents Glass Cakes
DESCRIPTION:Janet Kelman’s glass cakes are a perfect fusion of her love of glass and love of baking. Each colorful slice or cupcake invites sampling while her mirror cakes are intriguing brain teasers. Kelman began her love affair with glass in 1970. While studying chemistry in college\, she watched\, fascinated\, as the glassblower in her department created scientific equipment\, inspiring her to later teach herself lampworking (glass worked over a torch) and open a hot glass studio. Kelman bakes with glass at her home studio in Ann Arbor.
UID:39317-7944292@events.umich.edu
URL:https://events.umich.edu/event/39317
CLASS:PUBLIC
STATUS:CONFIRMED
CATEGORIES:Art,Health & Wellness
LOCATION:Taubman Center - Gifts of Art Gallery — Taubman Health Center North Lobby, Floor 1.
CONTACT:
END:VEVENT
BEGIN:VEVENT
DTSTAMP:20170302T144655
DTSTART;TZID=America/Detroit:20170529T080000
DTEND;TZID=America/Detroit:20170529T200000
SUMMARY:Exhibition:Gifts of Art presents Nature’s Essence: Photography
DESCRIPTION:David L. Foster is an Atlanta based nature photographer\, writer and educator best known for images that convey the essence of his favorite subjects – botanicals and water. In 2014\, he collaborated with Julie Hliboki in creating a book entitled Breathing Light: Accompanying Loss and Grief with Love and Gratitude. Foster received the P.C. Turczyn Art That Supports the Healing Process award from among 50 international artists chosen for Manhattan Arts International’s 2014 exhibit\, Celebrate the Healing Power of Art.
UID:39318-7944378@events.umich.edu
URL:https://events.umich.edu/event/39318
CLASS:PUBLIC
STATUS:CONFIRMED
CATEGORIES:Art,Health & Wellness
LOCATION:Taubman Center - Gifts of Art Gallery — Taubman Health Center South Lobby, Floor 1.
CONTACT:
END:VEVENT
BEGIN:VEVENT
DTSTAMP:20170302T145755
DTSTART;TZID=America/Detroit:20170529T080000
DTEND;TZID=America/Detroit:20170529T200000
SUMMARY:Exhibition:Gifts of Art presents Seascapes: Firenation Art Glass
DESCRIPTION:Matt Paskiet is a native to the Glass City — Toledo\, Ohio. He began his study of glassblowing at the Toledo Museum of Art in 1993\, and he continued his studies at Pilchuck Glass School in Washington state in 1998 and the Fundacio Centre del Vidre in Barcelona in 2001. He later returned to Toledo and opened Firenation Glass Studio & Gallery in Holland\, Ohio in 2002\, where he has been blowing glass ever since. His Seascape series featured in this exhibit is composed of individually made Murrini pieces\, a Venetian glass technique encased in layers of hot glass.
UID:39323-7944715@events.umich.edu
URL:https://events.umich.edu/event/39323
CLASS:PUBLIC
STATUS:CONFIRMED
CATEGORIES:Art,Health & Wellness
LOCATION:University Hospitals - Gifts of Art Gallery — University Hospital Main Corridor, Floor 2
CONTACT:
END:VEVENT
BEGIN:VEVENT
DTSTAMP:20161205T140019
DTSTART;TZID=America/Detroit:20170529T080000
DTEND;TZID=America/Detroit:20170529T170000
SUMMARY:Exhibition:Gifts of Art presents Toy Robots Past & Present
DESCRIPTION:Elaine Reed has been collecting toy robots for over 30 years. As a painter herself\, she appreciates the artistic design & futuristic ideas that robots awaken in people. As a child\, television programs like Lost in Space\, The Jetsons & Star Trek inspired Reed to dream large and wish for a real robot of her own. Although she doesn’t own any real live robots\, some of her best friends are robots. At the University of Michigan Health System\, Reed works as a Bedside Artist for the Gifts of Art program and as an artist at the Turner Senior Resource Center. She also volunteers at 826 Michigan in Ann Arbor writing about robots.
UID:36562-5716724@events.umich.edu
URL:https://events.umich.edu/event/36562
CLASS:PUBLIC
STATUS:CONFIRMED
CATEGORIES:Art,Health & Wellness
LOCATION:Cancer Center - Gifts of Art Gallery — Cancer Center Elevator Alcove, Level 2
CONTACT:
END:VEVENT
BEGIN:VEVENT
DTSTAMP:20170105T143903
DTSTART;TZID=America/Detroit:20170529T080000
DTEND;TZID=America/Detroit:20170529T200000
SUMMARY:Exhibition:The Grandmother Tree Walk
DESCRIPTION:Matthaei Botanical Gardens & Nichols Arboretum celebrates the University of Michigan bicentennial with a tour of 12 historic trees in the Arboretum. The bicentennial story is told from the perspective of the trees\, and key moments of U-M's people and history that occurred during the trees' long lives are revealed. Visitors may pick up a map at the Arb visitor center to take this easy\, self-guided tour.
UID:37328-6502190@events.umich.edu
URL:https://events.umich.edu/event/37328
CLASS:PUBLIC
STATUS:CONFIRMED
CATEGORIES:Bicentennial,Environment,Free,Outdoors,umich200
LOCATION:Nichols Arboretum
CONTACT:
END:VEVENT
BEGIN:VEVENT
DTSTAMP:20170510T144424
DTSTART;TZID=America/Detroit:20170529T090000
DTEND;TZID=America/Detroit:20170529T170000
SUMMARY:Exhibition:Cosmogonic Tattoos
DESCRIPTION:In celebration of the University’s Bicentennial in 2017\, artist and professor Jim Cogswell has been invited by the Kelsey Museum of Archaeology and the University of Michigan Museum of Art to create a set of public window installations in response to the objects in their collections.  Titled Cosmogonic Tattoos\, his project will use adhesive vinyl images applied in saturated colors to windows in the two buildings\, highlighting the role of these museums in the life of our campus community. Through close examination of objects separated from us by deep chronological and cultural divides\, imaginatively transformed within our campus context\, this project celebrates the power of architecture\, ornament\, and material objects to shape knowledge\, historical memory\, and cultural identity. \n\nLook for displays in the UMMA from April 22-Dec. 3\, the exterior of the Kelsey Museum from June 2-Dec. 17\, and in the interior special exhibition space of the Kelsey Museum from June 2-Sept. 10.\n\nFor information on-the-go about this event and all other Bicentennial happenings\, download our free mobile app: http://guidebook.com/g/umich200.
UID:40187-8516458@events.umich.edu
URL:https://events.umich.edu/event/40187
CLASS:PUBLIC
STATUS:CONFIRMED
CATEGORIES:Architecture,Art,Bicentennial,Culture,Exhibition,History,Interdisciplinary,Museum,umich200,UMMA
LOCATION:Off Campus Location
CONTACT:
END:VEVENT
BEGIN:VEVENT
DTSTAMP:20170410T215244
DTSTART;TZID=America/Detroit:20170529T110000
DTEND;TZID=America/Detroit:20170529T170000
SUMMARY:Exhibition:Cosmogonic Tattoos
DESCRIPTION:In celebration of the University of Michigan’s Bicentennial in 2017\, artist and distinguished U​–M art professor Jim Cogswell has been invited to create a series of public window installations in response to the holdings of the University of Michigan Museum of Art and the Kelsey Museum of Archaeology. For this visionary project\, the artist will adhere a procession of vivid images to the glass walls of the museums in a rhythmically evocative narrative\, based on reassembled fragments from a diverse range of artworks in both museums’ permanent collections. The juxtaposed images will address our shared histories and experiences while connecting the viewer to the origins and meaning of objects and their power to shape knowledge\, memory\, and identity. By leveraging the buildings’ unique architecture\, the artist expands our understanding of a museum as a cultural repository and highlights the significant role of these institutions in the life of the campus community.\nCosmogonic Tattoos is on view at UMMA April 22 through December 3\, 2017 and at the Kelsey Museum of Archaeology from June 2 through December 17\, 2017.\nLead support for Cosmogonic Tattoos is provided by the University of Michigan Office of the Provost.
UID:40469-8571653@events.umich.edu
URL:https://events.umich.edu/event/40469
CLASS:PUBLIC
STATUS:CONFIRMED
CATEGORIES:Art,Culture,Exhibition,Museum,UMMA,Visual Arts
LOCATION:Museum of Art
CONTACT:
END:VEVENT
BEGIN:VEVENT
DTSTAMP:20170309T142003
DTSTART;TZID=America/Detroit:20170529T110000
DTEND;TZID=America/Detroit:20170529T170000
SUMMARY:Exhibition:Ernestine Ruben at Willow Run
DESCRIPTION:In 2013\, artist Ernestine Ruben (BSDEs ’53) photographed the once-famed industrial complex Willow Run in Washtenaw County\, Michigan. Designed by her grandfather\, Detroit architect Albert Kahn\, for the Ford Motor Company\, Willow Run was an exemplar of American defense manufacturing because of its efficient mass-production of B-24 Liberators during World War II.\n\nFor this exhibition\, Ruben overlaid interior views of the now-dormant factory with imagined glimpses into her body’s interior landscape. The resulting compositions seem to breathe energy and light into the stagnant and cavernous spaces of Willow Run and suggest a longing for a productive existence undeterred by mortality for both Willow Run and the artist. Her grandfather’s role in the history of the site underscores Ruben’s personal connection.\n\nThe exhibition presents Ruben’s photographs of Willow Run in UMMA’s Photography Gallery and an original film—co-created by Ruben and video artist Seth Bernstein and featuring an original score by award-winning composer Stephen Hartke—in the Museum’s Forum.\n\nLead support for Ernestine Ruben at Willow Run: Mobilizing Memory is provided by the University of Michigan Office of the Provost and the Herbert W. and Susan L. Johe Endowment.
UID:39107-7692740@events.umich.edu
URL:https://events.umich.edu/event/39107
CLASS:PUBLIC
STATUS:CONFIRMED
CATEGORIES:Art,Bicentennial,Culture,Film,Free,Museum,Theater,UMMA,Visual Arts
LOCATION:Museum of Art
CONTACT:
END:VEVENT
BEGIN:VEVENT
DTSTAMP:20170507T180053
DTSTART;TZID=America/Detroit:20170529T110000
DTEND;TZID=America/Detroit:20170529T170000
SUMMARY:Exhibition:Picturing Buildings
DESCRIPTION:Featuring a selection of nineteenth- and twentieth-century photographs from the Museum’s collection\, Picturing Buildings illuminates the enduring appeal of photographing architecture\, from historic Turkish mosques and New York City skyscrapers\, to industrial factories and intimate domestic interiors. Each of these visually and spatially complex sites provides photographers with representational challenges and endless opportunities to innovate. This exhibition explores how photographers working in a range of contexts—from travel photography and photojournalism to historical documentation and modern art—use architecture to develop pictorial strategies in their own medium. Through selective framing\, dramatic perspectival distortion\, and heightened contrasts between light and dark\, photographers reinterpret their architectural subjects by focusing on the creative act of constructing a photograph. The resulting images reveal our surrounding built environment in new ways and highlight the intriguing transformation that takes place when the camera converts three dimensions into two.\n\nLead support for Picturing Buildings: Photographers and Architecture\, 1855-1985 is provided by the University of Michigan Office of the Provost and the Herbert W. and Susan L. Johe Endowment.
UID:40823-8790950@events.umich.edu
URL:https://events.umich.edu/event/40823
CLASS:PUBLIC
STATUS:CONFIRMED
CATEGORIES:Architecture,Environment,Storytelling,UMMA,Visual Arts
LOCATION:Museum of Art
CONTACT:
END:VEVENT
BEGIN:VEVENT
DTSTAMP:20170410T214735
DTSTART;TZID=America/Detroit:20170529T110000
DTEND;TZID=America/Detroit:20170529T170000
SUMMARY:Exhibition:Rafael Lozano-Hemmer
DESCRIPTION:Wavefunction\, Subsculpture 9\, by Mexican-Canadian artist Rafael Lozano-Hemmer\, is a kinetic sculpture and interactive installation that plays on the work of mid-century American designers Charles and Ray Eames.\n\nThe installation consists of 42 molded plastic chairs (designed by the Eameses in 1948) arranged in a grid and attached to electromechanical pistons. When visitors approach the chairs\, a surveillance system detects their presence and the closest chairs lift gently off the ground. The adjacent chairs follow\, and a wave movement spreads across the array. The software controlling the pistons is based on fluid dynamics\, so as more visitors approach the grid\, the chairs—whose iconic curving contours were also generated mathematically— mimic the complex interaction of multiple waves in water.\n\nThis performative installation complements the concurrent exhibition Moving Image: Performance\, which together constitute the second of three presentations at UMMA drawn from the collection of Borusan Contemporary\, Istanbul. The works in this year-long trio of exhibitions represent traditional categories such as portraiture\, landscape\, and performance that find new resonance when explored through the strategies of dynamic technology.\n\nLead support for Rafael Lozano-Hemmer: Wavefunction\, Subsculpture 9 is provided by the Herbert W. and Susan L. Johe Endowment and Michigan Engineering. Additional generous support is provided by the University of Michigan Latina/o Studies.
UID:40468-8571552@events.umich.edu
URL:https://events.umich.edu/event/40468
CLASS:PUBLIC
STATUS:CONFIRMED
CATEGORIES:Art,Culture,Exhibition,Museum,UMMA,Visual Arts
LOCATION:Museum of Art
CONTACT:
END:VEVENT
BEGIN:VEVENT
DTSTAMP:20170131T190500
DTSTART;TZID=America/Detroit:20170529T110000
DTEND;TZID=America/Detroit:20170529T170000
SUMMARY:Exhibition:Victors for Art: Michigan's Alumni Collectors–Part I: Figuration
DESCRIPTION:Commemorating the University of Michigan’s 2017 Bicentennial\, Victors for Art: Michigan’s Alumni Collectors celebrates the deep impact of Michigan alumni in the global art world. This two-part exhibition (Part I: Figuration followed by Part II: Abstraction on view July 1– October 29) presents works collected by a diverse group of alumni that represent the breadth of the University and over seventy years of graduating classes. The works themselves are equally diverse\, ranging from ancient sculptures to contemporary multimedia works. Part I: Figuration features works by Henri Matisse\, Elizabeth Louise Vigée Le Brun\, Mark Tansey\, and Mickalene Thomas\, among others\, and allows visitors to explore the variety of artistic responses and purposes encompassed by the term “figuration”. It also offers an unprecedented opportunity to view art that may have never been publicly displayed otherwise—and most certainly\, not all together. For visitors\, and especially for future Michigan alumni\, Victors for Art illuminates the shared passion for art fostered by the Michigan experience.\n\nThis exhibition was organized by Joseph Rosa\, Guest Curator\, in collaboration with Laura De Becker\, Helmut & Candis Stern Associate Curator of African Art\, Jennifer Friess\, Assistant Curator of Photography\, Lehti Mairike Keelman\, Assistant Curator of Western Art\, and Natsu Oyobe\, Curator of Asian Art.\n\nLead support for Victors for the Arts: Michigan's Alumni Collectors is provided by the University of Michigan Office of the Provost\, the University of Michigan Health System\, the University of Michigan Office of the President\, the Michigan Council for Arts and Cultural Affairs and the National Endowment for the Arts\, and the University of Michigan Bicentennial Office.
UID:38428-7178870@events.umich.edu
URL:https://events.umich.edu/event/38428
CLASS:PUBLIC
STATUS:CONFIRMED
CATEGORIES:Art,Bicentennial,Culture,Exhibition,Free,Multicultural,UMMA,Visual Arts
LOCATION:Museum of Art
CONTACT:
END:VEVENT
BEGIN:VEVENT
DTSTAMP:20170403T125717
DTSTART;TZID=America/Detroit:20170529T120000
DTEND;TZID=America/Detroit:20170529T130000
SUMMARY:Other:9/22--Fall 2017 Application Deadline
DESCRIPTION:The application deadline for Winter 2018 and early-admission Fall 2018. Please apply through M-Compass.
UID:40173-8508941@events.umich.edu
URL:https://events.umich.edu/event/40173
CLASS:PUBLIC
STATUS:CONFIRMED
CATEGORIES:Deadlines,Interdisciplinary,Internship,Leadership,Majors,Networking,Public Policy,Research,Scholarships,Social,Social Impact,Social Justice,Student Org,Study Abroad,Transfer Students,Undergraduate
LOCATION:Off Campus Location
CONTACT:
END:VEVENT
BEGIN:VEVENT
DTSTAMP:20170529T120007
DTSTART;TZID=America/Detroit:20170530T000000
DTEND;TZID=America/Detroit:20170529T130000
SUMMARY:Other:Nationals
DESCRIPTION:National tournament
UID:40599-8967351@events.umich.edu
URL:https://events.umich.edu/event/40599
CLASS:PUBLIC
STATUS:CONFIRMED
CATEGORIES:
LOCATION:mason, ohio
CONTACT:
END:VEVENT
BEGIN:VEVENT
DTSTAMP:20170529T120009
DTSTART;TZID=America/Detroit:20170530T000000
DTEND;TZID=America/Detroit:20170529T170000
SUMMARY:Other:NATIONALS
DESCRIPTION:Where the best ultimate in college ultimate is played
UID:40905-8967422@events.umich.edu
URL:https://events.umich.edu/event/40905
CLASS:PUBLIC
STATUS:CONFIRMED
CATEGORIES:
LOCATION:Heritage Oak Park
CONTACT:
END:VEVENT
END:VCALENDAR