BEGIN:VCALENDAR
VERSION:2.0
PRODID:-//UM//UM*Events//EN
CALSCALE:GREGORIAN
BEGIN:VTIMEZONE
TZID:America/Detroit
TZURL:http://tzurl.org/zoneinfo/America/Detroit
X-LIC-LOCATION:America/Detroit
BEGIN:DAYLIGHT
TZOFFSETFROM:-0500
TZOFFSETTO:-0400
TZNAME:EDT
DTSTART:20070311T020000
RRULE:FREQ=YEARLY;BYMONTH=3;BYDAY=2SU
END:DAYLIGHT
BEGIN:STANDARD
TZOFFSETFROM:-0400
TZOFFSETTO:-0500
TZNAME:EST
DTSTART:20071104T020000
RRULE:FREQ=YEARLY;BYMONTH=11;BYDAY=1SU
END:STANDARD
END:VTIMEZONE
BEGIN:VEVENT
DTSTAMP:20170605T134456
DTSTART;TZID=America/Detroit:20170612T073000
DTEND;TZID=America/Detroit:20170612T180000
SUMMARY:Conference / Symposium:3rd Multi-Disciplinary Conference on Reinforcement Learning and Decision Making (RLDM)
DESCRIPTION:The 3rd Multi-Disciplinary Conference on Reinforcement Learning and Decision Making (RLDM) will be held here in Ann Arbor from Sunday\, June 11 to Wednesday\, June 14th\, 2017.  This conference brings together people studying decision-making from a variety of disciplines including neuroscience\, psychology\, and computer science. Please see  http://rldm.org/rldm2017/ for more information and registration.
UID:41205-9024271@events.umich.edu
URL:https://events.umich.edu/event/41205
CLASS:PUBLIC
STATUS:CONFIRMED
CATEGORIES:Science,Electrical Engineering and Computer Science
LOCATION:Rackham Graduate School (Horace H.) - Rackham Auditorium
CONTACT:
END:VEVENT
BEGIN:VEVENT
DTSTAMP:20170602T111706
DTSTART;TZID=America/Detroit:20170612T080000
DTEND;TZID=America/Detroit:20170612T110000
SUMMARY:Exhibition:Ira Deutchman: A Commitment to Specialty Films
DESCRIPTION:What if you made a movie and nobody came to see it? Ira Deutchman has spent his five-decades long career as producer\, marketer\, and distributor making sure that doesn't happen. This exhibit offers a behind the scenes look at how he went about finding audiences for some of the most important and influential independent and specialty films of the 1970s\, 80s and 90s.
UID:41197-8998068@events.umich.edu
URL:https://events.umich.edu/event/41197
CLASS:PUBLIC
STATUS:CONFIRMED
CATEGORIES:Library,Free,Film
LOCATION:Hatcher Graduate Library - Gallery (Room 100)
CONTACT:
END:VEVENT
BEGIN:VEVENT
DTSTAMP:20170105T143903
DTSTART;TZID=America/Detroit:20170612T080000
DTEND;TZID=America/Detroit:20170612T200000
SUMMARY:Exhibition:The Grandmother Tree Walk
DESCRIPTION:Matthaei Botanical Gardens & Nichols Arboretum celebrates the University of Michigan bicentennial with a tour of 12 historic trees in the Arboretum. The bicentennial story is told from the perspective of the trees\, and key moments of U-M's people and history that occurred during the trees' long lives are revealed. Visitors may pick up a map at the Arb visitor center to take this easy\, self-guided tour.
UID:37328-6502204@events.umich.edu
URL:https://events.umich.edu/event/37328
CLASS:PUBLIC
STATUS:CONFIRMED
CATEGORIES:Bicentennial,umich200,Outdoors,Environment,Free
LOCATION:Nichols Arboretum
CONTACT:
END:VEVENT
BEGIN:VEVENT
DTSTAMP:20170501T173118
DTSTART;TZID=America/Detroit:20170612T083000
DTEND;TZID=America/Detroit:20170612T180000
SUMMARY:Exhibition:Storied Acquisitions: Highlights from the University of Michigan Library Collections
DESCRIPTION:In celebration of the university’s bicentennial\, this exhibit showcases treasures from a variety of library collecting areas and explores the stories behind the development of some of our most distinctive collections. From Audubon’s Birds of America\, the first book acquired for the library\, to more recent arrivals like Robert Altman’s Academy Award\, the items on display afford us an opportunity to reflect on the history and consider the future of one of the country's largest and most important research library collections.\n\nThe exhibit features books\, maps\, sheet music\, manuscripts\, and artifacts from the University of Michigan Library’s Art\, Architecture\, and Engineering Library\; Clark Library\; Music Library\; and Special Collections Library.\n\nHours: Weekdays 8:30am-6pm\, Saturdays 10am-6pm\, Sundays 1-6 pm \nClosed: May 27-29\, July 1-2\, July 4\, August 19-20\, August 26-27
UID:40756-8741823@events.umich.edu
URL:https://events.umich.edu/event/40756
CLASS:PUBLIC
STATUS:CONFIRMED
CATEGORIES:Library,Exhibition
LOCATION:Hatcher Graduate Library - Audubon Room
CONTACT:
END:VEVENT
BEGIN:VEVENT
DTSTAMP:20170411T110307
DTSTART;TZID=America/Detroit:20170612T084500
DTEND;TZID=America/Detroit:20170612T164500
SUMMARY:Exhibition:Banner Moments: The National Anthem in American Life
DESCRIPTION:The new Ford Presidential Library lobby exhibit\, curated by University of Michigan musicologist Mark Clague\, illustrates through interpretive panels\, historical documents and photographs\, the cultural 200-year history of “The Star-Spangled Banner” (1814–2014). The tale that emerges demonstrates the power of music and poetry to spark the social imagination and thus create a sense of shared community.\n\nInspired by the successful defense of Baltimore\, Maryland from British attack in September 1814\, lawyer and amateur poet Francis Scott Key penned his now famous lyric. Rather than extraordinary\, Key’s creative impulse was typical of early America’s broadside ballad tradition in which new words were written to fit well known tunes. The result\, however\, was far from everyday—Key could not have predicted that his song would survive the moment\, yet become his nation’s singular anthem.\n\nFollow the “The Star-Spangled Banner” from the moments leading up to September 14\, 1814 through the present day and explore the social history of our national song.\nMarch 2017 to September 2017 \n\nMonday - Friday. 8:45 am - 4:45 pm\nClosed all Federal holidays.
UID:40477-8576058@events.umich.edu
URL:https://events.umich.edu/event/40477
CLASS:PUBLIC
STATUS:CONFIRMED
CATEGORIES:Star Spangled Banner,Music History
LOCATION:Gerald Ford Library
CONTACT:
END:VEVENT
BEGIN:VEVENT
DTSTAMP:20170510T144424
DTSTART;TZID=America/Detroit:20170612T090000
DTEND;TZID=America/Detroit:20170612T170000
SUMMARY:Exhibition:Cosmogonic Tattoos
DESCRIPTION:In celebration of the University’s Bicentennial in 2017\, artist and professor Jim Cogswell has been invited by the Kelsey Museum of Archaeology and the University of Michigan Museum of Art to create a set of public window installations in response to the objects in their collections.  Titled Cosmogonic Tattoos\, his project will use adhesive vinyl images applied in saturated colors to windows in the two buildings\, highlighting the role of these museums in the life of our campus community. Through close examination of objects separated from us by deep chronological and cultural divides\, imaginatively transformed within our campus context\, this project celebrates the power of architecture\, ornament\, and material objects to shape knowledge\, historical memory\, and cultural identity. \n\nLook for displays in the UMMA from April 22-Dec. 3\, the exterior of the Kelsey Museum from June 2-Dec. 17\, and in the interior special exhibition space of the Kelsey Museum from June 2-Sept. 10.\n\nFor information on-the-go about this event and all other Bicentennial happenings\, download our free mobile app: http://guidebook.com/g/umich200.
UID:40187-8516472@events.umich.edu
URL:https://events.umich.edu/event/40187
CLASS:PUBLIC
STATUS:CONFIRMED
CATEGORIES:Architecture,Museum,Art,Bicentennial,Culture,Exhibition,History,Interdisciplinary,umich200,UMMA
LOCATION:Off Campus Location
CONTACT:
END:VEVENT
BEGIN:VEVENT
DTSTAMP:20170323T092656
DTSTART;TZID=America/Detroit:20170612T100000
DTEND;TZID=America/Detroit:20170612T110000
SUMMARY:Workshop / Seminar:Take Charge of Your Career
DESCRIPTION:Unsure where to go next with your career? Discover your strengths and preferred behaviors so that you can make career choices that match your skills (or be more successful in your current position).\n\nYou will learn to:\n\nIdentify your personal strengths through analysis\nApply your personal strengths in your career\nEvaluate your individual patterns of behavior through assessment and match them to distinct career paths\nDescribe the importance of a good fit between career areas and temperament\nExplore career possibilities you may not have considered and evaluate them against your strengths and behaviors\nDetermine the gap (if any) between your current career and your long term goals\nRecognize ways to network properly that can lead to new job experiences\nFind alternative ways to develop experience in new job areas so you can realize the goals of your career plan\n\nYou will benefit by:\n\nKnowing your strengths and behaviors and how they apply to your career decisions\nMaking a voyage of self exploration to determine which career path is right for you\nHaving a written plan mapping out where you would like to go with your career\, based on personal findings\nGaining a clearer sense of direction about your career\nBecoming aware of the actions you need to take as a head-start in pursuing your plan\n\nNote:\n\nThis class is split into two components. The first half of the class will take place online\, over a two week period. The second half of the class will take place in the classroom with an instructor. Online\, you will complete two different tools and have a chance to discuss them with an instructor and the other students.\n\nYou will complete:\n\nCareer Maze® an evaluation to help you identify your behavior patterns and the types of jobs they are compatible with\nThe Work Importance Locator – a tool to assist you in prioritizing the aspects of your career that are important to you\n\nAudience:\n\nAnyone who would like to understand their strengths and apply them to their career path
UID:39922-8412099@events.umich.edu
URL:https://events.umich.edu/event/39922
CLASS:PUBLIC
STATUS:CONFIRMED
CATEGORIES:Professional Development,Workshop,Networking,Leadership,Career
LOCATION:Off Campus Location
CONTACT:
END:VEVENT
BEGIN:VEVENT
DTSTAMP:20170410T215244
DTSTART;TZID=America/Detroit:20170612T110000
DTEND;TZID=America/Detroit:20170612T170000
SUMMARY:Exhibition:Cosmogonic Tattoos
DESCRIPTION:In celebration of the University of Michigan’s Bicentennial in 2017\, artist and distinguished U​–M art professor Jim Cogswell has been invited to create a series of public window installations in response to the holdings of the University of Michigan Museum of Art and the Kelsey Museum of Archaeology. For this visionary project\, the artist will adhere a procession of vivid images to the glass walls of the museums in a rhythmically evocative narrative\, based on reassembled fragments from a diverse range of artworks in both museums’ permanent collections. The juxtaposed images will address our shared histories and experiences while connecting the viewer to the origins and meaning of objects and their power to shape knowledge\, memory\, and identity. By leveraging the buildings’ unique architecture\, the artist expands our understanding of a museum as a cultural repository and highlights the significant role of these institutions in the life of the campus community.\nCosmogonic Tattoos is on view at UMMA April 22 through December 3\, 2017 and at the Kelsey Museum of Archaeology from June 2 through December 17\, 2017.\nLead support for Cosmogonic Tattoos is provided by the University of Michigan Office of the Provost.
UID:40469-8571667@events.umich.edu
URL:https://events.umich.edu/event/40469
CLASS:PUBLIC
STATUS:CONFIRMED
CATEGORIES:Visual Arts,Art,Culture,Exhibition,Museum,UMMA
LOCATION:Museum of Art
CONTACT:
END:VEVENT
BEGIN:VEVENT
DTSTAMP:20170309T142003
DTSTART;TZID=America/Detroit:20170612T110000
DTEND;TZID=America/Detroit:20170612T170000
SUMMARY:Exhibition:Ernestine Ruben at Willow Run
DESCRIPTION:In 2013\, artist Ernestine Ruben (BSDEs ’53) photographed the once-famed industrial complex Willow Run in Washtenaw County\, Michigan. Designed by her grandfather\, Detroit architect Albert Kahn\, for the Ford Motor Company\, Willow Run was an exemplar of American defense manufacturing because of its efficient mass-production of B-24 Liberators during World War II.\n\nFor this exhibition\, Ruben overlaid interior views of the now-dormant factory with imagined glimpses into her body’s interior landscape. The resulting compositions seem to breathe energy and light into the stagnant and cavernous spaces of Willow Run and suggest a longing for a productive existence undeterred by mortality for both Willow Run and the artist. Her grandfather’s role in the history of the site underscores Ruben’s personal connection.\n\nThe exhibition presents Ruben’s photographs of Willow Run in UMMA’s Photography Gallery and an original film—co-created by Ruben and video artist Seth Bernstein and featuring an original score by award-winning composer Stephen Hartke—in the Museum’s Forum.\n\nLead support for Ernestine Ruben at Willow Run: Mobilizing Memory is provided by the University of Michigan Office of the Provost and the Herbert W. and Susan L. Johe Endowment.
UID:39107-7692754@events.umich.edu
URL:https://events.umich.edu/event/39107
CLASS:PUBLIC
STATUS:CONFIRMED
CATEGORIES:Museum,Visual Arts,UMMA,Theater,Film,Culture,Bicentennial,Art,Free
LOCATION:Museum of Art
CONTACT:
END:VEVENT
BEGIN:VEVENT
DTSTAMP:20170507T180053
DTSTART;TZID=America/Detroit:20170612T110000
DTEND;TZID=America/Detroit:20170612T170000
SUMMARY:Exhibition:Picturing Buildings
DESCRIPTION:Featuring a selection of nineteenth- and twentieth-century photographs from the Museum’s collection\, Picturing Buildings illuminates the enduring appeal of photographing architecture\, from historic Turkish mosques and New York City skyscrapers\, to industrial factories and intimate domestic interiors. Each of these visually and spatially complex sites provides photographers with representational challenges and endless opportunities to innovate. This exhibition explores how photographers working in a range of contexts—from travel photography and photojournalism to historical documentation and modern art—use architecture to develop pictorial strategies in their own medium. Through selective framing\, dramatic perspectival distortion\, and heightened contrasts between light and dark\, photographers reinterpret their architectural subjects by focusing on the creative act of constructing a photograph. The resulting images reveal our surrounding built environment in new ways and highlight the intriguing transformation that takes place when the camera converts three dimensions into two.\n\nLead support for Picturing Buildings: Photographers and Architecture\, 1855-1985 is provided by the University of Michigan Office of the Provost and the Herbert W. and Susan L. Johe Endowment.
UID:40823-8790964@events.umich.edu
URL:https://events.umich.edu/event/40823
CLASS:PUBLIC
STATUS:CONFIRMED
CATEGORIES:Architecture,Visual Arts,UMMA,Storytelling,Environment
LOCATION:Museum of Art
CONTACT:
END:VEVENT
BEGIN:VEVENT
DTSTAMP:20170410T214735
DTSTART;TZID=America/Detroit:20170612T110000
DTEND;TZID=America/Detroit:20170612T170000
SUMMARY:Exhibition:Rafael Lozano-Hemmer
DESCRIPTION:Wavefunction\, Subsculpture 9\, by Mexican-Canadian artist Rafael Lozano-Hemmer\, is a kinetic sculpture and interactive installation that plays on the work of mid-century American designers Charles and Ray Eames.\n\nThe installation consists of 42 molded plastic chairs (designed by the Eameses in 1948) arranged in a grid and attached to electromechanical pistons. When visitors approach the chairs\, a surveillance system detects their presence and the closest chairs lift gently off the ground. The adjacent chairs follow\, and a wave movement spreads across the array. The software controlling the pistons is based on fluid dynamics\, so as more visitors approach the grid\, the chairs—whose iconic curving contours were also generated mathematically— mimic the complex interaction of multiple waves in water.\n\nThis performative installation complements the concurrent exhibition Moving Image: Performance\, which together constitute the second of three presentations at UMMA drawn from the collection of Borusan Contemporary\, Istanbul. The works in this year-long trio of exhibitions represent traditional categories such as portraiture\, landscape\, and performance that find new resonance when explored through the strategies of dynamic technology.\n\nLead support for Rafael Lozano-Hemmer: Wavefunction\, Subsculpture 9 is provided by the Herbert W. and Susan L. Johe Endowment and Michigan Engineering. Additional generous support is provided by the University of Michigan Latina/o Studies.
UID:40468-8571566@events.umich.edu
URL:https://events.umich.edu/event/40468
CLASS:PUBLIC
STATUS:CONFIRMED
CATEGORIES:Visual Arts,Art,Culture,Exhibition,Museum,UMMA
LOCATION:Museum of Art
CONTACT:
END:VEVENT
BEGIN:VEVENT
DTSTAMP:20170403T125717
DTSTART;TZID=America/Detroit:20170612T120000
DTEND;TZID=America/Detroit:20170612T130000
SUMMARY:Other:9/22--Fall 2017 Application Deadline
DESCRIPTION:The application deadline for Winter 2018 and early-admission Fall 2018. Please apply through M-Compass.
UID:40173-8508955@events.umich.edu
URL:https://events.umich.edu/event/40173
CLASS:PUBLIC
STATUS:CONFIRMED
CATEGORIES:Networking,Undergraduate,Transfer Students,Study Abroad,Student Org,Social Justice,Interdisciplinary,Internship,Deadlines,Majors,Public Policy,Research,Scholarships,Social,Social Impact,Leadership
LOCATION:Off Campus Location
CONTACT:
END:VEVENT
BEGIN:VEVENT
DTSTAMP:20170710T154423
DTSTART;TZID=America/Detroit:20170612T121500
DTEND;TZID=America/Detroit:20170612T130000
SUMMARY:Recreational / Games:Deutschtisch
DESCRIPTION:The Deutschtisch for Spring 2017 is associated with German 100\, but all are welcome!  The group will meet Mondays and Wednesdays 12:15-1:00. You can find the group with your ears (i.e. listen for a group of people speaking German). Look for the group at Beanster's Cafe on the ground floor of the Michigan League (typically the group will meet here) OR occasionally on Mondays with good weather\, in the \"Courtyard Garden\" of the League\, across from UHS (one way to get to it would be to go directly through the League from the front doors (facing the Bell Tower) to the back doors). ALTERNATIVELY\, you can come to the end of the morning class session at 12:00 in Room 2106 MLB and then walk to lunch with the group.\n\nThere will always be at least one instructor present\; in the first half of the Summer semester\, that will be Shubhangi Dabak or Julie Gruber.\n\nAll interested German speakers are welcome!\n\nIf you are taking German 232 in the Summer\, you can make up 2 \"A&P Tally\" points by attending. Just ask one of the instructors present to let your instructor(s) know you were there.
UID:40838-8799197@events.umich.edu
URL:https://events.umich.edu/event/40838
CLASS:PUBLIC
STATUS:CONFIRMED
CATEGORIES:Language,Food
LOCATION:Michigan League - Beanster&#039;s Cafe or if the weather permits, the League&#039;s Courtyard Garden
CONTACT:
END:VEVENT
BEGIN:VEVENT
DTSTAMP:20170531T100947
DTSTART;TZID=America/Detroit:20170612T140000
DTEND;TZID=America/Detroit:20170612T160000
SUMMARY:Other:A Socially Constructive Social Contract: The Need for Coalitions in Corrective Justice
DESCRIPTION:Chair: Elizabeth Anderson
UID:41109-8981735@events.umich.edu
URL:https://events.umich.edu/event/41109
CLASS:PUBLIC
STATUS:CONFIRMED
CATEGORIES:Philosophy
LOCATION:Angell Hall - 1164 (Seminar Room)
CONTACT:
END:VEVENT
BEGIN:VEVENT
DTSTAMP:20170104T172727
DTSTART;TZID=America/Detroit:20170612T200000
DTEND;TZID=America/Detroit:20170612T235900
SUMMARY:Exhibition:The Student Experience: Flappers\, Mappers\, and the Fight for Equality on Campus
DESCRIPTION:Join flappers as they stroll through 1926 Ann Arbor with a beautiful pictorial map and experience the busy student life of the 1920s\, celebrate two University of Michigan alumna who have greatly influenced the field of cartography\, and explore the rise of diversity and the fight for equality on campus through protest posters from the Joseph A. Labadie Collection of the U-M Library’s Special Collections.
UID:37210-8820334@events.umich.edu
URL:https://events.umich.edu/event/37210
CLASS:PUBLIC
STATUS:CONFIRMED
CATEGORIES:Bicentennial,Exhibition,Free,Library
LOCATION:Hatcher Graduate Library - Clark Library, 2nd Floor Hatcher
CONTACT:
END:VEVENT
END:VCALENDAR