BEGIN:VCALENDAR
VERSION:2.0
PRODID:-//UM//UM*Events//EN
CALSCALE:GREGORIAN
BEGIN:VTIMEZONE
TZID:America/Detroit
TZURL:http://tzurl.org/zoneinfo/America/Detroit
X-LIC-LOCATION:America/Detroit
BEGIN:DAYLIGHT
TZOFFSETFROM:-0500
TZOFFSETTO:-0400
TZNAME:EDT
DTSTART:20070311T020000
RRULE:FREQ=YEARLY;BYMONTH=3;BYDAY=2SU
END:DAYLIGHT
BEGIN:STANDARD
TZOFFSETFROM:-0400
TZOFFSETTO:-0500
TZNAME:EST
DTSTART:20071104T020000
RRULE:FREQ=YEARLY;BYMONTH=11;BYDAY=1SU
END:STANDARD
END:VTIMEZONE
BEGIN:VEVENT
DTSTAMP:20170605T134456
DTSTART;TZID=America/Detroit:20170614T073000
DTEND;TZID=America/Detroit:20170614T130000
SUMMARY:Conference / Symposium:3rd Multi-Disciplinary Conference on Reinforcement Learning and Decision Making (RLDM)
DESCRIPTION:The 3rd Multi-Disciplinary Conference on Reinforcement Learning and Decision Making (RLDM) will be held here in Ann Arbor from Sunday\, June 11 to Wednesday\, June 14th\, 2017.  This conference brings together people studying decision-making from a variety of disciplines including neuroscience\, psychology\, and computer science. Please see  http://rldm.org/rldm2017/ for more information and registration.
UID:41205-9024273@events.umich.edu
URL:https://events.umich.edu/event/41205
CLASS:PUBLIC
STATUS:CONFIRMED
CATEGORIES:Electrical Engineering and Computer Science,Science
LOCATION:Rackham Graduate School (Horace H.) - Rackham Auditorium
CONTACT:
END:VEVENT
BEGIN:VEVENT
DTSTAMP:20170602T111706
DTSTART;TZID=America/Detroit:20170614T080000
DTEND;TZID=America/Detroit:20170614T110000
SUMMARY:Exhibition:Ira Deutchman: A Commitment to Specialty Films
DESCRIPTION:What if you made a movie and nobody came to see it? Ira Deutchman has spent his five-decades long career as producer\, marketer\, and distributor making sure that doesn't happen. This exhibit offers a behind the scenes look at how he went about finding audiences for some of the most important and influential independent and specialty films of the 1970s\, 80s and 90s.
UID:41197-8998070@events.umich.edu
URL:https://events.umich.edu/event/41197
CLASS:PUBLIC
STATUS:CONFIRMED
CATEGORIES:Film,Free,Library
LOCATION:Hatcher Graduate Library - Gallery (Room 100)
CONTACT:
END:VEVENT
BEGIN:VEVENT
DTSTAMP:20170105T143903
DTSTART;TZID=America/Detroit:20170614T080000
DTEND;TZID=America/Detroit:20170614T200000
SUMMARY:Exhibition:The Grandmother Tree Walk
DESCRIPTION:Matthaei Botanical Gardens & Nichols Arboretum celebrates the University of Michigan bicentennial with a tour of 12 historic trees in the Arboretum. The bicentennial story is told from the perspective of the trees\, and key moments of U-M's people and history that occurred during the trees' long lives are revealed. Visitors may pick up a map at the Arb visitor center to take this easy\, self-guided tour.
UID:37328-6502206@events.umich.edu
URL:https://events.umich.edu/event/37328
CLASS:PUBLIC
STATUS:CONFIRMED
CATEGORIES:Bicentennial,Environment,Free,Outdoors,umich200
LOCATION:Nichols Arboretum
CONTACT:
END:VEVENT
BEGIN:VEVENT
DTSTAMP:20170501T173118
DTSTART;TZID=America/Detroit:20170614T083000
DTEND;TZID=America/Detroit:20170614T180000
SUMMARY:Exhibition:Storied Acquisitions: Highlights from the University of Michigan Library Collections
DESCRIPTION:In celebration of the university’s bicentennial\, this exhibit showcases treasures from a variety of library collecting areas and explores the stories behind the development of some of our most distinctive collections. From Audubon’s Birds of America\, the first book acquired for the library\, to more recent arrivals like Robert Altman’s Academy Award\, the items on display afford us an opportunity to reflect on the history and consider the future of one of the country's largest and most important research library collections.\n\nThe exhibit features books\, maps\, sheet music\, manuscripts\, and artifacts from the University of Michigan Library’s Art\, Architecture\, and Engineering Library\; Clark Library\; Music Library\; and Special Collections Library.\n\nHours: Weekdays 8:30am-6pm\, Saturdays 10am-6pm\, Sundays 1-6 pm \nClosed: May 27-29\, July 1-2\, July 4\, August 19-20\, August 26-27
UID:40756-8741825@events.umich.edu
URL:https://events.umich.edu/event/40756
CLASS:PUBLIC
STATUS:CONFIRMED
CATEGORIES:Exhibition,Library
LOCATION:Hatcher Graduate Library - Audubon Room
CONTACT:
END:VEVENT
BEGIN:VEVENT
DTSTAMP:20170411T110307
DTSTART;TZID=America/Detroit:20170614T084500
DTEND;TZID=America/Detroit:20170614T164500
SUMMARY:Exhibition:Banner Moments: The National Anthem in American Life
DESCRIPTION:The new Ford Presidential Library lobby exhibit\, curated by University of Michigan musicologist Mark Clague\, illustrates through interpretive panels\, historical documents and photographs\, the cultural 200-year history of “The Star-Spangled Banner” (1814–2014). The tale that emerges demonstrates the power of music and poetry to spark the social imagination and thus create a sense of shared community.\n\nInspired by the successful defense of Baltimore\, Maryland from British attack in September 1814\, lawyer and amateur poet Francis Scott Key penned his now famous lyric. Rather than extraordinary\, Key’s creative impulse was typical of early America’s broadside ballad tradition in which new words were written to fit well known tunes. The result\, however\, was far from everyday—Key could not have predicted that his song would survive the moment\, yet become his nation’s singular anthem.\n\nFollow the “The Star-Spangled Banner” from the moments leading up to September 14\, 1814 through the present day and explore the social history of our national song.\nMarch 2017 to September 2017 \n\nMonday - Friday. 8:45 am - 4:45 pm\nClosed all Federal holidays.
UID:40477-8576060@events.umich.edu
URL:https://events.umich.edu/event/40477
CLASS:PUBLIC
STATUS:CONFIRMED
CATEGORIES:Music History,Star Spangled Banner
LOCATION:Gerald Ford Library
CONTACT:
END:VEVENT
BEGIN:VEVENT
DTSTAMP:20170510T144424
DTSTART;TZID=America/Detroit:20170614T090000
DTEND;TZID=America/Detroit:20170614T170000
SUMMARY:Exhibition:Cosmogonic Tattoos
DESCRIPTION:In celebration of the University’s Bicentennial in 2017\, artist and professor Jim Cogswell has been invited by the Kelsey Museum of Archaeology and the University of Michigan Museum of Art to create a set of public window installations in response to the objects in their collections.  Titled Cosmogonic Tattoos\, his project will use adhesive vinyl images applied in saturated colors to windows in the two buildings\, highlighting the role of these museums in the life of our campus community. Through close examination of objects separated from us by deep chronological and cultural divides\, imaginatively transformed within our campus context\, this project celebrates the power of architecture\, ornament\, and material objects to shape knowledge\, historical memory\, and cultural identity. \n\nLook for displays in the UMMA from April 22-Dec. 3\, the exterior of the Kelsey Museum from June 2-Dec. 17\, and in the interior special exhibition space of the Kelsey Museum from June 2-Sept. 10.\n\nFor information on-the-go about this event and all other Bicentennial happenings\, download our free mobile app: http://guidebook.com/g/umich200.
UID:40187-8516474@events.umich.edu
URL:https://events.umich.edu/event/40187
CLASS:PUBLIC
STATUS:CONFIRMED
CATEGORIES:Architecture,Art,Bicentennial,Culture,Exhibition,History,Interdisciplinary,Museum,umich200,UMMA
LOCATION:Off Campus Location
CONTACT:
END:VEVENT
BEGIN:VEVENT
DTSTAMP:20170602T155527
DTSTART;TZID=America/Detroit:20170614T090000
DTEND;TZID=America/Detroit:20170614T160000
SUMMARY:Exhibition:Exhibition and Window Installation | Cosmogonic Tattoos
DESCRIPTION:In celebration of the University’s Bicentennial in 2017\, artist and professor Jim Cogswell has been invited by the Kelsey Museum of Archaeology and the University of Michigan Museum of Art to create a set of public window installations in response to the objects in their collections.  Titled \"Cosmogonic Tattoos\,\" his project uses adhesive vinyl images applied in saturated colors to windows in the two buildings\, highlighting the role of these museums in the life of our campus community. Through close examination of objects separated from us by deep chronological and cultural divides\, imaginatively transformed within our campus context\, this project celebrates the power of architecture\, ornament\, and material objects to shape knowledge\, historical memory\, and cultural identity.
UID:40743-8719624@events.umich.edu
URL:https://events.umich.edu/event/40743
CLASS:PUBLIC
STATUS:CONFIRMED
CATEGORIES:AEM Featured,Archaeology,Art,Exhibition,Museum
LOCATION:Kelsey Museum of Archaeology
CONTACT:
END:VEVENT
BEGIN:VEVENT
DTSTAMP:20170323T093112
DTSTART;TZID=America/Detroit:20170614T090000
DTEND;TZID=America/Detroit:20170614T120000
SUMMARY:Workshop / Seminar:Review! Renew! Recommit! Strategies for Enjoying and Enhancing Your Work
DESCRIPTION:This energizing and engaging course will help participants in any field examine how they currently approach their careers\, determine how to enhance their jobs\, and decide what to do if and when a job becomes less rewarding.\n\nYou will learn to:\n\nRecognize when to expect “forks in the road” that naturally occur in an individual’s career\nRaise your self-awareness of what you like about your current job\nExplore strategies for expanding preferred aspects of your work\nDetermine if you are experiencing either the “autopilot” or “rebel in a rut” syndromes and use the best solutions to address each\nFind solutions to address specific job syndromes\nDetermine which of the “3 R’s” (recommit\, reassign or resign) to use in addressing any job dissatisfaction\nCreate a plan of action to move yourself to create job improvement or address job dissatisfaction if it exists\n\nYou will benefit by:\n\nBecoming happier and more productive at work\nDiscovering what you really like to do\nIdentifying the source of any potential job dissatisfaction what to do about it\nExploring new ways to expand opportunities or seek new paths\nFinding ways to celebrate if or when you actually like your job\n\nAudience:\n\nAnyone who would like to enhance their work day\, become more productive\, or who are experiencing job dissatisfaction on any level
UID:39924-8412102@events.umich.edu
URL:https://events.umich.edu/event/39924
CLASS:PUBLIC
STATUS:CONFIRMED
CATEGORIES:Career,Networking,Professional Development,Workshop
LOCATION:Administrative Services Building - LPD
CONTACT:
END:VEVENT
BEGIN:VEVENT
DTSTAMP:20170410T215244
DTSTART;TZID=America/Detroit:20170614T110000
DTEND;TZID=America/Detroit:20170614T170000
SUMMARY:Exhibition:Cosmogonic Tattoos
DESCRIPTION:In celebration of the University of Michigan’s Bicentennial in 2017\, artist and distinguished U​–M art professor Jim Cogswell has been invited to create a series of public window installations in response to the holdings of the University of Michigan Museum of Art and the Kelsey Museum of Archaeology. For this visionary project\, the artist will adhere a procession of vivid images to the glass walls of the museums in a rhythmically evocative narrative\, based on reassembled fragments from a diverse range of artworks in both museums’ permanent collections. The juxtaposed images will address our shared histories and experiences while connecting the viewer to the origins and meaning of objects and their power to shape knowledge\, memory\, and identity. By leveraging the buildings’ unique architecture\, the artist expands our understanding of a museum as a cultural repository and highlights the significant role of these institutions in the life of the campus community.\nCosmogonic Tattoos is on view at UMMA April 22 through December 3\, 2017 and at the Kelsey Museum of Archaeology from June 2 through December 17\, 2017.\nLead support for Cosmogonic Tattoos is provided by the University of Michigan Office of the Provost.
UID:40469-8571669@events.umich.edu
URL:https://events.umich.edu/event/40469
CLASS:PUBLIC
STATUS:CONFIRMED
CATEGORIES:Art,Culture,Exhibition,Museum,UMMA,Visual Arts
LOCATION:Museum of Art
CONTACT:
END:VEVENT
BEGIN:VEVENT
DTSTAMP:20170309T142003
DTSTART;TZID=America/Detroit:20170614T110000
DTEND;TZID=America/Detroit:20170614T170000
SUMMARY:Exhibition:Ernestine Ruben at Willow Run
DESCRIPTION:In 2013\, artist Ernestine Ruben (BSDEs ’53) photographed the once-famed industrial complex Willow Run in Washtenaw County\, Michigan. Designed by her grandfather\, Detroit architect Albert Kahn\, for the Ford Motor Company\, Willow Run was an exemplar of American defense manufacturing because of its efficient mass-production of B-24 Liberators during World War II.\n\nFor this exhibition\, Ruben overlaid interior views of the now-dormant factory with imagined glimpses into her body’s interior landscape. The resulting compositions seem to breathe energy and light into the stagnant and cavernous spaces of Willow Run and suggest a longing for a productive existence undeterred by mortality for both Willow Run and the artist. Her grandfather’s role in the history of the site underscores Ruben’s personal connection.\n\nThe exhibition presents Ruben’s photographs of Willow Run in UMMA’s Photography Gallery and an original film—co-created by Ruben and video artist Seth Bernstein and featuring an original score by award-winning composer Stephen Hartke—in the Museum’s Forum.\n\nLead support for Ernestine Ruben at Willow Run: Mobilizing Memory is provided by the University of Michigan Office of the Provost and the Herbert W. and Susan L. Johe Endowment.
UID:39107-7692756@events.umich.edu
URL:https://events.umich.edu/event/39107
CLASS:PUBLIC
STATUS:CONFIRMED
CATEGORIES:Art,Bicentennial,Culture,Film,Free,Museum,Theater,UMMA,Visual Arts
LOCATION:Museum of Art
CONTACT:
END:VEVENT
BEGIN:VEVENT
DTSTAMP:20170507T180053
DTSTART;TZID=America/Detroit:20170614T110000
DTEND;TZID=America/Detroit:20170614T170000
SUMMARY:Exhibition:Picturing Buildings
DESCRIPTION:Featuring a selection of nineteenth- and twentieth-century photographs from the Museum’s collection\, Picturing Buildings illuminates the enduring appeal of photographing architecture\, from historic Turkish mosques and New York City skyscrapers\, to industrial factories and intimate domestic interiors. Each of these visually and spatially complex sites provides photographers with representational challenges and endless opportunities to innovate. This exhibition explores how photographers working in a range of contexts—from travel photography and photojournalism to historical documentation and modern art—use architecture to develop pictorial strategies in their own medium. Through selective framing\, dramatic perspectival distortion\, and heightened contrasts between light and dark\, photographers reinterpret their architectural subjects by focusing on the creative act of constructing a photograph. The resulting images reveal our surrounding built environment in new ways and highlight the intriguing transformation that takes place when the camera converts three dimensions into two.\n\nLead support for Picturing Buildings: Photographers and Architecture\, 1855-1985 is provided by the University of Michigan Office of the Provost and the Herbert W. and Susan L. Johe Endowment.
UID:40823-8790966@events.umich.edu
URL:https://events.umich.edu/event/40823
CLASS:PUBLIC
STATUS:CONFIRMED
CATEGORIES:Architecture,Environment,Storytelling,UMMA,Visual Arts
LOCATION:Museum of Art
CONTACT:
END:VEVENT
BEGIN:VEVENT
DTSTAMP:20170410T214735
DTSTART;TZID=America/Detroit:20170614T110000
DTEND;TZID=America/Detroit:20170614T170000
SUMMARY:Exhibition:Rafael Lozano-Hemmer
DESCRIPTION:Wavefunction\, Subsculpture 9\, by Mexican-Canadian artist Rafael Lozano-Hemmer\, is a kinetic sculpture and interactive installation that plays on the work of mid-century American designers Charles and Ray Eames.\n\nThe installation consists of 42 molded plastic chairs (designed by the Eameses in 1948) arranged in a grid and attached to electromechanical pistons. When visitors approach the chairs\, a surveillance system detects their presence and the closest chairs lift gently off the ground. The adjacent chairs follow\, and a wave movement spreads across the array. The software controlling the pistons is based on fluid dynamics\, so as more visitors approach the grid\, the chairs—whose iconic curving contours were also generated mathematically— mimic the complex interaction of multiple waves in water.\n\nThis performative installation complements the concurrent exhibition Moving Image: Performance\, which together constitute the second of three presentations at UMMA drawn from the collection of Borusan Contemporary\, Istanbul. The works in this year-long trio of exhibitions represent traditional categories such as portraiture\, landscape\, and performance that find new resonance when explored through the strategies of dynamic technology.\n\nLead support for Rafael Lozano-Hemmer: Wavefunction\, Subsculpture 9 is provided by the Herbert W. and Susan L. Johe Endowment and Michigan Engineering. Additional generous support is provided by the University of Michigan Latina/o Studies.
UID:40468-8571568@events.umich.edu
URL:https://events.umich.edu/event/40468
CLASS:PUBLIC
STATUS:CONFIRMED
CATEGORIES:Art,Culture,Exhibition,Museum,UMMA,Visual Arts
LOCATION:Museum of Art
CONTACT:
END:VEVENT
BEGIN:VEVENT
DTSTAMP:20170510T133043
DTSTART;TZID=America/Detroit:20170614T113000
DTEND;TZID=America/Detroit:20170614T130000
SUMMARY:Workshop / Seminar:Causal Inference in Education Research Seminar (CIERS): Program Evaluation Using Machine Learning and Regression Discontinuity
DESCRIPTION:Details to come.
UID:40881-8816209@events.umich.edu
URL:https://events.umich.edu/event/40881
CLASS:PUBLIC
STATUS:CONFIRMED
CATEGORIES:Economics,Education,Research,seminar
LOCATION:Weill Hall (Ford School) - Third Floor Conference Room
CONTACT:
END:VEVENT
BEGIN:VEVENT
DTSTAMP:20170403T125717
DTSTART;TZID=America/Detroit:20170614T120000
DTEND;TZID=America/Detroit:20170614T130000
SUMMARY:Other:9/22--Fall 2017 Application Deadline
DESCRIPTION:The application deadline for Winter 2018 and early-admission Fall 2018. Please apply through M-Compass.
UID:40173-8508957@events.umich.edu
URL:https://events.umich.edu/event/40173
CLASS:PUBLIC
STATUS:CONFIRMED
CATEGORIES:Deadlines,Interdisciplinary,Internship,Leadership,Majors,Networking,Public Policy,Research,Scholarships,Social,Social Impact,Social Justice,Student Org,Study Abroad,Transfer Students,Undergraduate
LOCATION:Off Campus Location
CONTACT:
END:VEVENT
BEGIN:VEVENT
DTSTAMP:20170513T121524
DTSTART;TZID=America/Detroit:20170614T120000
DTEND;TZID=America/Detroit:20170614T190000
SUMMARY:Exhibition:Reach: A Stamps Faculty Exhibition
DESCRIPTION:The University of Michigan Stamps School of Art & Design is pleased to announce Reach: A Stamps Faculty Exhibition\, on view Tuesday\, May 16 - Saturday July 8\, 2017 in the new downtown Ann Arbor Stamps Gallery (201 S. Division St.\, Ann Arbor). An exhibition reception will take place on Friday\, June 16 from 6 - 8 pm. The exhibition and the reception are free and open to the public.\n\nReach: A Stamps Faculty Exhibition brings together a cross-section of rigorous and research-based works that highlight the range and diversity of creative practices emerging from the University of Michigan’s Stamps School of Art & Design. Stamps Faculty wear multiple hats as educators\, storytellers\, artists\, and designers.  Their work is a vehicle to deepen research and expand the pedagogical frameworks of contemporary art and design practices in the 21st Century. By experimenting with mediums\, materials\, audience interaction\, and participation\, Reach brings together energizing and compelling paintings\, sculpture\, new media installations\, collage and found objects\, video\, performance\, and textile design. Reach is the first of a series of projects that will examine and highlight art\, design and creative work produced by Stamps faculty in the years to come.\n\nParticipating faculty members include: \n\n\n	James Cogswell\n	Roland Graf\n	Holly Hughes\n	Osman Khan  \n	Heidi Kumao\n	Louis Marinaro\n	Rebekah Modrak\n	Anne Mondro\n	Robert Platt\n	Marianetta Porter\n	Michael Rodemer\n	Stephanie Rowden and Jennifer Metsker\n	Sherri Smith\n	Bruce Tharp and Stephanie Tharp\n	Nick Tobier\n	Joseph Trumpey\n\n\nReach: A Stamps Faculty Exhibition\nExhibition Dates: Tuesday\, May 16 - Saturday July 8\, 2017\nExhibition Reception: Friday\, June 16 from 6 - 8 pm\n\nImage: Sherri Smith\, Mercury\, 2015. Woven fiber\, 114” x 60”
UID:40922-8836714@events.umich.edu
URL:https://events.umich.edu/event/40922
CLASS:PUBLIC
STATUS:CONFIRMED
CATEGORIES:Art,Exhibition
LOCATION:Off Campus Location
CONTACT:
END:VEVENT
BEGIN:VEVENT
DTSTAMP:20170710T154423
DTSTART;TZID=America/Detroit:20170614T121500
DTEND;TZID=America/Detroit:20170614T130000
SUMMARY:Recreational / Games:Deutschtisch
DESCRIPTION:The Deutschtisch for Spring 2017 is associated with German 100\, but all are welcome!  The group will meet Mondays and Wednesdays 12:15-1:00. You can find the group with your ears (i.e. listen for a group of people speaking German). Look for the group at Beanster's Cafe on the ground floor of the Michigan League (typically the group will meet here) OR occasionally on Mondays with good weather\, in the \"Courtyard Garden\" of the League\, across from UHS (one way to get to it would be to go directly through the League from the front doors (facing the Bell Tower) to the back doors). ALTERNATIVELY\, you can come to the end of the morning class session at 12:00 in Room 2106 MLB and then walk to lunch with the group.\n\nThere will always be at least one instructor present\; in the first half of the Summer semester\, that will be Shubhangi Dabak or Julie Gruber.\n\nAll interested German speakers are welcome!\n\nIf you are taking German 232 in the Summer\, you can make up 2 \"A&P Tally\" points by attending. Just ask one of the instructors present to let your instructor(s) know you were there.
UID:40838-8799214@events.umich.edu
URL:https://events.umich.edu/event/40838
CLASS:PUBLIC
STATUS:CONFIRMED
CATEGORIES:Food,Language
LOCATION:Michigan Union - Food Court
CONTACT:
END:VEVENT
BEGIN:VEVENT
DTSTAMP:20170608T181948
DTSTART;TZID=America/Detroit:20170614T150000
DTEND;TZID=America/Detroit:20170614T170000
SUMMARY:Reception / Open House:Reception for New NAE Members
DESCRIPTION:To celebrate the achievements of our new National Academy of Engineering members:\n  \nEllen M. Arruda\nProfessor of Mechanical Engineering\nProfessor of Biomedical Engineering\n \nMark S. Daskin\nClyde W. Johnson Collegiate Professor and Chair\nIndustrial and Operations Engineering\n \nNoboru Kikuchi\nRoger L. McCarthy Professor Emeritus of Mechanical Engineering
UID:41222-9032362@events.umich.edu
URL:https://events.umich.edu/event/41222
CLASS:PUBLIC
STATUS:CONFIRMED
CATEGORIES:Industrial And Operations Engineering,Mechanical Engineering
LOCATION:BBB - Tishman Hall
CONTACT:
END:VEVENT
BEGIN:VEVENT
DTSTAMP:20170516T134206
DTSTART;TZID=America/Detroit:20170614T170000
DTEND;TZID=America/Detroit:20170614T170000
SUMMARY:Other:Deadline for Faculty to Apply for Interprofessional Exchange (IP-X) Grants
DESCRIPTION:This new U-M research stimulus has more than $1.5 million of funding available over a three-year period. The emphasis is on health outcomes and value. The program is open to faculty on all three U-M campuses. It was initiated by the health science school deans and is administered by the Michigan Center for Interprofessional Education.\nProposals are due at 5 p.m. June 14\, 2017\, and must be research projects that study interprofessional care and services\, policy\, or education. \nCheck out info on RFAs and FAQs at myumi.ch/a0YPY .\nNotification of awards will be provided in fall.
UID:40942-8861296@events.umich.edu
URL:https://events.umich.edu/event/40942
CLASS:PUBLIC
STATUS:CONFIRMED
CATEGORIES:Deadlines,Interdisciplinary,Kinesiology,Medicine,Multidisciplinary Design,Nursing,Pharmacy,Public Health,Research,Science,Sociology
LOCATION:Off Campus Location
CONTACT:
END:VEVENT
BEGIN:VEVENT
DTSTAMP:20170104T172727
DTSTART;TZID=America/Detroit:20170614T200000
DTEND;TZID=America/Detroit:20170614T235900
SUMMARY:Exhibition:The Student Experience: Flappers\, Mappers\, and the Fight for Equality on Campus
DESCRIPTION:Join flappers as they stroll through 1926 Ann Arbor with a beautiful pictorial map and experience the busy student life of the 1920s\, celebrate two University of Michigan alumna who have greatly influenced the field of cartography\, and explore the rise of diversity and the fight for equality on campus through protest posters from the Joseph A. Labadie Collection of the U-M Library’s Special Collections.
UID:37210-8820336@events.umich.edu
URL:https://events.umich.edu/event/37210
CLASS:PUBLIC
STATUS:CONFIRMED
CATEGORIES:Bicentennial,Exhibition,Free,Library
LOCATION:Hatcher Graduate Library - Clark Library, 2nd Floor Hatcher
CONTACT:
END:VEVENT
END:VCALENDAR