BEGIN:VCALENDAR
VERSION:2.0
PRODID:-//UM//UM*Events//EN
CALSCALE:GREGORIAN
BEGIN:VTIMEZONE
TZID:America/Detroit
TZURL:http://tzurl.org/zoneinfo/America/Detroit
X-LIC-LOCATION:America/Detroit
BEGIN:DAYLIGHT
TZOFFSETFROM:-0500
TZOFFSETTO:-0400
TZNAME:EDT
DTSTART:20070311T020000
RRULE:FREQ=YEARLY;BYMONTH=3;BYDAY=2SU
END:DAYLIGHT
BEGIN:STANDARD
TZOFFSETFROM:-0400
TZOFFSETTO:-0500
TZNAME:EST
DTSTART:20071104T020000
RRULE:FREQ=YEARLY;BYMONTH=11;BYDAY=1SU
END:STANDARD
END:VTIMEZONE
BEGIN:VEVENT
DTSTAMP:20170602T111706
DTSTART;TZID=America/Detroit:20170616T080000
DTEND;TZID=America/Detroit:20170616T110000
SUMMARY:Exhibition:Ira Deutchman: A Commitment to Specialty Films
DESCRIPTION:What if you made a movie and nobody came to see it? Ira Deutchman has spent his five-decades long career as producer\, marketer\, and distributor making sure that doesn't happen. This exhibit offers a behind the scenes look at how he went about finding audiences for some of the most important and influential independent and specialty films of the 1970s\, 80s and 90s.
UID:41197-8998072@events.umich.edu
URL:https://events.umich.edu/event/41197
CLASS:PUBLIC
STATUS:CONFIRMED
CATEGORIES:Film,Free,Library
LOCATION:Hatcher Graduate Library - Gallery (Room 100)
CONTACT:
END:VEVENT
BEGIN:VEVENT
DTSTAMP:20170105T143903
DTSTART;TZID=America/Detroit:20170616T080000
DTEND;TZID=America/Detroit:20170616T200000
SUMMARY:Exhibition:The Grandmother Tree Walk
DESCRIPTION:Matthaei Botanical Gardens & Nichols Arboretum celebrates the University of Michigan bicentennial with a tour of 12 historic trees in the Arboretum. The bicentennial story is told from the perspective of the trees\, and key moments of U-M's people and history that occurred during the trees' long lives are revealed. Visitors may pick up a map at the Arb visitor center to take this easy\, self-guided tour.
UID:37328-6502208@events.umich.edu
URL:https://events.umich.edu/event/37328
CLASS:PUBLIC
STATUS:CONFIRMED
CATEGORIES:Bicentennial,Environment,Free,Outdoors,umich200
LOCATION:Nichols Arboretum
CONTACT:
END:VEVENT
BEGIN:VEVENT
DTSTAMP:20170501T173118
DTSTART;TZID=America/Detroit:20170616T083000
DTEND;TZID=America/Detroit:20170616T180000
SUMMARY:Exhibition:Storied Acquisitions: Highlights from the University of Michigan Library Collections
DESCRIPTION:In celebration of the university’s bicentennial\, this exhibit showcases treasures from a variety of library collecting areas and explores the stories behind the development of some of our most distinctive collections. From Audubon’s Birds of America\, the first book acquired for the library\, to more recent arrivals like Robert Altman’s Academy Award\, the items on display afford us an opportunity to reflect on the history and consider the future of one of the country's largest and most important research library collections.\n\nThe exhibit features books\, maps\, sheet music\, manuscripts\, and artifacts from the University of Michigan Library’s Art\, Architecture\, and Engineering Library\; Clark Library\; Music Library\; and Special Collections Library.\n\nHours: Weekdays 8:30am-6pm\, Saturdays 10am-6pm\, Sundays 1-6 pm \nClosed: May 27-29\, July 1-2\, July 4\, August 19-20\, August 26-27
UID:40756-8741827@events.umich.edu
URL:https://events.umich.edu/event/40756
CLASS:PUBLIC
STATUS:CONFIRMED
CATEGORIES:Exhibition,Library
LOCATION:Hatcher Graduate Library - Audubon Room
CONTACT:
END:VEVENT
BEGIN:VEVENT
DTSTAMP:20170411T110307
DTSTART;TZID=America/Detroit:20170616T084500
DTEND;TZID=America/Detroit:20170616T164500
SUMMARY:Exhibition:Banner Moments: The National Anthem in American Life
DESCRIPTION:The new Ford Presidential Library lobby exhibit\, curated by University of Michigan musicologist Mark Clague\, illustrates through interpretive panels\, historical documents and photographs\, the cultural 200-year history of “The Star-Spangled Banner” (1814–2014). The tale that emerges demonstrates the power of music and poetry to spark the social imagination and thus create a sense of shared community.\n\nInspired by the successful defense of Baltimore\, Maryland from British attack in September 1814\, lawyer and amateur poet Francis Scott Key penned his now famous lyric. Rather than extraordinary\, Key’s creative impulse was typical of early America’s broadside ballad tradition in which new words were written to fit well known tunes. The result\, however\, was far from everyday—Key could not have predicted that his song would survive the moment\, yet become his nation’s singular anthem.\n\nFollow the “The Star-Spangled Banner” from the moments leading up to September 14\, 1814 through the present day and explore the social history of our national song.\nMarch 2017 to September 2017 \n\nMonday - Friday. 8:45 am - 4:45 pm\nClosed all Federal holidays.
UID:40477-8576062@events.umich.edu
URL:https://events.umich.edu/event/40477
CLASS:PUBLIC
STATUS:CONFIRMED
CATEGORIES:Music History,Star Spangled Banner
LOCATION:Gerald Ford Library
CONTACT:
END:VEVENT
BEGIN:VEVENT
DTSTAMP:20170510T144424
DTSTART;TZID=America/Detroit:20170616T090000
DTEND;TZID=America/Detroit:20170616T170000
SUMMARY:Exhibition:Cosmogonic Tattoos
DESCRIPTION:In celebration of the University’s Bicentennial in 2017\, artist and professor Jim Cogswell has been invited by the Kelsey Museum of Archaeology and the University of Michigan Museum of Art to create a set of public window installations in response to the objects in their collections.  Titled Cosmogonic Tattoos\, his project will use adhesive vinyl images applied in saturated colors to windows in the two buildings\, highlighting the role of these museums in the life of our campus community. Through close examination of objects separated from us by deep chronological and cultural divides\, imaginatively transformed within our campus context\, this project celebrates the power of architecture\, ornament\, and material objects to shape knowledge\, historical memory\, and cultural identity. \n\nLook for displays in the UMMA from April 22-Dec. 3\, the exterior of the Kelsey Museum from June 2-Dec. 17\, and in the interior special exhibition space of the Kelsey Museum from June 2-Sept. 10.\n\nFor information on-the-go about this event and all other Bicentennial happenings\, download our free mobile app: http://guidebook.com/g/umich200.
UID:40187-8516476@events.umich.edu
URL:https://events.umich.edu/event/40187
CLASS:PUBLIC
STATUS:CONFIRMED
CATEGORIES:Architecture,Art,Bicentennial,Culture,Exhibition,History,Interdisciplinary,Museum,umich200,UMMA
LOCATION:Off Campus Location
CONTACT:
END:VEVENT
BEGIN:VEVENT
DTSTAMP:20170602T155527
DTSTART;TZID=America/Detroit:20170616T090000
DTEND;TZID=America/Detroit:20170616T160000
SUMMARY:Exhibition:Exhibition and Window Installation | Cosmogonic Tattoos
DESCRIPTION:In celebration of the University’s Bicentennial in 2017\, artist and professor Jim Cogswell has been invited by the Kelsey Museum of Archaeology and the University of Michigan Museum of Art to create a set of public window installations in response to the objects in their collections.  Titled \"Cosmogonic Tattoos\,\" his project uses adhesive vinyl images applied in saturated colors to windows in the two buildings\, highlighting the role of these museums in the life of our campus community. Through close examination of objects separated from us by deep chronological and cultural divides\, imaginatively transformed within our campus context\, this project celebrates the power of architecture\, ornament\, and material objects to shape knowledge\, historical memory\, and cultural identity.
UID:40743-8719626@events.umich.edu
URL:https://events.umich.edu/event/40743
CLASS:PUBLIC
STATUS:CONFIRMED
CATEGORIES:AEM Featured,Archaeology,Art,Exhibition,Museum
LOCATION:Kelsey Museum of Archaeology
CONTACT:
END:VEVENT
BEGIN:VEVENT
DTSTAMP:20170323T095046
DTSTART;TZID=America/Detroit:20170616T090000
DTEND;TZID=America/Detroit:20170616T120000
SUMMARY:Workshop / Seminar:Optimism in the Face of Reality
DESCRIPTION:Staying optimistic when in turbulence can sometimes be difficult and overwhelming. This class explores how optimistic approaches to work can create a positive work experience\, even in times of challenge or change.\n\nYou will learn to:\n\nDetermine the difference between “optimism” and “realistic optimism” and their relationship to your success\nDescribe how an optimistic perspective can concretely impact your personal productivity and relationships\nRecognize how your explanatory style can reframe experiences more positively\nApply the right strategies to shift your mindset toward optimism and make a positive impact on your work\n\nYou will benefit by:\n\nGaining a better understanding of the nature and impact of optimistic thinking\nKnowing how to increase the practice of optimism in your daily life\nAppreciating how shifting your perspective to a more optimistic direction can improve your personal satisfaction and happiness\n\nAudience:\n\nAnyone who would like to incorporate optimism into their daily life
UID:39927-8412107@events.umich.edu
URL:https://events.umich.edu/event/39927
CLASS:PUBLIC
STATUS:CONFIRMED
CATEGORIES:Career,Networking,Professional Development,Workshop
LOCATION:Administrative Services Building - LPD
CONTACT:
END:VEVENT
BEGIN:VEVENT
DTSTAMP:20170420T092137
DTSTART;TZID=America/Detroit:20170616T100000
DTEND;TZID=America/Detroit:20170616T160000
SUMMARY:Exhibition:Mapping in the Enlightenment: Science\, Innovation\, and the Public Sphere
DESCRIPTION:This exhibit uses examples from the Clements Library collection to tell the story of creating\, distributing\, and using maps during the long 18th century. Enlightenment thinking stimulated the effort to make more accurate maps\, encouraged the growth of map collecting and map use by men and women in all social classes\, and expanded the role of maps in administration and decision-making throughout Europe and her overseas colonies.
UID:40535-8592788@events.umich.edu
URL:https://events.umich.edu/event/40535
CLASS:PUBLIC
STATUS:CONFIRMED
CATEGORIES:Art,History,Museum,Philosophy,Physics,Politics,Public Policy,Scholarship,Science,Storytelling,Visual Arts
LOCATION:William Clements Library - Avenir Foundation Room
CONTACT:
END:VEVENT
BEGIN:VEVENT
DTSTAMP:20170410T215244
DTSTART;TZID=America/Detroit:20170616T110000
DTEND;TZID=America/Detroit:20170616T170000
SUMMARY:Exhibition:Cosmogonic Tattoos
DESCRIPTION:In celebration of the University of Michigan’s Bicentennial in 2017\, artist and distinguished U​–M art professor Jim Cogswell has been invited to create a series of public window installations in response to the holdings of the University of Michigan Museum of Art and the Kelsey Museum of Archaeology. For this visionary project\, the artist will adhere a procession of vivid images to the glass walls of the museums in a rhythmically evocative narrative\, based on reassembled fragments from a diverse range of artworks in both museums’ permanent collections. The juxtaposed images will address our shared histories and experiences while connecting the viewer to the origins and meaning of objects and their power to shape knowledge\, memory\, and identity. By leveraging the buildings’ unique architecture\, the artist expands our understanding of a museum as a cultural repository and highlights the significant role of these institutions in the life of the campus community.\nCosmogonic Tattoos is on view at UMMA April 22 through December 3\, 2017 and at the Kelsey Museum of Archaeology from June 2 through December 17\, 2017.\nLead support for Cosmogonic Tattoos is provided by the University of Michigan Office of the Provost.
UID:40469-8571671@events.umich.edu
URL:https://events.umich.edu/event/40469
CLASS:PUBLIC
STATUS:CONFIRMED
CATEGORIES:Art,Culture,Exhibition,Museum,UMMA,Visual Arts
LOCATION:Museum of Art
CONTACT:
END:VEVENT
BEGIN:VEVENT
DTSTAMP:20170309T142003
DTSTART;TZID=America/Detroit:20170616T110000
DTEND;TZID=America/Detroit:20170616T170000
SUMMARY:Exhibition:Ernestine Ruben at Willow Run
DESCRIPTION:In 2013\, artist Ernestine Ruben (BSDEs ’53) photographed the once-famed industrial complex Willow Run in Washtenaw County\, Michigan. Designed by her grandfather\, Detroit architect Albert Kahn\, for the Ford Motor Company\, Willow Run was an exemplar of American defense manufacturing because of its efficient mass-production of B-24 Liberators during World War II.\n\nFor this exhibition\, Ruben overlaid interior views of the now-dormant factory with imagined glimpses into her body’s interior landscape. The resulting compositions seem to breathe energy and light into the stagnant and cavernous spaces of Willow Run and suggest a longing for a productive existence undeterred by mortality for both Willow Run and the artist. Her grandfather’s role in the history of the site underscores Ruben’s personal connection.\n\nThe exhibition presents Ruben’s photographs of Willow Run in UMMA’s Photography Gallery and an original film—co-created by Ruben and video artist Seth Bernstein and featuring an original score by award-winning composer Stephen Hartke—in the Museum’s Forum.\n\nLead support for Ernestine Ruben at Willow Run: Mobilizing Memory is provided by the University of Michigan Office of the Provost and the Herbert W. and Susan L. Johe Endowment.
UID:39107-7692758@events.umich.edu
URL:https://events.umich.edu/event/39107
CLASS:PUBLIC
STATUS:CONFIRMED
CATEGORIES:Art,Bicentennial,Culture,Film,Free,Museum,Theater,UMMA,Visual Arts
LOCATION:Museum of Art
CONTACT:
END:VEVENT
BEGIN:VEVENT
DTSTAMP:20170507T180053
DTSTART;TZID=America/Detroit:20170616T110000
DTEND;TZID=America/Detroit:20170616T170000
SUMMARY:Exhibition:Picturing Buildings
DESCRIPTION:Featuring a selection of nineteenth- and twentieth-century photographs from the Museum’s collection\, Picturing Buildings illuminates the enduring appeal of photographing architecture\, from historic Turkish mosques and New York City skyscrapers\, to industrial factories and intimate domestic interiors. Each of these visually and spatially complex sites provides photographers with representational challenges and endless opportunities to innovate. This exhibition explores how photographers working in a range of contexts—from travel photography and photojournalism to historical documentation and modern art—use architecture to develop pictorial strategies in their own medium. Through selective framing\, dramatic perspectival distortion\, and heightened contrasts between light and dark\, photographers reinterpret their architectural subjects by focusing on the creative act of constructing a photograph. The resulting images reveal our surrounding built environment in new ways and highlight the intriguing transformation that takes place when the camera converts three dimensions into two.\n\nLead support for Picturing Buildings: Photographers and Architecture\, 1855-1985 is provided by the University of Michigan Office of the Provost and the Herbert W. and Susan L. Johe Endowment.
UID:40823-8790968@events.umich.edu
URL:https://events.umich.edu/event/40823
CLASS:PUBLIC
STATUS:CONFIRMED
CATEGORIES:Architecture,Environment,Storytelling,UMMA,Visual Arts
LOCATION:Museum of Art
CONTACT:
END:VEVENT
BEGIN:VEVENT
DTSTAMP:20170410T214735
DTSTART;TZID=America/Detroit:20170616T110000
DTEND;TZID=America/Detroit:20170616T170000
SUMMARY:Exhibition:Rafael Lozano-Hemmer
DESCRIPTION:Wavefunction\, Subsculpture 9\, by Mexican-Canadian artist Rafael Lozano-Hemmer\, is a kinetic sculpture and interactive installation that plays on the work of mid-century American designers Charles and Ray Eames.\n\nThe installation consists of 42 molded plastic chairs (designed by the Eameses in 1948) arranged in a grid and attached to electromechanical pistons. When visitors approach the chairs\, a surveillance system detects their presence and the closest chairs lift gently off the ground. The adjacent chairs follow\, and a wave movement spreads across the array. The software controlling the pistons is based on fluid dynamics\, so as more visitors approach the grid\, the chairs—whose iconic curving contours were also generated mathematically— mimic the complex interaction of multiple waves in water.\n\nThis performative installation complements the concurrent exhibition Moving Image: Performance\, which together constitute the second of three presentations at UMMA drawn from the collection of Borusan Contemporary\, Istanbul. The works in this year-long trio of exhibitions represent traditional categories such as portraiture\, landscape\, and performance that find new resonance when explored through the strategies of dynamic technology.\n\nLead support for Rafael Lozano-Hemmer: Wavefunction\, Subsculpture 9 is provided by the Herbert W. and Susan L. Johe Endowment and Michigan Engineering. Additional generous support is provided by the University of Michigan Latina/o Studies.
UID:40468-8571570@events.umich.edu
URL:https://events.umich.edu/event/40468
CLASS:PUBLIC
STATUS:CONFIRMED
CATEGORIES:Art,Culture,Exhibition,Museum,UMMA,Visual Arts
LOCATION:Museum of Art
CONTACT:
END:VEVENT
BEGIN:VEVENT
DTSTAMP:20170601T134015
DTSTART;TZID=America/Detroit:20170616T110000
DTEND;TZID=America/Detroit:20170616T120000
SUMMARY:Workshop / Seminar:Tech Talk: Phishing & Suspicious Email
DESCRIPTION:Criminals can use phishing\, spam\, and other malicious email to gain access to your personal and financial information\, as well as sensitive university information and access to U-M resources. In this Tech Talk\, learn why phishing email scams matter\, what to watch for\, and what to do if you think you’ve been a target.\n\nAdvance registration encouraged\, but not required. Register and suggest future topics at computershowcase.umich.edu/tech-talks/.
UID:41187-8991897@events.umich.edu
URL:https://events.umich.edu/event/41187
CLASS:PUBLIC
STATUS:CONFIRMED
CATEGORIES:Free,Information and Technology,Workshop
LOCATION:Michigan Union - G312
CONTACT:
END:VEVENT
BEGIN:VEVENT
DTSTAMP:20170403T125717
DTSTART;TZID=America/Detroit:20170616T120000
DTEND;TZID=America/Detroit:20170616T130000
SUMMARY:Other:9/22--Fall 2017 Application Deadline
DESCRIPTION:The application deadline for Winter 2018 and early-admission Fall 2018. Please apply through M-Compass.
UID:40173-8508959@events.umich.edu
URL:https://events.umich.edu/event/40173
CLASS:PUBLIC
STATUS:CONFIRMED
CATEGORIES:Deadlines,Interdisciplinary,Internship,Leadership,Majors,Networking,Public Policy,Research,Scholarships,Social,Social Impact,Social Justice,Student Org,Study Abroad,Transfer Students,Undergraduate
LOCATION:Off Campus Location
CONTACT:
END:VEVENT
BEGIN:VEVENT
DTSTAMP:20170513T121524
DTSTART;TZID=America/Detroit:20170616T120000
DTEND;TZID=America/Detroit:20170616T190000
SUMMARY:Exhibition:Reach: A Stamps Faculty Exhibition
DESCRIPTION:The University of Michigan Stamps School of Art & Design is pleased to announce Reach: A Stamps Faculty Exhibition\, on view Tuesday\, May 16 - Saturday July 8\, 2017 in the new downtown Ann Arbor Stamps Gallery (201 S. Division St.\, Ann Arbor). An exhibition reception will take place on Friday\, June 16 from 6 - 8 pm. The exhibition and the reception are free and open to the public.\n\nReach: A Stamps Faculty Exhibition brings together a cross-section of rigorous and research-based works that highlight the range and diversity of creative practices emerging from the University of Michigan’s Stamps School of Art & Design. Stamps Faculty wear multiple hats as educators\, storytellers\, artists\, and designers.  Their work is a vehicle to deepen research and expand the pedagogical frameworks of contemporary art and design practices in the 21st Century. By experimenting with mediums\, materials\, audience interaction\, and participation\, Reach brings together energizing and compelling paintings\, sculpture\, new media installations\, collage and found objects\, video\, performance\, and textile design. Reach is the first of a series of projects that will examine and highlight art\, design and creative work produced by Stamps faculty in the years to come.\n\nParticipating faculty members include: \n\n\n	James Cogswell\n	Roland Graf\n	Holly Hughes\n	Osman Khan  \n	Heidi Kumao\n	Louis Marinaro\n	Rebekah Modrak\n	Anne Mondro\n	Robert Platt\n	Marianetta Porter\n	Michael Rodemer\n	Stephanie Rowden and Jennifer Metsker\n	Sherri Smith\n	Bruce Tharp and Stephanie Tharp\n	Nick Tobier\n	Joseph Trumpey\n\n\nReach: A Stamps Faculty Exhibition\nExhibition Dates: Tuesday\, May 16 - Saturday July 8\, 2017\nExhibition Reception: Friday\, June 16 from 6 - 8 pm\n\nImage: Sherri Smith\, Mercury\, 2015. Woven fiber\, 114” x 60”
UID:40922-8836716@events.umich.edu
URL:https://events.umich.edu/event/40922
CLASS:PUBLIC
STATUS:CONFIRMED
CATEGORIES:Art,Exhibition
LOCATION:Off Campus Location
CONTACT:
END:VEVENT
BEGIN:VEVENT
DTSTAMP:20170717T112108
DTSTART;TZID=America/Detroit:20170616T120000
DTEND;TZID=America/Detroit:20170616T170000
SUMMARY:Exhibition:The Wonder of Learning: The Hundred Languages of Children
DESCRIPTION:Free multimedia exhibit for families and educators sheds light on the rights\, ideas and creativity of children. \n\nDesigned to engage educators\, policy makers and families in exploring the transformative power of early learning\, the exhibit describes the educational approach of the preschools of Reggio Emilia\, Italy through photography\, video and children’s work.\n\nHands-on activities using light and shadow and materials found in nature allow visitors to connect with key concepts. Activities for families will be offered in collaboration with the Ann Arbor District Library\, Ann Arbor Hands-On Museum and other community partners.
UID:35506-5255593@events.umich.edu
URL:https://events.umich.edu/event/35506
CLASS:PUBLIC
STATUS:CONFIRMED
CATEGORIES:Activism,Art,Bicentennial,Children,conference,Culture,Detroit,Discussion,Diversity,Economics,Education,Engineering,Environment,European,Family,Flint,Free,History,International,Language,Library,Lifelong Learning,Literature,Museum,North campus,Philosophy,Politics,Poverty,Public Policy,Research,Scholarship,Social Impact,Social Justice,Visual Arts,Women's Studies,Writing
LOCATION:Duderstadt Center - Gallery
CONTACT:
END:VEVENT
BEGIN:VEVENT
DTSTAMP:20170707T073547
DTSTART;TZID=America/Detroit:20170616T120000
DTEND;TZID=America/Detroit:20170616T130000
SUMMARY:Lecture / Discussion:Yiddish Leyenkrayz
DESCRIPTION:The Yiddish Leyenkrayz is a weekly reading group open to faculty\, students\, and the general Yiddish-reading public. We read classics of Yiddish literature\, but also rediscover lesser known texts in the original. We often read plays\, so as to divide the reading according to roles. Copies of the text are made available at each meeting.\n\nNOTE: Event details may vary\, please contact the Judaic Studies office to confirm.
UID:26737-8998046@events.umich.edu
URL:https://events.umich.edu/event/26737
CLASS:PUBLIC
STATUS:CONFIRMED
CATEGORIES:Discussion,Jewish Studies
LOCATION:202 S. Thayer - 2000
CONTACT:
END:VEVENT
BEGIN:VEVENT
DTSTAMP:20170907T094718
DTSTART;TZID=America/Detroit:20170616T123000
DTEND;TZID=America/Detroit:20170616T130000
SUMMARY:Well-being:Mindfulness@Umich (Faculty & Staff)
DESCRIPTION:Mindfulness@Umich for Faculty and Staff. Take a moment to create some space to breathe and invite a sense of calm into your day.  Email:  dkozikow@umich.edu to be added to the drop-in reminder.
UID:40944-8861320@events.umich.edu
URL:https://events.umich.edu/event/40944
CLASS:PUBLIC
STATUS:CONFIRMED
CATEGORIES:Mindfulness\, Meditation,Stress Reduction
LOCATION:Angell Hall - G243
CONTACT:
END:VEVENT
BEGIN:VEVENT
DTSTAMP:20170531T124314
DTSTART;TZID=America/Detroit:20170616T140000
DTEND;TZID=America/Detroit:20170616T150000
SUMMARY:Workshop / Seminar:What Copyright Covers
DESCRIPTION:This workshop explains what’s copyrightable\, what’s not\, and what that means for people who reuse those materials. Do you know why copyright protects the yellow pages of a phone book\, but not the white pages? How about the types of plot elements a novelist is allowed to copy from another book?\n\nPlease register via TeachTech (https://ttc.iss.lsa.umich.edu/ttc/sessions/what-copyright-covers-3/) or by contacting Ana Enriquez at anaenriq@umich.edu.
UID:41141-8983779@events.umich.edu
URL:https://events.umich.edu/event/41141
CLASS:PUBLIC
STATUS:CONFIRMED
CATEGORIES:Library
LOCATION:Hatcher Graduate Library - Gallery (Room 100)
CONTACT:
END:VEVENT
BEGIN:VEVENT
DTSTAMP:20170513T121524
DTSTART;TZID=America/Detroit:20170616T180000
DTEND;TZID=America/Detroit:20170616T200000
SUMMARY:Reception / Open House:Exhibition Reception - Reach: A Stamps Faculty Exhibition
DESCRIPTION:The University of Michigan Stamps School of Art & Design is pleased to announce Reach: A Stamps Faculty Exhibition\, on view Tuesday\, May 16 - Saturday July 8\, 2017 in the new downtown Ann Arbor Stamps Gallery (201 S. Division St.\, Ann Arbor). An exhibition reception will take place on Friday\, June 16 from 6 - 8 pm. The exhibition and the reception are free and open to the public.\n\nReach: A Stamps Faculty Exhibition brings together a cross-section of rigorous and research-based works that highlight the range and diversity of creative practices emerging from the University of Michigan’s Stamps School of Art & Design. Stamps Faculty wear multiple hats as educators\, storytellers\, artists\, and designers.  Their work is a vehicle to deepen research and expand the pedagogical frameworks of contemporary art and design practices in the 21st Century. By experimenting with mediums\, materials\, audience interaction\, and participation\, Reach brings together energizing and compelling paintings\, sculpture\, new media installations\, collage and found objects\, video\, performance\, and textile design. Reach is the first of a series of projects that will examine and highlight art\, design and creative work produced by Stamps faculty in the years to come.\n\nParticipating faculty members include: \n\n\n	James Cogswell\n	Roland Graf\n	Holly Hughes\n	Osman Khan  \n	Heidi Kumao\n	Louis Marinaro\n	Rebekah Modrak\n	Anne Mondro\n	Robert Platt\n	Marianetta Porter\n	Michael Rodemer\n	Stephanie Rowden and Jennifer Metsker\n	Sherri Smith\n	Bruce Tharp and Stephanie Tharp\n	Nick Tobier\n	Joseph Trumpey\n\n\nReach: A Stamps Faculty Exhibition\nExhibition Dates: Tuesday\, May 16 - Saturday July 8\, 2017\nExhibition Reception: Friday\, June 16 from 6 - 8 pm\n\nImage: Sherri Smith\, Mercury\, 2015. Woven fiber\, 114” x 60”
UID:40923-8836733@events.umich.edu
URL:https://events.umich.edu/event/40923
CLASS:PUBLIC
STATUS:CONFIRMED
CATEGORIES:Art,Exhibition,Reception
LOCATION:Off Campus Location
CONTACT:
END:VEVENT
BEGIN:VEVENT
DTSTAMP:20170515T154651
DTSTART;TZID=America/Detroit:20170616T183000
DTEND;TZID=America/Detroit:20170616T210000
SUMMARY:Performance:Shakespeare in the Arb 2017 - The Tempest
DESCRIPTION:Now in its 17th year\, this al fresco live performance series is directed by Kate Mendeloff of the U-M Residential College and performed by U-M students and community players. Tickets available day of performance\; Matthaei-Nichols members may reserve tickets in advance. Information available online: lsa.umich.edu/mbg/happening/shakespeare_spring.asp. Performances run three weekends in June. Dates include: June 15-18 and 22-25.
UID:40939-8853113@events.umich.edu
URL:https://events.umich.edu/event/40939
CLASS:PUBLIC
STATUS:CONFIRMED
CATEGORIES:Literature,Shakespeare,Theater
LOCATION:Nichols Arboretum
CONTACT:
END:VEVENT
BEGIN:VEVENT
DTSTAMP:20170418T104506
DTSTART;TZID=America/Detroit:20170616T190000
SUMMARY:Lecture / Discussion:Literati Bookstore Presents Roxane Gay
DESCRIPTION:Literati Bookstore is pleased to welcome author Roxane Gay to Hill Auditorium on Friday\, June 16th\, 2017 for a reading and signing in support of her latest book\, Hunger: A Memoir of (My) Body. Tickets are $30\, reserved seating\, and include a hardcover copy of the book\, to be picked up at the venue. Signing information will be announced at the event.
UID:40586-8634065@events.umich.edu
URL:https://events.umich.edu/event/40586
CLASS:PUBLIC
STATUS:CONFIRMED
CATEGORIES:Books,Lecture,Writing
LOCATION:Hill Auditorium
CONTACT:
END:VEVENT
BEGIN:VEVENT
DTSTAMP:20170104T172727
DTSTART;TZID=America/Detroit:20170616T200000
DTEND;TZID=America/Detroit:20170616T235900
SUMMARY:Exhibition:The Student Experience: Flappers\, Mappers\, and the Fight for Equality on Campus
DESCRIPTION:Join flappers as they stroll through 1926 Ann Arbor with a beautiful pictorial map and experience the busy student life of the 1920s\, celebrate two University of Michigan alumna who have greatly influenced the field of cartography\, and explore the rise of diversity and the fight for equality on campus through protest posters from the Joseph A. Labadie Collection of the U-M Library’s Special Collections.
UID:37210-8820338@events.umich.edu
URL:https://events.umich.edu/event/37210
CLASS:PUBLIC
STATUS:CONFIRMED
CATEGORIES:Bicentennial,Exhibition,Free,Library
LOCATION:Hatcher Graduate Library - Clark Library, 2nd Floor Hatcher
CONTACT:
END:VEVENT
END:VCALENDAR