BEGIN:VCALENDAR
VERSION:2.0
PRODID:-//UM//UM*Events//EN
CALSCALE:GREGORIAN
BEGIN:VTIMEZONE
TZID:America/Detroit
TZURL:http://tzurl.org/zoneinfo/America/Detroit
X-LIC-LOCATION:America/Detroit
BEGIN:DAYLIGHT
TZOFFSETFROM:-0500
TZOFFSETTO:-0400
TZNAME:EDT
DTSTART:20070311T020000
RRULE:FREQ=YEARLY;BYMONTH=3;BYDAY=2SU
END:DAYLIGHT
BEGIN:STANDARD
TZOFFSETFROM:-0400
TZOFFSETTO:-0500
TZNAME:EST
DTSTART:20071104T020000
RRULE:FREQ=YEARLY;BYMONTH=11;BYDAY=1SU
END:STANDARD
END:VTIMEZONE
BEGIN:VEVENT
DTSTAMP:20170602T111706
DTSTART;TZID=America/Detroit:20170617T080000
DTEND;TZID=America/Detroit:20170617T110000
SUMMARY:Exhibition:Ira Deutchman: A Commitment to Specialty Films
DESCRIPTION:What if you made a movie and nobody came to see it? Ira Deutchman has spent his five-decades long career as producer\, marketer\, and distributor making sure that doesn't happen. This exhibit offers a behind the scenes look at how he went about finding audiences for some of the most important and influential independent and specialty films of the 1970s\, 80s and 90s.
UID:41197-8998073@events.umich.edu
URL:https://events.umich.edu/event/41197
CLASS:PUBLIC
STATUS:CONFIRMED
CATEGORIES:Film,Free,Library
LOCATION:Hatcher Graduate Library - Gallery (Room 100)
CONTACT:
END:VEVENT
BEGIN:VEVENT
DTSTAMP:20170105T143903
DTSTART;TZID=America/Detroit:20170617T080000
DTEND;TZID=America/Detroit:20170617T200000
SUMMARY:Exhibition:The Grandmother Tree Walk
DESCRIPTION:Matthaei Botanical Gardens & Nichols Arboretum celebrates the University of Michigan bicentennial with a tour of 12 historic trees in the Arboretum. The bicentennial story is told from the perspective of the trees\, and key moments of U-M's people and history that occurred during the trees' long lives are revealed. Visitors may pick up a map at the Arb visitor center to take this easy\, self-guided tour.
UID:37328-6502209@events.umich.edu
URL:https://events.umich.edu/event/37328
CLASS:PUBLIC
STATUS:CONFIRMED
CATEGORIES:Bicentennial,Environment,Free,Outdoors,umich200
LOCATION:Nichols Arboretum
CONTACT:
END:VEVENT
BEGIN:VEVENT
DTSTAMP:20170510T144424
DTSTART;TZID=America/Detroit:20170617T090000
DTEND;TZID=America/Detroit:20170617T170000
SUMMARY:Exhibition:Cosmogonic Tattoos
DESCRIPTION:In celebration of the University’s Bicentennial in 2017\, artist and professor Jim Cogswell has been invited by the Kelsey Museum of Archaeology and the University of Michigan Museum of Art to create a set of public window installations in response to the objects in their collections.  Titled Cosmogonic Tattoos\, his project will use adhesive vinyl images applied in saturated colors to windows in the two buildings\, highlighting the role of these museums in the life of our campus community. Through close examination of objects separated from us by deep chronological and cultural divides\, imaginatively transformed within our campus context\, this project celebrates the power of architecture\, ornament\, and material objects to shape knowledge\, historical memory\, and cultural identity. \n\nLook for displays in the UMMA from April 22-Dec. 3\, the exterior of the Kelsey Museum from June 2-Dec. 17\, and in the interior special exhibition space of the Kelsey Museum from June 2-Sept. 10.\n\nFor information on-the-go about this event and all other Bicentennial happenings\, download our free mobile app: http://guidebook.com/g/umich200.
UID:40187-8516477@events.umich.edu
URL:https://events.umich.edu/event/40187
CLASS:PUBLIC
STATUS:CONFIRMED
CATEGORIES:Architecture,Art,Bicentennial,Culture,Exhibition,History,Interdisciplinary,Museum,umich200,UMMA
LOCATION:Off Campus Location
CONTACT:
END:VEVENT
BEGIN:VEVENT
DTSTAMP:20170617T060014
DTSTART;TZID=America/Detroit:20170617T100000
DTEND;TZID=America/Detroit:20170617T120000
SUMMARY:Recreational / Games:GRIN Rafting
DESCRIPTION:Graduate Rackham International (GRIN) invites you to join us on a rafting trip down the Huron River from Argo Park to Gallup Park from 10 am - 12 pm on June 17. Enjoy the nice weather of Michigan summer while paddling down the river with your fellow students. We will be renting 5-man rafts\, so it'll be a great opportunity to make new friends! We will be sponsoring part of the cost\, but each participant will need to contribute $5 to secure their spot by June 14th. Please pay by Venmo to @Max_Ma42. Please note: your spot is NOT guaranteed until you have provided payment. If you do not have Venmo\, please email xjma@umich.edu to arrange an alternative method of payment.
UID:41181-8991832@events.umich.edu
URL:https://events.umich.edu/event/41181
CLASS:PUBLIC
STATUS:CONFIRMED
CATEGORIES:
LOCATION:Argo Canoe Livery
CONTACT:
END:VEVENT
BEGIN:VEVENT
DTSTAMP:20170501T173118
DTSTART;TZID=America/Detroit:20170617T100000
DTEND;TZID=America/Detroit:20170617T180000
SUMMARY:Exhibition:Storied Acquisitions: Highlights from the University of Michigan Library Collections
DESCRIPTION:In celebration of the university’s bicentennial\, this exhibit showcases treasures from a variety of library collecting areas and explores the stories behind the development of some of our most distinctive collections. From Audubon’s Birds of America\, the first book acquired for the library\, to more recent arrivals like Robert Altman’s Academy Award\, the items on display afford us an opportunity to reflect on the history and consider the future of one of the country's largest and most important research library collections.\n\nThe exhibit features books\, maps\, sheet music\, manuscripts\, and artifacts from the University of Michigan Library’s Art\, Architecture\, and Engineering Library\; Clark Library\; Music Library\; and Special Collections Library.\n\nHours: Weekdays 8:30am-6pm\, Saturdays 10am-6pm\, Sundays 1-6 pm \nClosed: May 27-29\, July 1-2\, July 4\, August 19-20\, August 26-27
UID:40756-8741828@events.umich.edu
URL:https://events.umich.edu/event/40756
CLASS:PUBLIC
STATUS:CONFIRMED
CATEGORIES:Exhibition,Library
LOCATION:Hatcher Graduate Library - Audubon Room
CONTACT:
END:VEVENT
BEGIN:VEVENT
DTSTAMP:20170410T215244
DTSTART;TZID=America/Detroit:20170617T110000
DTEND;TZID=America/Detroit:20170617T170000
SUMMARY:Exhibition:Cosmogonic Tattoos
DESCRIPTION:In celebration of the University of Michigan’s Bicentennial in 2017\, artist and distinguished U​–M art professor Jim Cogswell has been invited to create a series of public window installations in response to the holdings of the University of Michigan Museum of Art and the Kelsey Museum of Archaeology. For this visionary project\, the artist will adhere a procession of vivid images to the glass walls of the museums in a rhythmically evocative narrative\, based on reassembled fragments from a diverse range of artworks in both museums’ permanent collections. The juxtaposed images will address our shared histories and experiences while connecting the viewer to the origins and meaning of objects and their power to shape knowledge\, memory\, and identity. By leveraging the buildings’ unique architecture\, the artist expands our understanding of a museum as a cultural repository and highlights the significant role of these institutions in the life of the campus community.\nCosmogonic Tattoos is on view at UMMA April 22 through December 3\, 2017 and at the Kelsey Museum of Archaeology from June 2 through December 17\, 2017.\nLead support for Cosmogonic Tattoos is provided by the University of Michigan Office of the Provost.
UID:40469-8571672@events.umich.edu
URL:https://events.umich.edu/event/40469
CLASS:PUBLIC
STATUS:CONFIRMED
CATEGORIES:Art,Culture,Exhibition,Museum,UMMA,Visual Arts
LOCATION:Museum of Art
CONTACT:
END:VEVENT
BEGIN:VEVENT
DTSTAMP:20170309T142003
DTSTART;TZID=America/Detroit:20170617T110000
DTEND;TZID=America/Detroit:20170617T170000
SUMMARY:Exhibition:Ernestine Ruben at Willow Run
DESCRIPTION:In 2013\, artist Ernestine Ruben (BSDEs ’53) photographed the once-famed industrial complex Willow Run in Washtenaw County\, Michigan. Designed by her grandfather\, Detroit architect Albert Kahn\, for the Ford Motor Company\, Willow Run was an exemplar of American defense manufacturing because of its efficient mass-production of B-24 Liberators during World War II.\n\nFor this exhibition\, Ruben overlaid interior views of the now-dormant factory with imagined glimpses into her body’s interior landscape. The resulting compositions seem to breathe energy and light into the stagnant and cavernous spaces of Willow Run and suggest a longing for a productive existence undeterred by mortality for both Willow Run and the artist. Her grandfather’s role in the history of the site underscores Ruben’s personal connection.\n\nThe exhibition presents Ruben’s photographs of Willow Run in UMMA’s Photography Gallery and an original film—co-created by Ruben and video artist Seth Bernstein and featuring an original score by award-winning composer Stephen Hartke—in the Museum’s Forum.\n\nLead support for Ernestine Ruben at Willow Run: Mobilizing Memory is provided by the University of Michigan Office of the Provost and the Herbert W. and Susan L. Johe Endowment.
UID:39107-7692759@events.umich.edu
URL:https://events.umich.edu/event/39107
CLASS:PUBLIC
STATUS:CONFIRMED
CATEGORIES:Art,Bicentennial,Culture,Film,Free,Museum,Theater,UMMA,Visual Arts
LOCATION:Museum of Art
CONTACT:
END:VEVENT
BEGIN:VEVENT
DTSTAMP:20170530T132412
DTSTART;TZID=America/Detroit:20170617T110000
DTEND;TZID=America/Detroit:20170617T113000
SUMMARY:Presentation:Hands-On Demo
DESCRIPTION:Have we found life on Mars? Discover how scientists search for life on other planets. Through family friendly\, interactive experimentation\, you will learn about the field of astrobiology and re-evaluate the definition of \"life.\" Recreate an experiment from the Mars Viking Landers spacecraft expedition of 1976! \nHands-on demonstrations are 20-30 minute interactive programs on the 2nd floor of the Museum.​ ​They include both brief presentations highlighting University research and engaging hands-on activities\, and are suitable for adults and children ages 5 and up.
UID:40769-8747979@events.umich.edu
URL:https://events.umich.edu/event/40769
CLASS:PUBLIC
STATUS:CONFIRMED
CATEGORIES:Children,Family,Free,Museum,Science
LOCATION:Ruthven Museums Building
CONTACT:
END:VEVENT
BEGIN:VEVENT
DTSTAMP:20170507T180053
DTSTART;TZID=America/Detroit:20170617T110000
DTEND;TZID=America/Detroit:20170617T170000
SUMMARY:Exhibition:Picturing Buildings
DESCRIPTION:Featuring a selection of nineteenth- and twentieth-century photographs from the Museum’s collection\, Picturing Buildings illuminates the enduring appeal of photographing architecture\, from historic Turkish mosques and New York City skyscrapers\, to industrial factories and intimate domestic interiors. Each of these visually and spatially complex sites provides photographers with representational challenges and endless opportunities to innovate. This exhibition explores how photographers working in a range of contexts—from travel photography and photojournalism to historical documentation and modern art—use architecture to develop pictorial strategies in their own medium. Through selective framing\, dramatic perspectival distortion\, and heightened contrasts between light and dark\, photographers reinterpret their architectural subjects by focusing on the creative act of constructing a photograph. The resulting images reveal our surrounding built environment in new ways and highlight the intriguing transformation that takes place when the camera converts three dimensions into two.\n\nLead support for Picturing Buildings: Photographers and Architecture\, 1855-1985 is provided by the University of Michigan Office of the Provost and the Herbert W. and Susan L. Johe Endowment.
UID:40823-8790969@events.umich.edu
URL:https://events.umich.edu/event/40823
CLASS:PUBLIC
STATUS:CONFIRMED
CATEGORIES:Architecture,Environment,Storytelling,UMMA,Visual Arts
LOCATION:Museum of Art
CONTACT:
END:VEVENT
BEGIN:VEVENT
DTSTAMP:20170410T214735
DTSTART;TZID=America/Detroit:20170617T110000
DTEND;TZID=America/Detroit:20170617T170000
SUMMARY:Exhibition:Rafael Lozano-Hemmer
DESCRIPTION:Wavefunction\, Subsculpture 9\, by Mexican-Canadian artist Rafael Lozano-Hemmer\, is a kinetic sculpture and interactive installation that plays on the work of mid-century American designers Charles and Ray Eames.\n\nThe installation consists of 42 molded plastic chairs (designed by the Eameses in 1948) arranged in a grid and attached to electromechanical pistons. When visitors approach the chairs\, a surveillance system detects their presence and the closest chairs lift gently off the ground. The adjacent chairs follow\, and a wave movement spreads across the array. The software controlling the pistons is based on fluid dynamics\, so as more visitors approach the grid\, the chairs—whose iconic curving contours were also generated mathematically— mimic the complex interaction of multiple waves in water.\n\nThis performative installation complements the concurrent exhibition Moving Image: Performance\, which together constitute the second of three presentations at UMMA drawn from the collection of Borusan Contemporary\, Istanbul. The works in this year-long trio of exhibitions represent traditional categories such as portraiture\, landscape\, and performance that find new resonance when explored through the strategies of dynamic technology.\n\nLead support for Rafael Lozano-Hemmer: Wavefunction\, Subsculpture 9 is provided by the Herbert W. and Susan L. Johe Endowment and Michigan Engineering. Additional generous support is provided by the University of Michigan Latina/o Studies.
UID:40468-8571571@events.umich.edu
URL:https://events.umich.edu/event/40468
CLASS:PUBLIC
STATUS:CONFIRMED
CATEGORIES:Art,Culture,Exhibition,Museum,UMMA,Visual Arts
LOCATION:Museum of Art
CONTACT:
END:VEVENT
BEGIN:VEVENT
DTSTAMP:20170801T070453
DTSTART;TZID=America/Detroit:20170617T113000
DTEND;TZID=America/Detroit:20170617T121500
SUMMARY:Presentation:The Sky Tonight: Live Star Talk
DESCRIPTION:Bright stars\, constellations\, and planets are discussed in this live star talk\, including a trip into space to look at far away objects.
UID:39344-8747995@events.umich.edu
URL:https://events.umich.edu/event/39344
CLASS:PUBLIC
STATUS:CONFIRMED
CATEGORIES:Children,Family,Museum
LOCATION:Ruthven Museums Building
CONTACT:
END:VEVENT
BEGIN:VEVENT
DTSTAMP:20170403T125717
DTSTART;TZID=America/Detroit:20170617T120000
DTEND;TZID=America/Detroit:20170617T130000
SUMMARY:Other:9/22--Fall 2017 Application Deadline
DESCRIPTION:The application deadline for Winter 2018 and early-admission Fall 2018. Please apply through M-Compass.
UID:40173-8508960@events.umich.edu
URL:https://events.umich.edu/event/40173
CLASS:PUBLIC
STATUS:CONFIRMED
CATEGORIES:Deadlines,Interdisciplinary,Internship,Leadership,Majors,Networking,Public Policy,Research,Scholarships,Social,Social Impact,Social Justice,Student Org,Study Abroad,Transfer Students,Undergraduate
LOCATION:Off Campus Location
CONTACT:
END:VEVENT
BEGIN:VEVENT
DTSTAMP:20170513T121524
DTSTART;TZID=America/Detroit:20170617T120000
DTEND;TZID=America/Detroit:20170617T190000
SUMMARY:Exhibition:Reach: A Stamps Faculty Exhibition
DESCRIPTION:The University of Michigan Stamps School of Art & Design is pleased to announce Reach: A Stamps Faculty Exhibition\, on view Tuesday\, May 16 - Saturday July 8\, 2017 in the new downtown Ann Arbor Stamps Gallery (201 S. Division St.\, Ann Arbor). An exhibition reception will take place on Friday\, June 16 from 6 - 8 pm. The exhibition and the reception are free and open to the public.\n\nReach: A Stamps Faculty Exhibition brings together a cross-section of rigorous and research-based works that highlight the range and diversity of creative practices emerging from the University of Michigan’s Stamps School of Art & Design. Stamps Faculty wear multiple hats as educators\, storytellers\, artists\, and designers.  Their work is a vehicle to deepen research and expand the pedagogical frameworks of contemporary art and design practices in the 21st Century. By experimenting with mediums\, materials\, audience interaction\, and participation\, Reach brings together energizing and compelling paintings\, sculpture\, new media installations\, collage and found objects\, video\, performance\, and textile design. Reach is the first of a series of projects that will examine and highlight art\, design and creative work produced by Stamps faculty in the years to come.\n\nParticipating faculty members include: \n\n\n	James Cogswell\n	Roland Graf\n	Holly Hughes\n	Osman Khan  \n	Heidi Kumao\n	Louis Marinaro\n	Rebekah Modrak\n	Anne Mondro\n	Robert Platt\n	Marianetta Porter\n	Michael Rodemer\n	Stephanie Rowden and Jennifer Metsker\n	Sherri Smith\n	Bruce Tharp and Stephanie Tharp\n	Nick Tobier\n	Joseph Trumpey\n\n\nReach: A Stamps Faculty Exhibition\nExhibition Dates: Tuesday\, May 16 - Saturday July 8\, 2017\nExhibition Reception: Friday\, June 16 from 6 - 8 pm\n\nImage: Sherri Smith\, Mercury\, 2015. Woven fiber\, 114” x 60”
UID:40922-8836717@events.umich.edu
URL:https://events.umich.edu/event/40922
CLASS:PUBLIC
STATUS:CONFIRMED
CATEGORIES:Art,Exhibition
LOCATION:Off Campus Location
CONTACT:
END:VEVENT
BEGIN:VEVENT
DTSTAMP:20170428T132944
DTSTART;TZID=America/Detroit:20170617T120000
DTEND;TZID=America/Detroit:20170617T160000
SUMMARY:Exhibition:The Journey in a Day: 200 Years of Student Life at the University of Michigan
DESCRIPTION:U-M students have teamed up to create this sweeping exhibition\, surveying 200 years of daily rituals\, social life\, challenges\, victories\, and the roles U-M students have played in historic events. \"The Journey in a Day\" exhibition includes nearly 50 historic objects and dozens of photos. The exhibition includes a recreation of a Martha Cook Residence Hall room\, circa 1917\, amongst the first on campus to house women. A poster kiosk occupies the middle of one room in the Museum\, plastered with fliers and posters from across time. A reproduction of student scrapbooks brings visitors in direct contact with individuals at various times throughout history. From the morning ritual of reading the Michigan Daily\, to student reaction and involvement in U.S. wars\, from the mandates and tweets of student organizations\, to a survey of infamous late night Ann Arbor hot spots\, this is a wide ranging exhibition with many interesting\, entertaining and illuminating stories to tell.\n\nDesigned by U-M students participating in MUSEUMS 498\, in the History of Art Department\, in collaboration with the U-M Bicentennial Office\, and the Washtenaw County Historical Society.\n\nFor information on-the-go about this event and all other Bicentennial happenings\, download our mobile app: http://guidebook.com/g/umich200.
UID:39350-7970531@events.umich.edu
URL:https://events.umich.edu/event/39350
CLASS:PUBLIC
STATUS:CONFIRMED
CATEGORIES:Bicentennial,Culture,Exhibition,Free,History,Interdisciplinary,Museum,Sociology,Theme Semester
LOCATION:Off Campus Location - 500 N. Main St., Ann Arbor, MI 48104
CONTACT:
END:VEVENT
BEGIN:VEVENT
DTSTAMP:20170717T112108
DTSTART;TZID=America/Detroit:20170617T120000
DTEND;TZID=America/Detroit:20170617T170000
SUMMARY:Exhibition:The Wonder of Learning: The Hundred Languages of Children
DESCRIPTION:Free multimedia exhibit for families and educators sheds light on the rights\, ideas and creativity of children. \n\nDesigned to engage educators\, policy makers and families in exploring the transformative power of early learning\, the exhibit describes the educational approach of the preschools of Reggio Emilia\, Italy through photography\, video and children’s work.\n\nHands-on activities using light and shadow and materials found in nature allow visitors to connect with key concepts. Activities for families will be offered in collaboration with the Ann Arbor District Library\, Ann Arbor Hands-On Museum and other community partners.
UID:35506-5255594@events.umich.edu
URL:https://events.umich.edu/event/35506
CLASS:PUBLIC
STATUS:CONFIRMED
CATEGORIES:Activism,Art,Bicentennial,Children,conference,Culture,Detroit,Discussion,Diversity,Economics,Education,Engineering,Environment,European,Family,Flint,Free,History,International,Language,Library,Lifelong Learning,Literature,Museum,North campus,Philosophy,Politics,Poverty,Public Policy,Research,Scholarship,Social Impact,Social Justice,Visual Arts,Women's Studies,Writing
LOCATION:Duderstadt Center - Gallery
CONTACT:
END:VEVENT
BEGIN:VEVENT
DTSTAMP:20170530T134641
DTSTART;TZID=America/Detroit:20170617T123000
DTEND;TZID=America/Detroit:20170617T131500
SUMMARY:Presentation:Did An Asteroid Really Kill The Dinosaurs?
DESCRIPTION:Did a space rock six miles wide slam into the Earth 66 million years ago and wipe out 75 percent of all living species at that time\, including the dinosaurs? Cosmic collisions are abundant in our solar system. See the numerous craters on worlds like the moon\, Mars\, and even distant Pluto. Explore the dinosaur disaster up close.  Kid-friendly program.
UID:40771-8748015@events.umich.edu
URL:https://events.umich.edu/event/40771
CLASS:PUBLIC
STATUS:CONFIRMED
CATEGORIES:Astronomy,Children,Family,Museum
LOCATION:Ruthven Museums Building
CONTACT:
END:VEVENT
BEGIN:VEVENT
DTSTAMP:20170602T155527
DTSTART;TZID=America/Detroit:20170617T130000
DTEND;TZID=America/Detroit:20170617T160000
SUMMARY:Exhibition:Exhibition and Window Installation | Cosmogonic Tattoos
DESCRIPTION:In celebration of the University’s Bicentennial in 2017\, artist and professor Jim Cogswell has been invited by the Kelsey Museum of Archaeology and the University of Michigan Museum of Art to create a set of public window installations in response to the objects in their collections.  Titled \"Cosmogonic Tattoos\,\" his project uses adhesive vinyl images applied in saturated colors to windows in the two buildings\, highlighting the role of these museums in the life of our campus community. Through close examination of objects separated from us by deep chronological and cultural divides\, imaginatively transformed within our campus context\, this project celebrates the power of architecture\, ornament\, and material objects to shape knowledge\, historical memory\, and cultural identity.
UID:40743-8719627@events.umich.edu
URL:https://events.umich.edu/event/40743
CLASS:PUBLIC
STATUS:CONFIRMED
CATEGORIES:AEM Featured,Archaeology,Art,Exhibition,Museum
LOCATION:Kelsey Museum of Archaeology
CONTACT:
END:VEVENT
BEGIN:VEVENT
DTSTAMP:20170801T070453
DTSTART;TZID=America/Detroit:20170617T133000
DTEND;TZID=America/Detroit:20170617T141500
SUMMARY:Presentation:The Sky Tonight: Live Star Talk
DESCRIPTION:Bright stars\, constellations\, and planets are discussed in this live star talk\, including a trip into space to look at far away objects.
UID:39344-8747999@events.umich.edu
URL:https://events.umich.edu/event/39344
CLASS:PUBLIC
STATUS:CONFIRMED
CATEGORIES:Children,Family,Museum
LOCATION:Ruthven Museums Building
CONTACT:
END:VEVENT
BEGIN:VEVENT
DTSTAMP:20170802T080441
DTSTART;TZID=America/Detroit:20170617T140000
DTEND;TZID=America/Detroit:20170617T143000
SUMMARY:Other:Dinosaur Tour
DESCRIPTION:Attention dinosaur fans! Join us for a free\, 30-minute\, docent-led tour of the dinosaur exhibits. Sign up on the day of the tours. Limit: 15 people.
UID:40058-8747987@events.umich.edu
URL:https://events.umich.edu/event/40058
CLASS:PUBLIC
STATUS:CONFIRMED
CATEGORIES:Children,Free,Museum,Tour
LOCATION:Ruthven Museums Building
CONTACT:
END:VEVENT
BEGIN:VEVENT
DTSTAMP:20170530T134756
DTSTART;TZID=America/Detroit:20170617T143000
DTEND;TZID=America/Detroit:20170617T151500
SUMMARY:Presentation:Eclipse
DESCRIPTION:Get ready for the total solar eclipse occurring on August 21\, 2017! By looking at both the history and the astronomy of eclipses\, this program will help you understand the significance of this upcoming astronomical event. Michigan will experience a partial eclipse. This program is followed by a live star talk.
UID:38627-8748020@events.umich.edu
URL:https://events.umich.edu/event/38627
CLASS:PUBLIC
STATUS:CONFIRMED
CATEGORIES:Family,Museum,Science
LOCATION:Ruthven Museums Building
CONTACT:
END:VEVENT
BEGIN:VEVENT
DTSTAMP:20170530T132412
DTSTART;TZID=America/Detroit:20170617T150000
DTEND;TZID=America/Detroit:20170617T153000
SUMMARY:Presentation:Hands-On Demo
DESCRIPTION:Have we found life on Mars? Discover how scientists search for life on other planets. Through family friendly\, interactive experimentation\, you will learn about the field of astrobiology and re-evaluate the definition of \"life.\" Recreate an experiment from the Mars Viking Landers spacecraft expedition of 1976! \nHands-on demonstrations are 20-30 minute interactive programs on the 2nd floor of the Museum.​ ​They include both brief presentations highlighting University research and engaging hands-on activities\, and are suitable for adults and children ages 5 and up.
UID:40769-8747983@events.umich.edu
URL:https://events.umich.edu/event/40769
CLASS:PUBLIC
STATUS:CONFIRMED
CATEGORIES:Children,Family,Free,Museum,Science
LOCATION:Ruthven Museums Building
CONTACT:
END:VEVENT
BEGIN:VEVENT
DTSTAMP:20170801T070453
DTSTART;TZID=America/Detroit:20170617T153000
DTEND;TZID=America/Detroit:20170617T161500
SUMMARY:Presentation:The Sky Tonight: Live Star Talk
DESCRIPTION:Bright stars\, constellations\, and planets are discussed in this live star talk\, including a trip into space to look at far away objects.
UID:39344-8748003@events.umich.edu
URL:https://events.umich.edu/event/39344
CLASS:PUBLIC
STATUS:CONFIRMED
CATEGORIES:Children,Family,Museum
LOCATION:Ruthven Museums Building
CONTACT:
END:VEVENT
BEGIN:VEVENT
DTSTAMP:20170515T154651
DTSTART;TZID=America/Detroit:20170617T183000
DTEND;TZID=America/Detroit:20170617T210000
SUMMARY:Performance:Shakespeare in the Arb 2017 - The Tempest
DESCRIPTION:Now in its 17th year\, this al fresco live performance series is directed by Kate Mendeloff of the U-M Residential College and performed by U-M students and community players. Tickets available day of performance\; Matthaei-Nichols members may reserve tickets in advance. Information available online: lsa.umich.edu/mbg/happening/shakespeare_spring.asp. Performances run three weekends in June. Dates include: June 15-18 and 22-25.
UID:40939-8853114@events.umich.edu
URL:https://events.umich.edu/event/40939
CLASS:PUBLIC
STATUS:CONFIRMED
CATEGORIES:Literature,Shakespeare,Theater
LOCATION:Nichols Arboretum
CONTACT:
END:VEVENT
BEGIN:VEVENT
DTSTAMP:20170419T132820
DTSTART;TZID=America/Detroit:20170617T200000
SUMMARY:Performance:The Honeycutters
DESCRIPTION:Check back soon for more details.
UID:40613-8644262@events.umich.edu
URL:https://events.umich.edu/event/40613
CLASS:PUBLIC
STATUS:CONFIRMED
CATEGORIES:The Ark
LOCATION:Off Campus Location
CONTACT:
END:VEVENT
BEGIN:VEVENT
DTSTAMP:20170104T172727
DTSTART;TZID=America/Detroit:20170617T200000
DTEND;TZID=America/Detroit:20170617T235900
SUMMARY:Exhibition:The Student Experience: Flappers\, Mappers\, and the Fight for Equality on Campus
DESCRIPTION:Join flappers as they stroll through 1926 Ann Arbor with a beautiful pictorial map and experience the busy student life of the 1920s\, celebrate two University of Michigan alumna who have greatly influenced the field of cartography\, and explore the rise of diversity and the fight for equality on campus through protest posters from the Joseph A. Labadie Collection of the U-M Library’s Special Collections.
UID:37210-8820339@events.umich.edu
URL:https://events.umich.edu/event/37210
CLASS:PUBLIC
STATUS:CONFIRMED
CATEGORIES:Bicentennial,Exhibition,Free,Library
LOCATION:Hatcher Graduate Library - Clark Library, 2nd Floor Hatcher
CONTACT:
END:VEVENT
END:VCALENDAR