BEGIN:VCALENDAR
VERSION:2.0
PRODID:-//UM//UM*Events//EN
CALSCALE:GREGORIAN
BEGIN:VTIMEZONE
TZID:America/Detroit
TZURL:http://tzurl.org/zoneinfo/America/Detroit
X-LIC-LOCATION:America/Detroit
BEGIN:DAYLIGHT
TZOFFSETFROM:-0500
TZOFFSETTO:-0400
TZNAME:EDT
DTSTART:20070311T020000
RRULE:FREQ=YEARLY;BYMONTH=3;BYDAY=2SU
END:DAYLIGHT
BEGIN:STANDARD
TZOFFSETFROM:-0400
TZOFFSETTO:-0500
TZNAME:EST
DTSTART:20071104T020000
RRULE:FREQ=YEARLY;BYMONTH=11;BYDAY=1SU
END:STANDARD
END:VTIMEZONE
BEGIN:VEVENT
DTSTAMP:20180621T155351
DTSTART;TZID=America/Detroit:20180611T000000
DTEND;TZID=America/Detroit:20180611T235900
SUMMARY:Lecture / Discussion:Teach-Out Series: The Future of Gerrymandering
DESCRIPTION:One of the biggest challenges facing our democracy today occurs when congressional district lines that are drawn by elected officials to give one political party an unfair advantage over another. This is called \"gerrymandering.” This Teach-Out explores the topic of gerrymandering\, considering everything from its history of the original gerrymander\, to the current United States Supreme Court cases. You will hear from leading experts on gerrymandering as well as citizen groups who are on the front lines of the redistricting debate. \n\nThe Teach-Out will address the following questions:\nWhat is gerrymandering? \nWhat is happening now? Why is this such an important issue today and what does it mean for you?\nWhy did the United States Supreme Court take up the gerrymandering case (Gill v. Whitford)? And what is happening now with this case? \nHow has technology impacted the gerrymandering debate? \nWhat are states doing to address the issue?\nHow can you implement change? \n\n\nA Teach-Out is:\n\n-an event – it takes place over a fixed\, short period of time\n\n-an opportunity – it is open for free participation to everyone around the world\n\n-a community – it will be joined by a large number of diverse individuals\n\n-a conversation – an opportunity to give and take ideas and information from people\n\nThe University of Michigan Teach-Out Series provides just-in-time community learning events for participants around the world to come together in conversation with the U-M campus community\, including faculty experts. The U-M Teach-Out Series is part of our deep commitment to engage the public in exploring and understanding the problems\, events\, and phenomena most important to society.\n\nTeach-Outs are short learning experiences\, each focused on a specific current issue. Attendees will come together over a few days not only to learn about a subject or event but also to gain skills. Teach-Outs are open to the world and are designed to bring together individuals with wide-ranging perspectives in respectful and deep conversation. These events are an opportunity for diverse learners and a multitude of experts to come together to ask questions of one another and explore new solutions to the pressing concerns of our global community. Come\, join the conversation!\n\nFind new opportunities at Teach-Out.org.
UID:52742-12986903@events.umich.edu
URL:https://events.umich.edu/event/52742
CLASS:PUBLIC
STATUS:CONFIRMED
CATEGORIES:Politics,Lecture,Education,Discussion
LOCATION:Off Campus Location
CONTACT:
END:VEVENT
BEGIN:VEVENT
DTSTAMP:20180424T102440
DTSTART;TZID=America/Detroit:20180611T080000
DTEND;TZID=America/Detroit:20180611T200000
SUMMARY:Other:Nichols Arboretum  Peony Garden in Bloom
DESCRIPTION:The largest collection of heirloom peonies in North America\, located on the University of Michigan campus. Nearly 10\,000 blooms appear in shades of white\, pink\, and red at peak. The garden began in 1922 with a donation of peonies from alumnus W.E. Upjohn. Some of the plants are still growing in the same place they were planted nearly 100 years ago. Garden blooms approximately Memorial Day through mid-June\; bloom time approximate\; check our dedicated website for regular updates: peony.mbgna.umich.edu.
UID:52078-12415778@events.umich.edu
URL:https://events.umich.edu/event/52078
CLASS:PUBLIC
STATUS:CONFIRMED
CATEGORIES:Outdoors,Environment,Gardening
LOCATION:Nichols Arboretum
CONTACT:
END:VEVENT
BEGIN:VEVENT
DTSTAMP:20180606T110026
DTSTART;TZID=America/Detroit:20180611T080000
DTEND;TZID=America/Detroit:20180611T230000
SUMMARY:Exhibition:Nothing Makes Sense\, Except Love: The Cinematic Musings of Director Alan Rudolph
DESCRIPTION:This exhibit features materials reproduced from the Alan Rudolph Collection now part of the University of Michigan Library Special Collections Research Center. Told in Rudolph’s first-person voice\, it chronicles his career.\n\nQuirky\, off kilter\, stylishly romantic and filled with moments of wry humor\, Alan Rudolph makes movies with dreamy eyed protagonists searching for love in all the wrong places. He often mashes up genres into something new and unique and peppers his films with elements not always beholden to realism. He began his four decade career under the watchful eye of mentor Robert Altman\, but he soon created a body of work that is clearly his own vision.
UID:52575-12857355@events.umich.edu
URL:https://events.umich.edu/event/52575
CLASS:PUBLIC
STATUS:CONFIRMED
CATEGORIES:Exhibition,Library,Free,Film
LOCATION:Hatcher Graduate Library - Gallery (Room 100)
CONTACT:
END:VEVENT
BEGIN:VEVENT
DTSTAMP:20180328T154138
DTSTART;TZID=America/Detroit:20180611T080000
DTEND;TZID=America/Detroit:20180611T170000
SUMMARY:Exhibition:Seven Fantasy Classics for Children
DESCRIPTION:Students in Lisa Makman’s English 313 course\, Children’s Literature and the Invention of Modern Childhood\, curated this exhibit of classic stories for children. The exhibit focuses on seven classic stories: Aladdin\, Alice in Wonderland\, Cinderella\, Hansel and Gretel\, the Little Mermaid\, Little Red Riding Hood\, and Peter Pan. Drawing on the rich collection of children’s literature in the Special Collections Research Center\, the books range from late nineteenth century editions to contemporary pop-up books. By showcasing different takes on each story\, the exhibit explores the variation in how these tales are told and illustrated.
UID:51471-12112556@events.umich.edu
URL:https://events.umich.edu/event/51471
CLASS:PUBLIC
STATUS:CONFIRMED
CATEGORIES:Exhibition,Free,Library,Literature
LOCATION:Hatcher Graduate Library - Audubon Room
CONTACT:
END:VEVENT
BEGIN:VEVENT
DTSTAMP:20180411T131344
DTSTART;TZID=America/Detroit:20180611T100000
DTEND;TZID=America/Detroit:20180611T170000
SUMMARY:Exhibition:Quaker Oats Makes a Movie: A Scrumdiddlyumptious Wonka Adventure
DESCRIPTION:​Quaker Oats forged a new path in the entertainment industry by jointly marketing consumer packaged goods and a major motion picture in 1971\, Willy Wonka and the Chocolate Factory. Having never made a motion picture before\, their foray into the filmmaking industry was unexpected and unprecedented. The company saw this film as an opportunity to essentially make a feature-length commercial for their new line of Wonka candy products.\n\nStudents in Matthew Solomon's class\, SAC 355: Authorship and the Archive\, culled though hundreds of production documents related to the film to curate an exhibit that tells a little known behind-the-scenes story about one of the most beloved films.
UID:51870-12274482@events.umich.edu
URL:https://events.umich.edu/event/51870
CLASS:PUBLIC
STATUS:CONFIRMED
CATEGORIES:Free,Exhibition,Library
LOCATION:Hatcher Graduate Library - Special Collections, 6th Floor
CONTACT:
END:VEVENT
BEGIN:VEVENT
DTSTAMP:20180130T152923
DTSTART;TZID=America/Detroit:20180611T110000
DTEND;TZID=America/Detroit:20180611T170000
SUMMARY:Exhibition:Exercising the Eye: The Gertrude Kasle Collection
DESCRIPTION:Gallery hours are 11 a.m.–5 p.m. Tuesday–Saturday and 12–5 p.m. Sunday\; galleries are closed on Mondays.\n\nThis exhibition celebrates Gertrude Kasle (1917–2016)\, a key figure in the formation of Detroit’s contemporary art community in the 1960s and 70s. A pioneering female gallerist\, Kasle provided midwest audiences with a venue in which to experience avant-garde art from centers like New York City\, while also supporting and exhibiting regional artists. Featuring a collection of paintings\, works on paper\, and sculptures from the height of the Abstract Expressionist movement through the early twenty-first century\, 'Exercising the Eye' speaks to the relationships Kasle fostered with local\, national\, and international artists and her appreciation for artistic expression and experimentation. Critical voices from the last fifty years include Philip Guston\, Jane Hammond\, Grace Hartigan\, Jasper Johns\, Michele Oka Doner\, and Robert Rauschenberg. The exhibition offers visitors a unique opportunity to explore a dynamic moment in Detroit’s cultural history and insight into Kasle’s love of looking and learning.\n\nLead support for 'Exercising the Eye: The Gertrude Kasle Collection' is provided by the University of Michigan Office of the Provost\, Michigan Medicine\, and the University of Michigan CEW Frances and Sydney Lewis Visiting Leaders Fund.
UID:49505-11465049@events.umich.edu
URL:https://events.umich.edu/event/49505
CLASS:PUBLIC
STATUS:CONFIRMED
CATEGORIES:Art,Visual Arts,Exhibition,Museum,Multicultural,UMMA,Expressionism,Culture
LOCATION:Museum of Art - A. Alfred Taubman Gallery
CONTACT:
END:VEVENT
BEGIN:VEVENT
DTSTAMP:20180530T115411
DTSTART;TZID=America/Detroit:20180611T113000
DTEND;TZID=America/Detroit:20180611T133000
SUMMARY:Workshop / Seminar:Future Engineering Faculty Summer Writing Series
DESCRIPTION:Got That Summertime\, Summertime Writing? The American Society of Engineering Education (ASEE)\, with the support of the Rackham Professional Development Leaders\, are excited to announce our Future Engineering Faculty Summer Writing Series!\n\nWhat is it? \n\nThree unique workshops and supplementary writing \nsessions to help prepare YOU! Focusing on developing \nyour applications through writing Diversity Statements\, \nTeaching Philosophies\, and Research Statements.\n\nThat sounds AWESOME! How do I sign up!?:\n\nThe first workshop will be our Diversity Statement \nWorkshop on Monday\, June 11\, 11:30-1:30 PM\, 1014 Dow. Lunch provided! Sign up provided in the link. https://goo.gl/forms/iFldtX7TicMv5gt12
UID:52473-12793965@events.umich.edu
URL:https://events.umich.edu/event/52473
CLASS:PUBLIC
STATUS:CONFIRMED
CATEGORIES:Rackham,Writing,Graduate School,Engineering
LOCATION:Herbert H. Dow  Building - 1014
CONTACT:
END:VEVENT
BEGIN:VEVENT
DTSTAMP:20180507T111725
DTSTART;TZID=America/Detroit:20180611T120000
DTEND;TZID=America/Detroit:20180611T124500
SUMMARY:Social / Informal Gathering:Deutschtisch
DESCRIPTION:Spring/Summer Deutschtische will take place on Mondays (through May 21) in 3308 MLB\, which is the third-floor German Conference Room.\n\nThey will take place on Wednesdays at Cafe 32 in the School of Dentistry Building or\, in good weather\, in the \"Courtyard Garden\" of the League\, across from UHS (one way to get to it would be to go directly through the League from the front doors (facing the Bell Tower) to the back doors).\n\nTo be sure of the location on Wednesdays\, come to the end of class at 11:50 a.m. in 3310 MLB to walk to lunch with the group!
UID:52225-12556722@events.umich.edu
URL:https://events.umich.edu/event/52225
CLASS:PUBLIC
STATUS:CONFIRMED
CATEGORIES:Discussion,Language
LOCATION:Modern Languages Building - 3308 (Conference Room)
CONTACT:
END:VEVENT
BEGIN:VEVENT
DTSTAMP:20180505T063006
DTSTART;TZID=America/Detroit:20180611T130000
DTEND;TZID=America/Detroit:20180611T140000
SUMMARY:Careers / Jobs:Ace your Interview/Resume
DESCRIPTION:This event for is the Student Life DEI Internship Cohort
UID:52194-12528868@events.umich.edu
URL:https://events.umich.edu/event/52194
CLASS:PUBLIC
STATUS:CONFIRMED
CATEGORIES:
LOCATION:University Career Center, 3200 Student Activities Building, Program Room (3003), 515 E Jefferson St, Ann Arbor, MI, United States
CONTACT:
END:VEVENT
BEGIN:VEVENT
DTSTAMP:20180605T174923
DTSTART;TZID=America/Detroit:20180611T130000
DTEND;TZID=America/Detroit:20180611T150000
SUMMARY:Workshop / Seminar:Thesis Defense-- Break\, Flare\, Repair:  Rho flares locally repair the tight junction barrier
DESCRIPTION:Mentor: Ann Miller
UID:52568-12850989@events.umich.edu
URL:https://events.umich.edu/event/52568
CLASS:PUBLIC
STATUS:CONFIRMED
CATEGORIES:Research,Dissertation,Biology
LOCATION:Rackham Graduate School (Horace H.) - Earl Lewis Conference Room, 3rd Floor
CONTACT:
END:VEVENT
BEGIN:VEVENT
DTSTAMP:20180530T080833
DTSTART;TZID=America/Detroit:20180611T140000
DTEND;TZID=America/Detroit:20180611T160000
SUMMARY:Workshop / Seminar:Introductory Techniques Seminars presented by The Michigan Center for Materials Characterization
DESCRIPTION:This continuing series of seminars is designed to introduce potential users of our center to a range of the techniques that are employed with our instruments.  For more detail on the instrumentation in the center and the topics covered by our seminars\, visit http://mc2.engin.umich.edu. Questions may on the seminar series may be directed to John Mansfield (jfmjfm@umich.edu)
UID:50185-11656643@events.umich.edu
URL:https://events.umich.edu/event/50185
CLASS:PUBLIC
STATUS:CONFIRMED
CATEGORIES:Research,Electrical Engineering and Computer Science,Civil and Environmental Engineering,Chemistry,Biomedical Engineering,Postdoctoral Research Fellows,seminar,Science,Michigan Engineering,Graduate,Graduate Students,Life Science,Materials Science,Physics,Undergraduate Students,Nuclear Engineering and Radiological Sciences,Naval Architecture and Marine Engineering,Mechanical Engineering
LOCATION:North Campus Research Complex Building 18 - Room 122, but check http://mc2.engin.umich.edu/seminar for updates
CONTACT:
END:VEVENT
END:VCALENDAR