BEGIN:VCALENDAR
VERSION:2.0
PRODID:-//UM//UM*Events//EN
CALSCALE:GREGORIAN
BEGIN:VTIMEZONE
TZID:America/Detroit
TZURL:http://tzurl.org/zoneinfo/America/Detroit
X-LIC-LOCATION:America/Detroit
BEGIN:DAYLIGHT
TZOFFSETFROM:-0500
TZOFFSETTO:-0400
TZNAME:EDT
DTSTART:20070311T020000
RRULE:FREQ=YEARLY;BYMONTH=3;BYDAY=2SU
END:DAYLIGHT
BEGIN:STANDARD
TZOFFSETFROM:-0400
TZOFFSETTO:-0500
TZNAME:EST
DTSTART:20071104T020000
RRULE:FREQ=YEARLY;BYMONTH=11;BYDAY=1SU
END:STANDARD
END:VTIMEZONE
BEGIN:VEVENT
DTSTAMP:20180621T155351
DTSTART;TZID=America/Detroit:20180613T000000
DTEND;TZID=America/Detroit:20180613T235900
SUMMARY:Lecture / Discussion:Teach-Out Series: The Future of Gerrymandering
DESCRIPTION:One of the biggest challenges facing our democracy today occurs when congressional district lines that are drawn by elected officials to give one political party an unfair advantage over another. This is called \"gerrymandering.” This Teach-Out explores the topic of gerrymandering\, considering everything from its history of the original gerrymander\, to the current United States Supreme Court cases. You will hear from leading experts on gerrymandering as well as citizen groups who are on the front lines of the redistricting debate. \n\nThe Teach-Out will address the following questions:\nWhat is gerrymandering? \nWhat is happening now? Why is this such an important issue today and what does it mean for you?\nWhy did the United States Supreme Court take up the gerrymandering case (Gill v. Whitford)? And what is happening now with this case? \nHow has technology impacted the gerrymandering debate? \nWhat are states doing to address the issue?\nHow can you implement change? \n\n\nA Teach-Out is:\n\n-an event – it takes place over a fixed\, short period of time\n\n-an opportunity – it is open for free participation to everyone around the world\n\n-a community – it will be joined by a large number of diverse individuals\n\n-a conversation – an opportunity to give and take ideas and information from people\n\nThe University of Michigan Teach-Out Series provides just-in-time community learning events for participants around the world to come together in conversation with the U-M campus community\, including faculty experts. The U-M Teach-Out Series is part of our deep commitment to engage the public in exploring and understanding the problems\, events\, and phenomena most important to society.\n\nTeach-Outs are short learning experiences\, each focused on a specific current issue. Attendees will come together over a few days not only to learn about a subject or event but also to gain skills. Teach-Outs are open to the world and are designed to bring together individuals with wide-ranging perspectives in respectful and deep conversation. These events are an opportunity for diverse learners and a multitude of experts to come together to ask questions of one another and explore new solutions to the pressing concerns of our global community. Come\, join the conversation!\n\nFind new opportunities at Teach-Out.org.
UID:52742-12986905@events.umich.edu
URL:https://events.umich.edu/event/52742
CLASS:PUBLIC
STATUS:CONFIRMED
CATEGORIES:Discussion,Education,Lecture,Politics
LOCATION:Off Campus Location
CONTACT:
END:VEVENT
BEGIN:VEVENT
DTSTAMP:20180424T102440
DTSTART;TZID=America/Detroit:20180613T080000
DTEND;TZID=America/Detroit:20180613T200000
SUMMARY:Other:Nichols Arboretum  Peony Garden in Bloom
DESCRIPTION:The largest collection of heirloom peonies in North America\, located on the University of Michigan campus. Nearly 10\,000 blooms appear in shades of white\, pink\, and red at peak. The garden began in 1922 with a donation of peonies from alumnus W.E. Upjohn. Some of the plants are still growing in the same place they were planted nearly 100 years ago. Garden blooms approximately Memorial Day through mid-June\; bloom time approximate\; check our dedicated website for regular updates: peony.mbgna.umich.edu.
UID:52078-12415780@events.umich.edu
URL:https://events.umich.edu/event/52078
CLASS:PUBLIC
STATUS:CONFIRMED
CATEGORIES:Environment,Gardening,Outdoors
LOCATION:Nichols Arboretum
CONTACT:
END:VEVENT
BEGIN:VEVENT
DTSTAMP:20180606T110026
DTSTART;TZID=America/Detroit:20180613T080000
DTEND;TZID=America/Detroit:20180613T230000
SUMMARY:Exhibition:Nothing Makes Sense\, Except Love: The Cinematic Musings of Director Alan Rudolph
DESCRIPTION:This exhibit features materials reproduced from the Alan Rudolph Collection now part of the University of Michigan Library Special Collections Research Center. Told in Rudolph’s first-person voice\, it chronicles his career.\n\nQuirky\, off kilter\, stylishly romantic and filled with moments of wry humor\, Alan Rudolph makes movies with dreamy eyed protagonists searching for love in all the wrong places. He often mashes up genres into something new and unique and peppers his films with elements not always beholden to realism. He began his four decade career under the watchful eye of mentor Robert Altman\, but he soon created a body of work that is clearly his own vision.
UID:52575-12857357@events.umich.edu
URL:https://events.umich.edu/event/52575
CLASS:PUBLIC
STATUS:CONFIRMED
CATEGORIES:Exhibition,Film,Free,Library
LOCATION:Hatcher Graduate Library - Gallery (Room 100)
CONTACT:
END:VEVENT
BEGIN:VEVENT
DTSTAMP:20180328T154138
DTSTART;TZID=America/Detroit:20180613T080000
DTEND;TZID=America/Detroit:20180613T170000
SUMMARY:Exhibition:Seven Fantasy Classics for Children
DESCRIPTION:Students in Lisa Makman’s English 313 course\, Children’s Literature and the Invention of Modern Childhood\, curated this exhibit of classic stories for children. The exhibit focuses on seven classic stories: Aladdin\, Alice in Wonderland\, Cinderella\, Hansel and Gretel\, the Little Mermaid\, Little Red Riding Hood\, and Peter Pan. Drawing on the rich collection of children’s literature in the Special Collections Research Center\, the books range from late nineteenth century editions to contemporary pop-up books. By showcasing different takes on each story\, the exhibit explores the variation in how these tales are told and illustrated.
UID:51471-12112558@events.umich.edu
URL:https://events.umich.edu/event/51471
CLASS:PUBLIC
STATUS:CONFIRMED
CATEGORIES:Exhibition,Free,Library,Literature
LOCATION:Hatcher Graduate Library - Audubon Room
CONTACT:
END:VEVENT
BEGIN:VEVENT
DTSTAMP:20180411T131344
DTSTART;TZID=America/Detroit:20180613T100000
DTEND;TZID=America/Detroit:20180613T170000
SUMMARY:Exhibition:Quaker Oats Makes a Movie: A Scrumdiddlyumptious Wonka Adventure
DESCRIPTION:​Quaker Oats forged a new path in the entertainment industry by jointly marketing consumer packaged goods and a major motion picture in 1971\, Willy Wonka and the Chocolate Factory. Having never made a motion picture before\, their foray into the filmmaking industry was unexpected and unprecedented. The company saw this film as an opportunity to essentially make a feature-length commercial for their new line of Wonka candy products.\n\nStudents in Matthew Solomon's class\, SAC 355: Authorship and the Archive\, culled though hundreds of production documents related to the film to curate an exhibit that tells a little known behind-the-scenes story about one of the most beloved films.
UID:51870-12274484@events.umich.edu
URL:https://events.umich.edu/event/51870
CLASS:PUBLIC
STATUS:CONFIRMED
CATEGORIES:Exhibition,Free,Library
LOCATION:Hatcher Graduate Library - Special Collections, 6th Floor
CONTACT:
END:VEVENT
BEGIN:VEVENT
DTSTAMP:20180130T152923
DTSTART;TZID=America/Detroit:20180613T110000
DTEND;TZID=America/Detroit:20180613T170000
SUMMARY:Exhibition:Exercising the Eye: The Gertrude Kasle Collection
DESCRIPTION:Gallery hours are 11 a.m.–5 p.m. Tuesday–Saturday and 12–5 p.m. Sunday\; galleries are closed on Mondays.\n\nThis exhibition celebrates Gertrude Kasle (1917–2016)\, a key figure in the formation of Detroit’s contemporary art community in the 1960s and 70s. A pioneering female gallerist\, Kasle provided midwest audiences with a venue in which to experience avant-garde art from centers like New York City\, while also supporting and exhibiting regional artists. Featuring a collection of paintings\, works on paper\, and sculptures from the height of the Abstract Expressionist movement through the early twenty-first century\, 'Exercising the Eye' speaks to the relationships Kasle fostered with local\, national\, and international artists and her appreciation for artistic expression and experimentation. Critical voices from the last fifty years include Philip Guston\, Jane Hammond\, Grace Hartigan\, Jasper Johns\, Michele Oka Doner\, and Robert Rauschenberg. The exhibition offers visitors a unique opportunity to explore a dynamic moment in Detroit’s cultural history and insight into Kasle’s love of looking and learning.\n\nLead support for 'Exercising the Eye: The Gertrude Kasle Collection' is provided by the University of Michigan Office of the Provost\, Michigan Medicine\, and the University of Michigan CEW Frances and Sydney Lewis Visiting Leaders Fund.
UID:49505-11465051@events.umich.edu
URL:https://events.umich.edu/event/49505
CLASS:PUBLIC
STATUS:CONFIRMED
CATEGORIES:Art,Culture,Exhibition,Expressionism,Multicultural,Museum,UMMA,Visual Arts
LOCATION:Museum of Art - A. Alfred Taubman Gallery
CONTACT:
END:VEVENT
BEGIN:VEVENT
DTSTAMP:20180430T103232
DTSTART;TZID=America/Detroit:20180613T110000
DTEND;TZID=America/Detroit:20180613T210000
SUMMARY:Exhibition:Humanize the Numbers Exhibit at Detroit Street Filling Station
DESCRIPTION:April 19-July 1\, 2018\n-Free and Open to public-\nThis exhibit showcases photographic works created by people incarcerated at Thumb Correctional Facility in collaboration with University of Michigan students. The opening reception on April 19 at 5pm features students and PCAP faculty Isaac Wingfield who worked with prisoners at Thumb on the exhibits and will be there to share their experiences.
UID:52095-12418701@events.umich.edu
URL:https://events.umich.edu/event/52095
CLASS:PUBLIC
STATUS:CONFIRMED
CATEGORIES:Art,Free,Visual Arts
LOCATION:Off Campus Location
CONTACT:
END:VEVENT
BEGIN:VEVENT
DTSTAMP:20180419T152624
DTSTART;TZID=America/Detroit:20180613T110000
DTEND;TZID=America/Detroit:20180613T170000
SUMMARY:Exhibition:Marcel Dzama: A Jester's Dance
DESCRIPTION:Canadian artist Marcel Dzama is known for imaginative drawings\, sculptures\, dioramas\, and films rooted in the traditions of Surrealism\, Dada and outsider art. His 2013 film Une danse des bouffons (or A jester's dance) tells the tale of a romance between two principal figures of these traditions: Dada icon Marcel Duchamp and Brazilian sculptor Maria Martins\, who was the model for Duchamp's final\, enigmatic artwork Étant donnés. Rife with art-historical references not only to the work of Duchamp but also to Francisco Goya\, Francis Picabia and Joseph Beuys\, among others\, Une danse des bouffons navigates a sexually charged and mesmerizing world in which fantasy and torture run amok. The gallery presentation also includes a storyboard for the film featuring Dzama’s ink and watercolor drawings\, renderings of small hybrid figures resembling children’s book illustrations. The drawings underscore the fantastical elements in a film that combines the carnivalesque with a nightmarish exploration of the surreal.\n\nLead support for Marcel Dzama: A Jester's Dance is provided by Candy and Michael Barasch. Additional generous support is provided by the Herbert W. and Susan L. Johe Endowment and the University of Michigan Institute for the Humanities and the Penny W. Stamps School of Art & Design.
UID:52025-12362793@events.umich.edu
URL:https://events.umich.edu/event/52025
CLASS:PUBLIC
STATUS:CONFIRMED
CATEGORIES:Art,Culture,Exhibition,Film,Media,Multicultural,Museum,UMMA,Visual Arts
LOCATION:Museum of Art - Media Gallery
CONTACT:
END:VEVENT
BEGIN:VEVENT
DTSTAMP:20180502T121513
DTSTART;TZID=America/Detroit:20180613T110000
DTEND;TZID=America/Detroit:20180613T170000
SUMMARY:Exhibition:Materials On Hand: The Art of Ellen Wilt
DESCRIPTION:Curated by Srimoyee Mitra with the assistance of James Barker and Jennifer Junkermeier\, Materials On Hand: The Art of Ellen Wilt is a retrospective exhibition that pays homage to and celebrates fifty years of Ellen Wilt’s expansive art practice. Born and raised in Pittsburgh\, Wilt has lived and worked in Ann Arbor since 1949 and completed two degrees (BFA\, ‘69 and MA\, ‘70) at the University of Michigan. She is an important figure in Ann Arbor’s art community\, who has consistently worked at fostering a vibrant arts community as an artist and educator in the Academy and beyond. She was an art professor for 17 years (1969-85) at the Eastern Michigan University. During this time she also organized and facilitated numerous community-engaged projects that empowered first-time and emerging artists to show their work. It was not until she retired and was well into her 70s that she turned her focus to her own art practice. Her work was duly recognized with numerous awards from the Michigan Water Color Society\, Washtenaw Council for the Arts\, and the Holland Friends of Art between 1984 and 1993.\n\nFor the first time in the last three decades\, Materials On Hand: The Art of Ellen Wilt brings together over 40 carefully selected works from personal and private collections that highlight Wilt’s artistic contributions in Southeastern Michigan. Her intuitive and playful bricolage way of working reveals the scope of her achievement and her specific interest in the Michigan region and its landscape. She has developed multiple bodies of work that feature domestic objects from teapots to chairs while also reckoning with iconic architectural tropes of bridges and tunnels which are ongoing motifs in her work. Wilt continually experiments and explores new ways of working in a variety of two dimensional mediums including\, oil\, acrylic and watercolor. Since the 1970s she has incorporated collage into her practice using whatever materials she has available to her. These range from butcher paper\, aluminum foil\, and tissue to balsa wood\, toothpicks and other found objects. She creates mixed media paintings\, cut outs\, rubbings and installations that reimagine the agency of mundane objects and invite viewers to look again.\n\nExhibition Dates: Thursday\, May 31 - Sunday\, September 9\, 2018\nExhibition Reception: Thursday\, May 31\, 2018 from 6-8 pm \nA conversation with Ellen Wilt: June 9\, 2018 from 2-3 pm
UID:52089-12418609@events.umich.edu
URL:https://events.umich.edu/event/52089
CLASS:PUBLIC
STATUS:CONFIRMED
CATEGORIES:Art,Exhibition
LOCATION:Off Campus Location
CONTACT:
END:VEVENT
BEGIN:VEVENT
DTSTAMP:20180308T135541
DTSTART;TZID=America/Detroit:20180613T110000
DTEND;TZID=America/Detroit:20180613T170000
SUMMARY:Exhibition:New at UMMA: Illuminated Manuscript
DESCRIPTION:Books of hours—custom-made for private devotion in the Christian faith—were a bestseller in medieval Europe. These manuscripts incorporated prayers\, hymns\, biblical stories\, and monthly calendars featuring religious feast days\, which were often supplemented by images painted in exquisite detail. Today\, books of hours are a testament to the visually rich material culture of the Middle Ages. UMMA was recently gifted a bejeweled double-sided calendar leaf for January. Executed on parchment\, the page highlights the material opulence and artistry involved in manuscript illumination. Accompanying the calendar are painted images or miniatures of the labor and characteristic activity of the month\, and Aquarius\, the zodiac sign for January\, embodied by a man collecting water from a stream. The folio’s luminous\, gilded surface\, accentuated by the use of bright colors\, was meant to transport the medieval viewer into a state of spiritual transcendence. \n\nThis work was recently gifted to UMMA by Mrs. Carrol Robertsen.
UID:50849-11884933@events.umich.edu
URL:https://events.umich.edu/event/50849
CLASS:PUBLIC
STATUS:CONFIRMED
CATEGORIES:Art,Books,Culture,Exhibition,Literature,Museum,Storytelling,UMMA,Visual Arts
LOCATION:Museum of Art - The Connector
CONTACT:
END:VEVENT
BEGIN:VEVENT
DTSTAMP:20180509T114004
DTSTART;TZID=America/Detroit:20180613T110000
DTEND;TZID=America/Detroit:20180613T170000
SUMMARY:Exhibition:See Through: Windows and Mirrors in Twentieth-Century Photography
DESCRIPTION:See Through: Mirrors and Windows in Twentieth-Century Photography brings together a group of images that are doubly framed—once by the camera lens and again by the border of a mirror or window. By refracting and distorting\, revealing and concealing\, these reflective and transparent surfaces both draw attention to the photographer’s efforts to frame the world and expose the contingent nature of reality. Highlights from the exhibition include works by Eugène Atget\, Robert Doisneau\, Elliott Erwitt\, Walker Evans\, André Kertész\, Joanne Leonard\, Danny Lyon\, and Joel Meyerowitz. By extending the limits of perception\, these witty and provocative works invite us to see [through to] new visual possibilities.\n\nLead support for See Through: Windows and Mirrors in Twentieth-Century Photography is provided by the Herbert W. and Susan L. Johe Endowment.
UID:52257-12577046@events.umich.edu
URL:https://events.umich.edu/event/52257
CLASS:PUBLIC
STATUS:CONFIRMED
CATEGORIES:Art,Culture,Exhibition,Museum,Photography,Storytelling,UMMA,Visual Arts
LOCATION:Museum of Art - Photography Gallery
CONTACT:
END:VEVENT
BEGIN:VEVENT
DTSTAMP:20180412T145124
DTSTART;TZID=America/Detroit:20180613T110000
DTEND;TZID=America/Detroit:20180613T170000
SUMMARY:Exhibition:Unrecorded: Reimagining Artist Identities in Africa
DESCRIPTION:Historical collecting practices have had a lasting impact on representations of Africa\, its history\, culture\, and life today. Labeled as ‘unknown’ or ‘anonymous\,’ African artists became associated with broad cultural styles and collective identities rather than personal creativity and individual agency. The exhibition Unrecorded: Reimagining Artist Identities in Africa includes artworks from both named and unrecorded\, contemporary and historic artists to tell an alternative story. It explores how the changing attributes of an ‘African’ artist’s identity\, and constructions of African identity more broadly\, have shaped perceptions of Africa outside of the continent.\n\nLead support for Unrecorded: Reimagining Artist Identities in Africa is provided by the University of Michigan Office of the Provost and the African Studies Center. Additional generous support is provided by the University of Michigan Department of Afroamerican and African Studies and Susan Ullrich.
UID:51906-12285939@events.umich.edu
URL:https://events.umich.edu/event/51906
CLASS:PUBLIC
STATUS:CONFIRMED
CATEGORIES:Africa,Art,Culture,Exhibition,Multicultural,Museum,UMMA,Visual Arts
LOCATION:Museum of Art - The Jan and David Brandon Family Bridge
CONTACT:
END:VEVENT
BEGIN:VEVENT
DTSTAMP:20180507T111725
DTSTART;TZID=America/Detroit:20180613T120000
DTEND;TZID=America/Detroit:20180613T124500
SUMMARY:Social / Informal Gathering:Deutschtisch
DESCRIPTION:Spring/Summer Deutschtische will take place on Mondays (through May 21) in 3308 MLB\, which is the third-floor German Conference Room.\n\nThey will take place on Wednesdays at Cafe 32 in the School of Dentistry Building or\, in good weather\, in the \"Courtyard Garden\" of the League\, across from UHS (one way to get to it would be to go directly through the League from the front doors (facing the Bell Tower) to the back doors).\n\nTo be sure of the location on Wednesdays\, come to the end of class at 11:50 a.m. in 3310 MLB to walk to lunch with the group!
UID:52225-12556735@events.umich.edu
URL:https://events.umich.edu/event/52225
CLASS:PUBLIC
STATUS:CONFIRMED
CATEGORIES:Discussion,Language
LOCATION:Michigan League - Courtyard Garden (if weather permits)
CONTACT:
END:VEVENT
BEGIN:VEVENT
DTSTAMP:20180517T085856
DTSTART;TZID=America/Detroit:20180613T120000
DTEND;TZID=America/Detroit:20180613T130000
SUMMARY:Workshop / Seminar:Fulbright U.S. Student Program: General Info Session (Webinar available)
DESCRIPTION:U-M Fulbright U.S. Student Program Advisors (FPA) will provide an overview of the program and provide basic details related to the application and campus process.\n\nRegister to join June webinar : http://bit.ly/2wVArdp
UID:52071-12415755@events.umich.edu
URL:https://events.umich.edu/event/52071
CLASS:PUBLIC
STATUS:CONFIRMED
CATEGORIES:Fulbright,International
LOCATION:Weiser Hall - 447
CONTACT:
END:VEVENT
BEGIN:VEVENT
DTSTAMP:20180612T110119
DTSTART;TZID=America/Detroit:20180613T120000
DTEND;TZID=America/Detroit:20180613T123000
SUMMARY:Workshop / Seminar:Physics Graduate Student Symposium | Supermassive Black Holes as the Regulators of Star Formation in Central Galaxies
DESCRIPTION:Cavities and bubbles in the extended X-ray emission from massive galaxies demonstrate that feedback from supermassive black holes can have a profound effect on the hot gaseous atmospheres that surround these systems. The consequences of these effects result in dramatic changes with respect to how the baryon cycle works and whether new stars are able form within these galaxies. With this concern in mind\, we present a relationship between the black hole mass\, stellar mass\, and star formation rate of a diverse group of 91 local galaxies with dynamically-measured black hole masses. For our sample of galaxies with a variety of morphologies and other galactic properties\, we find that the specific star formation rate is a smoothly decreasing function of the ratio between black hole mass and stellar mass. With respect to galaxy formation models\, our results present a powerful diagnostic with which to test various prescriptions of black hole feedback and its effects on star formation activity. Using the new IllustrisTNG simulation\, we illuminate the physics behind quiescence in this model and compare with our observational results. We also use dozens of other TNG runs with varying physics implementations to show how observable galaxy trends and correlations are affected by changes in the black hole feedback physics\, thereby providing a pathway to physically interpret observations.\n\nTalks will be given each Wednesday and will be 30 minutes in length\, with time after for questions. Lunch will be served at 11:45 and talks will begin at 12:00. Unless otherwise noted\, they will be held in 340 West Hall.
UID:52623-12908314@events.umich.edu
URL:https://events.umich.edu/event/52623
CLASS:PUBLIC
STATUS:CONFIRMED
CATEGORIES:Free,Physics,Science,Talk,Undergraduate Students
LOCATION:West Hall - 340
CONTACT:
END:VEVENT
BEGIN:VEVENT
DTSTAMP:20180530T080833
DTSTART;TZID=America/Detroit:20180613T140000
DTEND;TZID=America/Detroit:20180613T160000
SUMMARY:Workshop / Seminar:Introductory Techniques Seminars presented by The Michigan Center for Materials Characterization
DESCRIPTION:This continuing series of seminars is designed to introduce potential users of our center to a range of the techniques that are employed with our instruments.  For more detail on the instrumentation in the center and the topics covered by our seminars\, visit http://mc2.engin.umich.edu. Questions may on the seminar series may be directed to John Mansfield (jfmjfm@umich.edu)
UID:50185-11656598@events.umich.edu
URL:https://events.umich.edu/event/50185
CLASS:PUBLIC
STATUS:CONFIRMED
CATEGORIES:Biomedical Engineering,Chemistry,Civil and Environmental Engineering,Electrical Engineering and Computer Science,Graduate,Graduate Students,Life Science,Materials Science,Mechanical Engineering,Michigan Engineering,Naval Architecture and Marine Engineering,Nuclear Engineering and Radiological Sciences,Physics,Postdoctoral Research Fellows,Research,Science,seminar,Undergraduate Students
LOCATION:North Campus Research Complex Building 18 - Room 122, but check http://mc2.engin.umich.edu/seminar for updates
CONTACT:
END:VEVENT
BEGIN:VEVENT
DTSTAMP:20180611T134243
DTSTART;TZID=America/Detroit:20180613T160000
DTEND;TZID=America/Detroit:20180613T170000
SUMMARY:Lecture / Discussion:Health and Economic Effects of Medicaid Expansion
DESCRIPTION:Medicaid expansion is much in the news these days\, in Michigan and beyond. \n\nResearchers from the U-M Institute for Healthcare Policy and Innovation are at the forefront of studying the impacts of expanding Medicaid to all low-income adults under the Affordable Care Act. An IHPI team holds the state contract to carry out the official evaluation of Michigan's expansion program\, called the Healthy Michigan Plan\, which now covers more than 650\,000 Michiganders. Other IHPI members study other aspects of the issue.\n\nThis talk\, presented as part of the Frontier Seminar series organized by Michigan Medicine's Chief Scientific Officer\, will focus on the economic and health effects of the Medicaid expansion in Michigan. The talk will feature Renu Tipirneni\, Assistant Professor of Internal Medicine\, and Sarah Miller\, Assistant Professor of Business Economics and Public Policy. John Z. Ayanian\, IHPI director and leader of the Healthy Michigan Plan evaluation\, will serve as moderator. \n\nThe seminar will be held from 4–5 pm in the Ford Auditorium at the University Hospital. The fast-paced hour will include two 20-minute presentations followed by 20 minutes of interaction between the two speakers\, Dr. Ayanian\, and the audience. Informal discussion will follow at a reception.\nRSVP: https://umfrontierseminars.splashthat.com/
UID:52614-12901953@events.umich.edu
URL:https://events.umich.edu/event/52614
CLASS:PUBLIC
STATUS:CONFIRMED
CATEGORIES:Economics,Medicine,Public Health,Public Policy
LOCATION:University Hospitals - Ford Auditorium, 2nd floor
CONTACT:
END:VEVENT
BEGIN:VEVENT
DTSTAMP:20180222T180046
DTSTART;TZID=America/Detroit:20180613T190000
DTEND;TZID=America/Detroit:20180613T203000
SUMMARY:Lecture / Discussion:Downtown AA Development
DESCRIPTION:Have you noticed how downtown Ann Arbor seems to be constantly changing? Have you wondered how property developers decide what projects are likely to succeed?  How difficult is it to navigate the planning and approval processes? What are the challenges faced? What lessons have been learned? What does the future of our downtown look like? \n\nYou will want to hear this fascinating presentation by Ed Shaffron (‘Mr. Downtown’). Ed is the President of The Shaffron Companies\, and has been leading residential and commercial development in Ann Arbor for over 36 years. He specializes in loft and commercial space in historic buildings. He is one of the most well-connected people in our town\, and is passionate about our city.\n \nOsher Lifelong Learning Institute membership not required to attend \"After 5\" Events.\n\nPLEASE NOTE CHANGE IN LOCATION TO THE KELLOGG EYE CENTER\, 1000 WALL STREET.
UID:42697-9632918@events.umich.edu
URL:https://events.umich.edu/event/42697
CLASS:PUBLIC
STATUS:CONFIRMED
CATEGORIES:Lecture,Lifelong Learning,Retirement
LOCATION:Off Campus Location
CONTACT:
END:VEVENT
END:VCALENDAR