BEGIN:VCALENDAR
VERSION:2.0
PRODID:-//UM//UM*Events//EN
CALSCALE:GREGORIAN
BEGIN:VTIMEZONE
TZID:America/Detroit
TZURL:http://tzurl.org/zoneinfo/America/Detroit
X-LIC-LOCATION:America/Detroit
BEGIN:DAYLIGHT
TZOFFSETFROM:-0500
TZOFFSETTO:-0400
TZNAME:EDT
DTSTART:20070311T020000
RRULE:FREQ=YEARLY;BYMONTH=3;BYDAY=2SU
END:DAYLIGHT
BEGIN:STANDARD
TZOFFSETFROM:-0400
TZOFFSETTO:-0500
TZNAME:EST
DTSTART:20071104T020000
RRULE:FREQ=YEARLY;BYMONTH=11;BYDAY=1SU
END:STANDARD
END:VTIMEZONE
BEGIN:VEVENT
DTSTAMP:20180621T155911
DTSTART;TZID=America/Detroit:20180625T000000
DTEND;TZID=America/Detroit:20180625T235900
SUMMARY:Lecture / Discussion:Teach-Out Series: Exploring Basic Income in a Changing Economy
DESCRIPTION:The United States social safety net is a complex system with many programs and often difficult eligibility requirements. Many of these programs only deliver in-kind aid (not cash) to people living in poverty\, a lot of whom can fall through the cracks and can’t make ends meet. \n\nBasic income\, the idea of providing people with a minimal level of cash support on a consistent basis\, remains a point of debate in the United States and beyond. In this Teach-Out\, you will join leading experts to explore the emerging idea of basic income and other associated social safety net programs. \n\nThe Teach-Out will address the following questions:\nWhat is basic income?\nWhat is the difference between basic income and universal basic income?\nWhy is basic income generating so much interest now?\nHow does basic income work? What are the benefits and the challenges?\nHow might basic income help create an inclusive economy?\nWhat is the social safety net? Who does it help and who does it leave out?\nHow do we currently measure poverty and determine who is eligible for safety net programs? \nHow do automation and a changing economy affect the basic income conversation? \n\n\nA Teach-Out is:\n\n-an event – it takes place over a fixed\, short period of time\n\n-an opportunity – it is open for free participation to everyone around the world\n\n-a community – it will be joined by a large number of diverse individuals\n\n-a conversation – an opportunity to give and take ideas and information from people\n\nThe University of Michigan Teach-Out Series provides just-in-time community learning events for participants around the world to come together in conversation with the U-M campus community\, including faculty experts. The U-M Teach-Out Series is part of our deep commitment to engage the public in exploring and understanding the problems\, events\, and phenomena most important to society.\n\nTeach-Outs are short learning experiences\, each focused on a specific current issue. Attendees will come together over a few days not only to learn about a subject or event but also to gain skills. Teach-Outs are open to the world and are designed to bring together individuals with wide-ranging perspectives in respectful and deep conversation. These events are an opportunity for diverse learners and a multitude of experts to come together to ask questions of one another and explore new solutions to the pressing concerns of our global community. Come\, join the conversation!\n\nFind new opportunities at Teach-Out.org.
UID:52743-12986932@events.umich.edu
URL:https://events.umich.edu/event/52743
CLASS:PUBLIC
STATUS:CONFIRMED
CATEGORIES:Discussion,Economics,Education,Lecture
LOCATION:Off Campus Location
CONTACT:
END:VEVENT
BEGIN:VEVENT
DTSTAMP:20180621T155351
DTSTART;TZID=America/Detroit:20180625T000000
DTEND;TZID=America/Detroit:20180625T235900
SUMMARY:Lecture / Discussion:Teach-Out Series: The Future of Gerrymandering
DESCRIPTION:One of the biggest challenges facing our democracy today occurs when congressional district lines that are drawn by elected officials to give one political party an unfair advantage over another. This is called \"gerrymandering.” This Teach-Out explores the topic of gerrymandering\, considering everything from its history of the original gerrymander\, to the current United States Supreme Court cases. You will hear from leading experts on gerrymandering as well as citizen groups who are on the front lines of the redistricting debate. \n\nThe Teach-Out will address the following questions:\nWhat is gerrymandering? \nWhat is happening now? Why is this such an important issue today and what does it mean for you?\nWhy did the United States Supreme Court take up the gerrymandering case (Gill v. Whitford)? And what is happening now with this case? \nHow has technology impacted the gerrymandering debate? \nWhat are states doing to address the issue?\nHow can you implement change? \n\n\nA Teach-Out is:\n\n-an event – it takes place over a fixed\, short period of time\n\n-an opportunity – it is open for free participation to everyone around the world\n\n-a community – it will be joined by a large number of diverse individuals\n\n-a conversation – an opportunity to give and take ideas and information from people\n\nThe University of Michigan Teach-Out Series provides just-in-time community learning events for participants around the world to come together in conversation with the U-M campus community\, including faculty experts. The U-M Teach-Out Series is part of our deep commitment to engage the public in exploring and understanding the problems\, events\, and phenomena most important to society.\n\nTeach-Outs are short learning experiences\, each focused on a specific current issue. Attendees will come together over a few days not only to learn about a subject or event but also to gain skills. Teach-Outs are open to the world and are designed to bring together individuals with wide-ranging perspectives in respectful and deep conversation. These events are an opportunity for diverse learners and a multitude of experts to come together to ask questions of one another and explore new solutions to the pressing concerns of our global community. Come\, join the conversation!\n\nFind new opportunities at Teach-Out.org.
UID:52742-12986917@events.umich.edu
URL:https://events.umich.edu/event/52742
CLASS:PUBLIC
STATUS:CONFIRMED
CATEGORIES:Discussion,Education,Lecture,Politics
LOCATION:Off Campus Location
CONTACT:
END:VEVENT
BEGIN:VEVENT
DTSTAMP:20180516T084537
DTSTART;TZID=America/Detroit:20180625T080000
DTEND;TZID=America/Detroit:20180625T200000
SUMMARY:Exhibition:Gifts of Art presents Collected Surface: Functional Ceramics
DESCRIPTION:The Huron Valley Ceramics Collective (Isabella Comai\, Dennison Dorsey\, Sasha Guo and Margaret A. Miller) is a group of emerging artists who work out of the Clay Work Studio in Ann Arbor\, Michigan. The works in this exhibit are an expression of how ceramics mediate our daily life though use. The artists explore life and reflection through surface and narrative elements by using a combination of wheel thrown and hand built terra cotta\, stoneware and porcelain.
UID:52359-12649690@events.umich.edu
URL:https://events.umich.edu/event/52359
CLASS:PUBLIC
STATUS:CONFIRMED
CATEGORIES:Art,Children,Culture,Exhibition,Family,Free,Health & Wellness,Visual Arts
LOCATION:Taubman Center - Gifts of Art Gallery — Taubman Health Center South Lobby, Floor 1
CONTACT:
END:VEVENT
BEGIN:VEVENT
DTSTAMP:20180516T085500
DTSTART;TZID=America/Detroit:20180625T080000
DTEND;TZID=America/Detroit:20180625T200000
SUMMARY:Exhibition:Gifts of Art presents Flexx – Semi-Industrial Jewelry
DESCRIPTION:Starting with the material of screen spline\, Marsha Chamberlin combines items such as grommets\, bungee cord\, washers\, nuts\, floor matting and more with an array of beads to create a contemporary\, semi-industrial style of work. Pieces often contrast the functionality of hardware with sparkles and colors that provide a unique style.\nMarsha Chamberlin was president and CEO of the Ann Arbor Art Center (formerly Ann Arbor Art Association) for 33 years.
UID:52362-12649942@events.umich.edu
URL:https://events.umich.edu/event/52362
CLASS:PUBLIC
STATUS:CONFIRMED
CATEGORIES:Art,Children,Culture,Exhibition,Family,Free,Health & Wellness,Visual Arts
LOCATION:University Hospitals - Gifts of Art Gallery — University Hospital Main Corridor, Floor 2
CONTACT:
END:VEVENT
BEGIN:VEVENT
DTSTAMP:20180516T085128
DTSTART;TZID=America/Detroit:20180625T080000
DTEND;TZID=America/Detroit:20180625T200000
SUMMARY:Exhibition:Gifts of Art presents Flora & Fauxna: Photography
DESCRIPTION:Patty Carroll’s highly intense\, saturated color photographs have led to her recognition as one of Photolucida’s Top 50 Photographers (2104\, 2017). Flora & Fauxna is a still life series about women and their homes using decorative fabric\, artificial flowers and ceramic birds to create a sumptuous\, and often humorous\, ornate world. Unlike traditional still life images\, these photographs show no horizon line\, dramatic lighting\, or symbols of death and decay. Birds in many cultures are messengers between heaven and earth\, acting as a bridge between the mundane and spiritual life. In Carroll’s work\, birds represent the human desire to escape gravity and reach the level of angels.
UID:52361-12649858@events.umich.edu
URL:https://events.umich.edu/event/52361
CLASS:PUBLIC
STATUS:CONFIRMED
CATEGORIES:Art,Children,Culture,Exhibition,Family,Free,Health & Wellness,Visual Arts
LOCATION:University Hospitals - Gifts of Art Gallery — University Hospital Main Corridor, Floor 2
CONTACT:
END:VEVENT
BEGIN:VEVENT
DTSTAMP:20180516T084216
DTSTART;TZID=America/Detroit:20180625T080000
DTEND;TZID=America/Detroit:20180625T080000
SUMMARY:Exhibition:Gifts of Art presents Life\, Architecture & People of Cuba: Photography
DESCRIPTION:Larry Hauptman is a photographer who is fascinated by and seeks to document the life and culture of peoples around the world. This exhibit is about the Cuba of today. Many forces have contributed to Cuba’s history\, and evidence of its struggles can be seen everywhere. Yet despite the decaying structures and uncertainties\, you do not have to look hard to find much beauty and happiness.
UID:52358-12649606@events.umich.edu
URL:https://events.umich.edu/event/52358
CLASS:PUBLIC
STATUS:CONFIRMED
CATEGORIES:Art,Children,Culture,Family,Free,Health & Wellness,Visual Arts
LOCATION:Taubman Center - Gifts of Art Gallery — Taubman Health Center South Lobby, Floor 1
CONTACT:
END:VEVENT
BEGIN:VEVENT
DTSTAMP:20180515T161801
DTSTART;TZID=America/Detroit:20180625T080000
DTEND;TZID=America/Detroit:20180625T200000
SUMMARY:Exhibition:Gifts of Art presents Nature Illustrated: Oil & Acrylic Painting
DESCRIPTION:John Megahan grew up in the Pacific Northwest. The mountains of Idaho\, Oregon and Washington instilled in him a deep love and appreciation for nature. In college he studied art and biology\, and after graduation worked as a freelance illustrator for commercial and educational institutions. Since 1996\, he has been a scientific illustrator for the U-M Museum of Zoology. In addition to scientific illustration and painting\, he occasionally teaches at the U-M Penny W. Stamps School of Art & Design\, the University of Oregon\, and illustrates children’s books.
UID:52353-12641738@events.umich.edu
URL:https://events.umich.edu/event/52353
CLASS:PUBLIC
STATUS:CONFIRMED
CATEGORIES:Art,Children,Culture,Exhibition,Family,Free,Health & Wellness
LOCATION:Taubman Center - Gifts of Art Gallery — Taubman Health Center North Lobby, Floor 1
CONTACT:
END:VEVENT
BEGIN:VEVENT
DTSTAMP:20180515T162111
DTSTART;TZID=America/Detroit:20180625T080000
DTEND;TZID=America/Detroit:20180625T200000
SUMMARY:Exhibition:Gifts of Art presents Not Your Grandmother’s Dolls
DESCRIPTION:Charlie Patricolo has been creating\, engineering and executing dolls for 25 years\, and teaching doll making for 20. She studied at the John C. Campbell Folk School in North Carolina\, and has been a member of the Southern Highland Craft Guild since 2002. When teaching\, Patricolo feels that\, “Watching someone go from ‘I can’t do this’ to ‘I can’t believe I did this!’ is pretty fantastic!” Her inspiration often comes when she isn’t looking for it: in songs and books when a line rings out so clearly it cannot be ignored\, or a piece of fabric that refuses to be left behind. Patricolo is now based in North Carolina\, but lived most of her life in Michigan.
UID:52354-12641822@events.umich.edu
URL:https://events.umich.edu/event/52354
CLASS:PUBLIC
STATUS:CONFIRMED
CATEGORIES:Art,Children,Culture,Exhibition,Family,Free,Health & Wellness
LOCATION:Taubman Center - Gifts of Art Gallery — Taubman Health Center North Lobby, Floor 1
CONTACT:
END:VEVENT
BEGIN:VEVENT
DTSTAMP:20180516T084840
DTSTART;TZID=America/Detroit:20180625T080000
DTEND;TZID=America/Detroit:20180625T200000
SUMMARY:Exhibition:Gifts of Art presents Reconstructed Blueprints: Acrylic Painting
DESCRIPTION:In this exhibit\, Adnan Charara translates his assembled characters\, from both collage and found object assemblage\, into commanding acrylic paintings. The backgrounds interact with the figures\, who represent history\, identity\, and the struggle for a sense of belonging. They are blueprints for being human: imperfect\, unique and multi-faceted. Charara works in various mediums ranging from drawing\, to jewelry\, to large scale sculpture. He is a Lebanese-American artist with a studio in Detroit.
UID:52360-12649774@events.umich.edu
URL:https://events.umich.edu/event/52360
CLASS:PUBLIC
STATUS:CONFIRMED
CATEGORIES:Art,Children,Culture,Detroit,Exhibition,Family,Free,Health & Wellness,Visual Arts
LOCATION:University Hospitals - Gifts of Art Gallery — University Hospital Main Lobby, Floor 1
CONTACT:
END:VEVENT
BEGIN:VEVENT
DTSTAMP:20180516T090525
DTSTART;TZID=America/Detroit:20180625T080000
DTEND;TZID=America/Detroit:20180625T170000
SUMMARY:Exhibition:Gifts of Art presents Water’s Presence: Landscapes in Oil
DESCRIPTION:Cathy VanVoorhis’ oil landscape paintings represent her experience of the healing power of nature. VanVoorhis travels to lakes\, rivers and streams to witness the ecology and beauty of natural coastlines of Michigan. She finds inspiration in the writing of naturalists such as Rachel Carson\, and the understanding of the intricate web of all life. This series of paintings focuses on the healing that comes from contemplation of bodies of water. This beautiful element can bring a meditative calm and inner peace\, as one feels a connection to the timeless forces of life. VanVoorhis is a lecturer at the U-M Penny W. Stamps School of Art & Design.
UID:52363-12650026@events.umich.edu
URL:https://events.umich.edu/event/52363
CLASS:PUBLIC
STATUS:CONFIRMED
CATEGORIES:Art,Children,Culture,Exhibition,Family,Free,Health & Wellness,Visual Arts
LOCATION:Cancer Center - Gifts of Art Gallery — Rogel Cancer Center, Level 1
CONTACT:
END:VEVENT
BEGIN:VEVENT
DTSTAMP:20180606T110026
DTSTART;TZID=America/Detroit:20180625T080000
DTEND;TZID=America/Detroit:20180625T230000
SUMMARY:Exhibition:Nothing Makes Sense\, Except Love: The Cinematic Musings of Director Alan Rudolph
DESCRIPTION:This exhibit features materials reproduced from the Alan Rudolph Collection now part of the University of Michigan Library Special Collections Research Center. Told in Rudolph’s first-person voice\, it chronicles his career.\n\nQuirky\, off kilter\, stylishly romantic and filled with moments of wry humor\, Alan Rudolph makes movies with dreamy eyed protagonists searching for love in all the wrong places. He often mashes up genres into something new and unique and peppers his films with elements not always beholden to realism. He began his four decade career under the watchful eye of mentor Robert Altman\, but he soon created a body of work that is clearly his own vision.
UID:52575-12857369@events.umich.edu
URL:https://events.umich.edu/event/52575
CLASS:PUBLIC
STATUS:CONFIRMED
CATEGORIES:Exhibition,Film,Free,Library
LOCATION:Hatcher Graduate Library - Gallery (Room 100)
CONTACT:
END:VEVENT
BEGIN:VEVENT
DTSTAMP:20180328T154138
DTSTART;TZID=America/Detroit:20180625T080000
DTEND;TZID=America/Detroit:20180625T170000
SUMMARY:Exhibition:Seven Fantasy Classics for Children
DESCRIPTION:Students in Lisa Makman’s English 313 course\, Children’s Literature and the Invention of Modern Childhood\, curated this exhibit of classic stories for children. The exhibit focuses on seven classic stories: Aladdin\, Alice in Wonderland\, Cinderella\, Hansel and Gretel\, the Little Mermaid\, Little Red Riding Hood\, and Peter Pan. Drawing on the rich collection of children’s literature in the Special Collections Research Center\, the books range from late nineteenth century editions to contemporary pop-up books. By showcasing different takes on each story\, the exhibit explores the variation in how these tales are told and illustrated.
UID:51471-12112570@events.umich.edu
URL:https://events.umich.edu/event/51471
CLASS:PUBLIC
STATUS:CONFIRMED
CATEGORIES:Exhibition,Free,Library,Literature
LOCATION:Hatcher Graduate Library - Audubon Room
CONTACT:
END:VEVENT
BEGIN:VEVENT
DTSTAMP:20180411T131344
DTSTART;TZID=America/Detroit:20180625T100000
DTEND;TZID=America/Detroit:20180625T170000
SUMMARY:Exhibition:Quaker Oats Makes a Movie: A Scrumdiddlyumptious Wonka Adventure
DESCRIPTION:​Quaker Oats forged a new path in the entertainment industry by jointly marketing consumer packaged goods and a major motion picture in 1971\, Willy Wonka and the Chocolate Factory. Having never made a motion picture before\, their foray into the filmmaking industry was unexpected and unprecedented. The company saw this film as an opportunity to essentially make a feature-length commercial for their new line of Wonka candy products.\n\nStudents in Matthew Solomon's class\, SAC 355: Authorship and the Archive\, culled though hundreds of production documents related to the film to curate an exhibit that tells a little known behind-the-scenes story about one of the most beloved films.
UID:51870-12274496@events.umich.edu
URL:https://events.umich.edu/event/51870
CLASS:PUBLIC
STATUS:CONFIRMED
CATEGORIES:Exhibition,Free,Library
LOCATION:Hatcher Graduate Library - Special Collections, 6th Floor
CONTACT:
END:VEVENT
BEGIN:VEVENT
DTSTAMP:20180130T152923
DTSTART;TZID=America/Detroit:20180625T110000
DTEND;TZID=America/Detroit:20180625T170000
SUMMARY:Exhibition:Exercising the Eye: The Gertrude Kasle Collection
DESCRIPTION:Gallery hours are 11 a.m.–5 p.m. Tuesday–Saturday and 12–5 p.m. Sunday\; galleries are closed on Mondays.\n\nThis exhibition celebrates Gertrude Kasle (1917–2016)\, a key figure in the formation of Detroit’s contemporary art community in the 1960s and 70s. A pioneering female gallerist\, Kasle provided midwest audiences with a venue in which to experience avant-garde art from centers like New York City\, while also supporting and exhibiting regional artists. Featuring a collection of paintings\, works on paper\, and sculptures from the height of the Abstract Expressionist movement through the early twenty-first century\, 'Exercising the Eye' speaks to the relationships Kasle fostered with local\, national\, and international artists and her appreciation for artistic expression and experimentation. Critical voices from the last fifty years include Philip Guston\, Jane Hammond\, Grace Hartigan\, Jasper Johns\, Michele Oka Doner\, and Robert Rauschenberg. The exhibition offers visitors a unique opportunity to explore a dynamic moment in Detroit’s cultural history and insight into Kasle’s love of looking and learning.\n\nLead support for 'Exercising the Eye: The Gertrude Kasle Collection' is provided by the University of Michigan Office of the Provost\, Michigan Medicine\, and the University of Michigan CEW Frances and Sydney Lewis Visiting Leaders Fund.
UID:49505-11465063@events.umich.edu
URL:https://events.umich.edu/event/49505
CLASS:PUBLIC
STATUS:CONFIRMED
CATEGORIES:Art,Culture,Exhibition,Expressionism,Multicultural,Museum,UMMA,Visual Arts
LOCATION:Museum of Art - A. Alfred Taubman Gallery
CONTACT:
END:VEVENT
BEGIN:VEVENT
DTSTAMP:20180710T063007
DTSTART;TZID=America/Detroit:20180625T123000
DTEND;TZID=America/Detroit:20180625T160000
SUMMARY:Careers / Jobs:Chicago Immersion: 2 days in Trading with Belvedere Trading\, Optiver & Wolverine Trading
DESCRIPTION:Want to see what it's like to work in trading? Spend two days in Chicago visiting Belvedere Trading\, Optiver & Wolverine Trading! \n\nThis Immersion experience allows students to meet with different team members at each company\, learn about different internships/jobs within this industry\, and put your skills to practice in a trading simulation challenge. This is a great experience for students wanting to learn about what it'slike to be in trading & living in the windy city of Chicago\, IL! \n\nPrevious attendees have said that - \n\n\"I would recommend this experience toanyone!\"\n\"This trip opened my eyes to trading - now I'm really interested in this. Great experience!\"\n\"This Immersion allowed me to see what trading is like in Chicago and I was able to expand my network through the connections made.\" \n\nApplications will open on Monday\, May 21st and close on Friday\, June 1st. Priority will be given to students that submit theirapplication early. Don' wait- slots fill quickly & the application may close early! Please note that by applying to this Immersion you are agreeingto attend should you be selected. \n\n----------\n\nAGENDA FOR THE TRIP\nMonday\, June 25th - Visit Belvedere Trading\nTuesday\, June 26th - Visit Wolverine Trading & Optiver\n\n----------\n\nBy applying for this Immersion\, you are confirming your ability to attend this event should you be selected. Students will be notified if they have been selected or have been placed on the waitlist by Friday\, June 1st. Students must be able to attend the full program in Chicago to participate. University Career Center staff will be along with you on the Immersion to guide you through the days\,and more details will be provided to the selected participants. Transportation is not provided for students to and from Chicago and students will be responsible for some meals & lodging. If the expense is a concern\, please contact Kathleen at kathlmcd@umich.edu to discuss other options! Students are advised to bring 3 copies of their updated resume to the event. \n
UID:52166-12508108@events.umich.edu
URL:https://events.umich.edu/event/52166
CLASS:PUBLIC
STATUS:CONFIRMED
CATEGORIES:
LOCATION:Chicago, Illinois, United States
CONTACT:
END:VEVENT
BEGIN:VEVENT
DTSTAMP:20180710T063008
DTSTART;TZID=America/Detroit:20180625T123000
DTEND;TZID=America/Detroit:20180625T160000
SUMMARY:Careers / Jobs:Chicago Immersion: 2 days visiting Cramer-Krasselt\, Havas\, & Moringstar!
DESCRIPTION:\n\nWant to see what it's like to work in Chicago? Spend two days visiting Cramer-Krasselt\, Havas & Morningstar in the windy city! \n\nThis Immersion experience allows students to meet with different team members at each company\, learn about different internships/jobs within these industries\, and put your skills to the test through employer led interactive activities. This is a great experience for students wanting to learn about what it's like to be working & living in Chicago\, IL! \n\nPrevious attendees have said that - \n\n“It is so cool to hear all they have done and planned to do. Their work environment interests and excites me to workin the industry.” \n\"It was really great getting to visit companies I otherwise would have only known about online. Seeing the work environment and meeting actual employees was really great\, too.\"\n\"This is the second Immersion I've been on and I think they are some of the best decisions I have made in college thus far!\"\n\nApplications will open on Monday\, May 21st and close on Friday\, June 1st. Priority will be given to students that submit their application early. Don' wait- slots fill quickly & the application may close early! Please note that by applying to this Immersion you are agreeing to attend should you be selected. \n\n----------\n\nAGENDA FOR THE TRIP\nMonday\, June 25th - Visit Cramer-Krasselt (https://c-k.com/)\nTuesday\, June 26th - Visit Havas (http://chi.havas.com/) & Morningstar(http://www-prd.morningstar.com/company?CustId=&CLogin=&CType=&CName=)\n\n----------\n\nBy applying for this Immersion\, you are confirming your ability to attend this event should you be selected. Students will be notified if they have been selected or have been placed on the waitlist by Friday\, June 1st. Students must be able to attend the full program in Chicago to participate. University Career Center staff will be along with you on the Immersion to guide you through the days\, and more details will be provided to the selected participants. Transportation is not provided for students to and from Chicago and students will be responsible for some meals &lodging. If the expense is a concern\, please contact Kathleen at kathlmcd@umich.edu to discuss other options! Students are advised to bring 3 copies of their updated resume to the event. \n
UID:52177-12520920@events.umich.edu
URL:https://events.umich.edu/event/52177
CLASS:PUBLIC
STATUS:CONFIRMED
CATEGORIES:
LOCATION:Chicago, Illinois, United States
CONTACT:
END:VEVENT
BEGIN:VEVENT
DTSTAMP:20180530T080833
DTSTART;TZID=America/Detroit:20180625T140000
DTEND;TZID=America/Detroit:20180625T160000
SUMMARY:Workshop / Seminar:Introductory Techniques Seminars presented by The Michigan Center for Materials Characterization
DESCRIPTION:This continuing series of seminars is designed to introduce potential users of our center to a range of the techniques that are employed with our instruments.  For more detail on the instrumentation in the center and the topics covered by our seminars\, visit http://mc2.engin.umich.edu. Questions may on the seminar series may be directed to John Mansfield (jfmjfm@umich.edu)
UID:50185-11656645@events.umich.edu
URL:https://events.umich.edu/event/50185
CLASS:PUBLIC
STATUS:CONFIRMED
CATEGORIES:Biomedical Engineering,Chemistry,Civil and Environmental Engineering,Electrical Engineering and Computer Science,Graduate,Graduate Students,Life Science,Materials Science,Mechanical Engineering,Michigan Engineering,Naval Architecture and Marine Engineering,Nuclear Engineering and Radiological Sciences,Physics,Postdoctoral Research Fellows,Research,Science,seminar,Undergraduate Students
LOCATION:North Campus Research Complex Building 18 - Room 122, but check http://mc2.engin.umich.edu/seminar for updates
CONTACT:
END:VEVENT
BEGIN:VEVENT
DTSTAMP:20180613T181511
DTSTART;TZID=America/Detroit:20180625T190000
SUMMARY:Lecture / Discussion:Center Stage Strings Master Class: Wei Yu\, cello
DESCRIPTION:A behind-the-scenes look at the making of a young artist.  
UID:52420-12706734@events.umich.edu
URL:https://events.umich.edu/event/52420
CLASS:PUBLIC
STATUS:CONFIRMED
CATEGORIES:Free,Music,North campus
LOCATION:Off Campus Location - Britton Recital Hall
CONTACT:
END:VEVENT
END:VCALENDAR