BEGIN:VCALENDAR
VERSION:2.0
PRODID:-//UM//UM*Events//EN
CALSCALE:GREGORIAN
BEGIN:VTIMEZONE
TZID:America/Detroit
TZURL:http://tzurl.org/zoneinfo/America/Detroit
X-LIC-LOCATION:America/Detroit
BEGIN:DAYLIGHT
TZOFFSETFROM:-0500
TZOFFSETTO:-0400
TZNAME:EDT
DTSTART:20070311T020000
RRULE:FREQ=YEARLY;BYMONTH=3;BYDAY=2SU
END:DAYLIGHT
BEGIN:STANDARD
TZOFFSETFROM:-0400
TZOFFSETTO:-0500
TZNAME:EST
DTSTART:20071104T020000
RRULE:FREQ=YEARLY;BYMONTH=11;BYDAY=1SU
END:STANDARD
END:VTIMEZONE
BEGIN:VEVENT
DTSTAMP:20180731T180006
DTSTART;TZID=America/Detroit:20180723T000000
DTEND;TZID=America/Detroit:20180723T235959
SUMMARY:Community Service:Off Season Food Drive with Food Gatherers!
DESCRIPTION:Hunger doesn’t have an offseasonJoin ACS Med Chem as we collect food to help fight hunger in Washtenaw County. Food donations are important all year long\, not just during the holiday season. We are teaming up with Food Gatherers in an effort to collect new\, non-perishable food and monetary donations!  Items of need:- Hearty Soups- Canned Meats- Canned Veggies- Beans- Rice- Pasta- Cereal- Granola bars Find donation boxes in CC Little\, NCRC\, LSI\, and Med Sci!Monetary donations go a long way! Food Gatherers can serve 15 meals with a donation of just $5 - if you're able\, consider giving an online donation instead of a canned food item by visiting the Food Gatherers webpage here. For more information\, contact Nicholas Ragazzone: nragazzo@umich.eduThe food drive will run July 1 - July 31st.
UID:52744-13334403@events.umich.edu
URL:https://events.umich.edu/event/52744
CLASS:PUBLIC
STATUS:CONFIRMED
CATEGORIES:
LOCATION:CC Little (4th floor outside rm. 4571), NCRC (lobby of bldg 520), LSI (3rd floor kitchen area), Med Sci I, and online! 
CONTACT:
END:VEVENT
BEGIN:VEVENT
DTSTAMP:20180621T160223
DTSTART;TZID=America/Detroit:20180723T000000
DTEND;TZID=America/Detroit:20180723T235900
SUMMARY:Lecture / Discussion:Teach Out Series: Solving the Opioid Crisis
DESCRIPTION:The opioid epidemic is the deadliest drug crisis in US history\, killing around 64\,000 people in 2016 alone.  Recently\,  the growing crisis was declared a “public health emergency.”  In this Teach-Out\, experts from the fields of Medicine\, Pharmacy\, Public Health\, and Dentistry will help us examine the impacts of this national epidemic and answer the key questions: What are opioids?  How did we get to the current crisis?  How can we recognize opioid abuse and what can we do about it?   What makes the crisis so complex? Join us in this active and ongoing public conversation as we create and share solutions.\n\nThis Teach-Out is being offered in partnership with the University of Michigan’s Institute for Healthcare Policy and Innovation and includes a number of expert voices including:\n-Jay S. Lee\, MD\n-Rebecca L. Haffajee\, J.D.\, Ph.D.\, M.P.H \n-Michael A. Smith\, PharmD\, BCPS \n-Pooja Lagisetty\, M.D. \n-Daniel Clauw\, M.D. \n-Vicki Ellingrod\, PharmD \n-Romesh Nalliah\, D.D.S.\, M.H.C.M. \n-Amy Bohnert\, Ph.D.\, M.H.S.\n-Larry Gant\, Ph.D.\, MSW\n-Will Potter\n\nA Teach-Out is:\n\n-an event – it takes place over a fixed\, short period of time\n\n-an opportunity – it is open for free participation to everyone around the world\n\n-a community – it will be joined by a large number of diverse individuals\n\n-a conversation – an opportunity to give and take ideas and information from people\n\nThe University of Michigan Teach-Out Series provides just-in-time community learning events for participants around the world to come together in conversation with the U-M campus community\, including faculty experts. The U-M Teach-Out Series is part of our deep commitment to engage the public in exploring and understanding the problems\, events\, and phenomena most important to society.\n\nTeach-Outs are short learning experiences\, each focused on a specific current issue. Attendees will come together over a few days not only to learn about a subject or event but also to gain skills. Teach-Outs are open to the world and are designed to bring together individuals with wide-ranging perspectives in respectful and deep conversation. These events are an opportunity for diverse learners and a multitude of experts to come together to ask questions of one another and explore new solutions to the pressing concerns of our global community. Come\, join the conversation!\n\nFind new opportunities at teach-out.org.
UID:47581-12986961@events.umich.edu
URL:https://events.umich.edu/event/47581
CLASS:PUBLIC
STATUS:CONFIRMED
CATEGORIES:Discussion,Education,Lecture,Medicine,Nursing,Pharmacy,Pre Med,Pre-Health,Psychology,Public Health,Research
LOCATION:Off Campus Location
CONTACT:
END:VEVENT
BEGIN:VEVENT
DTSTAMP:20180705T130215
DTSTART;TZID=America/Detroit:20180723T033000
DTEND;TZID=America/Detroit:20180723T180000
SUMMARY:Other:Memorial Service for Peter Bauland
DESCRIPTION:contact janej@umich.edu for more details.
UID:52886-13107795@events.umich.edu
URL:https://events.umich.edu/event/52886
CLASS:PUBLIC
STATUS:CONFIRMED
CATEGORIES:English Language And Literature
LOCATION:Off Campus Location
CONTACT:
END:VEVENT
BEGIN:VEVENT
DTSTAMP:20180516T084537
DTSTART;TZID=America/Detroit:20180723T080000
DTEND;TZID=America/Detroit:20180723T200000
SUMMARY:Exhibition:Gifts of Art presents Collected Surface: Functional Ceramics
DESCRIPTION:The Huron Valley Ceramics Collective (Isabella Comai\, Dennison Dorsey\, Sasha Guo and Margaret A. Miller) is a group of emerging artists who work out of the Clay Work Studio in Ann Arbor\, Michigan. The works in this exhibit are an expression of how ceramics mediate our daily life though use. The artists explore life and reflection through surface and narrative elements by using a combination of wheel thrown and hand built terra cotta\, stoneware and porcelain.
UID:52359-12649718@events.umich.edu
URL:https://events.umich.edu/event/52359
CLASS:PUBLIC
STATUS:CONFIRMED
CATEGORIES:Art,Children,Culture,Exhibition,Family,Free,Health & Wellness,Visual Arts
LOCATION:Taubman Center - Gifts of Art Gallery — Taubman Health Center South Lobby, Floor 1
CONTACT:
END:VEVENT
BEGIN:VEVENT
DTSTAMP:20180516T085500
DTSTART;TZID=America/Detroit:20180723T080000
DTEND;TZID=America/Detroit:20180723T200000
SUMMARY:Exhibition:Gifts of Art presents Flexx – Semi-Industrial Jewelry
DESCRIPTION:Starting with the material of screen spline\, Marsha Chamberlin combines items such as grommets\, bungee cord\, washers\, nuts\, floor matting and more with an array of beads to create a contemporary\, semi-industrial style of work. Pieces often contrast the functionality of hardware with sparkles and colors that provide a unique style.\nMarsha Chamberlin was president and CEO of the Ann Arbor Art Center (formerly Ann Arbor Art Association) for 33 years.
UID:52362-12649970@events.umich.edu
URL:https://events.umich.edu/event/52362
CLASS:PUBLIC
STATUS:CONFIRMED
CATEGORIES:Art,Children,Culture,Exhibition,Family,Free,Health & Wellness,Visual Arts
LOCATION:University Hospitals - Gifts of Art Gallery — University Hospital Main Corridor, Floor 2
CONTACT:
END:VEVENT
BEGIN:VEVENT
DTSTAMP:20180516T085128
DTSTART;TZID=America/Detroit:20180723T080000
DTEND;TZID=America/Detroit:20180723T200000
SUMMARY:Exhibition:Gifts of Art presents Flora & Fauxna: Photography
DESCRIPTION:Patty Carroll’s highly intense\, saturated color photographs have led to her recognition as one of Photolucida’s Top 50 Photographers (2104\, 2017). Flora & Fauxna is a still life series about women and their homes using decorative fabric\, artificial flowers and ceramic birds to create a sumptuous\, and often humorous\, ornate world. Unlike traditional still life images\, these photographs show no horizon line\, dramatic lighting\, or symbols of death and decay. Birds in many cultures are messengers between heaven and earth\, acting as a bridge between the mundane and spiritual life. In Carroll’s work\, birds represent the human desire to escape gravity and reach the level of angels.
UID:52361-12649886@events.umich.edu
URL:https://events.umich.edu/event/52361
CLASS:PUBLIC
STATUS:CONFIRMED
CATEGORIES:Art,Children,Culture,Exhibition,Family,Free,Health & Wellness,Visual Arts
LOCATION:University Hospitals - Gifts of Art Gallery — University Hospital Main Corridor, Floor 2
CONTACT:
END:VEVENT
BEGIN:VEVENT
DTSTAMP:20180516T084216
DTSTART;TZID=America/Detroit:20180723T080000
DTEND;TZID=America/Detroit:20180723T080000
SUMMARY:Exhibition:Gifts of Art presents Life\, Architecture & People of Cuba: Photography
DESCRIPTION:Larry Hauptman is a photographer who is fascinated by and seeks to document the life and culture of peoples around the world. This exhibit is about the Cuba of today. Many forces have contributed to Cuba’s history\, and evidence of its struggles can be seen everywhere. Yet despite the decaying structures and uncertainties\, you do not have to look hard to find much beauty and happiness.
UID:52358-12649634@events.umich.edu
URL:https://events.umich.edu/event/52358
CLASS:PUBLIC
STATUS:CONFIRMED
CATEGORIES:Art,Children,Culture,Family,Free,Health & Wellness,Visual Arts
LOCATION:Taubman Center - Gifts of Art Gallery — Taubman Health Center South Lobby, Floor 1
CONTACT:
END:VEVENT
BEGIN:VEVENT
DTSTAMP:20180515T161801
DTSTART;TZID=America/Detroit:20180723T080000
DTEND;TZID=America/Detroit:20180723T200000
SUMMARY:Exhibition:Gifts of Art presents Nature Illustrated: Oil & Acrylic Painting
DESCRIPTION:John Megahan grew up in the Pacific Northwest. The mountains of Idaho\, Oregon and Washington instilled in him a deep love and appreciation for nature. In college he studied art and biology\, and after graduation worked as a freelance illustrator for commercial and educational institutions. Since 1996\, he has been a scientific illustrator for the U-M Museum of Zoology. In addition to scientific illustration and painting\, he occasionally teaches at the U-M Penny W. Stamps School of Art & Design\, the University of Oregon\, and illustrates children’s books.
UID:52353-12641766@events.umich.edu
URL:https://events.umich.edu/event/52353
CLASS:PUBLIC
STATUS:CONFIRMED
CATEGORIES:Art,Children,Culture,Exhibition,Family,Free,Health & Wellness
LOCATION:Taubman Center - Gifts of Art Gallery — Taubman Health Center North Lobby, Floor 1
CONTACT:
END:VEVENT
BEGIN:VEVENT
DTSTAMP:20180515T162111
DTSTART;TZID=America/Detroit:20180723T080000
DTEND;TZID=America/Detroit:20180723T200000
SUMMARY:Exhibition:Gifts of Art presents Not Your Grandmother’s Dolls
DESCRIPTION:Charlie Patricolo has been creating\, engineering and executing dolls for 25 years\, and teaching doll making for 20. She studied at the John C. Campbell Folk School in North Carolina\, and has been a member of the Southern Highland Craft Guild since 2002. When teaching\, Patricolo feels that\, “Watching someone go from ‘I can’t do this’ to ‘I can’t believe I did this!’ is pretty fantastic!” Her inspiration often comes when she isn’t looking for it: in songs and books when a line rings out so clearly it cannot be ignored\, or a piece of fabric that refuses to be left behind. Patricolo is now based in North Carolina\, but lived most of her life in Michigan.
UID:52354-12641850@events.umich.edu
URL:https://events.umich.edu/event/52354
CLASS:PUBLIC
STATUS:CONFIRMED
CATEGORIES:Art,Children,Culture,Exhibition,Family,Free,Health & Wellness
LOCATION:Taubman Center - Gifts of Art Gallery — Taubman Health Center North Lobby, Floor 1
CONTACT:
END:VEVENT
BEGIN:VEVENT
DTSTAMP:20180516T084840
DTSTART;TZID=America/Detroit:20180723T080000
DTEND;TZID=America/Detroit:20180723T200000
SUMMARY:Exhibition:Gifts of Art presents Reconstructed Blueprints: Acrylic Painting
DESCRIPTION:In this exhibit\, Adnan Charara translates his assembled characters\, from both collage and found object assemblage\, into commanding acrylic paintings. The backgrounds interact with the figures\, who represent history\, identity\, and the struggle for a sense of belonging. They are blueprints for being human: imperfect\, unique and multi-faceted. Charara works in various mediums ranging from drawing\, to jewelry\, to large scale sculpture. He is a Lebanese-American artist with a studio in Detroit.
UID:52360-12649802@events.umich.edu
URL:https://events.umich.edu/event/52360
CLASS:PUBLIC
STATUS:CONFIRMED
CATEGORIES:Art,Children,Culture,Detroit,Exhibition,Family,Free,Health & Wellness,Visual Arts
LOCATION:University Hospitals - Gifts of Art Gallery — University Hospital Main Lobby, Floor 1
CONTACT:
END:VEVENT
BEGIN:VEVENT
DTSTAMP:20180516T090525
DTSTART;TZID=America/Detroit:20180723T080000
DTEND;TZID=America/Detroit:20180723T170000
SUMMARY:Exhibition:Gifts of Art presents Water’s Presence: Landscapes in Oil
DESCRIPTION:Cathy VanVoorhis’ oil landscape paintings represent her experience of the healing power of nature. VanVoorhis travels to lakes\, rivers and streams to witness the ecology and beauty of natural coastlines of Michigan. She finds inspiration in the writing of naturalists such as Rachel Carson\, and the understanding of the intricate web of all life. This series of paintings focuses on the healing that comes from contemplation of bodies of water. This beautiful element can bring a meditative calm and inner peace\, as one feels a connection to the timeless forces of life. VanVoorhis is a lecturer at the U-M Penny W. Stamps School of Art & Design.
UID:52363-12650054@events.umich.edu
URL:https://events.umich.edu/event/52363
CLASS:PUBLIC
STATUS:CONFIRMED
CATEGORIES:Art,Children,Culture,Exhibition,Family,Free,Health & Wellness,Visual Arts
LOCATION:Cancer Center - Gifts of Art Gallery — Rogel Cancer Center, Level 1
CONTACT:
END:VEVENT
BEGIN:VEVENT
DTSTAMP:20180606T110026
DTSTART;TZID=America/Detroit:20180723T080000
DTEND;TZID=America/Detroit:20180723T230000
SUMMARY:Exhibition:Nothing Makes Sense\, Except Love: The Cinematic Musings of Director Alan Rudolph
DESCRIPTION:This exhibit features materials reproduced from the Alan Rudolph Collection now part of the University of Michigan Library Special Collections Research Center. Told in Rudolph’s first-person voice\, it chronicles his career.\n\nQuirky\, off kilter\, stylishly romantic and filled with moments of wry humor\, Alan Rudolph makes movies with dreamy eyed protagonists searching for love in all the wrong places. He often mashes up genres into something new and unique and peppers his films with elements not always beholden to realism. He began his four decade career under the watchful eye of mentor Robert Altman\, but he soon created a body of work that is clearly his own vision.
UID:52575-12857397@events.umich.edu
URL:https://events.umich.edu/event/52575
CLASS:PUBLIC
STATUS:CONFIRMED
CATEGORIES:Exhibition,Film,Free,Library
LOCATION:Hatcher Graduate Library - Gallery (Room 100)
CONTACT:
END:VEVENT
BEGIN:VEVENT
DTSTAMP:20180328T154138
DTSTART;TZID=America/Detroit:20180723T080000
DTEND;TZID=America/Detroit:20180723T170000
SUMMARY:Exhibition:Seven Fantasy Classics for Children
DESCRIPTION:Students in Lisa Makman’s English 313 course\, Children’s Literature and the Invention of Modern Childhood\, curated this exhibit of classic stories for children. The exhibit focuses on seven classic stories: Aladdin\, Alice in Wonderland\, Cinderella\, Hansel and Gretel\, the Little Mermaid\, Little Red Riding Hood\, and Peter Pan. Drawing on the rich collection of children’s literature in the Special Collections Research Center\, the books range from late nineteenth century editions to contemporary pop-up books. By showcasing different takes on each story\, the exhibit explores the variation in how these tales are told and illustrated.
UID:51471-12112598@events.umich.edu
URL:https://events.umich.edu/event/51471
CLASS:PUBLIC
STATUS:CONFIRMED
CATEGORIES:Exhibition,Free,Library,Literature
LOCATION:Hatcher Graduate Library - Audubon Room
CONTACT:
END:VEVENT
BEGIN:VEVENT
DTSTAMP:20180712T161529
DTSTART;TZID=America/Detroit:20180723T090000
DTEND;TZID=America/Detroit:20180723T120000
SUMMARY:Class / Instruction:Mature Driver Workshop
DESCRIPTION:St. Joseph Mercy Trauma Program and Physical Medicine and Rehabilitation will provide a two day class to brush up on driving strategies\, reflex testing\, and a \"car fit\" assessment to ensure your mirrors\, seat\, and wheel are all appropriately positioned. Continue to stay safe on the road as we age! Call the Turner Senior Resource Center to RSVP- 734-998-9353. Fee: $10
UID:52989-13168226@events.umich.edu
URL:https://events.umich.edu/event/52989
CLASS:PUBLIC
STATUS:CONFIRMED
CATEGORIES:Education
LOCATION:Off Campus Location - Campbell Room
CONTACT:
END:VEVENT
BEGIN:VEVENT
DTSTAMP:20180718T093710
DTSTART;TZID=America/Detroit:20180723T110000
DTEND;TZID=America/Detroit:20180723T120000
SUMMARY:Presentation:Alex Kawa Thesis Defense
DESCRIPTION:Less is More: The Importance of the Temporal Pattern of Drug Use in Addiction
UID:53062-13217921@events.umich.edu
URL:https://events.umich.edu/event/53062
CLASS:PUBLIC
STATUS:CONFIRMED
CATEGORIES:Psychology
LOCATION:East Hall - 4448
CONTACT:
END:VEVENT
BEGIN:VEVENT
DTSTAMP:20180723T150421
DTSTART;TZID=America/Detroit:20180723T120000
DTEND;TZID=America/Detroit:20180723T124500
SUMMARY:Social / Informal Gathering:Deutschtisch
DESCRIPTION:\"Deutschtisch\"\n\nWednesdays\, 12-12:45 p.m.\, in the League's Courtyard Garden on days with good weather OR in Cafe 32\, School of Dentistry Building\, on days with poor weather\; and\nMondays\, 12-12:45 p.m.\, MLB 3308\n\nThe \"Deutschtisch\" for Summer 2018 is associated with German 230\, but all are welcome! The group will meet Mondays and Wednesdays from 12-12:45 p.m.. You can find the group with your ears (i.e. listen for a group of people speaking German). \n\nTo be sure of the location on Wednesdays\, come to the end of class at 11:50 in 2106 MLB to walk to lunch with the group!
UID:52922-13148786@events.umich.edu
URL:https://events.umich.edu/event/52922
CLASS:PUBLIC
STATUS:CONFIRMED
CATEGORIES:Language
LOCATION:Off Campus Location
CONTACT:
END:VEVENT
BEGIN:VEVENT
DTSTAMP:20180822T101328
DTSTART;TZID=America/Detroit:20180723T120000
DTEND;TZID=America/Detroit:20180723T235900
SUMMARY:Other:Michigan in Washington Application Deadline-September 24\, 2018
DESCRIPTION:Michigan in Washington Fall 2018 Deadline for Winter 2019 and early admission Fall 2019.
UID:52904-13140083@events.umich.edu
URL:https://events.umich.edu/event/52904
CLASS:PUBLIC
STATUS:CONFIRMED
CATEGORIES:Deadlines,first-generation,Internship,Leadership,Networking,Study Abroad,Transfer Students,Undergraduate
LOCATION:Off Campus Location
CONTACT:
END:VEVENT
BEGIN:VEVENT
DTSTAMP:20180713T160544
DTSTART;TZID=America/Detroit:20180723T130000
DTEND;TZID=America/Detroit:20180723T140000
SUMMARY:Lecture / Discussion:AE Defense: Lie Group Observer Design for Robotic Systems
DESCRIPTION:Lie Group Observer Design for Robotic Systems: Extensions\, Synthesis\, and Higher-Order Filtering\n\nDavid Zlotnik\nAerospace Engineering PhD Candidate\n\nProf. James R. Forbes\nDissertation Chair\n \nLie groups\, a class of differential manifold with a group structure\, arise naturally in the study of rigid-body kinematics. This dissertation studies the design of state observers for systems whose state evolves on a Lie group. State observers\, or state estimators\, are a crucial part of the navigation algorithms necessary for autonomous operation of robotic systems. One such nonlinear observer\, the gradient-based observer\, has generated significant interest in the literature due to its computational simplicity and stability guarantees. The first part of this dissertation explores several applications of the gradient-based observer\, including both the attitude estimation problem and the simultaneous localization and mapping (SLAM) problem.\n\nIn addition\, state of the art in Lie group observer design is extended by the development of a higher-order filter on a Lie group. By analogy to the classical linear complementary filter\, the proposed method can be interpreted as a nonlinear complementary filter on a Lie group. A disturbance observer that accounts for constant and harmonic disturbances in the group velocity measurements is also considered. Local asymptotic stability about the desired equilibrium point is demonstrated. In addition\, an H2-optimal filter synthesis method is derived and disturbance rejection via the internal model principle is considered.\n\nPublications\n\nJournal Publications\n\nZlotnik\, D. E.\, and Forbes\, J. R.\, \"Higher-Order Nonlinear Complementary Filtering on Lie Groups\,'' IEEE Transactions on Automatic Control\, 2018.\n\nZlotnik\, D. E.\, and Forbes\, J. R.\, \"Gradient-Based Observer for Simultaneous Localization and Mapping\,'' IEEE Transactions on Automatic Control\, 2018.\n\nZlotnik\, D. E.\, and Forbes\, J. R.\, \"Exponential Convergence of a Nonlinear Attitude Estimator\,'' Automatica\, vol. 72\, pp. 11-18\, 2016.\n\nZlotnik\, D. E.\, and Forbes\, J. R.\, \"Nonlinear Estimator Design on the Special Orthogonal Group using Vector Measurements Directly\,'' IEEE Transactions on Automatic Control\, 2016.\n\nCaverly\, R. J.\, Zlotnik\, D. E.\, and Forbes\, J. R. \"Saturated Control of Flexible-Joint Manipulators Using a Hammerstein Strictly Positive Real Compensator\,'' Robotica\, 2014\n\nForbes\, J. R.\, de Ruiter\, A. H.\,  Zlotnik\, D. E. \"Continuous-Time Norm-Constrained Kalman Filtering\,'' Automatica\, vol. 50\, no. 10\, pp. 2546–-2554\, 2014.\n\nZlotnik\, D. E.\, and Forbes\, J. R.\, \"Dynamic Modelling\, Estimation\, and Control for Precision Pointing of an Atmospheric Balloon Platform\, \"Transactions of the Canadian Society for Mechanical Engineering\, Vol. 38\, No. 2\, pp. 263-274\, 2014\, invited submission.\n\nCaverly\, R. J.\, Zlotnik\, D. E.\, and Forbes\, J. R. \"Saturated Proportional Derivative Control of a Single-Link Flexible-Joint Manipulator\,'' Transactions of the Canadian Society for Mechanical Engineering\, Vol. 38\, No. 2\, pp. 241-250\, 2014\, invited submission.\n\nCaverly\, R. J.\, Zlotnik\, D. E.\, L. J. Bridgeman and Forbes\, J. R. \"Saturated Proportional Derivative Control of Flexible-Joint Manipulators\,'' Robotics and Computer Integrated Manufacturing. Vol. 30\, No. 6\, 658-666\, 2014.\n\n\nConference Publications\n\nZlotnik\, D. E.\, Di Cairano\, S.\, and Weiss\, A.\, \"MPC for coupled station keeping\, attitude control\, and momentum management of GEO satellites using on-off electric propulsion\,'' 2017 IEEE Conference on Control Technology and Applications (CCTA)\, Mauna Lani\, HI\, 2017\, pp. 1835-1840\n\nZlotnik\, D. E.\, and Forbes\, J. R.\, \"Exteroceptive measurement filtering embedded within an SO(3)-based attitude estimator\,'' Proc. of the Conference on Decision and Control\, Las Vegas\, NV\, USA\, December 12-14\, 2016.\n\nZlotnik\, D. E.\, Forbes\, J. R.\, and Aldrich\, J.\, ``Control Bandwidth Recovery of Flexible Pointing Systems\,''  Proc. of the American Control Conference\, Boston\, MA\, USA\, July 6-8\, 2016.\n\nZlotnik\, D. E.\, and Forbes\, J. R.\, \"A Nonlinear Attitude Estimator with Desirable Convergence Properties\,'' Proc. of the European Control Conference\, Linz\, Austria\, July 15-17\, 2015.\n\nZlotnik\, D. E.\, and Forbes\, J. R.\, \"Effect of Pendulation on an SO(3)-Based Attitude Estimator for Precision Pointing of an Atmospheric Balloon-Borne Platform\,'' AHAC Academic High Altitude Conference\, Grand Forks\, ND\, USA\, June 24-27\, 2014.\n\nZlotnik\, D. E.\, and Forbes\, J. R.\, \"Rotation-Matrix-Based Attitude Control Without Angular Velocity Measurements\,\" American Control Conference\, Portland\, OR\, USA\, June 4-6\, 2014.\n\nTran\, N. K.\, Zlotnik\, D. E.\, and Forbes\, J. R.\, \"Design of an Attitude Control System for a High-Altitude Balloon Payload''\, AHAC Academic High Altitude Conference\, Upland\, IN\, USA\, June\, 2013.\n\nZlotnik\, D. E.\, and Forbes\, J. R.\, \"Dynamic Modelling\, Estimation\, and Control for Precision Pointing of an Atmospheric Balloon Platform\,\" CCToMM M3 Symposium\, Montreal\, QC\, Canada\, May 30-31\, 2013.\n\nCaverly\, R. J.\, D. E.Zlotnik\, and Forbes\, J. R.\, \"Saturated Proportional Derivative Control of a Single-Link Flexible-Joint Manipulator\,\" CCToMM M3 Symposium\, Montreal\, QC\, Canada\, May 30-31\, 2013.\n\nTran\, N.~K.\, He\, X.\, Zlotnik\, D. E.\, and Forbes\, J. R.\, \"Attitude Sensing and Control of a Stratosphere Balloon Platform\,'' AIAA Aerodynamic Decelerator Systems Technology Conference\, Daytona Beach\, FL\, USA\, March\, 2013.
UID:52998-13176892@events.umich.edu
URL:https://events.umich.edu/event/52998
CLASS:PUBLIC
STATUS:CONFIRMED
CATEGORIES:Dissertation,Engineering
LOCATION:Francois-Xavier Bagnoud Building - 1044 McDivitt Conference Room
CONTACT:
END:VEVENT
BEGIN:VEVENT
DTSTAMP:20180530T080833
DTSTART;TZID=America/Detroit:20180723T140000
DTEND;TZID=America/Detroit:20180723T160000
SUMMARY:Workshop / Seminar:Introductory Techniques Seminars presented by The Michigan Center for Materials Characterization
DESCRIPTION:This continuing series of seminars is designed to introduce potential users of our center to a range of the techniques that are employed with our instruments.  For more detail on the instrumentation in the center and the topics covered by our seminars\, visit http://mc2.engin.umich.edu. Questions may on the seminar series may be directed to John Mansfield (jfmjfm@umich.edu)
UID:50185-11656649@events.umich.edu
URL:https://events.umich.edu/event/50185
CLASS:PUBLIC
STATUS:CONFIRMED
CATEGORIES:Biomedical Engineering,Chemistry,Civil and Environmental Engineering,Electrical Engineering and Computer Science,Graduate,Graduate Students,Life Science,Materials Science,Mechanical Engineering,Michigan Engineering,Naval Architecture and Marine Engineering,Nuclear Engineering and Radiological Sciences,Physics,Postdoctoral Research Fellows,Research,Science,seminar,Undergraduate Students
LOCATION:North Campus Research Complex Building 18 - Room 122, but check http://mc2.engin.umich.edu/seminar for updates
CONTACT:
END:VEVENT
BEGIN:VEVENT
DTSTAMP:20180524T181509
DTSTART;TZID=America/Detroit:20180723T190000
DTEND;TZID=America/Detroit:20180723T200000
SUMMARY:Performance:2018 Summer Carillon Concert Series
DESCRIPTION:The University of Michigan presents its Summer Carillon Concert Series. Concerts are family-friendly and free!\n\nJuly 16- Joey Brink\, University of Chicago \nJuly 23- Philippe Beullens\, Leuven\, Belgium\nAugust 6- Pamela Ruiter-Feenstra
UID:52235-12559272@events.umich.edu
URL:https://events.umich.edu/event/52235
CLASS:PUBLIC
STATUS:CONFIRMED
CATEGORIES:Free,Music,North campus
LOCATION:Off Campus Location
CONTACT:
END:VEVENT
END:VCALENDAR