BEGIN:VCALENDAR
VERSION:2.0
PRODID:-//UM//UM*Events//EN
CALSCALE:GREGORIAN
BEGIN:VTIMEZONE
TZID:America/Detroit
TZURL:http://tzurl.org/zoneinfo/America/Detroit
X-LIC-LOCATION:America/Detroit
BEGIN:DAYLIGHT
TZOFFSETFROM:-0500
TZOFFSETTO:-0400
TZNAME:EDT
DTSTART:20070311T020000
RRULE:FREQ=YEARLY;BYMONTH=3;BYDAY=2SU
END:DAYLIGHT
BEGIN:STANDARD
TZOFFSETFROM:-0400
TZOFFSETTO:-0500
TZNAME:EST
DTSTART:20071104T020000
RRULE:FREQ=YEARLY;BYMONTH=11;BYDAY=1SU
END:STANDARD
END:VTIMEZONE
BEGIN:VEVENT
DTSTAMP:20180731T180006
DTSTART;TZID=America/Detroit:20180729T000000
DTEND;TZID=America/Detroit:20180729T235959
SUMMARY:Community Service:Off Season Food Drive with Food Gatherers!
DESCRIPTION:Hunger doesn’t have an offseasonJoin ACS Med Chem as we collect food to help fight hunger in Washtenaw County. Food donations are important all year long\, not just during the holiday season. We are teaming up with Food Gatherers in an effort to collect new\, non-perishable food and monetary donations!  Items of need:- Hearty Soups- Canned Meats- Canned Veggies- Beans- Rice- Pasta- Cereal- Granola bars Find donation boxes in CC Little\, NCRC\, LSI\, and Med Sci!Monetary donations go a long way! Food Gatherers can serve 15 meals with a donation of just $5 - if you're able\, consider giving an online donation instead of a canned food item by visiting the Food Gatherers webpage here. For more information\, contact Nicholas Ragazzone: nragazzo@umich.eduThe food drive will run July 1 - July 31st.
UID:52744-13334409@events.umich.edu
URL:https://events.umich.edu/event/52744
CLASS:PUBLIC
STATUS:CONFIRMED
CATEGORIES:
LOCATION:CC Little (4th floor outside rm. 4571), NCRC (lobby of bldg 520), LSI (3rd floor kitchen area), Med Sci I, and online! 
CONTACT:
END:VEVENT
BEGIN:VEVENT
DTSTAMP:20180621T160223
DTSTART;TZID=America/Detroit:20180729T000000
DTEND;TZID=America/Detroit:20180729T235900
SUMMARY:Lecture / Discussion:Teach Out Series: Solving the Opioid Crisis
DESCRIPTION:The opioid epidemic is the deadliest drug crisis in US history\, killing around 64\,000 people in 2016 alone.  Recently\,  the growing crisis was declared a “public health emergency.”  In this Teach-Out\, experts from the fields of Medicine\, Pharmacy\, Public Health\, and Dentistry will help us examine the impacts of this national epidemic and answer the key questions: What are opioids?  How did we get to the current crisis?  How can we recognize opioid abuse and what can we do about it?   What makes the crisis so complex? Join us in this active and ongoing public conversation as we create and share solutions.\n\nThis Teach-Out is being offered in partnership with the University of Michigan’s Institute for Healthcare Policy and Innovation and includes a number of expert voices including:\n-Jay S. Lee\, MD\n-Rebecca L. Haffajee\, J.D.\, Ph.D.\, M.P.H \n-Michael A. Smith\, PharmD\, BCPS \n-Pooja Lagisetty\, M.D. \n-Daniel Clauw\, M.D. \n-Vicki Ellingrod\, PharmD \n-Romesh Nalliah\, D.D.S.\, M.H.C.M. \n-Amy Bohnert\, Ph.D.\, M.H.S.\n-Larry Gant\, Ph.D.\, MSW\n-Will Potter\n\nA Teach-Out is:\n\n-an event – it takes place over a fixed\, short period of time\n\n-an opportunity – it is open for free participation to everyone around the world\n\n-a community – it will be joined by a large number of diverse individuals\n\n-a conversation – an opportunity to give and take ideas and information from people\n\nThe University of Michigan Teach-Out Series provides just-in-time community learning events for participants around the world to come together in conversation with the U-M campus community\, including faculty experts. The U-M Teach-Out Series is part of our deep commitment to engage the public in exploring and understanding the problems\, events\, and phenomena most important to society.\n\nTeach-Outs are short learning experiences\, each focused on a specific current issue. Attendees will come together over a few days not only to learn about a subject or event but also to gain skills. Teach-Outs are open to the world and are designed to bring together individuals with wide-ranging perspectives in respectful and deep conversation. These events are an opportunity for diverse learners and a multitude of experts to come together to ask questions of one another and explore new solutions to the pressing concerns of our global community. Come\, join the conversation!\n\nFind new opportunities at teach-out.org.
UID:47581-12986967@events.umich.edu
URL:https://events.umich.edu/event/47581
CLASS:PUBLIC
STATUS:CONFIRMED
CATEGORIES:Discussion,Education,Lecture,Medicine,Nursing,Pharmacy,Pre Med,Pre-Health,Psychology,Public Health,Research
LOCATION:Off Campus Location
CONTACT:
END:VEVENT
BEGIN:VEVENT
DTSTAMP:20180516T084537
DTSTART;TZID=America/Detroit:20180729T080000
DTEND;TZID=America/Detroit:20180729T200000
SUMMARY:Exhibition:Gifts of Art presents Collected Surface: Functional Ceramics
DESCRIPTION:The Huron Valley Ceramics Collective (Isabella Comai\, Dennison Dorsey\, Sasha Guo and Margaret A. Miller) is a group of emerging artists who work out of the Clay Work Studio in Ann Arbor\, Michigan. The works in this exhibit are an expression of how ceramics mediate our daily life though use. The artists explore life and reflection through surface and narrative elements by using a combination of wheel thrown and hand built terra cotta\, stoneware and porcelain.
UID:52359-12649724@events.umich.edu
URL:https://events.umich.edu/event/52359
CLASS:PUBLIC
STATUS:CONFIRMED
CATEGORIES:Art,Children,Culture,Exhibition,Family,Free,Health & Wellness,Visual Arts
LOCATION:Taubman Center - Gifts of Art Gallery — Taubman Health Center South Lobby, Floor 1
CONTACT:
END:VEVENT
BEGIN:VEVENT
DTSTAMP:20180516T085500
DTSTART;TZID=America/Detroit:20180729T080000
DTEND;TZID=America/Detroit:20180729T200000
SUMMARY:Exhibition:Gifts of Art presents Flexx – Semi-Industrial Jewelry
DESCRIPTION:Starting with the material of screen spline\, Marsha Chamberlin combines items such as grommets\, bungee cord\, washers\, nuts\, floor matting and more with an array of beads to create a contemporary\, semi-industrial style of work. Pieces often contrast the functionality of hardware with sparkles and colors that provide a unique style.\nMarsha Chamberlin was president and CEO of the Ann Arbor Art Center (formerly Ann Arbor Art Association) for 33 years.
UID:52362-12649976@events.umich.edu
URL:https://events.umich.edu/event/52362
CLASS:PUBLIC
STATUS:CONFIRMED
CATEGORIES:Art,Children,Culture,Exhibition,Family,Free,Health & Wellness,Visual Arts
LOCATION:University Hospitals - Gifts of Art Gallery — University Hospital Main Corridor, Floor 2
CONTACT:
END:VEVENT
BEGIN:VEVENT
DTSTAMP:20180516T085128
DTSTART;TZID=America/Detroit:20180729T080000
DTEND;TZID=America/Detroit:20180729T200000
SUMMARY:Exhibition:Gifts of Art presents Flora & Fauxna: Photography
DESCRIPTION:Patty Carroll’s highly intense\, saturated color photographs have led to her recognition as one of Photolucida’s Top 50 Photographers (2104\, 2017). Flora & Fauxna is a still life series about women and their homes using decorative fabric\, artificial flowers and ceramic birds to create a sumptuous\, and often humorous\, ornate world. Unlike traditional still life images\, these photographs show no horizon line\, dramatic lighting\, or symbols of death and decay. Birds in many cultures are messengers between heaven and earth\, acting as a bridge between the mundane and spiritual life. In Carroll’s work\, birds represent the human desire to escape gravity and reach the level of angels.
UID:52361-12649892@events.umich.edu
URL:https://events.umich.edu/event/52361
CLASS:PUBLIC
STATUS:CONFIRMED
CATEGORIES:Art,Children,Culture,Exhibition,Family,Free,Health & Wellness,Visual Arts
LOCATION:University Hospitals - Gifts of Art Gallery — University Hospital Main Corridor, Floor 2
CONTACT:
END:VEVENT
BEGIN:VEVENT
DTSTAMP:20180516T084216
DTSTART;TZID=America/Detroit:20180729T080000
DTEND;TZID=America/Detroit:20180729T080000
SUMMARY:Exhibition:Gifts of Art presents Life\, Architecture & People of Cuba: Photography
DESCRIPTION:Larry Hauptman is a photographer who is fascinated by and seeks to document the life and culture of peoples around the world. This exhibit is about the Cuba of today. Many forces have contributed to Cuba’s history\, and evidence of its struggles can be seen everywhere. Yet despite the decaying structures and uncertainties\, you do not have to look hard to find much beauty and happiness.
UID:52358-12649640@events.umich.edu
URL:https://events.umich.edu/event/52358
CLASS:PUBLIC
STATUS:CONFIRMED
CATEGORIES:Art,Children,Culture,Family,Free,Health & Wellness,Visual Arts
LOCATION:Taubman Center - Gifts of Art Gallery — Taubman Health Center South Lobby, Floor 1
CONTACT:
END:VEVENT
BEGIN:VEVENT
DTSTAMP:20180515T161801
DTSTART;TZID=America/Detroit:20180729T080000
DTEND;TZID=America/Detroit:20180729T200000
SUMMARY:Exhibition:Gifts of Art presents Nature Illustrated: Oil & Acrylic Painting
DESCRIPTION:John Megahan grew up in the Pacific Northwest. The mountains of Idaho\, Oregon and Washington instilled in him a deep love and appreciation for nature. In college he studied art and biology\, and after graduation worked as a freelance illustrator for commercial and educational institutions. Since 1996\, he has been a scientific illustrator for the U-M Museum of Zoology. In addition to scientific illustration and painting\, he occasionally teaches at the U-M Penny W. Stamps School of Art & Design\, the University of Oregon\, and illustrates children’s books.
UID:52353-12641772@events.umich.edu
URL:https://events.umich.edu/event/52353
CLASS:PUBLIC
STATUS:CONFIRMED
CATEGORIES:Art,Children,Culture,Exhibition,Family,Free,Health & Wellness
LOCATION:Taubman Center - Gifts of Art Gallery — Taubman Health Center North Lobby, Floor 1
CONTACT:
END:VEVENT
BEGIN:VEVENT
DTSTAMP:20180515T162111
DTSTART;TZID=America/Detroit:20180729T080000
DTEND;TZID=America/Detroit:20180729T200000
SUMMARY:Exhibition:Gifts of Art presents Not Your Grandmother’s Dolls
DESCRIPTION:Charlie Patricolo has been creating\, engineering and executing dolls for 25 years\, and teaching doll making for 20. She studied at the John C. Campbell Folk School in North Carolina\, and has been a member of the Southern Highland Craft Guild since 2002. When teaching\, Patricolo feels that\, “Watching someone go from ‘I can’t do this’ to ‘I can’t believe I did this!’ is pretty fantastic!” Her inspiration often comes when she isn’t looking for it: in songs and books when a line rings out so clearly it cannot be ignored\, or a piece of fabric that refuses to be left behind. Patricolo is now based in North Carolina\, but lived most of her life in Michigan.
UID:52354-12641856@events.umich.edu
URL:https://events.umich.edu/event/52354
CLASS:PUBLIC
STATUS:CONFIRMED
CATEGORIES:Art,Children,Culture,Exhibition,Family,Free,Health & Wellness
LOCATION:Taubman Center - Gifts of Art Gallery — Taubman Health Center North Lobby, Floor 1
CONTACT:
END:VEVENT
BEGIN:VEVENT
DTSTAMP:20180516T084840
DTSTART;TZID=America/Detroit:20180729T080000
DTEND;TZID=America/Detroit:20180729T200000
SUMMARY:Exhibition:Gifts of Art presents Reconstructed Blueprints: Acrylic Painting
DESCRIPTION:In this exhibit\, Adnan Charara translates his assembled characters\, from both collage and found object assemblage\, into commanding acrylic paintings. The backgrounds interact with the figures\, who represent history\, identity\, and the struggle for a sense of belonging. They are blueprints for being human: imperfect\, unique and multi-faceted. Charara works in various mediums ranging from drawing\, to jewelry\, to large scale sculpture. He is a Lebanese-American artist with a studio in Detroit.
UID:52360-12649808@events.umich.edu
URL:https://events.umich.edu/event/52360
CLASS:PUBLIC
STATUS:CONFIRMED
CATEGORIES:Art,Children,Culture,Detroit,Exhibition,Family,Free,Health & Wellness,Visual Arts
LOCATION:University Hospitals - Gifts of Art Gallery — University Hospital Main Lobby, Floor 1
CONTACT:
END:VEVENT
BEGIN:VEVENT
DTSTAMP:20180606T110026
DTSTART;TZID=America/Detroit:20180729T080000
DTEND;TZID=America/Detroit:20180729T230000
SUMMARY:Exhibition:Nothing Makes Sense\, Except Love: The Cinematic Musings of Director Alan Rudolph
DESCRIPTION:This exhibit features materials reproduced from the Alan Rudolph Collection now part of the University of Michigan Library Special Collections Research Center. Told in Rudolph’s first-person voice\, it chronicles his career.\n\nQuirky\, off kilter\, stylishly romantic and filled with moments of wry humor\, Alan Rudolph makes movies with dreamy eyed protagonists searching for love in all the wrong places. He often mashes up genres into something new and unique and peppers his films with elements not always beholden to realism. He began his four decade career under the watchful eye of mentor Robert Altman\, but he soon created a body of work that is clearly his own vision.
UID:52575-12857403@events.umich.edu
URL:https://events.umich.edu/event/52575
CLASS:PUBLIC
STATUS:CONFIRMED
CATEGORIES:Exhibition,Film,Free,Library
LOCATION:Hatcher Graduate Library - Gallery (Room 100)
CONTACT:
END:VEVENT
BEGIN:VEVENT
DTSTAMP:20180328T154138
DTSTART;TZID=America/Detroit:20180729T080000
DTEND;TZID=America/Detroit:20180729T170000
SUMMARY:Exhibition:Seven Fantasy Classics for Children
DESCRIPTION:Students in Lisa Makman’s English 313 course\, Children’s Literature and the Invention of Modern Childhood\, curated this exhibit of classic stories for children. The exhibit focuses on seven classic stories: Aladdin\, Alice in Wonderland\, Cinderella\, Hansel and Gretel\, the Little Mermaid\, Little Red Riding Hood\, and Peter Pan. Drawing on the rich collection of children’s literature in the Special Collections Research Center\, the books range from late nineteenth century editions to contemporary pop-up books. By showcasing different takes on each story\, the exhibit explores the variation in how these tales are told and illustrated.
UID:51471-12112604@events.umich.edu
URL:https://events.umich.edu/event/51471
CLASS:PUBLIC
STATUS:CONFIRMED
CATEGORIES:Exhibition,Free,Library,Literature
LOCATION:Hatcher Graduate Library - Audubon Room
CONTACT:
END:VEVENT
BEGIN:VEVENT
DTSTAMP:20180709T081437
DTSTART;TZID=America/Detroit:20180729T100000
DTEND;TZID=America/Detroit:20180729T160000
SUMMARY:Community Service:Artist Mailing Volunteer Day
DESCRIPTION:Since the artists who exhibit in the Annual Exhibition of Art by Michigan Prisoners cannot attend the exhibit in person\, PCAP mails them an update each summer. Join us for a day of envelope stuffing and conversation as we prepare this mailing at East Quad. Sign up for as many shifts as you like (10am-1pm\, 1pm-4pm). PCAP will provide a light lunch. Paid street parking is available\, or use the nearby Forest Street parking structure.
UID:52903-13140068@events.umich.edu
URL:https://events.umich.edu/event/52903
CLASS:PUBLIC
STATUS:CONFIRMED
CATEGORIES:Art,Community Service,Free,Visual Arts
LOCATION:East Quadrangle - 1807 East Quad
CONTACT:
END:VEVENT
BEGIN:VEVENT
DTSTAMP:20180502T121513
DTSTART;TZID=America/Detroit:20180729T110000
DTEND;TZID=America/Detroit:20180729T170000
SUMMARY:Exhibition:Materials On Hand: The Art of Ellen Wilt
DESCRIPTION:Curated by Srimoyee Mitra with the assistance of James Barker and Jennifer Junkermeier\, Materials On Hand: The Art of Ellen Wilt is a retrospective exhibition that pays homage to and celebrates fifty years of Ellen Wilt’s expansive art practice. Born and raised in Pittsburgh\, Wilt has lived and worked in Ann Arbor since 1949 and completed two degrees (BFA\, ‘69 and MA\, ‘70) at the University of Michigan. She is an important figure in Ann Arbor’s art community\, who has consistently worked at fostering a vibrant arts community as an artist and educator in the Academy and beyond. She was an art professor for 17 years (1969-85) at the Eastern Michigan University. During this time she also organized and facilitated numerous community-engaged projects that empowered first-time and emerging artists to show their work. It was not until she retired and was well into her 70s that she turned her focus to her own art practice. Her work was duly recognized with numerous awards from the Michigan Water Color Society\, Washtenaw Council for the Arts\, and the Holland Friends of Art between 1984 and 1993.\n\nFor the first time in the last three decades\, Materials On Hand: The Art of Ellen Wilt brings together over 40 carefully selected works from personal and private collections that highlight Wilt’s artistic contributions in Southeastern Michigan. Her intuitive and playful bricolage way of working reveals the scope of her achievement and her specific interest in the Michigan region and its landscape. She has developed multiple bodies of work that feature domestic objects from teapots to chairs while also reckoning with iconic architectural tropes of bridges and tunnels which are ongoing motifs in her work. Wilt continually experiments and explores new ways of working in a variety of two dimensional mediums including\, oil\, acrylic and watercolor. Since the 1970s she has incorporated collage into her practice using whatever materials she has available to her. These range from butcher paper\, aluminum foil\, and tissue to balsa wood\, toothpicks and other found objects. She creates mixed media paintings\, cut outs\, rubbings and installations that reimagine the agency of mundane objects and invite viewers to look again.\n\nExhibition Dates: Thursday\, May 31 - Sunday\, September 9\, 2018\nExhibition Reception: Thursday\, May 31\, 2018 from 6-8 pm \nA conversation with Ellen Wilt: June 9\, 2018 from 2-3 pm
UID:52089-12508071@events.umich.edu
URL:https://events.umich.edu/event/52089
CLASS:PUBLIC
STATUS:CONFIRMED
CATEGORIES:Art,Exhibition
LOCATION:Off Campus Location
CONTACT:
END:VEVENT
BEGIN:VEVENT
DTSTAMP:20180419T152624
DTSTART;TZID=America/Detroit:20180729T120000
DTEND;TZID=America/Detroit:20180729T170000
SUMMARY:Exhibition:Marcel Dzama: A Jester's Dance
DESCRIPTION:Canadian artist Marcel Dzama is known for imaginative drawings\, sculptures\, dioramas\, and films rooted in the traditions of Surrealism\, Dada and outsider art. His 2013 film Une danse des bouffons (or A jester's dance) tells the tale of a romance between two principal figures of these traditions: Dada icon Marcel Duchamp and Brazilian sculptor Maria Martins\, who was the model for Duchamp's final\, enigmatic artwork Étant donnés. Rife with art-historical references not only to the work of Duchamp but also to Francisco Goya\, Francis Picabia and Joseph Beuys\, among others\, Une danse des bouffons navigates a sexually charged and mesmerizing world in which fantasy and torture run amok. The gallery presentation also includes a storyboard for the film featuring Dzama’s ink and watercolor drawings\, renderings of small hybrid figures resembling children’s book illustrations. The drawings underscore the fantastical elements in a film that combines the carnivalesque with a nightmarish exploration of the surreal.\n\nLead support for Marcel Dzama: A Jester's Dance is provided by Candy and Michael Barasch. Additional generous support is provided by the Herbert W. and Susan L. Johe Endowment and the University of Michigan Institute for the Humanities and the Penny W. Stamps School of Art & Design.
UID:52025-12362745@events.umich.edu
URL:https://events.umich.edu/event/52025
CLASS:PUBLIC
STATUS:CONFIRMED
CATEGORIES:Art,Culture,Exhibition,Film,Media,Multicultural,Museum,UMMA,Visual Arts
LOCATION:Museum of Art - Media Gallery
CONTACT:
END:VEVENT
BEGIN:VEVENT
DTSTAMP:20180822T101328
DTSTART;TZID=America/Detroit:20180729T120000
DTEND;TZID=America/Detroit:20180729T235900
SUMMARY:Other:Michigan in Washington Application Deadline-September 24\, 2018
DESCRIPTION:Michigan in Washington Fall 2018 Deadline for Winter 2019 and early admission Fall 2019.
UID:52904-13140089@events.umich.edu
URL:https://events.umich.edu/event/52904
CLASS:PUBLIC
STATUS:CONFIRMED
CATEGORIES:Deadlines,first-generation,Internship,Leadership,Networking,Study Abroad,Transfer Students,Undergraduate
LOCATION:Off Campus Location
CONTACT:
END:VEVENT
BEGIN:VEVENT
DTSTAMP:20180308T135541
DTSTART;TZID=America/Detroit:20180729T120000
DTEND;TZID=America/Detroit:20180729T170000
SUMMARY:Exhibition:New at UMMA: Illuminated Manuscript
DESCRIPTION:Books of hours—custom-made for private devotion in the Christian faith—were a bestseller in medieval Europe. These manuscripts incorporated prayers\, hymns\, biblical stories\, and monthly calendars featuring religious feast days\, which were often supplemented by images painted in exquisite detail. Today\, books of hours are a testament to the visually rich material culture of the Middle Ages. UMMA was recently gifted a bejeweled double-sided calendar leaf for January. Executed on parchment\, the page highlights the material opulence and artistry involved in manuscript illumination. Accompanying the calendar are painted images or miniatures of the labor and characteristic activity of the month\, and Aquarius\, the zodiac sign for January\, embodied by a man collecting water from a stream. The folio’s luminous\, gilded surface\, accentuated by the use of bright colors\, was meant to transport the medieval viewer into a state of spiritual transcendence. \n\nThis work was recently gifted to UMMA by Mrs. Carrol Robertsen.
UID:50849-11884979@events.umich.edu
URL:https://events.umich.edu/event/50849
CLASS:PUBLIC
STATUS:CONFIRMED
CATEGORIES:Art,Books,Culture,Exhibition,Literature,Museum,Storytelling,UMMA,Visual Arts
LOCATION:Museum of Art - The Connector
CONTACT:
END:VEVENT
BEGIN:VEVENT
DTSTAMP:20180509T114004
DTSTART;TZID=America/Detroit:20180729T120000
DTEND;TZID=America/Detroit:20180729T170000
SUMMARY:Exhibition:See Through: Windows and Mirrors in Twentieth-Century Photography
DESCRIPTION:See Through: Mirrors and Windows in Twentieth-Century Photography brings together a group of images that are doubly framed—once by the camera lens and again by the border of a mirror or window. By refracting and distorting\, revealing and concealing\, these reflective and transparent surfaces both draw attention to the photographer’s efforts to frame the world and expose the contingent nature of reality. Highlights from the exhibition include works by Eugène Atget\, Robert Doisneau\, Elliott Erwitt\, Walker Evans\, André Kertész\, Joanne Leonard\, Danny Lyon\, and Joel Meyerowitz. By extending the limits of perception\, these witty and provocative works invite us to see [through to] new visual possibilities.\n\nLead support for See Through: Windows and Mirrors in Twentieth-Century Photography is provided by the Herbert W. and Susan L. Johe Endowment.
UID:52257-12577020@events.umich.edu
URL:https://events.umich.edu/event/52257
CLASS:PUBLIC
STATUS:CONFIRMED
CATEGORIES:Art,Culture,Exhibition,Museum,Photography,Storytelling,UMMA,Visual Arts
LOCATION:Museum of Art - Photography Gallery
CONTACT:
END:VEVENT
BEGIN:VEVENT
DTSTAMP:20180412T145124
DTSTART;TZID=America/Detroit:20180729T120000
DTEND;TZID=America/Detroit:20180729T170000
SUMMARY:Exhibition:Unrecorded: Reimagining Artist Identities in Africa
DESCRIPTION:Historical collecting practices have had a lasting impact on representations of Africa\, its history\, culture\, and life today. Labeled as ‘unknown’ or ‘anonymous\,’ African artists became associated with broad cultural styles and collective identities rather than personal creativity and individual agency. The exhibition Unrecorded: Reimagining Artist Identities in Africa includes artworks from both named and unrecorded\, contemporary and historic artists to tell an alternative story. It explores how the changing attributes of an ‘African’ artist’s identity\, and constructions of African identity more broadly\, have shaped perceptions of Africa outside of the continent.\n\nLead support for Unrecorded: Reimagining Artist Identities in Africa is provided by the University of Michigan Office of the Provost and the African Studies Center. Additional generous support is provided by the University of Michigan Department of Afroamerican and African Studies and Susan Ullrich.
UID:51906-12285910@events.umich.edu
URL:https://events.umich.edu/event/51906
CLASS:PUBLIC
STATUS:CONFIRMED
CATEGORIES:Africa,Art,Culture,Exhibition,Multicultural,Museum,UMMA,Visual Arts
LOCATION:Museum of Art - The Jan and David Brandon Family Bridge
CONTACT:
END:VEVENT
BEGIN:VEVENT
DTSTAMP:20180605T132619
DTSTART;TZID=America/Detroit:20180729T140000
DTEND;TZID=America/Detroit:20180729T150000
SUMMARY:Social / Informal Gathering:Guided Tour - See Through: Mirrors and Windows in Twentieth-Century Photography
DESCRIPTION:'See Through' looks at how photographers of these images doubly frame the world around us —once through the frame of the camera lens and\, again\, through the frame of a reflective mirror or transparent window. UMMA Docents will reveal which photographers include their own reflections in their photographs\, highlighting their active role in the creation of images. A tour will also indicate which photographers look outward\, enacting an exchange of public and\, sometimes\, voyeuristic glances\; and which look inward to domestic spaces\, framing intimate views and personal moments among families and lovers. Mirrors and windows\, like the medium of photography itself\, expand the limits of the human eye to perceive the world and\, in turn\, invite viewers to see through to new visual possibilities.\n\nLead support for 'See Through: Windows and Mirrors in Twentieth-Century Photography' is provided by the Herbert W. and Susan L. Johe Endowment.
UID:52563-12850982@events.umich.edu
URL:https://events.umich.edu/event/52563
CLASS:PUBLIC
STATUS:CONFIRMED
CATEGORIES:Art,Culture,Exhibition,Multicultural,Museum,Tour,UMMA
LOCATION:Museum of Art
CONTACT:
END:VEVENT
END:VCALENDAR