BEGIN:VCALENDAR
VERSION:2.0
PRODID:-//UM//UM*Events//EN
CALSCALE:GREGORIAN
BEGIN:VTIMEZONE
TZID:America/Detroit
TZURL:http://tzurl.org/zoneinfo/America/Detroit
X-LIC-LOCATION:America/Detroit
BEGIN:DAYLIGHT
TZOFFSETFROM:-0500
TZOFFSETTO:-0400
TZNAME:EDT
DTSTART:20070311T020000
RRULE:FREQ=YEARLY;BYMONTH=3;BYDAY=2SU
END:DAYLIGHT
BEGIN:STANDARD
TZOFFSETFROM:-0400
TZOFFSETTO:-0500
TZNAME:EST
DTSTART:20071104T020000
RRULE:FREQ=YEARLY;BYMONTH=11;BYDAY=1SU
END:STANDARD
END:VTIMEZONE
BEGIN:VEVENT
DTSTAMP:20210430T095709
DTSTART;TZID=America/Detroit:20210502T080000
DTEND;TZID=America/Detroit:20210502T230000
SUMMARY:Careers / Jobs:Changing Gears Application Open
DESCRIPTION:Learn more about the Changing Gears Program and apply at: myumi.ch/uropcg\n\nChanging Gears (CG) is a UROP program designed primarily for community college transfer students who will be attending the University of Michigan\, but also serves students transferring from 4 year institutions. Students in the CG Program become a part of an ongoing faculty-driven research\, scholarly or creative project in their field of interest. Students learn valuable academic skills\, applying these skills to their research project\, academics\, and future career opportunities\, while receiving academic credit or compensation for their efforts in research work.\n\nIf you are a U-M Transfer Student and not graduating until winter 2022 and/or after\, you are eligible to apply to the 2021-2022 UROP Changing Gears Program.
UID:83922-21616898@events.umich.edu
URL:https://events.umich.edu/event/83922
CLASS:PUBLIC
STATUS:CONFIRMED
CATEGORIES:Urop,AEM Featured,first-generation,Free,Interdisciplinary,Networking,Office Hours,Research,Transfer Students,Undergraduate,Undergraduate Students
LOCATION:Off Campus Location
CONTACT:
END:VEVENT
BEGIN:VEVENT
DTSTAMP:20220502T122639
DTSTART;TZID=America/Detroit:20210502T080000
DTEND;TZID=America/Detroit:20210502T230000
SUMMARY:Careers / Jobs:UROP First-Year Application Open
DESCRIPTION:Our \"Traditional UROP Program\" has been our flagship program running over 30 years. This Academic Year program\, in which students participate for both Fall and Winter Terms\, is designed for University of Michigan first and second year undergraduate students enrolled on the Ann Arbor campus who are seeking a first time research experience. Student research assistants work alongside a faculty member\, research scientist or professional practitioner on an ongoing or new research project.\n\nLearn more and apply at: myumi.ch/uropyearone\n\nApplications being accepted on a rolling basis.
UID:83923-21617017@events.umich.edu
URL:https://events.umich.edu/event/83923
CLASS:PUBLIC
STATUS:CONFIRMED
CATEGORIES:AEM Featured,Applications,first-generation,Free,Interdisciplinary,Networking,Research,Undergraduate,Undergraduate Students,Urop
LOCATION:Undergraduate Science Building
CONTACT:
END:VEVENT
BEGIN:VEVENT
DTSTAMP:20210804T182828
DTSTART;TZID=America/Detroit:20210502T080000
DTEND;TZID=America/Detroit:20210502T230000
SUMMARY:Careers / Jobs:UROP Research Scholars Application now open
DESCRIPTION:The UROP Research Scholars Program is designed for students who want to expand on their first year UROP experience and participate in UROP for a second year at an advanced level. In this program\, students build upon the knowledge gained in a first undergraduate research experience to further explore the connections between research\, a liberal arts education\, and communicating skills to advance their future professional goals. Students are expected to explore various written and oral possibilities for communicating their research process\, identifying the limits set by the discipline and the opportunities that lie beyond.\n\nApply at: https://myumi.ch/uroprs
UID:82067-21014916@events.umich.edu
URL:https://events.umich.edu/event/82067
CLASS:PUBLIC
STATUS:CONFIRMED
CATEGORIES:Applications,AEM Featured,Free,Interdisciplinary,Research,Undergraduate,Undergraduate Students,Urop
LOCATION:Off Campus Location
CONTACT:
END:VEVENT
BEGIN:VEVENT
DTSTAMP:20210714T155619
DTSTART;TZID=America/Detroit:20210502T080000
DTEND;TZID=America/Detroit:20210502T230000
SUMMARY:Careers / Jobs:UROP Rising Sophomore Applications Open
DESCRIPTION:The Undergraduate Research Opportunity Program is now accepting applications for students who will be rising sophomores during the 2021-2022 academic year. \n\nLearn more and apply today at http://myumi.ch/uropsophomore\n\nRising Sophomore Applications are being accepted on a rolling basis.
UID:80546-21203383@events.umich.edu
URL:https://events.umich.edu/event/80546
CLASS:PUBLIC
STATUS:CONFIRMED
CATEGORIES:Sophomore,AEM Featured,Applications,first-generation,Free,Research,Undergraduate,Undergraduate Students,Urop
LOCATION:Off Campus Location
CONTACT:
END:VEVENT
BEGIN:VEVENT
DTSTAMP:20210505T093828
DTSTART;TZID=America/Detroit:20210502T120000
DTEND;TZID=America/Detroit:20210502T235900
SUMMARY:Performance:Cox and Box & Trial By Jury
DESCRIPTION:The University of Michigan Gilbert & Sullivan Society proudly presents its first online productions\, a double bill of Cox and Box\, written by F.C. Burnand and Sir Arthur Sullivan\, and Trial By Jury\, by Sir William Gilbert and Sir Arthur Sullivan. The productions feature amazing casts of international performers. The ticket date purchased will grant access to a unique YouTube link which will be available for viewing from 12:00 p.m.-11:59 p.m. Eastern Standard Time. Be a part of a groundbreaking new performance endeavor by the oldest student run Gilbert & Sullivan Society in the U.S.\n\nIMPORTANT: A private YouTube access link will be emailed to you before the performance via Michigan Union Ticket Office through EventBrite.\nFor orders placed after 8 p.m. of your show date\, you must email\nmuto-tix@umich.edu for your link.Otherwise\, for purchases less than 24 hours prior to the show\, your link will be emailed at 11 a.m. and 8 p.m. the day of the show\,\nand for purchases for a later date\, your link will be emailed to you 1 day prior to the show date.
UID:83221-21314491@events.umich.edu
URL:https://events.umich.edu/event/83221
CLASS:PUBLIC
STATUS:CONFIRMED
CATEGORIES:Virtual
LOCATION:Off Campus Location
CONTACT:
END:VEVENT
BEGIN:VEVENT
DTSTAMP:20210413T112910
DTSTART;TZID=America/Detroit:20210502T130000
DTEND;TZID=America/Detroit:20210502T140000
SUMMARY:Livestream / Virtual:Live Chat with a Lloyd Scholar
DESCRIPTION:Find out what it means to be a Lloyd Scholar!\nMeet our Student Leaders!\nAsk questions!\n\nEmail us at LSWA@umich.edu to receive the Zoom link.\n\nCurrent LSWA students will present an overview of our program during the following scheduled Zoom information sessions:\nFEBRUARY:\nThursday\, 2/18 - 6:00 pm\nSaturday\, 2/20 - 11:00 am\nSunday\, 2/21 - 12:00 Noon & 3:00 pm\nMonday\, 2/22 - 7:00 pm\nSaturday\, 2/27 -  3:00 pm\n\nMARCH:\nSunday\, 3/7 - 12:00 Noon\nSunday\, 3/14 - 3:00 pm\nWednesday\, 3/17 - 6:00 pm\nFriday\, 3/19 - 6:00 pm\nSunday\, 3/21 - 4:00 pm\nSunday\, 3/28 - 4:00 pm\n\nAPRIL:\nSaturday\, 4/10 - 11:00 am\nSaturday\, 4/17 - 11:00 am\nThursday\, 4/22 - 5:00 pm\nWednesday\, 4/28 - 6:00 pm \n\nMAY:\nSunday\, 5/2 - 1:00 pm
UID:81563-21483508@events.umich.edu
URL:https://events.umich.edu/event/81563
CLASS:PUBLIC
STATUS:CONFIRMED
CATEGORIES:Prospective Undergraduate Students
LOCATION:Off Campus Location
CONTACT:
END:VEVENT
END:VCALENDAR