BEGIN:VCALENDAR
VERSION:2.0
PRODID:-//UM//UM*Events//EN
CALSCALE:GREGORIAN
BEGIN:VTIMEZONE
TZID:America/Detroit
TZURL:http://tzurl.org/zoneinfo/America/Detroit
X-LIC-LOCATION:America/Detroit
BEGIN:DAYLIGHT
TZOFFSETFROM:-0500
TZOFFSETTO:-0400
TZNAME:EDT
DTSTART:20070311T020000
RRULE:FREQ=YEARLY;BYMONTH=3;BYDAY=2SU
END:DAYLIGHT
BEGIN:STANDARD
TZOFFSETFROM:-0400
TZOFFSETTO:-0500
TZNAME:EST
DTSTART:20071104T020000
RRULE:FREQ=YEARLY;BYMONTH=11;BYDAY=1SU
END:STANDARD
END:VTIMEZONE
BEGIN:VEVENT
DTSTAMP:20210430T095709
DTSTART;TZID=America/Detroit:20210503T080000
DTEND;TZID=America/Detroit:20210503T230000
SUMMARY:Careers / Jobs:Changing Gears Application Open
DESCRIPTION:Learn more about the Changing Gears Program and apply at: myumi.ch/uropcg\n\nChanging Gears (CG) is a UROP program designed primarily for community college transfer students who will be attending the University of Michigan\, but also serves students transferring from 4 year institutions. Students in the CG Program become a part of an ongoing faculty-driven research\, scholarly or creative project in their field of interest. Students learn valuable academic skills\, applying these skills to their research project\, academics\, and future career opportunities\, while receiving academic credit or compensation for their efforts in research work.\n\nIf you are a U-M Transfer Student and not graduating until winter 2022 and/or after\, you are eligible to apply to the 2021-2022 UROP Changing Gears Program.
UID:83922-21616899@events.umich.edu
URL:https://events.umich.edu/event/83922
CLASS:PUBLIC
STATUS:CONFIRMED
CATEGORIES:AEM Featured,first-generation,Free,Interdisciplinary,Networking,Office Hours,Research,Transfer Students,Undergraduate,Undergraduate Students,Urop
LOCATION:Off Campus Location
CONTACT:
END:VEVENT
BEGIN:VEVENT
DTSTAMP:20220502T122639
DTSTART;TZID=America/Detroit:20210503T080000
DTEND;TZID=America/Detroit:20210503T230000
SUMMARY:Careers / Jobs:UROP First-Year Application Open
DESCRIPTION:Our \"Traditional UROP Program\" has been our flagship program running over 30 years. This Academic Year program\, in which students participate for both Fall and Winter Terms\, is designed for University of Michigan first and second year undergraduate students enrolled on the Ann Arbor campus who are seeking a first time research experience. Student research assistants work alongside a faculty member\, research scientist or professional practitioner on an ongoing or new research project.\n\nLearn more and apply at: myumi.ch/uropyearone\n\nApplications being accepted on a rolling basis.
UID:83923-21617018@events.umich.edu
URL:https://events.umich.edu/event/83923
CLASS:PUBLIC
STATUS:CONFIRMED
CATEGORIES:AEM Featured,Applications,first-generation,Free,Interdisciplinary,Networking,Research,Undergraduate,Undergraduate Students,Urop
LOCATION:Undergraduate Science Building
CONTACT:
END:VEVENT
BEGIN:VEVENT
DTSTAMP:20210804T182828
DTSTART;TZID=America/Detroit:20210503T080000
DTEND;TZID=America/Detroit:20210503T230000
SUMMARY:Careers / Jobs:UROP Research Scholars Application now open
DESCRIPTION:The UROP Research Scholars Program is designed for students who want to expand on their first year UROP experience and participate in UROP for a second year at an advanced level. In this program\, students build upon the knowledge gained in a first undergraduate research experience to further explore the connections between research\, a liberal arts education\, and communicating skills to advance their future professional goals. Students are expected to explore various written and oral possibilities for communicating their research process\, identifying the limits set by the discipline and the opportunities that lie beyond.\n\nApply at: https://myumi.ch/uroprs
UID:82067-21014917@events.umich.edu
URL:https://events.umich.edu/event/82067
CLASS:PUBLIC
STATUS:CONFIRMED
CATEGORIES:AEM Featured,Applications,Free,Interdisciplinary,Research,Undergraduate,Undergraduate Students,Urop
LOCATION:Off Campus Location
CONTACT:
END:VEVENT
BEGIN:VEVENT
DTSTAMP:20210714T155619
DTSTART;TZID=America/Detroit:20210503T080000
DTEND;TZID=America/Detroit:20210503T230000
SUMMARY:Careers / Jobs:UROP Rising Sophomore Applications Open
DESCRIPTION:The Undergraduate Research Opportunity Program is now accepting applications for students who will be rising sophomores during the 2021-2022 academic year. \n\nLearn more and apply today at http://myumi.ch/uropsophomore\n\nRising Sophomore Applications are being accepted on a rolling basis.
UID:80546-21203384@events.umich.edu
URL:https://events.umich.edu/event/80546
CLASS:PUBLIC
STATUS:CONFIRMED
CATEGORIES:AEM Featured,Applications,first-generation,Free,Research,Sophomore,Undergraduate,Undergraduate Students,Urop
LOCATION:Off Campus Location
CONTACT:
END:VEVENT
BEGIN:VEVENT
DTSTAMP:20210305T120032
DTSTART;TZID=America/Detroit:20210503T120000
DTEND;TZID=America/Detroit:20210503T170000
SUMMARY:Careers / Jobs:Training Program in Organogenesis Pre- and Postdoctoral Fellowships - Request for Applications
DESCRIPTION:We are pleased to announce a competition for Pre-doctoral and Non-traditional postdoctoral Fellowships in Organogenesis as part of a NIH T32 Training Grant (Training Program in Organogenesis). The goal of the fellowship awards are to provide up to two years of support for outstanding scholars who wish to undertake a research project in the field of organogenesis.\n \nCriteria used to evaluate all applications include the strength of the mentor and strength of the trainee (as evaluated by letters and CVs)\,  the quality of the research project\, and the degree to which the project fits the goals of the Training Program\, and the Center for Cell Plasticity and Organ Design (CPOD).\n \nThe call for applications are for the following:\n\nNIH T32 Predoctoral Fellowship (applicants must have achieved candidacy by the time of appointment to the training grant)\nDean’s Non-Traditional Postdoctoral Fellowship in Organogenesis (Non-Federally Funded)\nThe non-traditional postdoctoral fellowships are open to non-citizen and non-permanent residents\, and provide partial funding for one (1) year.\n\nMaterials Due: Monday\, May 17\, 2021 5:00 pm Eastern Time. \n\nSubmit to Tamika Mohr at: organogenesis@umich.edu\n\nInstructions and Application templates are attached and are available online at : https://medicine.umich.edu/dept/cpod/training-program\n\nFaculty Mentors: If you are NOT a member of the Organogenesis faculty\, but wish for a trainee in your lab to apply\, you may submit a concurrent application for CPOD membership.
UID:82789-21179557@events.umich.edu
URL:https://events.umich.edu/event/82789
CLASS:PUBLIC
STATUS:CONFIRMED
CATEGORIES:Basic Science,Biology,Biosciences,Research,Science
LOCATION:Off Campus Location
CONTACT:
END:VEVENT
BEGIN:VEVENT
DTSTAMP:20210506T120651
DTSTART;TZID=America/Detroit:20210503T133000
DTEND;TZID=America/Detroit:20210503T150000
SUMMARY:Meeting:CoderSpaces (Mondays)
DESCRIPTION:Are you grappling with a piece of code\, trying to compute on a cluster\, or just getting started with a new method such as machine learning? Then we might have just the right space for you.\n\nAll members of the U-M community are invited to join our weekly virtual CoderSpaces\, Mondays – Thursdays\, during the Summer 2021 term to get research support and connect with others.\n\nThe virtual sessions are designed to assist faculty\, staff\, and students with research methodology\, statistics\, data science applications\, and computational programming for research.\n\nOur hosts have a wide set of methodological and technological expertise. They come to you from a variety of departments and disciplines and are looking forward to serving the U-M community in their research endeavors.\n\nCoderSpaces provide a casual\, productive\, and inclusive environment. Everyone is welcome regardless of skill level.\n\nMondays 1:30-3 p.m.\n\nJoin via Zoom* (https://umich.zoom.us/j/97155787515)\n*Users will have to sign in with their UMICH (Level-1) credentials.\n\nwith Andrew Hlynka (CSCAR)\, Charles Antonelli (LSA Tech)\, Jonathan Golob (Michigan Medicine)\n\nExpertise: 3D graphical applications\, C\, C++\, C#\, CMake/GNU Make\, Fortran\, Git\, high performance computing\, Java\, JavaScript\, Julia\, Matlab\, mobile app development\, MPI\, OpenMP\, parallelization\, performance analysis\, PBS\, Python\, R\, reproducible workflows (nextflow)\, shell\, Slurm\, SQL\, statistical modeling
UID:83925-21619085@events.umich.edu
URL:https://events.umich.edu/event/83925
CLASS:PUBLIC
STATUS:CONFIRMED
CATEGORIES:Arc,Data Science,Information And Technology,Office Hours
LOCATION:Off Campus Location
CONTACT:
END:VEVENT
BEGIN:VEVENT
DTSTAMP:20211209T160155
DTSTART;TZID=America/Detroit:20210503T140000
DTEND;TZID=America/Detroit:20210503T150000
SUMMARY:Other:LSA Technology Services Research Support Office Hours
DESCRIPTION:The Research Team within LSA Technology Services is excited to announce virtual office hours for research computing support. These are regularly scheduled times when we will have subject matter experts in geographic information systems\, high performance computing\, digital scholarship\, and computer programming available for drop-in support. Faculty\, staff\, and students with research-related questions pertaining to any of these areas can stop by to ask questions\, get help working through a problem\, or inquire about a new project—no appointment necessary!\n\nNot sure what we can do to help? Read on for more details about the services provided by each of these teams.\n\n*Digital Scholarship*\nOur digital scholarship team specializes in humanities\, social sciences\, and interdisciplinary digital project methods and can provide assistance with:\n* Conceptualizing\, planning\, and finding resources for a digital project\n* How to version\, archive\, and preserve a project\n* Sustainability\, preservation\, accessibility\, privacy\, consent\, or grant requirements\nNew to digital projects? We can also talk about how to demonstrate the scholarly rigor of your digital project\, accurately credit the labor required of the project at every stage\, and how to provide evidence and metrics for promotion and job dossiers.\n\n*Geographic Information Systems (GIS)*\n\nOur GIS specialists can help with your geographic data needs\, including the following:\n* Making maps for use in a class\, grant proposal\, or publication\n* Geospatial analysis: identifying spatial patterns and trends in your data\n* Georeferencing: assigning geographic coordinates to a historic paper map or a hand-drawn sketch for digital use as a basemap or combined display with other data\n* Geocoding: convert a spreadsheet with addresses into latitude-longitude so you can plot your data on a map\n* StoryMaps: harness the power of maps to tell your story\n* Integrating smartphones or tablets and GIS in your field courses or researchSetting up workshops for a class or group interested in learning to use GIS in the context of your discipline\n* Assistance with ESRI's ArcGIS platform\, including ArcGIS Pro and ArcGIS Online\, or other geospatial software\n* Developing your own custom GIS web application or mobile application\n\n*High Performance Computing (HPC)*\n\nOur HPC team can help with:\n* Accessing U-M’s new Great Lakes HPC (High Performance Computing) cluster\n* Moving your computational work from your laptop or workstation to the cluster\, freeing up your machines for other tasks\n* Compiling\, installing\, or configuring a wide range of computational software\n* Setting up automated workflows to save time\n* Debugging your programs to see why they are crashing\n* Evaluating the benefits of parallel computing\, more memory or system resources for your code\nWe regularly support Python\, R\, MATLAB\, C/C++\, Java\, Julia\, Go\, and many other applications.\n\n*Research Support Programming*\n\nOur computer programming team can help with any of the following:\n\n* Debugging\, repair\, and improvements or upgrades to your existing code\n* References to training and coding resources to assist in your project\n* Design and development of custom software to support your research\n* Incorporation of lab-specific hardware into custom software applications.\n* Writing funding for any of the above into your grant proposals\nWe're experienced in MATLAB\, Python\, R\, LabVIEW\, JavaScript\, MedPC\, iOS development\, and more.\n\nWho can join the office hours?\nLSA Faculty\, staff\, and students with research-related questions on geographic information systems\, high performance computing\, digital scholarship\, and computer programming\n\nWhen and where is it?\nOur virtual office hours use Zoom:\nMondays\, 2:00–3:00 P.M.\nTuesdays\, 10:00–11:00 A.M.\nThursdays\, 3:00–4:00 P.M.
UID:77718-20270703@events.umich.edu
URL:https://events.umich.edu/event/77718
CLASS:PUBLIC
STATUS:CONFIRMED
CATEGORIES:Digital Humanities,Digital Projects,Digital Scholarship,Faculty,Gis,Graduate Students,Humanities,Lsa,Office Hours,Postdoctoral Research Fellows,Qualitative Social Sciences,research,Science,Virtual
LOCATION:Off Campus Location
CONTACT:
END:VEVENT
BEGIN:VEVENT
DTSTAMP:20201216T131152
DTSTART;TZID=America/Detroit:20210503T150000
DTEND;TZID=America/Detroit:20210503T163000
SUMMARY:Class / Instruction:Everything You Always Wanted to Know about Chocolate
DESCRIPTION:and end with a finished product. Tasting chocolates is involved!  Participants can purchase a chocolate sampler and taste along.\n\nBarbara Wilson is a chocolate maker. She makes and sells mostly chocolate bars but also baking chocolate and specialty items including brownies.  In school she received a bachelor’s degree in Kinesiology\, and a master’s degree in Public Health specializing in education so she always comes back to education.  What she enjoys most about her business is educating people about chocolate.  She also strives to have a business that is socially responsible and environmentally friendly. She co-owns Mindo Chocolate with her husband Jose Meza.\n\nPreregistration is required via the OLLI website or phone.  A link to access the event will be e-mailed to you approximately one week prior to the event.  Once you register\, you will receive details about purchasing and pick up before the event.
UID:80085-20556862@events.umich.edu
URL:https://events.umich.edu/event/80085
CLASS:PUBLIC
STATUS:CONFIRMED
CATEGORIES:food,lifelong learning,retirement
LOCATION:Off Campus Location
CONTACT:
END:VEVENT
BEGIN:VEVENT
DTSTAMP:20210402T160711
DTSTART;TZID=America/Detroit:20210503T160000
DTEND;TZID=America/Detroit:20210503T170000
SUMMARY:Lecture / Discussion:RNA Seminar featuring: Olivia Rissland\, University of Colorado School of Medicine
DESCRIPTION:Registration Required: https://umich.zoom.us/webinar/register/WN_vA9zYS5nSEenf8Zmt1f-qA\n\n\nABSTRACT: The maternal-to-zygotic transition (MZT) is a conserved step in animal development\, where control is passed from the maternal to the zygotic genome. Although the MZT is typically considered from its impact on the transcriptome\, we previously found that three maternally deposited Drosophila RNA binding proteins (ME31B\, Trailer Hitch [TRAL]\, and Cup) are also cleared during the MZT by unknown mechanisms. Here\, we show that these proteins are degraded by the ubiquitin-proteasome system. Marie Kondo\, an E2 conjugating enzyme\, and the E3 CTLH ligase are required for the destruction of ME31B\, TRAL\, and Cup. Structure modeling of the Drosophila CTLH complex suggests that substrate recognition is different than orthologous complexes. Despite occurring hours earlier\, egg activation mediates clearance of these proteins through the Pan Gu kinase\, which stimulates translation of Kondo mRNA. Clearance of the maternal protein dowry thus appears to be a coordinated\, but as-yet underappreciated\, aspect of the MZT.
UID:81302-20881902@events.umich.edu
URL:https://events.umich.edu/event/81302
CLASS:PUBLIC
STATUS:CONFIRMED
CATEGORIES:Basic Science,Biointerfaces,Biology,Biomedical Engineering,Biosciences,Chemistry,Drug Discovery,Graduate,Graduate School,Lecture,Life Science,Materials Science,Medicine,Natural Sciences,Pharmacy,Postdoctoral Research Fellows,Public Health,Rackham,Research,Science,Structural Biology
LOCATION:Off Campus Location
CONTACT:
END:VEVENT
BEGIN:VEVENT
DTSTAMP:20201208T142048
DTSTART;TZID=America/Detroit:20210503T180000
DTEND;TZID=America/Detroit:20210503T193000
SUMMARY:Workshop / Seminar:Community Creative Arts Workshop
DESCRIPTION:December 2020 through May 2021
UID:79782-20493909@events.umich.edu
URL:https://events.umich.edu/event/79782
CLASS:PUBLIC
STATUS:CONFIRMED
CATEGORIES:Virtual,Workshop
LOCATION:Off Campus Location
CONTACT:
END:VEVENT
END:VCALENDAR