BEGIN:VCALENDAR
VERSION:2.0
PRODID:-//UM//UM*Events//EN
CALSCALE:GREGORIAN
BEGIN:VTIMEZONE
TZID:America/Detroit
TZURL:http://tzurl.org/zoneinfo/America/Detroit
X-LIC-LOCATION:America/Detroit
BEGIN:DAYLIGHT
TZOFFSETFROM:-0500
TZOFFSETTO:-0400
TZNAME:EDT
DTSTART:20070311T020000
RRULE:FREQ=YEARLY;BYMONTH=3;BYDAY=2SU
END:DAYLIGHT
BEGIN:STANDARD
TZOFFSETFROM:-0400
TZOFFSETTO:-0500
TZNAME:EST
DTSTART:20071104T020000
RRULE:FREQ=YEARLY;BYMONTH=11;BYDAY=1SU
END:STANDARD
END:VTIMEZONE
BEGIN:VEVENT
DTSTAMP:20210430T095709
DTSTART;TZID=America/Detroit:20210504T080000
DTEND;TZID=America/Detroit:20210504T230000
SUMMARY:Careers / Jobs:Changing Gears Application Open
DESCRIPTION:Learn more about the Changing Gears Program and apply at: myumi.ch/uropcg\n\nChanging Gears (CG) is a UROP program designed primarily for community college transfer students who will be attending the University of Michigan\, but also serves students transferring from 4 year institutions. Students in the CG Program become a part of an ongoing faculty-driven research\, scholarly or creative project in their field of interest. Students learn valuable academic skills\, applying these skills to their research project\, academics\, and future career opportunities\, while receiving academic credit or compensation for their efforts in research work.\n\nIf you are a U-M Transfer Student and not graduating until winter 2022 and/or after\, you are eligible to apply to the 2021-2022 UROP Changing Gears Program.
UID:83922-21616900@events.umich.edu
URL:https://events.umich.edu/event/83922
CLASS:PUBLIC
STATUS:CONFIRMED
CATEGORIES:AEM Featured,first-generation,Free,Interdisciplinary,Networking,Office Hours,Research,Transfer Students,Undergraduate,Undergraduate Students,Urop
LOCATION:Off Campus Location
CONTACT:
END:VEVENT
BEGIN:VEVENT
DTSTAMP:20220502T122639
DTSTART;TZID=America/Detroit:20210504T080000
DTEND;TZID=America/Detroit:20210504T230000
SUMMARY:Careers / Jobs:UROP First-Year Application Open
DESCRIPTION:Our \"Traditional UROP Program\" has been our flagship program running over 30 years. This Academic Year program\, in which students participate for both Fall and Winter Terms\, is designed for University of Michigan first and second year undergraduate students enrolled on the Ann Arbor campus who are seeking a first time research experience. Student research assistants work alongside a faculty member\, research scientist or professional practitioner on an ongoing or new research project.\n\nLearn more and apply at: myumi.ch/uropyearone\n\nApplications being accepted on a rolling basis.
UID:83923-21617019@events.umich.edu
URL:https://events.umich.edu/event/83923
CLASS:PUBLIC
STATUS:CONFIRMED
CATEGORIES:AEM Featured,Applications,first-generation,Free,Interdisciplinary,Networking,Research,Undergraduate,Undergraduate Students,Urop
LOCATION:Undergraduate Science Building
CONTACT:
END:VEVENT
BEGIN:VEVENT
DTSTAMP:20210804T182828
DTSTART;TZID=America/Detroit:20210504T080000
DTEND;TZID=America/Detroit:20210504T230000
SUMMARY:Careers / Jobs:UROP Research Scholars Application now open
DESCRIPTION:The UROP Research Scholars Program is designed for students who want to expand on their first year UROP experience and participate in UROP for a second year at an advanced level. In this program\, students build upon the knowledge gained in a first undergraduate research experience to further explore the connections between research\, a liberal arts education\, and communicating skills to advance their future professional goals. Students are expected to explore various written and oral possibilities for communicating their research process\, identifying the limits set by the discipline and the opportunities that lie beyond.\n\nApply at: https://myumi.ch/uroprs
UID:82067-21014918@events.umich.edu
URL:https://events.umich.edu/event/82067
CLASS:PUBLIC
STATUS:CONFIRMED
CATEGORIES:AEM Featured,Applications,Free,Interdisciplinary,Research,Undergraduate,Undergraduate Students,Urop
LOCATION:Off Campus Location
CONTACT:
END:VEVENT
BEGIN:VEVENT
DTSTAMP:20210714T155619
DTSTART;TZID=America/Detroit:20210504T080000
DTEND;TZID=America/Detroit:20210504T230000
SUMMARY:Careers / Jobs:UROP Rising Sophomore Applications Open
DESCRIPTION:The Undergraduate Research Opportunity Program is now accepting applications for students who will be rising sophomores during the 2021-2022 academic year. \n\nLearn more and apply today at http://myumi.ch/uropsophomore\n\nRising Sophomore Applications are being accepted on a rolling basis.
UID:80546-21203385@events.umich.edu
URL:https://events.umich.edu/event/80546
CLASS:PUBLIC
STATUS:CONFIRMED
CATEGORIES:AEM Featured,Applications,first-generation,Free,Research,Sophomore,Undergraduate,Undergraduate Students,Urop
LOCATION:Off Campus Location
CONTACT:
END:VEVENT
BEGIN:VEVENT
DTSTAMP:20210325T133458
DTSTART;TZID=America/Detroit:20210504T083000
DTEND;TZID=America/Detroit:20210504T160000
SUMMARY:Workshop / Seminar:Teaching Techniques and Strategies for Instructors of German
DESCRIPTION:Third Annual:\nTEACHING TECHNIQUES and STRATEGIES \nfor INSTRUCTORS of GERMAN\nDATE: Tuesday\, May 4th\, 2021\nTIME: 8:30 – 4:00\nPLACE: Virtual \nRegistration Required\nProgram Format: Virtual\nProfessional Learning Type: SCECH\nProgram Facilitator/Organizer: Dr. Mary Rodena-Krasan – mkrasan@umich.edu\nParticipant Fee: $0\n6 TOTAL SCECHs\n\nPlease join us for an interactive\, “hands-on”\, workshop which focuses on strategies for teaching primary source material\, intercultural competence\, enhanced language production\, teaching with technology\, as well as exchanging ideas\, and supporting our community of German instructors!\n\nTo REGISTER - email:  mkrasan@umich.edu by Monday\, 5/3\, 2021
UID:83309-21338287@events.umich.edu
URL:https://events.umich.edu/event/83309
CLASS:PUBLIC
STATUS:CONFIRMED
CATEGORIES:German
LOCATION:Off Campus Location
CONTACT:
END:VEVENT
BEGIN:VEVENT
DTSTAMP:20210409T181526
DTSTART;TZID=America/Detroit:20210504T093000
DTEND;TZID=America/Detroit:20210504T120000
SUMMARY:Livestream / Virtual:MORE: Spring 2021 STUDENT Mentoring Plan Workshop
DESCRIPTION:This virtual workshop helps to enhance the mentoring relationship between the student and faculty mentor. Faculty and students will work independently in separate sessions to identify their own objectives and styles\, and then faculty-student pairs will have time to work together to develop a mentoring plan: a two-way document to codify goals\, needs\, and shared expectations. Over 85% of Rackham doctoral students surveyed report that having a written agreement for successful mentoring is useful.\nPart I: Student only session\, 9:30 to 11:00 a.m.\nPart II: Faculty and student session\, 11:10 a.m. to 12:00 p.m.\nPart III: Optional additional one-on-one time\, 12:00 to 1:00 p.m.\nRegistration is required of both the student and faculty. Separate registration for faculty is available at https://myumi.ch/Gk7bo.\nThis workshop is facilitated by the MORE (Mentoring Others Results in Excellence) Committee\, a Rackham committee that engages with faculty and graduate students to foster conversations about mentoring.\nRegistration is required at https://myumi.ch/mnX1Y.\nWe want to ensure full and equitable participation in our events. If an accommodation would promote your full participation in this event\, please follow the registration link to indicate your accommodation requirements. Please let us know as soon as possible in order to have adequate time\, preferably one week\, to arrange for your requested accommodations or an effective alternative.
UID:82834-21183548@events.umich.edu
URL:https://events.umich.edu/event/82834
CLASS:PUBLIC
STATUS:CONFIRMED
CATEGORIES:Graduate Students
LOCATION:Off Campus Location
CONTACT:
END:VEVENT
BEGIN:VEVENT
DTSTAMP:20210503T100235
DTSTART;TZID=America/Detroit:20210504T100000
DTEND;TZID=America/Detroit:20210504T160000
SUMMARY:Well-being:Get Vaccinated Against COVID-19 at Michigan Stadium
DESCRIPTION:Michigan Medicine is making COVID-19 vaccination available to anyone over the age of 16 on a walk-in basis at Michigan Stadium\, in the Jack Roth Stadium Club overlooking the field. \n\nFirst and second doses of Pfizer vaccine are available\, and no appointment or history of receiving treatment at Michigan Medicine is needed. \n\nFor full details\, including information on how to set up a Medical Record Number for those who have not been to a Michigan Medicine clinic or hospital before\, and important information for those seeking second doses\, visit \nhttps://www.uofmhealth.org/coronavirus/vaccine-info-update \n\nDirections on where to park and how to enter the stadium and reach the club level where vaccinations are being given: https://www.uofmhealth.org/coronavirus/vaccination-appointment\n\nPeople who are under 18 need parental consent in person or over the phone.
UID:83955-21619193@events.umich.edu
URL:https://events.umich.edu/event/83955
CLASS:PUBLIC
STATUS:CONFIRMED
CATEGORIES:Medicine,Public Health
LOCATION:Michigan Stadium - Jack Roth Club Level
CONTACT:
END:VEVENT
BEGIN:VEVENT
DTSTAMP:20211209T160155
DTSTART;TZID=America/Detroit:20210504T100000
DTEND;TZID=America/Detroit:20210504T110000
SUMMARY:Other:LSA Technology Services Research Support Office Hours
DESCRIPTION:The Research Team within LSA Technology Services is excited to announce virtual office hours for research computing support. These are regularly scheduled times when we will have subject matter experts in geographic information systems\, high performance computing\, digital scholarship\, and computer programming available for drop-in support. Faculty\, staff\, and students with research-related questions pertaining to any of these areas can stop by to ask questions\, get help working through a problem\, or inquire about a new project—no appointment necessary!\n\nNot sure what we can do to help? Read on for more details about the services provided by each of these teams.\n\n*Digital Scholarship*\nOur digital scholarship team specializes in humanities\, social sciences\, and interdisciplinary digital project methods and can provide assistance with:\n* Conceptualizing\, planning\, and finding resources for a digital project\n* How to version\, archive\, and preserve a project\n* Sustainability\, preservation\, accessibility\, privacy\, consent\, or grant requirements\nNew to digital projects? We can also talk about how to demonstrate the scholarly rigor of your digital project\, accurately credit the labor required of the project at every stage\, and how to provide evidence and metrics for promotion and job dossiers.\n\n*Geographic Information Systems (GIS)*\n\nOur GIS specialists can help with your geographic data needs\, including the following:\n* Making maps for use in a class\, grant proposal\, or publication\n* Geospatial analysis: identifying spatial patterns and trends in your data\n* Georeferencing: assigning geographic coordinates to a historic paper map or a hand-drawn sketch for digital use as a basemap or combined display with other data\n* Geocoding: convert a spreadsheet with addresses into latitude-longitude so you can plot your data on a map\n* StoryMaps: harness the power of maps to tell your story\n* Integrating smartphones or tablets and GIS in your field courses or researchSetting up workshops for a class or group interested in learning to use GIS in the context of your discipline\n* Assistance with ESRI's ArcGIS platform\, including ArcGIS Pro and ArcGIS Online\, or other geospatial software\n* Developing your own custom GIS web application or mobile application\n\n*High Performance Computing (HPC)*\n\nOur HPC team can help with:\n* Accessing U-M’s new Great Lakes HPC (High Performance Computing) cluster\n* Moving your computational work from your laptop or workstation to the cluster\, freeing up your machines for other tasks\n* Compiling\, installing\, or configuring a wide range of computational software\n* Setting up automated workflows to save time\n* Debugging your programs to see why they are crashing\n* Evaluating the benefits of parallel computing\, more memory or system resources for your code\nWe regularly support Python\, R\, MATLAB\, C/C++\, Java\, Julia\, Go\, and many other applications.\n\n*Research Support Programming*\n\nOur computer programming team can help with any of the following:\n\n* Debugging\, repair\, and improvements or upgrades to your existing code\n* References to training and coding resources to assist in your project\n* Design and development of custom software to support your research\n* Incorporation of lab-specific hardware into custom software applications.\n* Writing funding for any of the above into your grant proposals\nWe're experienced in MATLAB\, Python\, R\, LabVIEW\, JavaScript\, MedPC\, iOS development\, and more.\n\nWho can join the office hours?\nLSA Faculty\, staff\, and students with research-related questions on geographic information systems\, high performance computing\, digital scholarship\, and computer programming\n\nWhen and where is it?\nOur virtual office hours use Zoom:\nMondays\, 2:00–3:00 P.M.\nTuesdays\, 10:00–11:00 A.M.\nThursdays\, 3:00–4:00 P.M.
UID:77718-20270750@events.umich.edu
URL:https://events.umich.edu/event/77718
CLASS:PUBLIC
STATUS:CONFIRMED
CATEGORIES:Digital Humanities,Digital Projects,Digital Scholarship,Faculty,Gis,Graduate Students,Humanities,Lsa,Office Hours,Postdoctoral Research Fellows,Qualitative Social Sciences,research,Science,Virtual
LOCATION:Off Campus Location
CONTACT:
END:VEVENT
BEGIN:VEVENT
DTSTAMP:20210429T231812
DTSTART;TZID=America/Detroit:20210504T113000
DTEND;TZID=America/Detroit:20210504T123000
SUMMARY:Livestream / Virtual:Virtual Michigan Medicine Community Conversation
DESCRIPTION:Community Conversation is an opportunity for faculty\, staff and student to come together weekly to engage on meaningful ways to increase belonging at Michigan Medicine. We feel that it is important to carve out space for dialogue\, provide support for one another\, promote self-care\, and share valuable resources. The sessions are designed for space to hear your voice and all are welcome!\n\nhttps://ohei.med.umich.edu/events
UID:83916-21612996@events.umich.edu
URL:https://events.umich.edu/event/83916
CLASS:PUBLIC
STATUS:CONFIRMED
CATEGORIES:Michigan Medicine Diversity
LOCATION:Off Campus Location
CONTACT:
END:VEVENT
BEGIN:VEVENT
DTSTAMP:20210414T183048
DTSTART;TZID=America/Detroit:20210504T120000
DTEND;TZID=America/Detroit:20210504T130000
SUMMARY:Careers / Jobs:Tata Consultancy Services - Virtual Information Session - University of Michigan
DESCRIPTION:Join us for an introduction to Tata Consultancy Services! Samuel McClain\, our Campus Recruiter\,  will present about TCS\, the company's business model\, resume tips\, as well as our opportunities for recent graduates. A few business partners will be attending as well to give some insight on project opportunities.
UID:83584-21432577@events.umich.edu
URL:https://events.umich.edu/event/83584
CLASS:PUBLIC
STATUS:CONFIRMED
CATEGORIES:
LOCATION:
CONTACT:
END:VEVENT
BEGIN:VEVENT
DTSTAMP:20210714T141205
DTSTART;TZID=America/Detroit:20210504T140000
DTEND;TZID=America/Detroit:20210504T153000
SUMMARY:Meeting:CoderSpaces (Tuesdays)
DESCRIPTION:Are you grappling with a piece of code\, trying to compute on a cluster\, or just getting started with a new method such as machine learning? Then we might have just the right space for you.\n\nAll members of the U-M community are invited to join our weekly virtual CoderSpaces\, Mondays – Thursdays\, during the Summer 2021 term to get research support and connect with others.\n\nThe virtual sessions are designed to assist faculty\, staff\, and students with research methodology\, statistics\, data science applications\, and computational programming for research.\n\nOur hosts have a wide set of methodological and technological expertise. They come to you from a variety of departments and disciplines and are looking forward to serving the U-M community in their research endeavors.\n\nCoderSpaces provide a casual\, productive\, and inclusive environment. Everyone is welcome regardless of skill level.\n\nTuesdays 2-3:30 p.m.\nJoin via Zoom* (https://umich.zoom.us/j/99832397131)\n*Users will have to sign in with their UMICH (Level-1) credentials.\n\nwith Alexander Gaenko (CSCAR)\, Chen Chen (PDHP/ISR)\, Liz Hanley (PDHP/ISR)\, Paul Schulz (PDHP/ISR)\n\nExpertise: C/C++\, CMake/GNU Make\, data management\, data visualization\, Fortran\, Git\, high performance computing\, Julia\, Mplus\, natural language processing\, parallelization\, performance analysis\, Perl\, Python\, R\, SAS\, secure computing enclaves\, shell\, SQL\, Stata\, statistical computing\, survey methods (hypothesis testing\, imputation\, modeling\, statistics\, sampling\, questionnaire design\, weighting)\, text analysis\, web applications (front-end HTML/CSS/JavaScript stack)\, web scraping
UID:83963-21619209@events.umich.edu
URL:https://events.umich.edu/event/83963
CLASS:PUBLIC
STATUS:CONFIRMED
CATEGORIES:Data Science,Information And Technology,Office Hours,Virtual
LOCATION:Off Campus Location
CONTACT:
END:VEVENT
BEGIN:VEVENT
DTSTAMP:20210430T091012
DTSTART;TZID=America/Detroit:20210504T143000
DTEND;TZID=America/Detroit:20210504T160000
SUMMARY:Workshop / Seminar:Economic History: Inequality in Mexico City\, 1760-1930: Evidence from the Construction Sector
DESCRIPTION:Details to come.\n\n*To join the seminar\, please contact at econ.events@umich.edu
UID:83919-21616895@events.umich.edu
URL:https://events.umich.edu/event/83919
CLASS:PUBLIC
STATUS:CONFIRMED
CATEGORIES:Economics,seminar
LOCATION:Off Campus Location
CONTACT:
END:VEVENT
BEGIN:VEVENT
DTSTAMP:20210422T133346
DTSTART;TZID=America/Detroit:20210504T150000
DTEND;TZID=America/Detroit:20210504T160000
SUMMARY:Lecture / Discussion:PhD Defense: Jonas Schollenberger
DESCRIPTION:Cerebrovascular occlusive disease (CVOD) is a major risk factor for ischemic stroke and is characterized by the presence of stenosis in the arteries supplying the brain. The cerebral vasculature has an innate ability to compensate for flow reductions\, caused by the presence of CVOD\, through a network of collateral pathways in the circle of Willis (CoW). However\, flow compensation is highly patient-specific and dependent on the cerebral vasculature anatomy\, availability of collateral pathways\, degree of stenosis and\, the condition of the cerebral microcirculation and its autoregulatory response. Unfortunately\, clinically available imaging tools only provide limited information on flow compensation and the underlying cerebral hemodynamics. Given the complexity of the cerebral vasculature\, better tools are necessary to characterize cerebral hemodynamics and guide the risk assessment of ischemic stroke.\n\n \n\nImage-based computational fluid dynamics (CFD) provides a powerful tool for non-invasively analyzing cerebral hemodynamics with high spatial and temporal resolutions. However\, CFD modeling of cerebral hemodynamics is challenging due to the need for patient-specific data to calibrate outflow boundary conditions in the brain. In this thesis\, we explore a novel strategy to quantitatively characterize cerebral hemodynamics using CFD in combination with tissue perfusion from arterial spin labeling (ASL) MRI.\n\n \n\nFirstly\, we quantified territorial perfusion in the cerebral circulation through implementing and optimizing a vessel-selective arterial spin labeling (VS-ASL) sequence. VS-ASL is generally limited by its low labeling efficiency causing poor signal-to-noise ratio. We investigated the effects of off‐resonance\, pulsatility\, and vessel movement\, and evaluated methods to maximize labeling efficiency and overall image quality. We found that an off-resonance calibration scan in combination with cardiac-triggering significantly improved labeling efficiency and image quality. Vessel movement during the MRI protocol occurred in the majority of study subjects and needs to be accounted for to maximize labeling efficiency.\n\n \n\nSecondly\, we developed a strategy to calibrate patient-specific CFD models of cerebral blood flow. The calibration consisted of estimating the total inflow to the CoW from PC-MRI and the flow splits in the CoW from non-selective ASL perfusion images. The outflow boundary conditions were iteratively tuned to match the estimated flow splits\, and the ASL-calibrated CFD model was then validated against territorial perfusion maps from VS-ASL by calculating the blood supply to each cerebral territory using Lagrangian particle tracking (LPT). We found an overall good match in a small group of subjects\; particularly\, the flow compensation between hemispheres was captured well by the calibrated CFD models.\n\n \n\nThirdly\, we investigated the impact of two outflow boundary condition strategies\, an ASL-based and allometric-based calibration\, on cerebral hemodynamics. The ASL-based calibrated CFD analysis captured the flow compensation between hemispheres as measured with VS-ASL and lead to an approximately symmetrical flow distribution in the CoW. In contrast\, the allometric-based calibrated CFD analysis was unable to capture the collateral flow compensation\, which resulted in large differences in flow between hemispheres.\n\n \n\nFinally\, the clinical feasibility and capabilities of our proposed CFD analysis was demonstrated in two CVOD patients. The CFD analysis showed significant differences in cerebral hemodynamics between the patients despite similar degrees of stenosis severity\, highlighting the importance of a patient-specific assessment. Comparison of pre-operative and post-operative hemodynamics in one patient resulted in only minor changes following revascularization despite severe carotid stenosis. We demonstrated that our CFD analysis can provide detailed and quantitative information about hemodynamic impact of carotid stenosis and collateral flow compensation in the circle of Willis.\n\n\nDate: Tuesday\, May 4\, 2021\n\nTime: 3:00 PM\n\nZoom: https://umich.zoom.us/j/93059726229 (Zoom link requires prior registration)\n\nCo-Chairs: Dr. C. Alberto Figueroa and Dr. Luis Hernandez-Garcia\n\nFor Assistance or Questions\num-bme@umich.edu
UID:83855-21555868@events.umich.edu
URL:https://events.umich.edu/event/83855
CLASS:PUBLIC
STATUS:CONFIRMED
CATEGORIES:Basic Science,Biointerfaces,Biology,Biomedical Engineering,Biosciences,Engineering,Life Science,Medicine,Michigan Engineering,Natural Sciences,Science
LOCATION:Off Campus Location
CONTACT:
END:VEVENT
BEGIN:VEVENT
DTSTAMP:20210421T153717
DTSTART;TZID=America/Detroit:20210504T160000
DTEND;TZID=America/Detroit:20210504T170000
SUMMARY:Lecture / Discussion:\"Upgrading the Physiological Relevance of Human Brain Organoids\"
DESCRIPTION:The NIH T32 Training Program in Organogenesis presents seminar series: \"Emerging Concepts in Cell Signaling\, Regulation\, and Science Education\". \n\nThe Center for Cell Plasticity and Organ Design is proud to present guest speaker Giorgia Quadrato\, PhD\, to speak in our last seminar in this amazing series.\n\nDr. Quadrato is an Associate Professor of Stem Cell Biology and Regenerative Medicine and a member of the Broad CIRM Center at the Keck School of Medicine at the University of Southern California.\n\nThe talk is entitled\, \"Upgrading the Physiological Relevance of Human Brain Organoids\".\n\nTrainee Host: Daysha Torres\, Ph.D.\, Spence Lab
UID:83845-21548057@events.umich.edu
URL:https://events.umich.edu/event/83845
CLASS:PUBLIC
STATUS:CONFIRMED
CATEGORIES:Basic Science,Biology,Biosciences,Research,Science
LOCATION:Off Campus Location
CONTACT:
END:VEVENT
BEGIN:VEVENT
DTSTAMP:20210413T145857
DTSTART;TZID=America/Detroit:20210504T160000
DTEND;TZID=America/Detroit:20210504T170000
SUMMARY:Livestream / Virtual:Graduate Application Information Session
DESCRIPTION:Join the Recruiting & Admissions team to learn more about how to apply to the graduate nursing programs!  Register at https://umforms.tfaforms.net/218020.
UID:83748-21485470@events.umich.edu
URL:https://events.umich.edu/event/83748
CLASS:PUBLIC
STATUS:CONFIRMED
CATEGORIES:Nursing,Virtual
LOCATION:Off Campus Location
CONTACT:
END:VEVENT
BEGIN:VEVENT
DTSTAMP:20210302T092345
DTSTART;TZID=America/Detroit:20210504T200000
DTEND;TZID=America/Detroit:20210504T210000
SUMMARY:Livestream / Virtual:Honors Admissions Get to Know You
DESCRIPTION:This event is open to admitted Honors students who are interested in getting to know their Honors peers.\n\nYou can access the Zoom meeting via the following link: https://myumi.ch/ZQrOP
UID:82628-21147753@events.umich.edu
URL:https://events.umich.edu/event/82628
CLASS:PUBLIC
STATUS:CONFIRMED
CATEGORIES:#Honors Program,Admissions,Prospective Undergraduate Students
LOCATION:Off Campus Location
CONTACT:
END:VEVENT
END:VCALENDAR