BEGIN:VCALENDAR
VERSION:2.0
PRODID:-//UM//UM*Events//EN
CALSCALE:GREGORIAN
BEGIN:VTIMEZONE
TZID:America/Detroit
TZURL:http://tzurl.org/zoneinfo/America/Detroit
X-LIC-LOCATION:America/Detroit
BEGIN:DAYLIGHT
TZOFFSETFROM:-0500
TZOFFSETTO:-0400
TZNAME:EDT
DTSTART:20070311T020000
RRULE:FREQ=YEARLY;BYMONTH=3;BYDAY=2SU
END:DAYLIGHT
BEGIN:STANDARD
TZOFFSETFROM:-0400
TZOFFSETTO:-0500
TZNAME:EST
DTSTART:20071104T020000
RRULE:FREQ=YEARLY;BYMONTH=11;BYDAY=1SU
END:STANDARD
END:VTIMEZONE
BEGIN:VEVENT
DTSTAMP:20210509T000002
DTSTART;TZID=America/Detroit:20210506T070000
DTEND;TZID=America/Detroit:20210506T235959
SUMMARY:Other:Jefferson Dad Vail Regatta
DESCRIPTION:Race
UID:83970-21619351@events.umich.edu
URL:https://events.umich.edu/event/83970
CLASS:PUBLIC
STATUS:CONFIRMED
CATEGORIES:
LOCATION:Schuylkill River
CONTACT:
END:VEVENT
BEGIN:VEVENT
DTSTAMP:20210430T095709
DTSTART;TZID=America/Detroit:20210506T080000
DTEND;TZID=America/Detroit:20210506T230000
SUMMARY:Careers / Jobs:Changing Gears Application Open
DESCRIPTION:Learn more about the Changing Gears Program and apply at: myumi.ch/uropcg\n\nChanging Gears (CG) is a UROP program designed primarily for community college transfer students who will be attending the University of Michigan\, but also serves students transferring from 4 year institutions. Students in the CG Program become a part of an ongoing faculty-driven research\, scholarly or creative project in their field of interest. Students learn valuable academic skills\, applying these skills to their research project\, academics\, and future career opportunities\, while receiving academic credit or compensation for their efforts in research work.\n\nIf you are a U-M Transfer Student and not graduating until winter 2022 and/or after\, you are eligible to apply to the 2021-2022 UROP Changing Gears Program.
UID:83922-21616902@events.umich.edu
URL:https://events.umich.edu/event/83922
CLASS:PUBLIC
STATUS:CONFIRMED
CATEGORIES:AEM Featured,first-generation,Free,Interdisciplinary,Networking,Office Hours,Research,Transfer Students,Undergraduate,Undergraduate Students,Urop
LOCATION:Off Campus Location
CONTACT:
END:VEVENT
BEGIN:VEVENT
DTSTAMP:20220502T122639
DTSTART;TZID=America/Detroit:20210506T080000
DTEND;TZID=America/Detroit:20210506T230000
SUMMARY:Careers / Jobs:UROP First-Year Application Open
DESCRIPTION:Our \"Traditional UROP Program\" has been our flagship program running over 30 years. This Academic Year program\, in which students participate for both Fall and Winter Terms\, is designed for University of Michigan first and second year undergraduate students enrolled on the Ann Arbor campus who are seeking a first time research experience. Student research assistants work alongside a faculty member\, research scientist or professional practitioner on an ongoing or new research project.\n\nLearn more and apply at: myumi.ch/uropyearone\n\nApplications being accepted on a rolling basis.
UID:83923-21617021@events.umich.edu
URL:https://events.umich.edu/event/83923
CLASS:PUBLIC
STATUS:CONFIRMED
CATEGORIES:AEM Featured,Applications,first-generation,Free,Interdisciplinary,Networking,Research,Undergraduate,Undergraduate Students,Urop
LOCATION:Undergraduate Science Building
CONTACT:
END:VEVENT
BEGIN:VEVENT
DTSTAMP:20210804T182828
DTSTART;TZID=America/Detroit:20210506T080000
DTEND;TZID=America/Detroit:20210506T230000
SUMMARY:Careers / Jobs:UROP Research Scholars Application now open
DESCRIPTION:The UROP Research Scholars Program is designed for students who want to expand on their first year UROP experience and participate in UROP for a second year at an advanced level. In this program\, students build upon the knowledge gained in a first undergraduate research experience to further explore the connections between research\, a liberal arts education\, and communicating skills to advance their future professional goals. Students are expected to explore various written and oral possibilities for communicating their research process\, identifying the limits set by the discipline and the opportunities that lie beyond.\n\nApply at: https://myumi.ch/uroprs
UID:82067-21014920@events.umich.edu
URL:https://events.umich.edu/event/82067
CLASS:PUBLIC
STATUS:CONFIRMED
CATEGORIES:AEM Featured,Applications,Free,Interdisciplinary,Research,Undergraduate,Undergraduate Students,Urop
LOCATION:Off Campus Location
CONTACT:
END:VEVENT
BEGIN:VEVENT
DTSTAMP:20210714T155619
DTSTART;TZID=America/Detroit:20210506T080000
DTEND;TZID=America/Detroit:20210506T230000
SUMMARY:Careers / Jobs:UROP Rising Sophomore Applications Open
DESCRIPTION:The Undergraduate Research Opportunity Program is now accepting applications for students who will be rising sophomores during the 2021-2022 academic year. \n\nLearn more and apply today at http://myumi.ch/uropsophomore\n\nRising Sophomore Applications are being accepted on a rolling basis.
UID:80546-21203387@events.umich.edu
URL:https://events.umich.edu/event/80546
CLASS:PUBLIC
STATUS:CONFIRMED
CATEGORIES:AEM Featured,Applications,first-generation,Free,Research,Sophomore,Undergraduate,Undergraduate Students,Urop
LOCATION:Off Campus Location
CONTACT:
END:VEVENT
BEGIN:VEVENT
DTSTAMP:20210415T164902
DTSTART;TZID=America/Detroit:20210506T090000
DTEND;TZID=America/Detroit:20210506T163000
SUMMARY:Conference / Symposium:Computing our way out of a pandemic: modeling in the face of COVID-19
DESCRIPTION:The COVID-19 pandemic has produced massive amounts of information that require an accurate analysis to predict outcomes and design solutions rapidly. It also has required experts from many different backgrounds to rally around in the quest for rapid responses in the race to save lives.\n\nMany of the most prominent of these researchers are from Michigan\, and a significant number of them are computational scientists who addressed questions such as: What measures should be taken to minimize contagion? Is it safe to ride a bus? How are supply and demand chains being affected?\n\nThis virtual symposium will bring together researchers from the State of Michigan to share their past and future insights into the pandemic.\n\nThis is a free Zoom event\, open to the general public. Please register to attend: https://umich.zoom.us/webinar/register/WN_47ZZyf_ZTFqwef3kd8icsg\n\nCheck out the event website for more event details + agenda: https://micde.umich.edu/modeling-covid-19-symposium-2021/
UID:83689-21454211@events.umich.edu
URL:https://events.umich.edu/event/83689
CLASS:PUBLIC
STATUS:CONFIRMED
CATEGORIES:Engineering,Epidemiology,Health Data,high performance computing,Interdisciplinary,Public Health,Research,symposium
LOCATION:Off Campus Location - Register for Zoom details
CONTACT:
END:VEVENT
BEGIN:VEVENT
DTSTAMP:20210504T161659
DTSTART;TZID=America/Detroit:20210506T090000
DTEND;TZID=America/Detroit:20210506T163000
SUMMARY:Conference / Symposium:MICDE and The School of Public Health present: Computing our way out of a pandemic: Modeling in the face of COVID-19
DESCRIPTION:This virtual symposium will bring together researchers from the State of Michigan to share their past and future insights into the pandemic.\n\n“Researchers from the University of Michigan and around the state have used their expertise to inform our society’s pandemic response at the global\, national\, state and local levels. A critical aspect of this work has been the use of mathematical\, computational and statistical models to guide decision-making and help us decide how to best confront this terrible virus. This symposium will allow us to learn about the amazing work that has been done to date to develop and apply computational models for COVID-19 response. “ \n- University of Michigan President Mark S. Schlissel\n\nFeaturing Complex Systems Faculty Member Panelists:\nMarisa Eisenberg (Co-organizer)\nLuis Zaman\nCarl Simon (Emeritus)\n\nand CSCS Affiliated Faculty Members:\nJoe Eisenberg\nJames Koopman (Emeritus)\n\nRegistration Required - see event link.
UID:83711-21475669@events.umich.edu
URL:https://events.umich.edu/event/83711
CLASS:PUBLIC
STATUS:CONFIRMED
CATEGORIES:Biosciences,Complex Systems Modelling,Modeling,Natural Sciences,school of public health,The College Of Literature\, Science\, And The Arts
LOCATION:Off Campus Location
CONTACT:
END:VEVENT
BEGIN:VEVENT
DTSTAMP:20210503T100235
DTSTART;TZID=America/Detroit:20210506T100000
DTEND;TZID=America/Detroit:20210506T160000
SUMMARY:Well-being:Get Vaccinated Against COVID-19 at Michigan Stadium
DESCRIPTION:Michigan Medicine is making COVID-19 vaccination available to anyone over the age of 16 on a walk-in basis at Michigan Stadium\, in the Jack Roth Stadium Club overlooking the field. \n\nFirst and second doses of Pfizer vaccine are available\, and no appointment or history of receiving treatment at Michigan Medicine is needed. \n\nFor full details\, including information on how to set up a Medical Record Number for those who have not been to a Michigan Medicine clinic or hospital before\, and important information for those seeking second doses\, visit \nhttps://www.uofmhealth.org/coronavirus/vaccine-info-update \n\nDirections on where to park and how to enter the stadium and reach the club level where vaccinations are being given: https://www.uofmhealth.org/coronavirus/vaccination-appointment\n\nPeople who are under 18 need parental consent in person or over the phone.
UID:83955-21619195@events.umich.edu
URL:https://events.umich.edu/event/83955
CLASS:PUBLIC
STATUS:CONFIRMED
CATEGORIES:Medicine,Public Health
LOCATION:Michigan Stadium - Jack Roth Club Level
CONTACT:
END:VEVENT
BEGIN:VEVENT
DTSTAMP:20210311T134753
DTSTART;TZID=America/Detroit:20210506T100000
DTEND;TZID=America/Detroit:20210506T113000
SUMMARY:Lecture / Discussion:Tracking Hemispheric Violence through the Experiences of Nicaraguan Refugees
DESCRIPTION:This lecture will be live streamed.\n\nIn 2018\, the Nicaraguan government repressed mass protests\, forcing some 100\,000 people into political exile. This lecture examines the experiences of refugees who fled to Costa Rica and the United States as an entry point for understanding webs of hemispheric violence rooted in capitalist accumulation and regional security and immigration policy. Refugees’ stories suggest that dominant narratives about the crisis elide the root causes of violence and any real vision of a more just future for the Americas.\n\nOur speaker\, Jennifer Goett is Associate Professor of Comparative Cultures and Politics at Michigan State University and author of Black Autonomy: Race\, Gender\, and Afro-Nicaraguan Activism (Stanford 2016). Her work examines grassroots social movements\, state violence\, land dispossession\, and infrastructure megaprojects in Central America. Her most recent project focuses on Nicaraguan asylum seekers in Costa Rica and the United States. In addition\, she works as a pro bono expert witness for asylum cases in U.S. immigration court.\n\nThis is the fourth a six-lecture series. The subject of the series is Central America: Coffee to Caravans. The next lecture will occur May 11\, 2021. The title is: Economic Profile of Central America. Learn from well-known experts about an array of interesting subjects\, with an interactive Q&A period following each lecture.\n\nPreregistration is required via the OLLI website or phone.  A link to access the lecture will be e-mailed to you approximately one week prior to the first session.
UID:82951-21227219@events.umich.edu
URL:https://events.umich.edu/event/82951
CLASS:PUBLIC
STATUS:CONFIRMED
CATEGORIES:Central America,lifelong learning,retirement,Violence
LOCATION:Off Campus Location
CONTACT:
END:VEVENT
BEGIN:VEVENT
DTSTAMP:20210421T180423
DTSTART;TZID=America/Detroit:20210506T113000
DTEND;TZID=America/Detroit:20210506T123000
SUMMARY:Livestream / Virtual:Virtual Michigan Medicine Community Conversation
DESCRIPTION:Community Conversation is an opportunity for faculty\, staff and student to come together weekly to engage on meaningful ways to increase belonging at Michigan Medicine. We feel that it is important to carve out space for dialogue\, provide support for one another\, promote self-care\, and share valuable resources. The sessions are designed for space to hear your voice and all are welcome!\n\nhttps://ohei.med.umich.edu/events
UID:83712-21475676@events.umich.edu
URL:https://events.umich.edu/event/83712
CLASS:PUBLIC
STATUS:CONFIRMED
CATEGORIES:Diversity,Michigan Medicine Diversity
LOCATION:Off Campus Location
CONTACT:
END:VEVENT
BEGIN:VEVENT
DTSTAMP:20210422T132436
DTSTART;TZID=America/Detroit:20210506T120000
DTEND;TZID=America/Detroit:20210506T133000
SUMMARY:Film Screening:Race - The Power of an Illusion
DESCRIPTION:Join us for live screenings of award-winning documentary series Race - The Power of an Illusion. Each event will screen a one-hour-long episode\, and then host a 30-minute live streamed panel discussion.\n\nThursday May 6\, 12PM - 1:30PM ET\nPart 1: “The difference between us”\n\nThursday May 20\, 12PM - 1:30PM ET\nPart 2: “The story we tell”\n\nThursday June 3\, 12PM-1:30PM ET\nPart 3: “The house we live in”\n\nFor more information on the webinars\, invited panelists\, and registration link\, please visit https://iaphs.org/race-the-power-of-an-illusion/ . Here are more resources to help with discussions: https://www.racepowerofanillusion.org/\n\nRegistration is open to all\, free of charge.
UID:83854-21555865@events.umich.edu
URL:https://events.umich.edu/event/83854
CLASS:PUBLIC
STATUS:CONFIRMED
CATEGORIES:Activism,African American,Culture,Digital Media,Discussion,Diversity,Film,Free,History,Human Rights,Humanities,Inequality,Media,Online,Panel,Psychology,Public Health,Public Policy,Research,Social,Social Impact,Social Justice,Social Sciences,Sociology,Survey Research,Virtual,Visual Arts,Webcast,Webinar
LOCATION:Off Campus Location
CONTACT:
END:VEVENT
BEGIN:VEVENT
DTSTAMP:20210506T120852
DTSTART;TZID=America/Detroit:20210506T140000
DTEND;TZID=America/Detroit:20210506T153000
SUMMARY:Meeting:CoderSpaces (Thursdays)
DESCRIPTION:Are you grappling with a piece of code\, trying to compute on a cluster\, or just getting started with a new method such as machine learning? Then we might have just the right space for you.\n\nAll members of the U-M community are invited to join our weekly virtual CoderSpaces\, Mondays – Thursdays\, during the Summer 2021 term to get research support and connect with others.\n\nThe virtual sessions are designed to assist faculty\, staff\, and students with research methodology\, statistics\, data science applications\, and computational programming for research.\n\nOur hosts have a wide set of methodological and technological expertise. They come to you from a variety of departments and disciplines and are looking forward to serving the U-M community in their research endeavors.\n\nCoderSpaces provide a casual\, productive\, and inclusive environment. Everyone is welcome regardless of skill level.\n\nThursdays 2-3:30 p.m.\nJoin via Zoom* (https://umich.zoom.us/j/99436245948)\n*Users will have to sign in with their UMICH (Level-1) credentials.\n\nwith Bennet Fauber (ARC)\, Bridget Hegarty (CEE)\, Erin Ware (SRC/ISR)\, Kelly Sovacool (DCMB)\n\nExpertise: automation of tasks and workflows\, Bash\, batch scripting\, data management\, Git\, GitHub\, high performance computing\, installing software on University clusters\, Linux\, math for data science\, Python\, R\, R Markdown\, R tidyverse\, SAS\, Slurm\, Snakemake\, statistical modeling
UID:83931-21619146@events.umich.edu
URL:https://events.umich.edu/event/83931
CLASS:PUBLIC
STATUS:CONFIRMED
CATEGORIES:Data Science,Information And Technology,Office Hours
LOCATION:Off Campus Location
CONTACT:
END:VEVENT
BEGIN:VEVENT
DTSTAMP:20210414T183051
DTSTART;TZID=America/Detroit:20210506T140000
DTEND;TZID=America/Detroit:20210506T150000
SUMMARY:Careers / Jobs:Gift of Life Campus Ambassador Program Overview Information Session
DESCRIPTION:At Gift of Life Marrow Registry we believe every person battling blood cancer deserves a second chance at life — and we are determinedto make it happen. We are singularly passionate about engaging the publicto help us get everyone involved in curing blood cancer\, whether as a donor\, a volunteer or a student. It all begins with one remarkable person\,one life-changing swab and one huge win — finding a match and a cure. The Gift of Life Campus Ambassador Program (CAP) enlists students like you for an opportunity to educate your community and peers about how you can make a positive impact on society with a very small act. By reaching out toyour friends\, professors\, classmates and clubs you're involved in\, youhave the potential to speak with many more students than anyone sitting in our offices would. The Gift of Life Campus Ambassador Program offers students three different opportunities based upon their availability and other factors. We offer fellowships\, internships and champion opportunities.
UID:83678-21454189@events.umich.edu
URL:https://events.umich.edu/event/83678
CLASS:PUBLIC
STATUS:CONFIRMED
CATEGORIES:
LOCATION:
CONTACT:
END:VEVENT
BEGIN:VEVENT
DTSTAMP:20210421T080312
DTSTART;TZID=America/Detroit:20210506T150000
DTEND;TZID=America/Detroit:20210506T160000
SUMMARY:Livestream / Virtual:2021 IHPI Director’s Lecture: A Conversation with Dr. Sanjay Gupta
DESCRIPTION:On behalf of IHPI Director John Ayanian\, please join us for a virtual conversation between Dr. Sanjay Gupta\, CNN’s Chief Medical Correspondent\, and Dr. Preeti Malani\, U-M Chief Health Officer and IHPI Member\, focusing on the challenges of communicating evidence-based scientific information during a worldwide health crisis. \n\nViewing link will be emailed to registrants in advance of the event.\n\nHave a question for Dr. Gupta? Email IHPIevents@umich.edu.\n\nTweeting? #ihpi21
UID:83550-21420823@events.umich.edu
URL:https://events.umich.edu/event/83550
CLASS:PUBLIC
STATUS:CONFIRMED
CATEGORIES:Public Health
LOCATION:Off Campus Location
CONTACT:
END:VEVENT
BEGIN:VEVENT
DTSTAMP:20211209T160155
DTSTART;TZID=America/Detroit:20210506T150000
DTEND;TZID=America/Detroit:20210506T160000
SUMMARY:Other:LSA Technology Services Research Support Office Hours
DESCRIPTION:The Research Team within LSA Technology Services is excited to announce virtual office hours for research computing support. These are regularly scheduled times when we will have subject matter experts in geographic information systems\, high performance computing\, digital scholarship\, and computer programming available for drop-in support. Faculty\, staff\, and students with research-related questions pertaining to any of these areas can stop by to ask questions\, get help working through a problem\, or inquire about a new project—no appointment necessary!\n\nNot sure what we can do to help? Read on for more details about the services provided by each of these teams.\n\n*Digital Scholarship*\nOur digital scholarship team specializes in humanities\, social sciences\, and interdisciplinary digital project methods and can provide assistance with:\n* Conceptualizing\, planning\, and finding resources for a digital project\n* How to version\, archive\, and preserve a project\n* Sustainability\, preservation\, accessibility\, privacy\, consent\, or grant requirements\nNew to digital projects? We can also talk about how to demonstrate the scholarly rigor of your digital project\, accurately credit the labor required of the project at every stage\, and how to provide evidence and metrics for promotion and job dossiers.\n\n*Geographic Information Systems (GIS)*\n\nOur GIS specialists can help with your geographic data needs\, including the following:\n* Making maps for use in a class\, grant proposal\, or publication\n* Geospatial analysis: identifying spatial patterns and trends in your data\n* Georeferencing: assigning geographic coordinates to a historic paper map or a hand-drawn sketch for digital use as a basemap or combined display with other data\n* Geocoding: convert a spreadsheet with addresses into latitude-longitude so you can plot your data on a map\n* StoryMaps: harness the power of maps to tell your story\n* Integrating smartphones or tablets and GIS in your field courses or researchSetting up workshops for a class or group interested in learning to use GIS in the context of your discipline\n* Assistance with ESRI's ArcGIS platform\, including ArcGIS Pro and ArcGIS Online\, or other geospatial software\n* Developing your own custom GIS web application or mobile application\n\n*High Performance Computing (HPC)*\n\nOur HPC team can help with:\n* Accessing U-M’s new Great Lakes HPC (High Performance Computing) cluster\n* Moving your computational work from your laptop or workstation to the cluster\, freeing up your machines for other tasks\n* Compiling\, installing\, or configuring a wide range of computational software\n* Setting up automated workflows to save time\n* Debugging your programs to see why they are crashing\n* Evaluating the benefits of parallel computing\, more memory or system resources for your code\nWe regularly support Python\, R\, MATLAB\, C/C++\, Java\, Julia\, Go\, and many other applications.\n\n*Research Support Programming*\n\nOur computer programming team can help with any of the following:\n\n* Debugging\, repair\, and improvements or upgrades to your existing code\n* References to training and coding resources to assist in your project\n* Design and development of custom software to support your research\n* Incorporation of lab-specific hardware into custom software applications.\n* Writing funding for any of the above into your grant proposals\nWe're experienced in MATLAB\, Python\, R\, LabVIEW\, JavaScript\, MedPC\, iOS development\, and more.\n\nWho can join the office hours?\nLSA Faculty\, staff\, and students with research-related questions on geographic information systems\, high performance computing\, digital scholarship\, and computer programming\n\nWhen and where is it?\nOur virtual office hours use Zoom:\nMondays\, 2:00–3:00 P.M.\nTuesdays\, 10:00–11:00 A.M.\nThursdays\, 3:00–4:00 P.M.
UID:77718-20270797@events.umich.edu
URL:https://events.umich.edu/event/77718
CLASS:PUBLIC
STATUS:CONFIRMED
CATEGORIES:Digital Humanities,Digital Projects,Digital Scholarship,Faculty,Gis,Graduate Students,Humanities,Lsa,Office Hours,Postdoctoral Research Fellows,Qualitative Social Sciences,research,Science,Virtual
LOCATION:Off Campus Location
CONTACT:
END:VEVENT
BEGIN:VEVENT
DTSTAMP:20210723T121140
DTSTART;TZID=America/Detroit:20210506T160000
DTEND;TZID=America/Detroit:20210506T163000
SUMMARY:Livestream / Virtual:Enjoy the Planetarium from Home!
DESCRIPTION:A thirty-minute\, lighthearted review of the current night sky\, including constellations\, visible planets\, and other current astronomical events. Short Q&A session follows.\n\nGroups of 7 or more should consider booking a private show for the best experience.
UID:82986-21530353@events.umich.edu
URL:https://events.umich.edu/event/82986
CLASS:PUBLIC
STATUS:CONFIRMED
CATEGORIES:Children,Family,natural history museum,UMMA,Virtual
LOCATION:Off Campus Location
CONTACT:
END:VEVENT
BEGIN:VEVENT
DTSTAMP:20210415T123043
DTSTART;TZID=America/Detroit:20210506T170000
DTEND;TZID=America/Detroit:20210506T183000
SUMMARY:Ceremony / Service:Master's and Doctoral Graduates Virtual Commencement Celebration
DESCRIPTION:A virtual commencement celebration in honor of the 2019-2020 and 2020-2021 Master's and Doctoral graduates in the Department of Psychology. Commencement is an important milestone and a well-deserved acknowledgement of the hard work required to earn a Michigan Master's or Doctoral degree. This special online event will include live speeches\, recognition of our graduates\, and presentation of awards.
UID:83766-21501083@events.umich.edu
URL:https://events.umich.edu/event/83766
CLASS:PUBLIC
STATUS:CONFIRMED
CATEGORIES:Commencement
LOCATION:Off Campus Location
CONTACT:
END:VEVENT
END:VCALENDAR