BEGIN:VCALENDAR
VERSION:2.0
PRODID:-//UM//UM*Events//EN
CALSCALE:GREGORIAN
BEGIN:VTIMEZONE
TZID:America/Detroit
TZURL:http://tzurl.org/zoneinfo/America/Detroit
X-LIC-LOCATION:America/Detroit
BEGIN:DAYLIGHT
TZOFFSETFROM:-0500
TZOFFSETTO:-0400
TZNAME:EDT
DTSTART:20070311T020000
RRULE:FREQ=YEARLY;BYMONTH=3;BYDAY=2SU
END:DAYLIGHT
BEGIN:STANDARD
TZOFFSETFROM:-0400
TZOFFSETTO:-0500
TZNAME:EST
DTSTART:20071104T020000
RRULE:FREQ=YEARLY;BYMONTH=11;BYDAY=1SU
END:STANDARD
END:VTIMEZONE
BEGIN:VEVENT
DTSTAMP:20210509T000002
DTSTART;TZID=America/Detroit:20210508T000000
DTEND;TZID=America/Detroit:20210508T235959
SUMMARY:Other:Jefferson Dad Vail Regatta
DESCRIPTION:Race
UID:83970-21619353@events.umich.edu
URL:https://events.umich.edu/event/83970
CLASS:PUBLIC
STATUS:CONFIRMED
CATEGORIES:
LOCATION:Schuylkill River
CONTACT:
END:VEVENT
BEGIN:VEVENT
DTSTAMP:20210430T095709
DTSTART;TZID=America/Detroit:20210508T080000
DTEND;TZID=America/Detroit:20210508T230000
SUMMARY:Careers / Jobs:Changing Gears Application Open
DESCRIPTION:Learn more about the Changing Gears Program and apply at: myumi.ch/uropcg\n\nChanging Gears (CG) is a UROP program designed primarily for community college transfer students who will be attending the University of Michigan\, but also serves students transferring from 4 year institutions. Students in the CG Program become a part of an ongoing faculty-driven research\, scholarly or creative project in their field of interest. Students learn valuable academic skills\, applying these skills to their research project\, academics\, and future career opportunities\, while receiving academic credit or compensation for their efforts in research work.\n\nIf you are a U-M Transfer Student and not graduating until winter 2022 and/or after\, you are eligible to apply to the 2021-2022 UROP Changing Gears Program.
UID:83922-21616904@events.umich.edu
URL:https://events.umich.edu/event/83922
CLASS:PUBLIC
STATUS:CONFIRMED
CATEGORIES:AEM Featured,first-generation,Free,Interdisciplinary,Networking,Office Hours,Research,Transfer Students,Undergraduate,Undergraduate Students,Urop
LOCATION:Off Campus Location
CONTACT:
END:VEVENT
BEGIN:VEVENT
DTSTAMP:20220502T122639
DTSTART;TZID=America/Detroit:20210508T080000
DTEND;TZID=America/Detroit:20210508T230000
SUMMARY:Careers / Jobs:UROP First-Year Application Open
DESCRIPTION:Our \"Traditional UROP Program\" has been our flagship program running over 30 years. This Academic Year program\, in which students participate for both Fall and Winter Terms\, is designed for University of Michigan first and second year undergraduate students enrolled on the Ann Arbor campus who are seeking a first time research experience. Student research assistants work alongside a faculty member\, research scientist or professional practitioner on an ongoing or new research project.\n\nLearn more and apply at: myumi.ch/uropyearone\n\nApplications being accepted on a rolling basis.
UID:83923-21617023@events.umich.edu
URL:https://events.umich.edu/event/83923
CLASS:PUBLIC
STATUS:CONFIRMED
CATEGORIES:AEM Featured,Applications,first-generation,Free,Interdisciplinary,Networking,Research,Undergraduate,Undergraduate Students,Urop
LOCATION:Undergraduate Science Building
CONTACT:
END:VEVENT
BEGIN:VEVENT
DTSTAMP:20210804T182828
DTSTART;TZID=America/Detroit:20210508T080000
DTEND;TZID=America/Detroit:20210508T230000
SUMMARY:Careers / Jobs:UROP Research Scholars Application now open
DESCRIPTION:The UROP Research Scholars Program is designed for students who want to expand on their first year UROP experience and participate in UROP for a second year at an advanced level. In this program\, students build upon the knowledge gained in a first undergraduate research experience to further explore the connections between research\, a liberal arts education\, and communicating skills to advance their future professional goals. Students are expected to explore various written and oral possibilities for communicating their research process\, identifying the limits set by the discipline and the opportunities that lie beyond.\n\nApply at: https://myumi.ch/uroprs
UID:82067-21014922@events.umich.edu
URL:https://events.umich.edu/event/82067
CLASS:PUBLIC
STATUS:CONFIRMED
CATEGORIES:AEM Featured,Applications,Free,Interdisciplinary,Research,Undergraduate,Undergraduate Students,Urop
LOCATION:Off Campus Location
CONTACT:
END:VEVENT
BEGIN:VEVENT
DTSTAMP:20210714T155619
DTSTART;TZID=America/Detroit:20210508T080000
DTEND;TZID=America/Detroit:20210508T230000
SUMMARY:Careers / Jobs:UROP Rising Sophomore Applications Open
DESCRIPTION:The Undergraduate Research Opportunity Program is now accepting applications for students who will be rising sophomores during the 2021-2022 academic year. \n\nLearn more and apply today at http://myumi.ch/uropsophomore\n\nRising Sophomore Applications are being accepted on a rolling basis.
UID:80546-21203389@events.umich.edu
URL:https://events.umich.edu/event/80546
CLASS:PUBLIC
STATUS:CONFIRMED
CATEGORIES:AEM Featured,Applications,first-generation,Free,Research,Sophomore,Undergraduate,Undergraduate Students,Urop
LOCATION:Off Campus Location
CONTACT:
END:VEVENT
BEGIN:VEVENT
DTSTAMP:20210429T101700
DTSTART;TZID=America/Detroit:20210508T090000
DTEND;TZID=America/Detroit:20210508T150000
SUMMARY:Workshop / Seminar:Grade 6-14 Teacher Workshop: “Biblical Women Across Abrahamic Religions”
DESCRIPTION:In this virtual workshop\, educators will learn about key biblical women in Abrahamic religions across regions of the world\, with special emphasis on the figure of Mary\, from scholars distinguished in their respective fields.\n   \n   To gain a full understanding of this subject\, attendance throughout the workshop is encouraged\, but not required. Michigan educators are eligible for SCECH credits.\n   \n   Schedule (in Eastern Times):\n   \n   9:00-10:00 am: Women in the Hebrew Bible\n   10:00 - 11:00 am: Mary in Islam (across regions)\n   11:00 - 11:15 am: Break\n   11:15 am - 12:15 pm: Catholic Mary in Southeast Asia\n   12:15 - 1:00 pm: Lunch Break\n   1:00 pm - 2:00 pm: Mary in Latin America\n   2:00-3:00 pm: How to Teach this New Content\n\nAttendance is free\, but registration is required. Go to: https://myumi.ch/PlwQM\n\nRegister now\, as capacity is limited!\n   \n“Biblical Women Across Abrahamic Religions” is funded in part by four Title VI National Resource Center grants from the US Department of Education.\n\nFor additional info and speaker bios:\nhttps://docs.google.com/document/d/1AB3wf3TDmVMZyvCrOpc91iBYTyixqkRKnbb6xFMdLOU/edit?usp=sharing\n\nCo-sponsors: Center for Southeast Asian Studies\, Center for South Asian Studies\, Center for Middle Eastern & North African Studies\, Center for Latin American and Caribbean Studies\, International Institute\, the Center for Education Design\, Evaluation\, & Research\, at the University of Michigan-Ann Arbor.
UID:83903-21609072@events.umich.edu
URL:https://events.umich.edu/event/83903
CLASS:PUBLIC
STATUS:CONFIRMED
CATEGORIES:Virtual,Workshop
LOCATION:Off Campus Location
CONTACT:
END:VEVENT
BEGIN:VEVENT
DTSTAMP:20210503T100235
DTSTART;TZID=America/Detroit:20210508T100000
DTEND;TZID=America/Detroit:20210508T160000
SUMMARY:Well-being:Get Vaccinated Against COVID-19 at Michigan Stadium
DESCRIPTION:Michigan Medicine is making COVID-19 vaccination available to anyone over the age of 16 on a walk-in basis at Michigan Stadium\, in the Jack Roth Stadium Club overlooking the field. \n\nFirst and second doses of Pfizer vaccine are available\, and no appointment or history of receiving treatment at Michigan Medicine is needed. \n\nFor full details\, including information on how to set up a Medical Record Number for those who have not been to a Michigan Medicine clinic or hospital before\, and important information for those seeking second doses\, visit \nhttps://www.uofmhealth.org/coronavirus/vaccine-info-update \n\nDirections on where to park and how to enter the stadium and reach the club level where vaccinations are being given: https://www.uofmhealth.org/coronavirus/vaccination-appointment\n\nPeople who are under 18 need parental consent in person or over the phone.
UID:83955-21619197@events.umich.edu
URL:https://events.umich.edu/event/83955
CLASS:PUBLIC
STATUS:CONFIRMED
CATEGORIES:Medicine,Public Health
LOCATION:Michigan Stadium - Jack Roth Club Level
CONTACT:
END:VEVENT
BEGIN:VEVENT
DTSTAMP:20210407T173538
DTSTART;TZID=America/Detroit:20210508T103000
DTEND;TZID=America/Detroit:20210508T173000
SUMMARY:Conference / Symposium:Space Symposium 2021
DESCRIPTION:The 2021 virtual Space Symposium is a two-day event planned by the Students for the Exploration and Development of Space at U-M (SEDS@UM) with the goal of demonstrating the space-related projects students and faculty at the University of Michigan are working on. SEDS has invited professors\, research labs\, industry professionals\, and student project teams to talk about their experiences working on space exploration related fields. The primary goal of this event is to showcase and bring attention to the work being done by University of Michigan students and labs on space related projects. Learn more by visiting the event website at https://seds.engin.umich.edu/space-symposium.\n\nRegister through Eventbrite and add yourself to the event Slack workspace to receive the Zoom link for the event. We hope to see you there! \n\nIf you have any questions\, contact umss-2021@umich.edu.
UID:83575-21430602@events.umich.edu
URL:https://events.umich.edu/event/83575
CLASS:PUBLIC
STATUS:CONFIRMED
CATEGORIES:Astronomy,Engineering,Free,Graduate,Michigan Engineering,Professional Development,Student Org,symposium,Undergraduate Students,Virtual
LOCATION:Off Campus Location
CONTACT:
END:VEVENT
BEGIN:VEVENT
DTSTAMP:20210505T093828
DTSTART;TZID=America/Detroit:20210508T120000
DTEND;TZID=America/Detroit:20210508T235900
SUMMARY:Performance:Cox and Box & Trial By Jury
DESCRIPTION:The University of Michigan Gilbert & Sullivan Society proudly presents its first online productions\, a double bill of Cox and Box\, written by F.C. Burnand and Sir Arthur Sullivan\, and Trial By Jury\, by Sir William Gilbert and Sir Arthur Sullivan. The productions feature amazing casts of international performers. The ticket date purchased will grant access to a unique YouTube link which will be available for viewing from 12:00 p.m.-11:59 p.m. Eastern Standard Time. Be a part of a groundbreaking new performance endeavor by the oldest student run Gilbert & Sullivan Society in the U.S.\n\nIMPORTANT: A private YouTube access link will be emailed to you before the performance via Michigan Union Ticket Office through EventBrite.\nFor orders placed after 8 p.m. of your show date\, you must email\nmuto-tix@umich.edu for your link.Otherwise\, for purchases less than 24 hours prior to the show\, your link will be emailed at 11 a.m. and 8 p.m. the day of the show\,\nand for purchases for a later date\, your link will be emailed to you 1 day prior to the show date.
UID:83221-21314497@events.umich.edu
URL:https://events.umich.edu/event/83221
CLASS:PUBLIC
STATUS:CONFIRMED
CATEGORIES:Virtual
LOCATION:Off Campus Location
CONTACT:
END:VEVENT
BEGIN:VEVENT
DTSTAMP:20210503T113531
DTSTART;TZID=America/Detroit:20210508T140000
DTEND;TZID=America/Detroit:20210508T150000
SUMMARY:Livestream / Virtual:Virtual Saturday Sampler Tour | Animals in the Kelsey
DESCRIPTION:Saturday Sampler tours are back! We've missed you and are thrilled to be offering our Saturday Sampler tours virtually. Join us over Zoom to explore the Kelsey Museum from the comfort of your home.\n\nThe theme of this week's tour is \"Animals in the Kelsey.\"\nAnimals abound in the art and artifacts of the ancient Near East\, Greece\, Egypt\, and Rome. On this guided tour\, learn more about different aspects of animals in antiquity. We'll take a look at animal-themed artifacts in the Kelsey and ask: Was that animal food? A laborer? A pet? A sacrificial victim? We'll also discuss what kinds of animals were symbols of power and strength\, and the meanings different animals had in the ancient world.\n\nZoom link:\nhttps://umich.zoom.us/j/98615763784
UID:83591-21432583@events.umich.edu
URL:https://events.umich.edu/event/83591
CLASS:PUBLIC
STATUS:CONFIRMED
CATEGORIES:Archaeology,Free
LOCATION:Off Campus Location
CONTACT:
END:VEVENT
END:VCALENDAR