BEGIN:VCALENDAR
VERSION:2.0
PRODID:-//UM//UM*Events//EN
CALSCALE:GREGORIAN
BEGIN:VTIMEZONE
TZID:America/Detroit
TZURL:http://tzurl.org/zoneinfo/America/Detroit
X-LIC-LOCATION:America/Detroit
BEGIN:DAYLIGHT
TZOFFSETFROM:-0500
TZOFFSETTO:-0400
TZNAME:EDT
DTSTART:20070311T020000
RRULE:FREQ=YEARLY;BYMONTH=3;BYDAY=2SU
END:DAYLIGHT
BEGIN:STANDARD
TZOFFSETFROM:-0400
TZOFFSETTO:-0500
TZNAME:EST
DTSTART:20071104T020000
RRULE:FREQ=YEARLY;BYMONTH=11;BYDAY=1SU
END:STANDARD
END:VTIMEZONE
BEGIN:VEVENT
DTSTAMP:20210430T095709
DTSTART;TZID=America/Detroit:20210510T080000
DTEND;TZID=America/Detroit:20210510T230000
SUMMARY:Careers / Jobs:Changing Gears Application Open
DESCRIPTION:Learn more about the Changing Gears Program and apply at: myumi.ch/uropcg\n\nChanging Gears (CG) is a UROP program designed primarily for community college transfer students who will be attending the University of Michigan\, but also serves students transferring from 4 year institutions. Students in the CG Program become a part of an ongoing faculty-driven research\, scholarly or creative project in their field of interest. Students learn valuable academic skills\, applying these skills to their research project\, academics\, and future career opportunities\, while receiving academic credit or compensation for their efforts in research work.\n\nIf you are a U-M Transfer Student and not graduating until winter 2022 and/or after\, you are eligible to apply to the 2021-2022 UROP Changing Gears Program.
UID:83922-21616906@events.umich.edu
URL:https://events.umich.edu/event/83922
CLASS:PUBLIC
STATUS:CONFIRMED
CATEGORIES:AEM Featured,first-generation,Free,Interdisciplinary,Networking,Office Hours,Research,Transfer Students,Undergraduate,Undergraduate Students,Urop
LOCATION:Off Campus Location
CONTACT:
END:VEVENT
BEGIN:VEVENT
DTSTAMP:20220502T122639
DTSTART;TZID=America/Detroit:20210510T080000
DTEND;TZID=America/Detroit:20210510T230000
SUMMARY:Careers / Jobs:UROP First-Year Application Open
DESCRIPTION:Our \"Traditional UROP Program\" has been our flagship program running over 30 years. This Academic Year program\, in which students participate for both Fall and Winter Terms\, is designed for University of Michigan first and second year undergraduate students enrolled on the Ann Arbor campus who are seeking a first time research experience. Student research assistants work alongside a faculty member\, research scientist or professional practitioner on an ongoing or new research project.\n\nLearn more and apply at: myumi.ch/uropyearone\n\nApplications being accepted on a rolling basis.
UID:83923-21617025@events.umich.edu
URL:https://events.umich.edu/event/83923
CLASS:PUBLIC
STATUS:CONFIRMED
CATEGORIES:AEM Featured,Applications,first-generation,Free,Interdisciplinary,Networking,Research,Undergraduate,Undergraduate Students,Urop
LOCATION:Undergraduate Science Building
CONTACT:
END:VEVENT
BEGIN:VEVENT
DTSTAMP:20210804T182828
DTSTART;TZID=America/Detroit:20210510T080000
DTEND;TZID=America/Detroit:20210510T230000
SUMMARY:Careers / Jobs:UROP Research Scholars Application now open
DESCRIPTION:The UROP Research Scholars Program is designed for students who want to expand on their first year UROP experience and participate in UROP for a second year at an advanced level. In this program\, students build upon the knowledge gained in a first undergraduate research experience to further explore the connections between research\, a liberal arts education\, and communicating skills to advance their future professional goals. Students are expected to explore various written and oral possibilities for communicating their research process\, identifying the limits set by the discipline and the opportunities that lie beyond.\n\nApply at: https://myumi.ch/uroprs
UID:82067-21014924@events.umich.edu
URL:https://events.umich.edu/event/82067
CLASS:PUBLIC
STATUS:CONFIRMED
CATEGORIES:AEM Featured,Applications,Free,Interdisciplinary,Research,Undergraduate,Undergraduate Students,Urop
LOCATION:Off Campus Location
CONTACT:
END:VEVENT
BEGIN:VEVENT
DTSTAMP:20210714T155619
DTSTART;TZID=America/Detroit:20210510T080000
DTEND;TZID=America/Detroit:20210510T230000
SUMMARY:Careers / Jobs:UROP Rising Sophomore Applications Open
DESCRIPTION:The Undergraduate Research Opportunity Program is now accepting applications for students who will be rising sophomores during the 2021-2022 academic year. \n\nLearn more and apply today at http://myumi.ch/uropsophomore\n\nRising Sophomore Applications are being accepted on a rolling basis.
UID:80546-21203391@events.umich.edu
URL:https://events.umich.edu/event/80546
CLASS:PUBLIC
STATUS:CONFIRMED
CATEGORIES:AEM Featured,Applications,first-generation,Free,Research,Sophomore,Undergraduate,Undergraduate Students,Urop
LOCATION:Off Campus Location
CONTACT:
END:VEVENT
BEGIN:VEVENT
DTSTAMP:20210422T133837
DTSTART;TZID=America/Detroit:20210510T120000
DTEND;TZID=America/Detroit:20210510T170000
SUMMARY:Conference / Symposium:2021 BME Symposium
DESCRIPTION:To register please see:\nhttps://myumi.ch/r8GzZ\n\nThe 2021 BME symposium will showcase our work in the areas of Imaging\, Neural Engineering\, Regenerative Medicine\, and Precision Health. The event will take place over two days in the afternoons of Monday\, May 10\, 12:00 PM - 5:00 PM\, and Tuesday\, May 11\, 12:00 PM - 5:00 PM. Each afternoon will include faculty talks\, mini student dissertations\, a panel discussion\, and student poster sessions.\n\nThe goal of this event is to bring together faculty and students affiliated with BME from all parts of campus as a step toward building the BME community and celebrating accomplishments through difficult times while having an eye toward the future.\n\nPlease sign up and join us!\n\n2021 U-M BME Symposium\n\n \n \nMay 10\, 2021: 12:00 PM - 5:00 PM\n \n \nImaging at UM\n \n May 10\, 2021 - 12:00pm - 1:30pm\n Location: Virtual/Zoom\n Livestream Available (Visible After Registration)\n \nModerator: Doug Noll\n12:00 - 12:15 - Zhongming Liu\, “Preclinical MRI of brain-gut interactions”\n12:15 - 12:30 - Nicole Seiberlich\, “Translating Quantitative MRI to the Clinic”\n12:30 - 12:45 - Yannis Paulus\, “Multimodal Photoacoustic Microscopy\, OCT\, and Fluorescence Molecular and Cellular Imaging of the Retina”\n12:45 - 1:05 - Student Dissertations\n1:05 - 1:30 - Panel Discussion - “The Future of Imaging Research at Michigan” - Vikas Gulani\, Jeff Fessler\, Cheri Deng\, Zhen Xu\, Xueding Wang\n \n\nNeural Engineering at UM\n \n May 10\, 2021 - 2:00pm - 3:30pm\n Location: Virtual/Zoom\n Livestream Available (Visible After Registration)\n \nModerator: Jim Weiland\n2:00 - 2:15 - Kamran Diba\, TBD\n2:15 - 2:30 - Scott Lempka\, TBD\n2:30 - 2:45 - Deanna Gates\, TBD\n2:45 - 3:05 - Student Dissertations\n3:05 - 3.30 - Panel Discussion - “The Science Fiction Future of Neural Engineering” - Cindy Chestek\, Parag Patil\, Tim Bruns\, Bill Stacey\n \n\nPoster Session: Imaging & Neural Engineering\n \n May 10\, 2021 - 4:00pm - 5:00pm\n Location: Virtual/Spatial Chat\n\nThis poster session will give BME students a chance to present and discuss their research in the areas of Imaging and Neural Engineering.\n \n \nMay 11\, 2021: 12:00 PM - 5:00 PM\n \n\nRegenerative Medicine at UM\n \n May 11\, 2021 - 12:00pm - 1:30pm\n Location: Virtual/Zoom\n Livestream Available (Visible After Registration)\n \nModerator: Lonnie Shea \n12:00 - 12:15 - Carlos Aguilar\, ”Understanding & Re-Writing Stem Cell Programs to Live Forever.”\n12:15 - 12:30 - Idse Heemskerk\, “Predicting cell fate from signaling history in human pluripotent stem cells”\n12:30 - 12:45 - Ariella Shikanov\, TBD\n12:45 - 1:05 - Student Dissertations\n1:05 - 1:30 - Panel Discussion - \"Grand Challenges in Regenerative Medicine\" - Dave Kohn\n \n \nPrecision Health at UM\n \n May 11\, 2021 - 2:00pm - 3:30pm\n Location: Virtual/Zoom\n Livestream Available (Visible After Registration)\n \nModerator: TBD\n2:00 - 2:15 - Sriram Chandrasekharan\, TBD\n2:15 - 2: 30 - James Moon\, TBD\n2:30 - 2:45 - Deepak Nagrath\, TBD\n2:45 - 3:05 - Student Dissertations\n3:05 - 3:30 - Panel Discussion - \"Hope or Hype for Treating Diseases\" - James Moon\, Sriram Chandrasekharan\, Deepak Nagrath\n \n\n\nPoster Session: Regenerative Medicine & Precision Health\n \n\n May 11\, 2021 - 4:00pm - 5:00pm\n Location: Virtual/Spatial Chat\n \n\nThis poster session will give BME students a chance to present and discuss their research in the areas of Regenerative Medicine and Precision Health.
UID:82858-21203302@events.umich.edu
URL:https://events.umich.edu/event/82858
CLASS:PUBLIC
STATUS:CONFIRMED
CATEGORIES:Basic Science,Biointerfaces,Biology,biomedical,biomedical engineering,Bioninterfaces,Biosciences,Biotechnology,bme,engineer,engineering,Life Science,Medicine,Michigan Engineering
LOCATION:Off Campus Location
CONTACT:
END:VEVENT
BEGIN:VEVENT
DTSTAMP:20210419T074519
DTSTART;TZID=America/Detroit:20210510T120000
DTEND;TZID=America/Detroit:20210510T130000
SUMMARY:Workshop / Seminar:From Medical Image to Icon: How Art Can Heal a Broken Body
DESCRIPTION:Devan Stahl is an Assistant Professor of Bioethics in the Department of Religion at Baylor University. Her research interests include disability ethics\, medicine and the visual arts\, and theological bioethics. Dr. Stahl’s last book\, Imaging and Imagining Illness: Becoming Whole in a Broken Body is an edited volume examining the power of medical images on the experience of chronic illness and disability.\n\nAbstract: Many people will first learn they have an illness through a medical image such as an MRI\, but these images often deny the messiness\, ambiguities\, and the identity of the patient who is represented in them. In this presentation\, Devan Stahl explores how medical images have historically revealed the implicit theology of the culture in which they are produced. Today\, a growing number of artists with disabilities are transforming their medical images into works of art\, which raise deeply theological questions concerning what it means to be embodied and how our bodies relate to a transcendent God.
UID:83790-21530352@events.umich.edu
URL:https://events.umich.edu/event/83790
CLASS:PUBLIC
STATUS:CONFIRMED
CATEGORIES:Humanities,Medicine,Nursing,Public Health,Religion,Religious,Social,Social Sciences
LOCATION:Off Campus Location
CONTACT:
END:VEVENT
BEGIN:VEVENT
DTSTAMP:20210305T120032
DTSTART;TZID=America/Detroit:20210510T120000
DTEND;TZID=America/Detroit:20210510T170000
SUMMARY:Careers / Jobs:Training Program in Organogenesis Pre- and Postdoctoral Fellowships - Request for Applications
DESCRIPTION:We are pleased to announce a competition for Pre-doctoral and Non-traditional postdoctoral Fellowships in Organogenesis as part of a NIH T32 Training Grant (Training Program in Organogenesis). The goal of the fellowship awards are to provide up to two years of support for outstanding scholars who wish to undertake a research project in the field of organogenesis.\n \nCriteria used to evaluate all applications include the strength of the mentor and strength of the trainee (as evaluated by letters and CVs)\,  the quality of the research project\, and the degree to which the project fits the goals of the Training Program\, and the Center for Cell Plasticity and Organ Design (CPOD).\n \nThe call for applications are for the following:\n\nNIH T32 Predoctoral Fellowship (applicants must have achieved candidacy by the time of appointment to the training grant)\nDean’s Non-Traditional Postdoctoral Fellowship in Organogenesis (Non-Federally Funded)\nThe non-traditional postdoctoral fellowships are open to non-citizen and non-permanent residents\, and provide partial funding for one (1) year.\n\nMaterials Due: Monday\, May 17\, 2021 5:00 pm Eastern Time. \n\nSubmit to Tamika Mohr at: organogenesis@umich.edu\n\nInstructions and Application templates are attached and are available online at : https://medicine.umich.edu/dept/cpod/training-program\n\nFaculty Mentors: If you are NOT a member of the Organogenesis faculty\, but wish for a trainee in your lab to apply\, you may submit a concurrent application for CPOD membership.
UID:82789-21179558@events.umich.edu
URL:https://events.umich.edu/event/82789
CLASS:PUBLIC
STATUS:CONFIRMED
CATEGORIES:Basic Science,Biology,Biosciences,Research,Science
LOCATION:Off Campus Location
CONTACT:
END:VEVENT
BEGIN:VEVENT
DTSTAMP:20210506T120651
DTSTART;TZID=America/Detroit:20210510T133000
DTEND;TZID=America/Detroit:20210510T150000
SUMMARY:Meeting:CoderSpaces (Mondays)
DESCRIPTION:Are you grappling with a piece of code\, trying to compute on a cluster\, or just getting started with a new method such as machine learning? Then we might have just the right space for you.\n\nAll members of the U-M community are invited to join our weekly virtual CoderSpaces\, Mondays – Thursdays\, during the Summer 2021 term to get research support and connect with others.\n\nThe virtual sessions are designed to assist faculty\, staff\, and students with research methodology\, statistics\, data science applications\, and computational programming for research.\n\nOur hosts have a wide set of methodological and technological expertise. They come to you from a variety of departments and disciplines and are looking forward to serving the U-M community in their research endeavors.\n\nCoderSpaces provide a casual\, productive\, and inclusive environment. Everyone is welcome regardless of skill level.\n\nMondays 1:30-3 p.m.\n\nJoin via Zoom* (https://umich.zoom.us/j/97155787515)\n*Users will have to sign in with their UMICH (Level-1) credentials.\n\nwith Andrew Hlynka (CSCAR)\, Charles Antonelli (LSA Tech)\, Jonathan Golob (Michigan Medicine)\n\nExpertise: 3D graphical applications\, C\, C++\, C#\, CMake/GNU Make\, Fortran\, Git\, high performance computing\, Java\, JavaScript\, Julia\, Matlab\, mobile app development\, MPI\, OpenMP\, parallelization\, performance analysis\, PBS\, Python\, R\, reproducible workflows (nextflow)\, shell\, Slurm\, SQL\, statistical modeling
UID:83925-21619086@events.umich.edu
URL:https://events.umich.edu/event/83925
CLASS:PUBLIC
STATUS:CONFIRMED
CATEGORIES:Arc,Data Science,Information And Technology,Office Hours
LOCATION:Off Campus Location
CONTACT:
END:VEVENT
BEGIN:VEVENT
DTSTAMP:20211209T160155
DTSTART;TZID=America/Detroit:20210510T140000
DTEND;TZID=America/Detroit:20210510T150000
SUMMARY:Other:LSA Technology Services Research Support Office Hours
DESCRIPTION:The Research Team within LSA Technology Services is excited to announce virtual office hours for research computing support. These are regularly scheduled times when we will have subject matter experts in geographic information systems\, high performance computing\, digital scholarship\, and computer programming available for drop-in support. Faculty\, staff\, and students with research-related questions pertaining to any of these areas can stop by to ask questions\, get help working through a problem\, or inquire about a new project—no appointment necessary!\n\nNot sure what we can do to help? Read on for more details about the services provided by each of these teams.\n\n*Digital Scholarship*\nOur digital scholarship team specializes in humanities\, social sciences\, and interdisciplinary digital project methods and can provide assistance with:\n* Conceptualizing\, planning\, and finding resources for a digital project\n* How to version\, archive\, and preserve a project\n* Sustainability\, preservation\, accessibility\, privacy\, consent\, or grant requirements\nNew to digital projects? We can also talk about how to demonstrate the scholarly rigor of your digital project\, accurately credit the labor required of the project at every stage\, and how to provide evidence and metrics for promotion and job dossiers.\n\n*Geographic Information Systems (GIS)*\n\nOur GIS specialists can help with your geographic data needs\, including the following:\n* Making maps for use in a class\, grant proposal\, or publication\n* Geospatial analysis: identifying spatial patterns and trends in your data\n* Georeferencing: assigning geographic coordinates to a historic paper map or a hand-drawn sketch for digital use as a basemap or combined display with other data\n* Geocoding: convert a spreadsheet with addresses into latitude-longitude so you can plot your data on a map\n* StoryMaps: harness the power of maps to tell your story\n* Integrating smartphones or tablets and GIS in your field courses or researchSetting up workshops for a class or group interested in learning to use GIS in the context of your discipline\n* Assistance with ESRI's ArcGIS platform\, including ArcGIS Pro and ArcGIS Online\, or other geospatial software\n* Developing your own custom GIS web application or mobile application\n\n*High Performance Computing (HPC)*\n\nOur HPC team can help with:\n* Accessing U-M’s new Great Lakes HPC (High Performance Computing) cluster\n* Moving your computational work from your laptop or workstation to the cluster\, freeing up your machines for other tasks\n* Compiling\, installing\, or configuring a wide range of computational software\n* Setting up automated workflows to save time\n* Debugging your programs to see why they are crashing\n* Evaluating the benefits of parallel computing\, more memory or system resources for your code\nWe regularly support Python\, R\, MATLAB\, C/C++\, Java\, Julia\, Go\, and many other applications.\n\n*Research Support Programming*\n\nOur computer programming team can help with any of the following:\n\n* Debugging\, repair\, and improvements or upgrades to your existing code\n* References to training and coding resources to assist in your project\n* Design and development of custom software to support your research\n* Incorporation of lab-specific hardware into custom software applications.\n* Writing funding for any of the above into your grant proposals\nWe're experienced in MATLAB\, Python\, R\, LabVIEW\, JavaScript\, MedPC\, iOS development\, and more.\n\nWho can join the office hours?\nLSA Faculty\, staff\, and students with research-related questions on geographic information systems\, high performance computing\, digital scholarship\, and computer programming\n\nWhen and where is it?\nOur virtual office hours use Zoom:\nMondays\, 2:00–3:00 P.M.\nTuesdays\, 10:00–11:00 A.M.\nThursdays\, 3:00–4:00 P.M.
UID:77718-20270704@events.umich.edu
URL:https://events.umich.edu/event/77718
CLASS:PUBLIC
STATUS:CONFIRMED
CATEGORIES:Digital Humanities,Digital Projects,Digital Scholarship,Faculty,Gis,Graduate Students,Humanities,Lsa,Office Hours,Postdoctoral Research Fellows,Qualitative Social Sciences,research,Science,Virtual
LOCATION:Off Campus Location
CONTACT:
END:VEVENT
BEGIN:VEVENT
DTSTAMP:20210414T183028
DTSTART;TZID=America/Detroit:20210510T170000
DTEND;TZID=America/Detroit:20210510T213000
SUMMARY:Careers / Jobs:ADC Bridge to BCG Consulting Workshop - Apply by Mar 30
DESCRIPTION:Bridge to BCG is an immersive workshop designed to help you test-drive the BCG case team experience. Bridge to BCG 2021 will take place virtually from May 10 through May 13 (please note\, this is a change from the previously advertised dates). Programming will take place in the evening to help students balance their work/lab/academic schedules. In addition\, Bridge participants will be invited to optional engagement opportunities occurring throughout May and June.\n\nBridge to BCG 2021 is open to candidates with the below degrees currently attending or associated with a US or Canadian school/hospital. \n\n	* PhDs\, JDs\, and postdocs looking to start full-time with BCG in late 2021 or in 2022 \n	* MD and MD/MBA students\, medical residents/interns\, and practicing physicians looking to startfull-time in late 2021 through 2023 (please note\, practicing physicians with more than 5 years of experience are not eligible for Bridge. Please instead review our full-time experienced professional hiring opportunities here.) \n	* Master’s students that hold a JD\, PhD\, or MD looking to start full-time in late 2021 or in 2022\"\n\nThe deadline to apply to the workshop is March 30\, 2021 at 11:55pm ET.\n
UID:82274-21062644@events.umich.edu
URL:https://events.umich.edu/event/82274
CLASS:PUBLIC
STATUS:CONFIRMED
CATEGORIES:
LOCATION:
CONTACT:
END:VEVENT
BEGIN:VEVENT
DTSTAMP:20201208T142048
DTSTART;TZID=America/Detroit:20210510T180000
DTEND;TZID=America/Detroit:20210510T193000
SUMMARY:Workshop / Seminar:Community Creative Arts Workshop
DESCRIPTION:December 2020 through May 2021
UID:79782-20493910@events.umich.edu
URL:https://events.umich.edu/event/79782
CLASS:PUBLIC
STATUS:CONFIRMED
CATEGORIES:Virtual,Workshop
LOCATION:Off Campus Location
CONTACT:
END:VEVENT
BEGIN:VEVENT
DTSTAMP:20210503T080858
DTSTART;TZID=America/Detroit:20210510T180000
DTEND;TZID=America/Detroit:20210510T213000
SUMMARY:Livestream / Virtual:Nam Center NEKST Graduate Conference | 8th International Conference of NextGen Korean Studies Scholars (NEKST)
DESCRIPTION:Full conference details: https://ii.umich.edu/ncks/news-events/events/conferences---symposia/8th-international-conference-of-nextgen-korean-studies-scholars.html\n\nPlease note: This session will be held virtually EST through Zoom. This webinar is free and open to the public\, but registration is required. Once you've registered the joining information will be sent to your email.\n\nRegister at: https://myumi.ch/R5l2l\n\nThe 8th International Conference of NextGen Korean Studies Scholars (NEKST) which will be held virtually across five days from May 10-14. At the NEKST conference\, graduate students in Korean studies will have the opportunity to share their research\, receive feedback from Korean studies faculty members and other graduate students\, as well as contribute toward building a dynamic\, multidisciplinary community of future Korean studies scholars.\n\nThe five-day conference will feature panel presentations\, workshop sessions for dissertation chapters/advanced papers\, a roundtable discussion session\, a professional development workshop\, and an artist talk. We will host prominent Korean studies faculty members from across disciplines and institutions to serve as discussants\, as well as mentors.\n\nAbout\n\nThe 8th NEKST conference is sponsored by the Nam Center for Korean Studies at the University of Michigan with support from the Academy of Korean Studies. The conference organizing committee is composed of graduate students at the University of Michigan.\n\nNEKST Organizing Committee\n\nGraduate Students\n\nYoungkyun Choi (Committee Chair\; Romance Languages and Literatures)\nYeon-ju Bae (Anthropology)\nCristian Casanova (Public Policy)\nHaely Chang (History of Art)\nJieun Chang (Psychology)\nRey Jeong (Stamps School of Art & Design)\nHojung Joo (Political Science)\nSunhong Kim (School of Music\, Theatre\, and Dance)\nWooseok Kim (Political Science\, Statistics)\nHayeon Lee (Anthropology\, Social Work)\nSamuel Byung-Deuk Lee (Biomechanics)\nWon Park (CSE\, Computer Science)\nSeulgi Son (Urban and Regional Planning)\nCameron White (Asian Languages and Cultures)\nTony Zhang (Electrical and Computer Engineering)\n\nFaculty Advisor\n\nNojin Kwak (Nam Center\, Communication and Media)\n\nPost-Doc Advisor\n\nRory Walsh (Nam Center)\n\nCoordinator\nKelsey Langton (Nam Center)\nEvan Vowell (Nam Center)\n\nFor further information\, please contact NEKST2021@umich.edu and check for updates on this page.\n\nPrevious NEKST Conferences\nInformation about previous NEKST conferences can be found through this link.
UID:83954-21619188@events.umich.edu
URL:https://events.umich.edu/event/83954
CLASS:PUBLIC
STATUS:CONFIRMED
CATEGORIES:Asia,Korea
LOCATION:Off Campus Location
CONTACT:
END:VEVENT
BEGIN:VEVENT
DTSTAMP:20210430T181514
DTSTART;TZID=America/Detroit:20210510T193000
DTEND;TZID=America/Detroit:20210510T203000
SUMMARY:Livestream / Virtual:GRIN Sponsored Conversation with Rackham Dean\, Mike Solomon
DESCRIPTION:In conjunction with Graduate Rackham International (GRIN)\, Dean Solomon is hosting an interactive Zoom meeting\, to discuss planning that’s underway for the fall and winter terms\; and to host a broader discussion of any topic of interest to graduate and international students.\nRegistration is required at https://myumi.ch/WwA2j.
UID:83951-21619185@events.umich.edu
URL:https://events.umich.edu/event/83951
CLASS:PUBLIC
STATUS:CONFIRMED
CATEGORIES:Graduate Students
LOCATION:Off Campus Location
CONTACT:
END:VEVENT
END:VCALENDAR