BEGIN:VCALENDAR
VERSION:2.0
PRODID:-//UM//UM*Events//EN
CALSCALE:GREGORIAN
BEGIN:VTIMEZONE
TZID:America/Detroit
TZURL:http://tzurl.org/zoneinfo/America/Detroit
X-LIC-LOCATION:America/Detroit
BEGIN:DAYLIGHT
TZOFFSETFROM:-0500
TZOFFSETTO:-0400
TZNAME:EDT
DTSTART:20070311T020000
RRULE:FREQ=YEARLY;BYMONTH=3;BYDAY=2SU
END:DAYLIGHT
BEGIN:STANDARD
TZOFFSETFROM:-0400
TZOFFSETTO:-0500
TZNAME:EST
DTSTART:20071104T020000
RRULE:FREQ=YEARLY;BYMONTH=11;BYDAY=1SU
END:STANDARD
END:VTIMEZONE
BEGIN:VEVENT
DTSTAMP:20210511T124519
DTSTART;TZID=America/Detroit:20210512T080000
DTEND;TZID=America/Detroit:20210512T230000
SUMMARY:Other:Become a UROP Research Mentor
DESCRIPTION:Submit a Research Project for the 2021-2022 Academic Year: https://lsa.umich.edu/urop/research-mentors.html\n\nUROP Research Mentors are faculty and post-doc researchers from across all U-M's 19 Schools and Colleges who provide undergraduate student researchers an opportunity to engage in research activities that help them learn about the pursuit of knowledge within an academic discipline. This early exposure to research fosters a valuable academic experience for students. Through this collaboration\, students gain research skills and mentorship that lead to academic retention\, a more positive undergraduate experience and paths to graduate school.
UID:83879-21619403@events.umich.edu
URL:https://events.umich.edu/event/83879
CLASS:PUBLIC
STATUS:CONFIRMED
CATEGORIES:AEM Featured,Education,Faculty,Free,Graduate and Professional Students,Graduate Students,Interdisciplinary,Mentorship,Research,research data,Staff,Urop
LOCATION:Off Campus Location
CONTACT:
END:VEVENT
BEGIN:VEVENT
DTSTAMP:20210430T095709
DTSTART;TZID=America/Detroit:20210512T080000
DTEND;TZID=America/Detroit:20210512T230000
SUMMARY:Careers / Jobs:Changing Gears Application Open
DESCRIPTION:Learn more about the Changing Gears Program and apply at: myumi.ch/uropcg\n\nChanging Gears (CG) is a UROP program designed primarily for community college transfer students who will be attending the University of Michigan\, but also serves students transferring from 4 year institutions. Students in the CG Program become a part of an ongoing faculty-driven research\, scholarly or creative project in their field of interest. Students learn valuable academic skills\, applying these skills to their research project\, academics\, and future career opportunities\, while receiving academic credit or compensation for their efforts in research work.\n\nIf you are a U-M Transfer Student and not graduating until winter 2022 and/or after\, you are eligible to apply to the 2021-2022 UROP Changing Gears Program.
UID:83922-21616908@events.umich.edu
URL:https://events.umich.edu/event/83922
CLASS:PUBLIC
STATUS:CONFIRMED
CATEGORIES:AEM Featured,first-generation,Free,Interdisciplinary,Networking,Office Hours,Research,Transfer Students,Undergraduate,Undergraduate Students,Urop
LOCATION:Off Campus Location
CONTACT:
END:VEVENT
BEGIN:VEVENT
DTSTAMP:20210331T124715
DTSTART;TZID=America/Detroit:20210512T080000
DTEND;TZID=America/Detroit:20210512T103000
SUMMARY:Conference / Symposium:UMSN Global Reproductive and Sexual Health Summer Institute
DESCRIPTION:2021 U-M School of Nursing Global Summer Institute \n\"Sexual Reproductive Health and Rights for All\"\nMay 11-13\, 2021\nVirtual\n\nConnecting global to local: Program development\, evaluation and policy to improve reproductive and sexual health \n\nThis year's theme\, Sexual Reproductive Health and Rights for All\, will connect global to local through program development\, evaluation and policy to improve reproductive and sexual health. Keynote speakers will bring innovative practice and advocacy initiatives on Maternal Health Equity in Detroit as well as Maternal and Newborn Health Policy through USAID\, while our skills sessions will offer hands on learning opportunities. We will close the Summer Institute with a panel on future directions.  \n\nBy joining the U-M School of Nursing Global Summer Institute\, you will: \n\n- Learn about innovative practice\, research and policy trends.\n- Network with practitioners\, researchers and professionals across the globe.\n- Advance your skills in program development\, evaluation and advocacy.\n- Receive personalized guidance on research\, data management and advocacy communication as well as career planning in daily workshops. \n- Earn CNE credits.\n- Receive a University of Michigan School of Nursing Certificate of Attendance.\n\nAll sessions will run virtually from 8-10:30 a.m. EST with an opening keynote followed by interactive workshops. \n\nOpen to all practitioners\, advocates\, researchers\, faculty\, students and staff who are interested in the intersection of research\, practice and advocacy in global reproductive and sexual health. \n\nLearn more: https://nursing.umich.edu/global/global-reproductive-and-sexual-health-summer-institute
UID:83469-21385563@events.umich.edu
URL:https://events.umich.edu/event/83469
CLASS:PUBLIC
STATUS:CONFIRMED
CATEGORIES:African Studies Center,center of latin american and caribbean studies,Detroit,Global,Global Health,Graduate and Professional Students,Graduate School,Graduate Students,health care equity,Interdisciplinary,international,Social Impact,Social Justice,South Asian Studies,Southeast Asia,Women's Health,women's studies
LOCATION:Off Campus Location
CONTACT:
END:VEVENT
BEGIN:VEVENT
DTSTAMP:20220502T122639
DTSTART;TZID=America/Detroit:20210512T080000
DTEND;TZID=America/Detroit:20210512T230000
SUMMARY:Careers / Jobs:UROP First-Year Application Open
DESCRIPTION:Our \"Traditional UROP Program\" has been our flagship program running over 30 years. This Academic Year program\, in which students participate for both Fall and Winter Terms\, is designed for University of Michigan first and second year undergraduate students enrolled on the Ann Arbor campus who are seeking a first time research experience. Student research assistants work alongside a faculty member\, research scientist or professional practitioner on an ongoing or new research project.\n\nLearn more and apply at: myumi.ch/uropyearone\n\nApplications being accepted on a rolling basis.
UID:83923-21617027@events.umich.edu
URL:https://events.umich.edu/event/83923
CLASS:PUBLIC
STATUS:CONFIRMED
CATEGORIES:AEM Featured,Applications,first-generation,Free,Interdisciplinary,Networking,Research,Undergraduate,Undergraduate Students,Urop
LOCATION:Undergraduate Science Building
CONTACT:
END:VEVENT
BEGIN:VEVENT
DTSTAMP:20210804T182828
DTSTART;TZID=America/Detroit:20210512T080000
DTEND;TZID=America/Detroit:20210512T230000
SUMMARY:Careers / Jobs:UROP Research Scholars Application now open
DESCRIPTION:The UROP Research Scholars Program is designed for students who want to expand on their first year UROP experience and participate in UROP for a second year at an advanced level. In this program\, students build upon the knowledge gained in a first undergraduate research experience to further explore the connections between research\, a liberal arts education\, and communicating skills to advance their future professional goals. Students are expected to explore various written and oral possibilities for communicating their research process\, identifying the limits set by the discipline and the opportunities that lie beyond.\n\nApply at: https://myumi.ch/uroprs
UID:82067-21014926@events.umich.edu
URL:https://events.umich.edu/event/82067
CLASS:PUBLIC
STATUS:CONFIRMED
CATEGORIES:AEM Featured,Applications,Free,Interdisciplinary,Research,Undergraduate,Undergraduate Students,Urop
LOCATION:Off Campus Location
CONTACT:
END:VEVENT
BEGIN:VEVENT
DTSTAMP:20210714T155619
DTSTART;TZID=America/Detroit:20210512T080000
DTEND;TZID=America/Detroit:20210512T230000
SUMMARY:Careers / Jobs:UROP Rising Sophomore Applications Open
DESCRIPTION:The Undergraduate Research Opportunity Program is now accepting applications for students who will be rising sophomores during the 2021-2022 academic year. \n\nLearn more and apply today at http://myumi.ch/uropsophomore\n\nRising Sophomore Applications are being accepted on a rolling basis.
UID:80546-21203393@events.umich.edu
URL:https://events.umich.edu/event/80546
CLASS:PUBLIC
STATUS:CONFIRMED
CATEGORIES:AEM Featured,Applications,first-generation,Free,Research,Sophomore,Undergraduate,Undergraduate Students,Urop
LOCATION:Off Campus Location
CONTACT:
END:VEVENT
BEGIN:VEVENT
DTSTAMP:20201212T105113
DTSTART;TZID=America/Detroit:20210512T100000
DTEND;TZID=America/Detroit:20210512T120000
SUMMARY:Class / Instruction:Final Decisions
DESCRIPTION:We will cover a number of topics relating to end of life decisions. They include: Michigan’s laws relating to burial\; honest talks with doctors\, based in part on Atul Gawande’s book \"Being Mortal\"\; choosing time of death\; interesting cross-cultural funeral rituals\; and options outside of traditional burial such as cremation\, green burial\, donation to medical schools\, reef burial\, cryogenics\, and bio-urn (ashes planted with a tree seed). \n\nInstructor Marion Holt has extensive knowledge of this subject and has developed two courses on aging.\n\nPreregistration is required via the OLLI website or phone.  A link to access the study group will be e-mailed to you approximately one week prior to the first session.
UID:79955-20519517@events.umich.edu
URL:https://events.umich.edu/event/79955
CLASS:PUBLIC
STATUS:CONFIRMED
CATEGORIES:Death And Dying,lifelong learning,retirement
LOCATION:Off Campus Location
CONTACT:
END:VEVENT
BEGIN:VEVENT
DTSTAMP:20210420T063752
DTSTART;TZID=America/Detroit:20210512T120000
DTEND;TZID=America/Detroit:20210512T130000
SUMMARY:Workshop / Seminar:Connecting Education Innovation to Activism
DESCRIPTION:R.I.S.E.\, the Center for Academic Innovation\, and the Center for Research on Learning & Teaching (CRLT) invite you to join a Virtual Talking Circle (VTC) to discuss unique connections between education innovation & activism.\n\nThis collaboration across the University will serve as a first step in building a community interested in designing and promoting education innovation to improve society.\n\nAnyone interested in education innovation and/or social justice and activism is invited!  We want to learn who is already doing this important work and identify potential collaborations across the University.\n\nPlease join us on Wednesday\, May 12\, 2021 from 12:00 - 1:00 PM\n\nRegister via Eventbrite
UID:83807-21538170@events.umich.edu
URL:https://events.umich.edu/event/83807
CLASS:PUBLIC
STATUS:CONFIRMED
CATEGORIES:Basic Science,Biomedical Engineering,Biosciences,Climate and Space Sciences and Engineering,Education,Electrical Engineering and Computer Science,Engineering,Graduate,Graduate School,Industrial and Operations Engineering,Information and Technology,Life Science,Medicine
LOCATION:Off Campus Location
CONTACT:
END:VEVENT
BEGIN:VEVENT
DTSTAMP:20210330T094008
DTSTART;TZID=America/Detroit:20210512T120000
DTEND;TZID=America/Detroit:20210512T133000
SUMMARY:Workshop / Seminar:Fulbright U.S. Student Program: 2021 Application. Statement of Purpose and Proposing a Research Project
DESCRIPTION:The Fulbright Program is the perfect way to prepare for a career in research\, no matter the subject. If this is your first foray into writing a research proposal to request federal funding\, join us to give you direction for your essay! Dr. Takata is the advisor for several graduate research fellowships\, and is also leading a study group on research proposals for rising seniors - interested parties should strongly consider attending this workshop! This session will be recorded for future viewing.
UID:83415-21375688@events.umich.edu
URL:https://events.umich.edu/event/83415
CLASS:PUBLIC
STATUS:CONFIRMED
CATEGORIES:Fulbright,Scholarship,Workshop
LOCATION:Off Campus Location
CONTACT:
END:VEVENT
BEGIN:VEVENT
DTSTAMP:20240116T141648
DTSTART;TZID=America/Detroit:20210512T120000
DTEND;TZID=America/Detroit:20210512T123000
SUMMARY:Well-being:North Campus Mindfulness Meditation Drop-In (Online)
DESCRIPTION:Take a moment to create some space to breathe and invite a sense of calm into your day. This is a guided mindfulness meditation drop-in session. No experience necessary. Free and open to all. \n\nEmail dmitryb@umich.edu to sign up for the mailing list. You will receive a weekly reminder with the zoom link. Also\, you can add the sessions to your Google Calendar: https://tinyurl.com/y3kbkwd6
UID:40967-21619231@events.umich.edu
URL:https://events.umich.edu/event/40967
CLASS:PUBLIC
STATUS:CONFIRMED
CATEGORIES:Health & Wellness,Meditation,Mindfulness,Mindfulness\, Meditation,North campus,Stress Reduction,Virtual,Well-being
LOCATION:Off Campus Location
CONTACT:
END:VEVENT
BEGIN:VEVENT
DTSTAMP:20210430T164415
DTSTART;TZID=America/Detroit:20210512T130000
DTEND;TZID=America/Detroit:20210512T140000
SUMMARY:Lecture / Discussion:Beyond the Pandemic: Challenges and Opportunities for Changes in Education
DESCRIPTION:Beyond the Pandemic: Challenges and Opportunities for Changes in Education\nWednesday\, May 12 at 1pm EDT\nhttps://umich.zoom.us/j/96351558688\n\nAt the end of the school year in 2020 parents\, educators\, and researchers\, wondered how to deal with the “COVID slide” related to achievement and gains in learning due to schools shifting to virtual learning across the country. What we did not know at the time is that many schools would struggle to open at all in the Fall of 2020 and online and remote learning would continue to be one of the primary ways that children were educated for the rest of the 2020-21 school year. Today\, the question remains: What will parents\, educators\, and researchers need to consider regarding achievement and learning gains as children are likely to return to in-person schooling in Fall 2021? Dr. Pamela Davis-Kean will discuss her research on how homeschooling was discussed on social media\, the issues related to “holding back” or repeating a grade in primary school\, and how new proposed policies for free community college may be important for helping those in secondary education get extra time to develop skills for entry into a four-year college.
UID:83937-21619168@events.umich.edu
URL:https://events.umich.edu/event/83937
CLASS:PUBLIC
STATUS:CONFIRMED
CATEGORIES:Data,Data Science,Education,Free,Humanities,Inequality,Interdisciplinary,Lecture,Population Studies Center,Psychology,Public Policy,Research,Social Impact,Social Science,Social Sciences,Sociology,Talk,Webinar
LOCATION:Off Campus Location
CONTACT:
END:VEVENT
BEGIN:VEVENT
DTSTAMP:20210506T120820
DTSTART;TZID=America/Detroit:20210512T140000
DTEND;TZID=America/Detroit:20210512T153000
SUMMARY:Meeting:CoderSpaces (Wednesdays)
DESCRIPTION:Are you grappling with a piece of code\, trying to compute on a cluster\, or just getting started with a new method such as machine learning? Then we might have just the right space for you.\n\nAll members of the U-M community are invited to join our weekly virtual CoderSpaces\, Mondays – Thursdays\, during the Summer 2021 term to get research support and connect with others.\n\nThe virtual sessions are designed to assist faculty\, staff\, and students with research methodology\, statistics\, data science applications\, and computational programming for research.\n\nOur hosts have a wide set of methodological and technological expertise. They come to you from a variety of departments and disciplines and are looking forward to serving the U-M community in their research endeavors.\n\nCoderSpaces provide a casual\, productive\, and inclusive environment. Everyone is welcome regardless of skill level.\n\nWednesdays 2-2:30 p.m.\nJoin via Zoom* (https://umich.zoom.us/j/96392817699)\n*Users will have to sign in with their UMICH (Level-1) credentials.\n\nwith Armand Burks (ARC/UMSI)\, Jule Krüger (ISR/ARC)\, Meghan Richey (ARC)\, Shelly Johnson (ARC)\n\nExpertise: automation of tasks and workflows\, Bash\, C++\, cloud analytics\, data analysis\, management and visualization\, Git\, GNU Make\, high performance computing\, installing software on University clusters\, Java\, LaTeX\, machine learning (Tensorflow\, Keras\, convolutional neural networks)\, natural language processing\, Python\, R\, R Markdown\, web scraping (Selenium)
UID:83926-21619125@events.umich.edu
URL:https://events.umich.edu/event/83926
CLASS:PUBLIC
STATUS:CONFIRMED
CATEGORIES:Arc,Data Science,Information And Technology,Office Hours,Virtual
LOCATION:Off Campus Location
CONTACT:
END:VEVENT
BEGIN:VEVENT
DTSTAMP:20201216T131429
DTSTART;TZID=America/Detroit:20210512T150000
DTEND;TZID=America/Detroit:20210512T163000
SUMMARY:Class / Instruction:A Visit to the UM Peony Garden
DESCRIPTION:Matthaei Botanical Gardens will treat us to a presentation about their outstanding peony garden. \n\nPreregistration is required via the OLLI website or phone.  A link to access the event will be e-mailed to you approximately one week prior to the event.  Once you register\, you will receive details about purchasing and pick up before the event.
UID:80086-20556863@events.umich.edu
URL:https://events.umich.edu/event/80086
CLASS:PUBLIC
STATUS:CONFIRMED
CATEGORIES:Gardening,lifelong learning,retirement
LOCATION:Off Campus Location
CONTACT:
END:VEVENT
BEGIN:VEVENT
DTSTAMP:20210407T124632
DTSTART;TZID=America/Detroit:20210512T150000
DTEND;TZID=America/Detroit:20210512T160000
SUMMARY:Meeting:Nineteenth Century Forum Final Meeting
DESCRIPTION:All are welcome to our final meeting of the 2020-21 academic year! Come to meet our incoming graduate student coordinators\, Ellie Reese\, Emma Soberano\, and Dana Moss. We will celebrate the end of a challenging year and brainstorm exciting new ideas for next year. Email Sarah Van Cleve (srvc@umich.edu) or Ani Bezirdzhyan (abezirdz@umich.edu) with any questions.
UID:83611-21438451@events.umich.edu
URL:https://events.umich.edu/event/83611
CLASS:PUBLIC
STATUS:CONFIRMED
CATEGORIES:Books,Dissertation,Free,Graduate and Professional Students,Graduate School,Graduate Students,History,Humanities,Interdisciplinary,Literature,Research,Writing
LOCATION:Off Campus Location
CONTACT:
END:VEVENT
BEGIN:VEVENT
DTSTAMP:20210503T190620
DTSTART;TZID=America/Detroit:20210512T153000
DTEND;TZID=America/Detroit:20210512T170000
SUMMARY:Livestream / Virtual:CBSSM 11th Annual Bishop Lecture in Bioethics
DESCRIPTION:Inspiration in Medicine: Even before the Covid pandemic\, disillusionment in the healthcare field felt like it was reaching epidemic proportions. Medical professionals say they would never choose the field if they had to do it all over again. Burnout—exacerbated by Covid—seems to be everywhere. But might it be too soon to close the book on healthcare? This presentation examines the impact of disillusionment\, highlighting strategies for re-engaging healthcare workers\, combating burnout\, and thriving in the new era of medicine.
UID:83961-21619207@events.umich.edu
URL:https://events.umich.edu/event/83961
CLASS:PUBLIC
STATUS:CONFIRMED
CATEGORIES:academic medicine,bioethics,decision sciences,ethics,health,Health & Wellness,health behavior,health care,medical decision making
LOCATION:Off Campus Location
CONTACT:
END:VEVENT
BEGIN:VEVENT
DTSTAMP:20210408T131220
DTSTART;TZID=America/Detroit:20210512T170000
DTEND;TZID=America/Detroit:20210512T180000
SUMMARY:Ceremony / Service:9th Annual Shirley Verrett Award Ceremony
DESCRIPTION:Please note the change in date. RSVP online here: http://www.cew.umich.edu/events/9th-annual-shirley-verrett-award-ceremony-2\n\nThe University of Michigan Women of Color in the Academy Project will present its 9th Annual Shirley Verrett Award to Professor of Music (Voice)\, Daniel Washington\, on May 12\, 2021.\n\nProfessor Washington is being recognized for his exemplary leadership and advocacy on behalf of diverse students and faculty artists at U-M. In addition\, we are celebrating his innovation and impact on advancing diversity and inclusion at U-M and beyond through his performances and service.\n\nMarcía Porter\, Professor of Voice\, Florida State University\, and the cousin & former student of Shirley Verrett\, will be a special guest performer!\n\nThe event is free and open to the public\, however\, registration is requested. Feel free to forward this invitation to those who may be interested in learning more about Shirley Verrett and Daniel Washington’s impact on academia and the Arts!
UID:82944-21227213@events.umich.edu
URL:https://events.umich.edu/event/82944
CLASS:PUBLIC
STATUS:CONFIRMED
CATEGORIES:Concert,Diversity,Diversity Equity and Inclusion,Faculty,Inclusion,Leadership,Multicultural,Music,Staff,UMS,Voice
LOCATION:Off Campus Location
CONTACT:
END:VEVENT
BEGIN:VEVENT
DTSTAMP:20210506T121504
DTSTART;TZID=America/Detroit:20210512T170000
DTEND;TZID=America/Detroit:20210512T180000
SUMMARY:Livestream / Virtual:Shirley Verrett Award Ceremony
DESCRIPTION:The University of Michigan Women of Color in the Academy Project will present its 9th Annual Shirley Verrett Award to Professor of Music (Voice)\, Daniel Washington.\n\nProfessor Washington is being recognized for his exemplary leadership and advocacy on behalf of diverse students and faculty artists at U-M. In addition\, we are celebrating his innovation and impact on advancing diversity and inclusion at U-M and beyond through his performances and service.\n\nMarcía Porter\, Professor of Voice\, Florida State University\, and the cousin & former student of Shirley Verrett\, will be a special guest performer!\n\nThe event is free and open to the public\, however\, registration is requested.   Register online at https://myumi.ch/4pAoR
UID:83983-21619297@events.umich.edu
URL:https://events.umich.edu/event/83983
CLASS:PUBLIC
STATUS:CONFIRMED
CATEGORIES:Community Service,Concert,Culture,Free,Music
LOCATION:Off Campus Location
CONTACT:
END:VEVENT
BEGIN:VEVENT
DTSTAMP:20210503T080858
DTSTART;TZID=America/Detroit:20210512T180000
DTEND;TZID=America/Detroit:20210512T213000
SUMMARY:Livestream / Virtual:Nam Center NEKST Graduate Conference | 8th International Conference of NextGen Korean Studies Scholars (NEKST)
DESCRIPTION:Full conference details: https://ii.umich.edu/ncks/news-events/events/conferences---symposia/8th-international-conference-of-nextgen-korean-studies-scholars.html\n\nPlease note: This session will be held virtually EST through Zoom. This webinar is free and open to the public\, but registration is required. Once you've registered the joining information will be sent to your email.\n\nRegister at: https://myumi.ch/R5l2l\n\nThe 8th International Conference of NextGen Korean Studies Scholars (NEKST) which will be held virtually across five days from May 10-14. At the NEKST conference\, graduate students in Korean studies will have the opportunity to share their research\, receive feedback from Korean studies faculty members and other graduate students\, as well as contribute toward building a dynamic\, multidisciplinary community of future Korean studies scholars.\n\nThe five-day conference will feature panel presentations\, workshop sessions for dissertation chapters/advanced papers\, a roundtable discussion session\, a professional development workshop\, and an artist talk. We will host prominent Korean studies faculty members from across disciplines and institutions to serve as discussants\, as well as mentors.\n\nAbout\n\nThe 8th NEKST conference is sponsored by the Nam Center for Korean Studies at the University of Michigan with support from the Academy of Korean Studies. The conference organizing committee is composed of graduate students at the University of Michigan.\n\nNEKST Organizing Committee\n\nGraduate Students\n\nYoungkyun Choi (Committee Chair\; Romance Languages and Literatures)\nYeon-ju Bae (Anthropology)\nCristian Casanova (Public Policy)\nHaely Chang (History of Art)\nJieun Chang (Psychology)\nRey Jeong (Stamps School of Art & Design)\nHojung Joo (Political Science)\nSunhong Kim (School of Music\, Theatre\, and Dance)\nWooseok Kim (Political Science\, Statistics)\nHayeon Lee (Anthropology\, Social Work)\nSamuel Byung-Deuk Lee (Biomechanics)\nWon Park (CSE\, Computer Science)\nSeulgi Son (Urban and Regional Planning)\nCameron White (Asian Languages and Cultures)\nTony Zhang (Electrical and Computer Engineering)\n\nFaculty Advisor\n\nNojin Kwak (Nam Center\, Communication and Media)\n\nPost-Doc Advisor\n\nRory Walsh (Nam Center)\n\nCoordinator\nKelsey Langton (Nam Center)\nEvan Vowell (Nam Center)\n\nFor further information\, please contact NEKST2021@umich.edu and check for updates on this page.\n\nPrevious NEKST Conferences\nInformation about previous NEKST conferences can be found through this link.
UID:83954-21619190@events.umich.edu
URL:https://events.umich.edu/event/83954
CLASS:PUBLIC
STATUS:CONFIRMED
CATEGORIES:Asia,Korea
LOCATION:Off Campus Location
CONTACT:
END:VEVENT
BEGIN:VEVENT
DTSTAMP:20210512T181517
DTSTART;TZID=America/Detroit:20210512T190000
DTEND;TZID=America/Detroit:20210512T200000
SUMMARY:Lecture / Discussion:Celebrating Chinese Ceramic Arts & the Weese Collection
DESCRIPTION:lease register now to reserve your spot..\n \nCelebrating the William C. Weese Collection of Chinese Ceramics and the creation of the Weese Program in Ceramic Art\, made possible through the extraordinary generosity of William C. Weese MD (BS ‘65). The Weese Collection includes more than 1\,000 ceramics and decorative arts from China’s Neolithic period through the Ming and Qing dynasties\, with pieces dating from as early as 3000 BCE through to the mid 19th century.\n \nThis event will feature Natsu Oyobe\, UMMA Curator for Asian Art\, in conversation with William C. Weese in a vibrant discussion about ceramic arts\, including a preview of a fall exhibition of Asian ceramic arts\, highlights of the Weese Collection\, and Dr. Weese’s collecting interest and practice.\n\n
UID:83894-21603216@events.umich.edu
URL:https://events.umich.edu/event/83894
CLASS:PUBLIC
STATUS:CONFIRMED
CATEGORIES:Art,Discussion,Exhibition,Museum,UMMA
LOCATION:Museum of Art - Zoom Event / Virtual Event 
CONTACT:
END:VEVENT
BEGIN:VEVENT
DTSTAMP:20210505T121503
DTSTART;TZID=America/Detroit:20210512T200000
SUMMARY:Livestream / Virtual:As You Like It
DESCRIPTION:Watch online at https://myumi.ch/gjdKq\n\nDepartment of Musical Theatre\n\nAssistant Professor Malcolm Tulip guides the Department of Musical Theatre students in this expressionist approach to one of Shakespeare’s best-known romantic comedies. What might appear at first look to be a romantic game is at its roots a test of binary gender assignations and expectations\, made all the more interesting by the challenge of depicting romance when your actors must stay 6 feet apart.
UID:83907-21611026@events.umich.edu
URL:https://events.umich.edu/event/83907
CLASS:PUBLIC
STATUS:CONFIRMED
CATEGORIES:Concert,Culture,Free,Theater
LOCATION:Off Campus Location
CONTACT:
END:VEVENT
END:VCALENDAR