BEGIN:VCALENDAR
VERSION:2.0
PRODID:-//UM//UM*Events//EN
CALSCALE:GREGORIAN
BEGIN:VTIMEZONE
TZID:America/Detroit
TZURL:http://tzurl.org/zoneinfo/America/Detroit
X-LIC-LOCATION:America/Detroit
BEGIN:DAYLIGHT
TZOFFSETFROM:-0500
TZOFFSETTO:-0400
TZNAME:EDT
DTSTART:20070311T020000
RRULE:FREQ=YEARLY;BYMONTH=3;BYDAY=2SU
END:DAYLIGHT
BEGIN:STANDARD
TZOFFSETFROM:-0400
TZOFFSETTO:-0500
TZNAME:EST
DTSTART:20071104T020000
RRULE:FREQ=YEARLY;BYMONTH=11;BYDAY=1SU
END:STANDARD
END:VTIMEZONE
BEGIN:VEVENT
DTSTAMP:20210511T124519
DTSTART;TZID=America/Detroit:20210515T080000
DTEND;TZID=America/Detroit:20210515T230000
SUMMARY:Other:Become a UROP Research Mentor
DESCRIPTION:Submit a Research Project for the 2021-2022 Academic Year: https://lsa.umich.edu/urop/research-mentors.html\n\nUROP Research Mentors are faculty and post-doc researchers from across all U-M's 19 Schools and Colleges who provide undergraduate student researchers an opportunity to engage in research activities that help them learn about the pursuit of knowledge within an academic discipline. This early exposure to research fosters a valuable academic experience for students. Through this collaboration\, students gain research skills and mentorship that lead to academic retention\, a more positive undergraduate experience and paths to graduate school.
UID:83879-21619406@events.umich.edu
URL:https://events.umich.edu/event/83879
CLASS:PUBLIC
STATUS:CONFIRMED
CATEGORIES:AEM Featured,Education,Faculty,Free,Graduate and Professional Students,Graduate Students,Interdisciplinary,Mentorship,Research,research data,Staff,Urop
LOCATION:Off Campus Location
CONTACT:
END:VEVENT
BEGIN:VEVENT
DTSTAMP:20210430T095709
DTSTART;TZID=America/Detroit:20210515T080000
DTEND;TZID=America/Detroit:20210515T230000
SUMMARY:Careers / Jobs:Changing Gears Application Open
DESCRIPTION:Learn more about the Changing Gears Program and apply at: myumi.ch/uropcg\n\nChanging Gears (CG) is a UROP program designed primarily for community college transfer students who will be attending the University of Michigan\, but also serves students transferring from 4 year institutions. Students in the CG Program become a part of an ongoing faculty-driven research\, scholarly or creative project in their field of interest. Students learn valuable academic skills\, applying these skills to their research project\, academics\, and future career opportunities\, while receiving academic credit or compensation for their efforts in research work.\n\nIf you are a U-M Transfer Student and not graduating until winter 2022 and/or after\, you are eligible to apply to the 2021-2022 UROP Changing Gears Program.
UID:83922-21616911@events.umich.edu
URL:https://events.umich.edu/event/83922
CLASS:PUBLIC
STATUS:CONFIRMED
CATEGORIES:AEM Featured,first-generation,Free,Interdisciplinary,Networking,Office Hours,Research,Transfer Students,Undergraduate,Undergraduate Students,Urop
LOCATION:Off Campus Location
CONTACT:
END:VEVENT
BEGIN:VEVENT
DTSTAMP:20220502T122639
DTSTART;TZID=America/Detroit:20210515T080000
DTEND;TZID=America/Detroit:20210515T230000
SUMMARY:Careers / Jobs:UROP First-Year Application Open
DESCRIPTION:Our \"Traditional UROP Program\" has been our flagship program running over 30 years. This Academic Year program\, in which students participate for both Fall and Winter Terms\, is designed for University of Michigan first and second year undergraduate students enrolled on the Ann Arbor campus who are seeking a first time research experience. Student research assistants work alongside a faculty member\, research scientist or professional practitioner on an ongoing or new research project.\n\nLearn more and apply at: myumi.ch/uropyearone\n\nApplications being accepted on a rolling basis.
UID:83923-21617030@events.umich.edu
URL:https://events.umich.edu/event/83923
CLASS:PUBLIC
STATUS:CONFIRMED
CATEGORIES:AEM Featured,Applications,first-generation,Free,Interdisciplinary,Networking,Research,Undergraduate,Undergraduate Students,Urop
LOCATION:Undergraduate Science Building
CONTACT:
END:VEVENT
BEGIN:VEVENT
DTSTAMP:20210804T182828
DTSTART;TZID=America/Detroit:20210515T080000
DTEND;TZID=America/Detroit:20210515T230000
SUMMARY:Careers / Jobs:UROP Research Scholars Application now open
DESCRIPTION:The UROP Research Scholars Program is designed for students who want to expand on their first year UROP experience and participate in UROP for a second year at an advanced level. In this program\, students build upon the knowledge gained in a first undergraduate research experience to further explore the connections between research\, a liberal arts education\, and communicating skills to advance their future professional goals. Students are expected to explore various written and oral possibilities for communicating their research process\, identifying the limits set by the discipline and the opportunities that lie beyond.\n\nApply at: https://myumi.ch/uroprs
UID:82067-21014929@events.umich.edu
URL:https://events.umich.edu/event/82067
CLASS:PUBLIC
STATUS:CONFIRMED
CATEGORIES:AEM Featured,Applications,Free,Interdisciplinary,Research,Undergraduate,Undergraduate Students,Urop
LOCATION:Off Campus Location
CONTACT:
END:VEVENT
BEGIN:VEVENT
DTSTAMP:20210714T155619
DTSTART;TZID=America/Detroit:20210515T080000
DTEND;TZID=America/Detroit:20210515T230000
SUMMARY:Careers / Jobs:UROP Rising Sophomore Applications Open
DESCRIPTION:The Undergraduate Research Opportunity Program is now accepting applications for students who will be rising sophomores during the 2021-2022 academic year. \n\nLearn more and apply today at http://myumi.ch/uropsophomore\n\nRising Sophomore Applications are being accepted on a rolling basis.
UID:80546-21203396@events.umich.edu
URL:https://events.umich.edu/event/80546
CLASS:PUBLIC
STATUS:CONFIRMED
CATEGORIES:AEM Featured,Applications,first-generation,Free,Research,Sophomore,Undergraduate,Undergraduate Students,Urop
LOCATION:Off Campus Location
CONTACT:
END:VEVENT
BEGIN:VEVENT
DTSTAMP:20210507T133146
DTSTART;TZID=America/Detroit:20210515T100000
DTEND;TZID=America/Detroit:20210515T123000
SUMMARY:Workshop / Seminar:(Counter) Narratives of Migration - Virtual Conference
DESCRIPTION:Keynote Speaker:  Hadji Bakara (U-M English Language and Literature and the Donia Human Rights Center)\n\nJoin us on Friday and Saturday\, May 14-15\, for the annual Comparative Literature Intra-Student Faculty Forum (CLIFF). The conference will be held on Zoom.\nThis Year's CLIFF investigates the visibility\, narratives\, and media of migration. We will explore circulation in a variety of forms—bodies\, ideas\, and material goods—through its manifestations in the arts\, critical theory\, and new media.
UID:83999-21619329@events.umich.edu
URL:https://events.umich.edu/event/83999
CLASS:PUBLIC
STATUS:CONFIRMED
CATEGORIES:american culture,Anthropology,Art,Asia,Classical Studies,classics,Communications,comparative literature,conference,Contemporary Literature,Contexts For Classics,Culture,Department Of English Language And Literature,department of romance languages,Discussion,Diversity,Diversity Equity and Inclusion,English,English Language & Literataure,German,Germanic Languages And Literatures,Global,Global And Transnational,Graduate Students,History,Humanities,Inclusion,institute for the humanities,Interdisciplinary,international,jewish studies,language,Lecture,literary,literary arts,literature,Middle East Studies,multicultural,Muslim,Psychology,Research,Romance Languages And Literatures,Social,Sociology,The College Of Literature\, Science\, And The Arts,Undergraduate,Undergraduate Students,Virtual,women's studies,World Literature,Writing
LOCATION:Off Campus Location
CONTACT:
END:VEVENT
BEGIN:VEVENT
DTSTAMP:20210406T222853
DTSTART;TZID=America/Detroit:20210515T140000
DTEND;TZID=America/Detroit:20210515T150000
SUMMARY:Livestream / Virtual:Virtual Saturday Sampler Tour | Goddesses of the Kelsey Museum
DESCRIPTION:Saturday Sampler tours are back! We've missed you and are thrilled to begin offering our Saturday Sampler tours virtually. Join us over Zoom to explore the Kelsey Museum from the comfort of your home.\n\nThe theme of this week's tour is \"Goddesses of the Kelsey Museum.\"\nPowerful women are not just a 21st-century thing! In this tour\, we will explore some strong women of the ancient world: the goddesses of ancient Egypt\, Greece\, and Rome. Through a variety of artifacts in the Kelsey Museum\, we will learn more about the powers and abilities associated with some of the goddesses of the ancient world.\n\nZoom link:\nhttps://umich.zoom.us/j/98615763784
UID:83592-21432584@events.umich.edu
URL:https://events.umich.edu/event/83592
CLASS:PUBLIC
STATUS:CONFIRMED
CATEGORIES:Archaeology,Free,Tour
LOCATION:Off Campus Location
CONTACT:
END:VEVENT
END:VCALENDAR