BEGIN:VCALENDAR
VERSION:2.0
PRODID:-//UM//UM*Events//EN
CALSCALE:GREGORIAN
BEGIN:VTIMEZONE
TZID:America/Detroit
TZURL:http://tzurl.org/zoneinfo/America/Detroit
X-LIC-LOCATION:America/Detroit
BEGIN:DAYLIGHT
TZOFFSETFROM:-0500
TZOFFSETTO:-0400
TZNAME:EDT
DTSTART:20070311T020000
RRULE:FREQ=YEARLY;BYMONTH=3;BYDAY=2SU
END:DAYLIGHT
BEGIN:STANDARD
TZOFFSETFROM:-0400
TZOFFSETTO:-0500
TZNAME:EST
DTSTART:20071104T020000
RRULE:FREQ=YEARLY;BYMONTH=11;BYDAY=1SU
END:STANDARD
END:VTIMEZONE
BEGIN:VEVENT
DTSTAMP:20210305T120032
DTSTART;TZID=America/Detroit:20210517T000000
DTEND;TZID=America/Detroit:20210517T170000
SUMMARY:Careers / Jobs:Training Program in Organogenesis Pre- and Postdoctoral Fellowships - Request for Applications
DESCRIPTION:We are pleased to announce a competition for Pre-doctoral and Non-traditional postdoctoral Fellowships in Organogenesis as part of a NIH T32 Training Grant (Training Program in Organogenesis). The goal of the fellowship awards are to provide up to two years of support for outstanding scholars who wish to undertake a research project in the field of organogenesis.\n \nCriteria used to evaluate all applications include the strength of the mentor and strength of the trainee (as evaluated by letters and CVs)\,  the quality of the research project\, and the degree to which the project fits the goals of the Training Program\, and the Center for Cell Plasticity and Organ Design (CPOD).\n \nThe call for applications are for the following:\n\nNIH T32 Predoctoral Fellowship (applicants must have achieved candidacy by the time of appointment to the training grant)\nDean’s Non-Traditional Postdoctoral Fellowship in Organogenesis (Non-Federally Funded)\nThe non-traditional postdoctoral fellowships are open to non-citizen and non-permanent residents\, and provide partial funding for one (1) year.\n\nMaterials Due: Monday\, May 17\, 2021 5:00 pm Eastern Time. \n\nSubmit to Tamika Mohr at: organogenesis@umich.edu\n\nInstructions and Application templates are attached and are available online at : https://medicine.umich.edu/dept/cpod/training-program\n\nFaculty Mentors: If you are NOT a member of the Organogenesis faculty\, but wish for a trainee in your lab to apply\, you may submit a concurrent application for CPOD membership.
UID:82789-21177575@events.umich.edu
URL:https://events.umich.edu/event/82789
CLASS:PUBLIC
STATUS:CONFIRMED
CATEGORIES:Basic Science,Biology,Biosciences,Research,Science
LOCATION:Off Campus Location
CONTACT:
END:VEVENT
BEGIN:VEVENT
DTSTAMP:20210511T124519
DTSTART;TZID=America/Detroit:20210517T080000
DTEND;TZID=America/Detroit:20210517T230000
SUMMARY:Other:Become a UROP Research Mentor
DESCRIPTION:Submit a Research Project for the 2021-2022 Academic Year: https://lsa.umich.edu/urop/research-mentors.html\n\nUROP Research Mentors are faculty and post-doc researchers from across all U-M's 19 Schools and Colleges who provide undergraduate student researchers an opportunity to engage in research activities that help them learn about the pursuit of knowledge within an academic discipline. This early exposure to research fosters a valuable academic experience for students. Through this collaboration\, students gain research skills and mentorship that lead to academic retention\, a more positive undergraduate experience and paths to graduate school.
UID:83879-21619408@events.umich.edu
URL:https://events.umich.edu/event/83879
CLASS:PUBLIC
STATUS:CONFIRMED
CATEGORIES:AEM Featured,Education,Faculty,Free,Graduate and Professional Students,Graduate Students,Interdisciplinary,Mentorship,Research,research data,Staff,Urop
LOCATION:Off Campus Location
CONTACT:
END:VEVENT
BEGIN:VEVENT
DTSTAMP:20210430T095709
DTSTART;TZID=America/Detroit:20210517T080000
DTEND;TZID=America/Detroit:20210517T230000
SUMMARY:Careers / Jobs:Changing Gears Application Open
DESCRIPTION:Learn more about the Changing Gears Program and apply at: myumi.ch/uropcg\n\nChanging Gears (CG) is a UROP program designed primarily for community college transfer students who will be attending the University of Michigan\, but also serves students transferring from 4 year institutions. Students in the CG Program become a part of an ongoing faculty-driven research\, scholarly or creative project in their field of interest. Students learn valuable academic skills\, applying these skills to their research project\, academics\, and future career opportunities\, while receiving academic credit or compensation for their efforts in research work.\n\nIf you are a U-M Transfer Student and not graduating until winter 2022 and/or after\, you are eligible to apply to the 2021-2022 UROP Changing Gears Program.
UID:83922-21616913@events.umich.edu
URL:https://events.umich.edu/event/83922
CLASS:PUBLIC
STATUS:CONFIRMED
CATEGORIES:AEM Featured,first-generation,Free,Interdisciplinary,Networking,Office Hours,Research,Transfer Students,Undergraduate,Undergraduate Students,Urop
LOCATION:Off Campus Location
CONTACT:
END:VEVENT
BEGIN:VEVENT
DTSTAMP:20220502T122639
DTSTART;TZID=America/Detroit:20210517T080000
DTEND;TZID=America/Detroit:20210517T230000
SUMMARY:Careers / Jobs:UROP First-Year Application Open
DESCRIPTION:Our \"Traditional UROP Program\" has been our flagship program running over 30 years. This Academic Year program\, in which students participate for both Fall and Winter Terms\, is designed for University of Michigan first and second year undergraduate students enrolled on the Ann Arbor campus who are seeking a first time research experience. Student research assistants work alongside a faculty member\, research scientist or professional practitioner on an ongoing or new research project.\n\nLearn more and apply at: myumi.ch/uropyearone\n\nApplications being accepted on a rolling basis.
UID:83923-21617032@events.umich.edu
URL:https://events.umich.edu/event/83923
CLASS:PUBLIC
STATUS:CONFIRMED
CATEGORIES:AEM Featured,Applications,first-generation,Free,Interdisciplinary,Networking,Research,Undergraduate,Undergraduate Students,Urop
LOCATION:Undergraduate Science Building
CONTACT:
END:VEVENT
BEGIN:VEVENT
DTSTAMP:20210804T182828
DTSTART;TZID=America/Detroit:20210517T080000
DTEND;TZID=America/Detroit:20210517T230000
SUMMARY:Careers / Jobs:UROP Research Scholars Application now open
DESCRIPTION:The UROP Research Scholars Program is designed for students who want to expand on their first year UROP experience and participate in UROP for a second year at an advanced level. In this program\, students build upon the knowledge gained in a first undergraduate research experience to further explore the connections between research\, a liberal arts education\, and communicating skills to advance their future professional goals. Students are expected to explore various written and oral possibilities for communicating their research process\, identifying the limits set by the discipline and the opportunities that lie beyond.\n\nApply at: https://myumi.ch/uroprs
UID:82067-21014931@events.umich.edu
URL:https://events.umich.edu/event/82067
CLASS:PUBLIC
STATUS:CONFIRMED
CATEGORIES:AEM Featured,Applications,Free,Interdisciplinary,Research,Undergraduate,Undergraduate Students,Urop
LOCATION:Off Campus Location
CONTACT:
END:VEVENT
BEGIN:VEVENT
DTSTAMP:20210714T155619
DTSTART;TZID=America/Detroit:20210517T080000
DTEND;TZID=America/Detroit:20210517T230000
SUMMARY:Careers / Jobs:UROP Rising Sophomore Applications Open
DESCRIPTION:The Undergraduate Research Opportunity Program is now accepting applications for students who will be rising sophomores during the 2021-2022 academic year. \n\nLearn more and apply today at http://myumi.ch/uropsophomore\n\nRising Sophomore Applications are being accepted on a rolling basis.
UID:80546-21203398@events.umich.edu
URL:https://events.umich.edu/event/80546
CLASS:PUBLIC
STATUS:CONFIRMED
CATEGORIES:AEM Featured,Applications,first-generation,Free,Research,Sophomore,Undergraduate,Undergraduate Students,Urop
LOCATION:Off Campus Location
CONTACT:
END:VEVENT
BEGIN:VEVENT
DTSTAMP:20210510T142730
DTSTART;TZID=America/Detroit:20210517T090000
DTEND;TZID=America/Detroit:20210517T100000
SUMMARY:Livestream / Virtual:EEB student evaluation seminar: Navigating the labyrinth: testing for ecomorphological correlations and convergence in the Serpentes inner ear
DESCRIPTION:Taylor presents her preliminary seminar. \n\nPlease check your email or contact eeb.gradcoord@umich.edu at least two hours prior to the event for the passcode.\n\nImages: Taylor West
UID:83975-21619273@events.umich.edu
URL:https://events.umich.edu/event/83975
CLASS:PUBLIC
STATUS:CONFIRMED
CATEGORIES:AEM Featured,Bsbsigns,Museum Of Zoology,Rackham,Research,science
LOCATION:Off Campus Location - https://umich.zoom.us/j/97351189156
CONTACT:
END:VEVENT
BEGIN:VEVENT
DTSTAMP:20210409T130626
DTSTART;TZID=America/Detroit:20210517T100000
DTEND;TZID=America/Detroit:20210517T110000
SUMMARY:Workshop / Seminar:PHD DEFENSE: \"An Industrial Engineering-Based Approach to Designing and Evaluating Healthcare Systems to Improve Veteran Access to Care\" — Adam VanDeusen
DESCRIPTION:Attend virtually via Zoom:\nhttps://umich.zoom.us/j/3303851772\n\nTITLE OF DISSERTATION:\nAn Industrial Engineering-Based Approach to Designing and Evaluating Healthcare Systems to Improve Veteran Access to Care\n\nCHAIR:\nAmy Cohn
UID:83681-21454203@events.umich.edu
URL:https://events.umich.edu/event/83681
CLASS:PUBLIC
STATUS:CONFIRMED
CATEGORIES:Graduate,Industrial And Operations Engineering,Ioe Defenses,Michigan Engineering
LOCATION:Off Campus Location
CONTACT:
END:VEVENT
BEGIN:VEVENT
DTSTAMP:20210208T144355
DTSTART;TZID=America/Detroit:20210517T120000
DTEND;TZID=America/Detroit:20210517T130000
SUMMARY:Workshop / Seminar:Parenting Through Separation and Divorce Workshop (Monthly)
DESCRIPTION:The University Center for the Child and Family (UCCF) is now offering a free\, virtual Parenting Through Separation and Divorce Workshop. Participants will receive a link to access the virtual workshop after registration. It is scheduled for 12 p.m. (noon\, EST)\, the third Monday of each month. \n\n*The program is an approved alternative to the SMILE Program by the Washtenaw County Friend of the Court.*\n\nParenting Through Separation and Divorce virtual workshops offer practical\, actionable advice for couples going through a temporary or permanent split. UCCF staff create a caring and collaborative environment for attendees in order to help parents understand their children’s needs during what can be a tumultuous time of change and uncertainty.\n\nThis workshop offers suggestions for creating the most beneficial post-divorce parenting relationships. While it is free\, workshop participants must register via the link. \n\n*Workshop Details*\n**When:** 12 - 1 p.m. (NOON) Monday\, Feb. 15\, March 15\, April 19\, or May 17\, 2021\n**Where:** Online via Zoom (register for the link).\n**Cost:** Free\, but registration is required.\n**How to Register:** Click the \"Ticket\" link to go to the Eventbrite registration. Or see https://www.eventbrite.com/e/parenting-through-separation-and-divorce-virtual-workshop-spring-2021-registration-126094689611
UID:78354-20959280@events.umich.edu
URL:https://events.umich.edu/event/78354
CLASS:PUBLIC
STATUS:CONFIRMED
CATEGORIES:Children,Family,Free,Graduate Students,Health & Wellness,parenting,psychology,Rackham,Virtual,Workshop
LOCATION:Off Campus Location
CONTACT:
END:VEVENT
BEGIN:VEVENT
DTSTAMP:20210506T120651
DTSTART;TZID=America/Detroit:20210517T133000
DTEND;TZID=America/Detroit:20210517T150000
SUMMARY:Meeting:CoderSpaces (Mondays)
DESCRIPTION:Are you grappling with a piece of code\, trying to compute on a cluster\, or just getting started with a new method such as machine learning? Then we might have just the right space for you.\n\nAll members of the U-M community are invited to join our weekly virtual CoderSpaces\, Mondays – Thursdays\, during the Summer 2021 term to get research support and connect with others.\n\nThe virtual sessions are designed to assist faculty\, staff\, and students with research methodology\, statistics\, data science applications\, and computational programming for research.\n\nOur hosts have a wide set of methodological and technological expertise. They come to you from a variety of departments and disciplines and are looking forward to serving the U-M community in their research endeavors.\n\nCoderSpaces provide a casual\, productive\, and inclusive environment. Everyone is welcome regardless of skill level.\n\nMondays 1:30-3 p.m.\n\nJoin via Zoom* (https://umich.zoom.us/j/97155787515)\n*Users will have to sign in with their UMICH (Level-1) credentials.\n\nwith Andrew Hlynka (CSCAR)\, Charles Antonelli (LSA Tech)\, Jonathan Golob (Michigan Medicine)\n\nExpertise: 3D graphical applications\, C\, C++\, C#\, CMake/GNU Make\, Fortran\, Git\, high performance computing\, Java\, JavaScript\, Julia\, Matlab\, mobile app development\, MPI\, OpenMP\, parallelization\, performance analysis\, PBS\, Python\, R\, reproducible workflows (nextflow)\, shell\, Slurm\, SQL\, statistical modeling
UID:83925-21619087@events.umich.edu
URL:https://events.umich.edu/event/83925
CLASS:PUBLIC
STATUS:CONFIRMED
CATEGORIES:Arc,Data Science,Information And Technology,Office Hours
LOCATION:Off Campus Location
CONTACT:
END:VEVENT
BEGIN:VEVENT
DTSTAMP:20211209T160155
DTSTART;TZID=America/Detroit:20210517T140000
DTEND;TZID=America/Detroit:20210517T150000
SUMMARY:Other:LSA Technology Services Research Support Office Hours
DESCRIPTION:The Research Team within LSA Technology Services is excited to announce virtual office hours for research computing support. These are regularly scheduled times when we will have subject matter experts in geographic information systems\, high performance computing\, digital scholarship\, and computer programming available for drop-in support. Faculty\, staff\, and students with research-related questions pertaining to any of these areas can stop by to ask questions\, get help working through a problem\, or inquire about a new project—no appointment necessary!\n\nNot sure what we can do to help? Read on for more details about the services provided by each of these teams.\n\n*Digital Scholarship*\nOur digital scholarship team specializes in humanities\, social sciences\, and interdisciplinary digital project methods and can provide assistance with:\n* Conceptualizing\, planning\, and finding resources for a digital project\n* How to version\, archive\, and preserve a project\n* Sustainability\, preservation\, accessibility\, privacy\, consent\, or grant requirements\nNew to digital projects? We can also talk about how to demonstrate the scholarly rigor of your digital project\, accurately credit the labor required of the project at every stage\, and how to provide evidence and metrics for promotion and job dossiers.\n\n*Geographic Information Systems (GIS)*\n\nOur GIS specialists can help with your geographic data needs\, including the following:\n* Making maps for use in a class\, grant proposal\, or publication\n* Geospatial analysis: identifying spatial patterns and trends in your data\n* Georeferencing: assigning geographic coordinates to a historic paper map or a hand-drawn sketch for digital use as a basemap or combined display with other data\n* Geocoding: convert a spreadsheet with addresses into latitude-longitude so you can plot your data on a map\n* StoryMaps: harness the power of maps to tell your story\n* Integrating smartphones or tablets and GIS in your field courses or researchSetting up workshops for a class or group interested in learning to use GIS in the context of your discipline\n* Assistance with ESRI's ArcGIS platform\, including ArcGIS Pro and ArcGIS Online\, or other geospatial software\n* Developing your own custom GIS web application or mobile application\n\n*High Performance Computing (HPC)*\n\nOur HPC team can help with:\n* Accessing U-M’s new Great Lakes HPC (High Performance Computing) cluster\n* Moving your computational work from your laptop or workstation to the cluster\, freeing up your machines for other tasks\n* Compiling\, installing\, or configuring a wide range of computational software\n* Setting up automated workflows to save time\n* Debugging your programs to see why they are crashing\n* Evaluating the benefits of parallel computing\, more memory or system resources for your code\nWe regularly support Python\, R\, MATLAB\, C/C++\, Java\, Julia\, Go\, and many other applications.\n\n*Research Support Programming*\n\nOur computer programming team can help with any of the following:\n\n* Debugging\, repair\, and improvements or upgrades to your existing code\n* References to training and coding resources to assist in your project\n* Design and development of custom software to support your research\n* Incorporation of lab-specific hardware into custom software applications.\n* Writing funding for any of the above into your grant proposals\nWe're experienced in MATLAB\, Python\, R\, LabVIEW\, JavaScript\, MedPC\, iOS development\, and more.\n\nWho can join the office hours?\nLSA Faculty\, staff\, and students with research-related questions on geographic information systems\, high performance computing\, digital scholarship\, and computer programming\n\nWhen and where is it?\nOur virtual office hours use Zoom:\nMondays\, 2:00–3:00 P.M.\nTuesdays\, 10:00–11:00 A.M.\nThursdays\, 3:00–4:00 P.M.
UID:77718-20270705@events.umich.edu
URL:https://events.umich.edu/event/77718
CLASS:PUBLIC
STATUS:CONFIRMED
CATEGORIES:Digital Humanities,Digital Projects,Digital Scholarship,Faculty,Gis,Graduate Students,Humanities,Lsa,Office Hours,Postdoctoral Research Fellows,Qualitative Social Sciences,research,Science,Virtual
LOCATION:Off Campus Location
CONTACT:
END:VEVENT
BEGIN:VEVENT
DTSTAMP:20210513T122623
DTSTART;TZID=America/Detroit:20210517T140000
DTEND;TZID=America/Detroit:20210517T150000
SUMMARY:Workshop / Seminar:PHD DEFENSE: \"Agent-based modeling of resilience in smallholder agriculture: toward robust models and equitable outcomes\" — Tim Williams
DESCRIPTION:Attend virtually via Zoom:\nhttps://umich.zoom.us/j/96596995831\n\nTITLE OF DISSERTATION:\nAgent-based modeling of resilience in smallholder agriculture: toward robust models and equitable outcomes\n\nCHAIR:\nSeth Guikema
UID:83344-21346219@events.umich.edu
URL:https://events.umich.edu/event/83344
CLASS:PUBLIC
STATUS:CONFIRMED
CATEGORIES:Graduate,Industrial And Operations Engineering,Ioe Defenses,Michigan Engineering
LOCATION:Off Campus Location
CONTACT:
END:VEVENT
BEGIN:VEVENT
DTSTAMP:20210414T123954
DTSTART;TZID=America/Detroit:20210517T160000
DTEND;TZID=America/Detroit:20210517T170000
SUMMARY:Lecture / Discussion:RNA Seminar featuring: Thomas Martinez\, Salk Institute for Biological Studies
DESCRIPTION:Registration Required: https://umich.zoom.us/webinar/register/WN_90RkcQTGQZa7ifQ8kbSdNQ\n\nKEYOWORDS: microprotein\, smORF\, ribosome profiling\n\nABSTRACT: Functional protein-coding small open reading frames (smORFs) are emerging as an important class of genes. Several smORF-encoded microproteins have been characterized and implicated in a variety of critical processes\, including regulation of mRNA decay\, DNA repair\, and muscle formation. Thus\, rigorous and comprehensive annotation of protein-coding smORFs is critical to our understanding of basic biology and physiology\, as well as disease. We recently developed an improved workflow that integrates de novo transcriptome assembly and ribosome profiling to overcome obstacles with previous methods to more confidently annotate thousands of novel smORFs across multiple human cell lines\, including hundreds encoded on putative non-coding RNAs. Over 1\,500 smORFs are found in two or more cell lines\, and ~40% lack a canonical AUG start codon. Evolutionary conservation analyses suggest that hundreds of smORF-encoded microproteins are likely functional. We also find that smORF-derived peptides are detectable on human leukocyte antigen complexes\, positioning smORFs as a source of novel antigens. The annotation of protein-coding smORFs radically alters the current view of the human genome’s coding capacity and will provide a rich pool of unexplored\, functional human genes.\n\nBIO: Thomas received his B.S. in Biological Engineering from MIT and trained in Prof. JoAnne Stubbe’s laboratory\, where he studied the mechanism of ribonucleotide reductase. He then recieved his Ph.D. in Biochemistry & Molecular Biophysics from Caltech as an NIH NRSA predoctoral fellow under the mentorship of Prof. Peter Dervan. His thesis work focused primarily on characterizing the effects of DNA binding pyrrole-imidazole polyamides on DNA replication in prostate cancer cells. Thomas is currently an NIH NRSA postdoctoral fellow in Prof. Alan Saghatelian’s laboratory\, where he has developed an integrative platform combining ribosome profiling and de novo transcriptome assembly to discover functional smORF encoded microproteins in the human genome.
UID:81303-20881903@events.umich.edu
URL:https://events.umich.edu/event/81303
CLASS:PUBLIC
STATUS:CONFIRMED
CATEGORIES:Basic Science,Biointerfaces,Biology,Biomedical Engineering,Biosciences,Chemistry,Drug Discovery,Graduate,Graduate School,Lecture,Life Science,Materials Science,Medicine,Natural Sciences,Pharmacy,Postdoctoral Research Fellows,Public Policy,Rackham,Research,Science,Structural Biology
LOCATION:Off Campus Location
CONTACT:
END:VEVENT
BEGIN:VEVENT
DTSTAMP:20210517T181513
DTSTART;TZID=America/Detroit:20210517T160000
DTEND;TZID=America/Detroit:20210517T172000
SUMMARY:Other:Unearthing Tulsa: 100 Years Later\, a conversation with Brent Staples\, Fred Conrad\, and Scott Ellsworth
DESCRIPTION:ouTube.\n \nMaybe you’ve heard of the Tulsa Race Massacre. It was one of the most horrific examples of white supremacist terrorism in the history of the United States and knowledge of the event was actively suppressed for over fifty years. From May 31 to June 1\, 1921\, the Massacre saw the murder of hundreds of Black residents of the Greenwood neighborhood—a bustling and vibrant community known then as Black Wall Street—and more than one-thousand homes and businesses burned to the ground.\n \nAs we approach the 100-year anniversary of the Tulsa Race Massacre\, we invite you to revisit a moment in 1999 when the New York Times Magazine published Pulitzer Prize winning journalist Brent Staples' article \"Unearthing a Riot\,\" which was the most significant national media coverage of the event at the time. Portraits of survivors made by renowned photojournalist and U-M alumnus Fred Conrad accompanied this important essay. In this program\, Staples and Conrad will be joined by U-M professor\, best-selling author\, and historian Scott Ellsworth\, author of newly published book The Ground Breaking: An American City and Its Search for Justice\, who will facilitate a conversation that will expand our understanding of what has been involved in making the history of Tulsa more visible and\, by extension\, illuminating the ever-present reality of racial terror and the resiliency of Black communities in our country.\n \nAlso featuring an introduction by Matthew Countryman\, chair of the Department of Afroamerican and African Studies\, and a Q&A facilitated by Jennifer Friess\, UMMA associate curator of photography.\n \nThis program will be livestreamed on YouTube at 4 p.m. on May 17. No registration required.   Brent Staples\, an editorial writer for The New York Times\, was awarded the 2019 Pulitzer Prize for editorial writing. He is the author of the memoir Parallel Time and holds a Phd in Psychology from The University of Chicago.\n \nFred Conrad is a photographer specializing in photojournalism and portraiture. He holds his BFA in Photography from the University of Michigan and has made photographs for prestigious and far reaching news organizations such as Sygma\, Time Magazine\, Newsweek\, New York Magazine\, Rolling Stone\, Ms. Magazine and The New York Times. \n \nBorn and raised in Tulsa\, Scott Ellsworth has been writing about the Tulsa race massacre for forty-five years. His forthcoming book\, The Ground Breaking: An American City and Its Search for Justice\, will be published on May 18\, 2021. Ellsworth teaches in the Department of Afroamerican and African Studies at the University of Michigan.\n \nThe Ground Breaking: an American City and its Search for Justice​ will be available for sale through the UMMA Shop (please call 734-647-0521)\, Literati Bookstore in Ann Arbor\, and Blackstone Bookstore in Ypsilanti. It will also be available through the Ann Arbor District Library. \n \nFor more information\, visit umma.umich.edu/unearthing-tulsa.\n\nThis program is presented by UMMA as part of our ongoing commitment to anti-racist action\, and organized in collaboration with the Museum’s longtime partner professor Scott Ellsworth and the Department of Afroamerican and African Studies with support from Wallace House\, the Penny Stamps School of Art & Design\, the Ann Arbor District Library\, Blackstone Bookstore\, and Literati Bookstore.\n\nVisit Unsettling Histories: Legacies of Slavery and Colonialism for a current exhibition that also takes up untold stories of the historical erasure of Black Americans and explores photography’s role in making visible people and histories that have been actively suppressed. \n\n 
UID:83757-21493279@events.umich.edu
URL:https://events.umich.edu/event/83757
CLASS:PUBLIC
STATUS:CONFIRMED
CATEGORIES:Africa,Art,History,Library,Media,Museum,Psychology,UMMA,Writing
LOCATION:Museum of Art - Webinar / Virtual Event 
CONTACT:
END:VEVENT
BEGIN:VEVENT
DTSTAMP:20201208T142048
DTSTART;TZID=America/Detroit:20210517T180000
DTEND;TZID=America/Detroit:20210517T193000
SUMMARY:Workshop / Seminar:Community Creative Arts Workshop
DESCRIPTION:December 2020 through May 2021
UID:79782-20493911@events.umich.edu
URL:https://events.umich.edu/event/79782
CLASS:PUBLIC
STATUS:CONFIRMED
CATEGORIES:Virtual,Workshop
LOCATION:Off Campus Location
CONTACT:
END:VEVENT
END:VCALENDAR