BEGIN:VCALENDAR
VERSION:2.0
PRODID:-//UM//UM*Events//EN
CALSCALE:GREGORIAN
BEGIN:VTIMEZONE
TZID:America/Detroit
TZURL:http://tzurl.org/zoneinfo/America/Detroit
X-LIC-LOCATION:America/Detroit
BEGIN:DAYLIGHT
TZOFFSETFROM:-0500
TZOFFSETTO:-0400
TZNAME:EDT
DTSTART:20070311T020000
RRULE:FREQ=YEARLY;BYMONTH=3;BYDAY=2SU
END:DAYLIGHT
BEGIN:STANDARD
TZOFFSETFROM:-0400
TZOFFSETTO:-0500
TZNAME:EST
DTSTART:20071104T020000
RRULE:FREQ=YEARLY;BYMONTH=11;BYDAY=1SU
END:STANDARD
END:VTIMEZONE
BEGIN:VEVENT
DTSTAMP:20210511T124519
DTSTART;TZID=America/Detroit:20210518T080000
DTEND;TZID=America/Detroit:20210518T230000
SUMMARY:Other:Become a UROP Research Mentor
DESCRIPTION:Submit a Research Project for the 2021-2022 Academic Year: https://lsa.umich.edu/urop/research-mentors.html\n\nUROP Research Mentors are faculty and post-doc researchers from across all U-M's 19 Schools and Colleges who provide undergraduate student researchers an opportunity to engage in research activities that help them learn about the pursuit of knowledge within an academic discipline. This early exposure to research fosters a valuable academic experience for students. Through this collaboration\, students gain research skills and mentorship that lead to academic retention\, a more positive undergraduate experience and paths to graduate school.
UID:83879-21619409@events.umich.edu
URL:https://events.umich.edu/event/83879
CLASS:PUBLIC
STATUS:CONFIRMED
CATEGORIES:AEM Featured,Education,Faculty,Free,Graduate and Professional Students,Graduate Students,Interdisciplinary,Mentorship,Research,research data,Staff,Urop
LOCATION:Off Campus Location
CONTACT:
END:VEVENT
BEGIN:VEVENT
DTSTAMP:20210430T095709
DTSTART;TZID=America/Detroit:20210518T080000
DTEND;TZID=America/Detroit:20210518T230000
SUMMARY:Careers / Jobs:Changing Gears Application Open
DESCRIPTION:Learn more about the Changing Gears Program and apply at: myumi.ch/uropcg\n\nChanging Gears (CG) is a UROP program designed primarily for community college transfer students who will be attending the University of Michigan\, but also serves students transferring from 4 year institutions. Students in the CG Program become a part of an ongoing faculty-driven research\, scholarly or creative project in their field of interest. Students learn valuable academic skills\, applying these skills to their research project\, academics\, and future career opportunities\, while receiving academic credit or compensation for their efforts in research work.\n\nIf you are a U-M Transfer Student and not graduating until winter 2022 and/or after\, you are eligible to apply to the 2021-2022 UROP Changing Gears Program.
UID:83922-21616914@events.umich.edu
URL:https://events.umich.edu/event/83922
CLASS:PUBLIC
STATUS:CONFIRMED
CATEGORIES:AEM Featured,first-generation,Free,Interdisciplinary,Networking,Office Hours,Research,Transfer Students,Undergraduate,Undergraduate Students,Urop
LOCATION:Off Campus Location
CONTACT:
END:VEVENT
BEGIN:VEVENT
DTSTAMP:20220502T122639
DTSTART;TZID=America/Detroit:20210518T080000
DTEND;TZID=America/Detroit:20210518T230000
SUMMARY:Careers / Jobs:UROP First-Year Application Open
DESCRIPTION:Our \"Traditional UROP Program\" has been our flagship program running over 30 years. This Academic Year program\, in which students participate for both Fall and Winter Terms\, is designed for University of Michigan first and second year undergraduate students enrolled on the Ann Arbor campus who are seeking a first time research experience. Student research assistants work alongside a faculty member\, research scientist or professional practitioner on an ongoing or new research project.\n\nLearn more and apply at: myumi.ch/uropyearone\n\nApplications being accepted on a rolling basis.
UID:83923-21617033@events.umich.edu
URL:https://events.umich.edu/event/83923
CLASS:PUBLIC
STATUS:CONFIRMED
CATEGORIES:AEM Featured,Applications,first-generation,Free,Interdisciplinary,Networking,Research,Undergraduate,Undergraduate Students,Urop
LOCATION:Undergraduate Science Building
CONTACT:
END:VEVENT
BEGIN:VEVENT
DTSTAMP:20210804T182828
DTSTART;TZID=America/Detroit:20210518T080000
DTEND;TZID=America/Detroit:20210518T230000
SUMMARY:Careers / Jobs:UROP Research Scholars Application now open
DESCRIPTION:The UROP Research Scholars Program is designed for students who want to expand on their first year UROP experience and participate in UROP for a second year at an advanced level. In this program\, students build upon the knowledge gained in a first undergraduate research experience to further explore the connections between research\, a liberal arts education\, and communicating skills to advance their future professional goals. Students are expected to explore various written and oral possibilities for communicating their research process\, identifying the limits set by the discipline and the opportunities that lie beyond.\n\nApply at: https://myumi.ch/uroprs
UID:82067-21014932@events.umich.edu
URL:https://events.umich.edu/event/82067
CLASS:PUBLIC
STATUS:CONFIRMED
CATEGORIES:AEM Featured,Applications,Free,Interdisciplinary,Research,Undergraduate,Undergraduate Students,Urop
LOCATION:Off Campus Location
CONTACT:
END:VEVENT
BEGIN:VEVENT
DTSTAMP:20210714T155619
DTSTART;TZID=America/Detroit:20210518T080000
DTEND;TZID=America/Detroit:20210518T230000
SUMMARY:Careers / Jobs:UROP Rising Sophomore Applications Open
DESCRIPTION:The Undergraduate Research Opportunity Program is now accepting applications for students who will be rising sophomores during the 2021-2022 academic year. \n\nLearn more and apply today at http://myumi.ch/uropsophomore\n\nRising Sophomore Applications are being accepted on a rolling basis.
UID:80546-21203399@events.umich.edu
URL:https://events.umich.edu/event/80546
CLASS:PUBLIC
STATUS:CONFIRMED
CATEGORIES:AEM Featured,Applications,first-generation,Free,Research,Sophomore,Undergraduate,Undergraduate Students,Urop
LOCATION:Off Campus Location
CONTACT:
END:VEVENT
BEGIN:VEVENT
DTSTAMP:20210504T150001
DTSTART;TZID=America/Detroit:20210518T100000
DTEND;TZID=America/Detroit:20210518T110000
SUMMARY:Livestream / Virtual:EEB dissertation defense: Single cell sequencing facilitates genome-enabled biology in uncultured fungi and resolves deep branches on the fungal tree of life
DESCRIPTION:Kevin defends his dissertation.\n\nPlease check back closer to the event for the Zoom link and see your email or contact eeb.gradcoord@umich.edu for the passcode at least two hours prior.
UID:83864-21555877@events.umich.edu
URL:https://events.umich.edu/event/83864
CLASS:PUBLIC
STATUS:CONFIRMED
CATEGORIES:AEM Featured,Bsbsigns,Rackham,Research,science
LOCATION:Off Campus Location
CONTACT:
END:VEVENT
BEGIN:VEVENT
DTSTAMP:20211209T160155
DTSTART;TZID=America/Detroit:20210518T100000
DTEND;TZID=America/Detroit:20210518T110000
SUMMARY:Other:LSA Technology Services Research Support Office Hours
DESCRIPTION:The Research Team within LSA Technology Services is excited to announce virtual office hours for research computing support. These are regularly scheduled times when we will have subject matter experts in geographic information systems\, high performance computing\, digital scholarship\, and computer programming available for drop-in support. Faculty\, staff\, and students with research-related questions pertaining to any of these areas can stop by to ask questions\, get help working through a problem\, or inquire about a new project—no appointment necessary!\n\nNot sure what we can do to help? Read on for more details about the services provided by each of these teams.\n\n*Digital Scholarship*\nOur digital scholarship team specializes in humanities\, social sciences\, and interdisciplinary digital project methods and can provide assistance with:\n* Conceptualizing\, planning\, and finding resources for a digital project\n* How to version\, archive\, and preserve a project\n* Sustainability\, preservation\, accessibility\, privacy\, consent\, or grant requirements\nNew to digital projects? We can also talk about how to demonstrate the scholarly rigor of your digital project\, accurately credit the labor required of the project at every stage\, and how to provide evidence and metrics for promotion and job dossiers.\n\n*Geographic Information Systems (GIS)*\n\nOur GIS specialists can help with your geographic data needs\, including the following:\n* Making maps for use in a class\, grant proposal\, or publication\n* Geospatial analysis: identifying spatial patterns and trends in your data\n* Georeferencing: assigning geographic coordinates to a historic paper map or a hand-drawn sketch for digital use as a basemap or combined display with other data\n* Geocoding: convert a spreadsheet with addresses into latitude-longitude so you can plot your data on a map\n* StoryMaps: harness the power of maps to tell your story\n* Integrating smartphones or tablets and GIS in your field courses or researchSetting up workshops for a class or group interested in learning to use GIS in the context of your discipline\n* Assistance with ESRI's ArcGIS platform\, including ArcGIS Pro and ArcGIS Online\, or other geospatial software\n* Developing your own custom GIS web application or mobile application\n\n*High Performance Computing (HPC)*\n\nOur HPC team can help with:\n* Accessing U-M’s new Great Lakes HPC (High Performance Computing) cluster\n* Moving your computational work from your laptop or workstation to the cluster\, freeing up your machines for other tasks\n* Compiling\, installing\, or configuring a wide range of computational software\n* Setting up automated workflows to save time\n* Debugging your programs to see why they are crashing\n* Evaluating the benefits of parallel computing\, more memory or system resources for your code\nWe regularly support Python\, R\, MATLAB\, C/C++\, Java\, Julia\, Go\, and many other applications.\n\n*Research Support Programming*\n\nOur computer programming team can help with any of the following:\n\n* Debugging\, repair\, and improvements or upgrades to your existing code\n* References to training and coding resources to assist in your project\n* Design and development of custom software to support your research\n* Incorporation of lab-specific hardware into custom software applications.\n* Writing funding for any of the above into your grant proposals\nWe're experienced in MATLAB\, Python\, R\, LabVIEW\, JavaScript\, MedPC\, iOS development\, and more.\n\nWho can join the office hours?\nLSA Faculty\, staff\, and students with research-related questions on geographic information systems\, high performance computing\, digital scholarship\, and computer programming\n\nWhen and where is it?\nOur virtual office hours use Zoom:\nMondays\, 2:00–3:00 P.M.\nTuesdays\, 10:00–11:00 A.M.\nThursdays\, 3:00–4:00 P.M.
UID:77718-20270752@events.umich.edu
URL:https://events.umich.edu/event/77718
CLASS:PUBLIC
STATUS:CONFIRMED
CATEGORIES:Digital Humanities,Digital Projects,Digital Scholarship,Faculty,Gis,Graduate Students,Humanities,Lsa,Office Hours,Postdoctoral Research Fellows,Qualitative Social Sciences,research,Science,Virtual
LOCATION:Off Campus Location
CONTACT:
END:VEVENT
BEGIN:VEVENT
DTSTAMP:20201215T165117
DTSTART;TZID=America/Detroit:20210518T100000
DTEND;TZID=America/Detroit:20210518T113000
SUMMARY:Class / Instruction:Shelter in Place: How the Pandemic is Changing our Cities\, Neighborhoods and Homes
DESCRIPTION:Many of us are thinking about how the pandemic will impact our lives going forward. This includes architects and designers who are imagining the changes that the pandemic will bring to urban spaces\, neighborhoods\, and homes. \n\nPresenter Kit Krankel McCullough\, an architectural and urban designer and faculty member for UM Taubman College of Architecture and Urban Planning\, will discuss some of the ways our surroundings are adapting to post-pandemic life and provide us with an inside look at what might be in our not- so-distant future.\n\nThrough her urban design practice and teaching\, Ms. McCullough advocates for equitable and socially just development\, healthy and sustainable environments\, strong communities\, and cities that promote well- being and happiness. At UM\, she teaches design studios on housing and neighborhood development\, seminars on transportation and urban economics\, and a popular lecture course on real estate development for architects and planners. She has developed urban design and economic strategies at a range of scales and led urban design projects in cities around the country. She received her Bachelor of Architecture from the University of Texas at Austin and her Master of Architecture in Urban Design from Harvard University.\n\nNO REGISTRATION REQUIRED
UID:80046-20548991@events.umich.edu
URL:https://events.umich.edu/event/80046
CLASS:PUBLIC
STATUS:CONFIRMED
CATEGORIES:Architecture,Environment,Lifelong Learning,olli,Retirement,Sustainability
LOCATION:Off Campus Location
CONTACT:
END:VEVENT
BEGIN:VEVENT
DTSTAMP:20210430T135931
DTSTART;TZID=America/Detroit:20210518T110000
DTEND;TZID=America/Detroit:20210518T120000
SUMMARY:Well-being:Work-Life Integration
DESCRIPTION:In line with our mission to develop a workplace culture that is supportive of all personal and family life\, this session covers important topics such as how to integrate responsibilities at work and at home\, what resources are available to support life in and outside of work\, and ways to support a flexible work schedule or remote work options.\n\n*AUDIENCE:*\n\nThis session is open to all LSA employees. Registration is required.\n\nFor questions or requests for accommodation\, please contact our Administrative Coordinator\, Mikalia Dennis (mikaliad@umich.edu).
UID:83933-21619165@events.umich.edu
URL:https://events.umich.edu/event/83933
CLASS:PUBLIC
STATUS:CONFIRMED
CATEGORIES:Diversity Equity And Inclusion,Inclusion,Well-being
LOCATION:Off Campus Location
CONTACT:
END:VEVENT
BEGIN:VEVENT
DTSTAMP:20210714T141205
DTSTART;TZID=America/Detroit:20210518T140000
DTEND;TZID=America/Detroit:20210518T153000
SUMMARY:Meeting:CoderSpaces (Tuesdays)
DESCRIPTION:Are you grappling with a piece of code\, trying to compute on a cluster\, or just getting started with a new method such as machine learning? Then we might have just the right space for you.\n\nAll members of the U-M community are invited to join our weekly virtual CoderSpaces\, Mondays – Thursdays\, during the Summer 2021 term to get research support and connect with others.\n\nThe virtual sessions are designed to assist faculty\, staff\, and students with research methodology\, statistics\, data science applications\, and computational programming for research.\n\nOur hosts have a wide set of methodological and technological expertise. They come to you from a variety of departments and disciplines and are looking forward to serving the U-M community in their research endeavors.\n\nCoderSpaces provide a casual\, productive\, and inclusive environment. Everyone is welcome regardless of skill level.\n\nTuesdays 2-3:30 p.m.\nJoin via Zoom* (https://umich.zoom.us/j/99832397131)\n*Users will have to sign in with their UMICH (Level-1) credentials.\n\nwith Alexander Gaenko (CSCAR)\, Chen Chen (PDHP/ISR)\, Liz Hanley (PDHP/ISR)\, Paul Schulz (PDHP/ISR)\n\nExpertise: C/C++\, CMake/GNU Make\, data management\, data visualization\, Fortran\, Git\, high performance computing\, Julia\, Mplus\, natural language processing\, parallelization\, performance analysis\, Perl\, Python\, R\, SAS\, secure computing enclaves\, shell\, SQL\, Stata\, statistical computing\, survey methods (hypothesis testing\, imputation\, modeling\, statistics\, sampling\, questionnaire design\, weighting)\, text analysis\, web applications (front-end HTML/CSS/JavaScript stack)\, web scraping
UID:83963-21619211@events.umich.edu
URL:https://events.umich.edu/event/83963
CLASS:PUBLIC
STATUS:CONFIRMED
CATEGORIES:Data Science,Information And Technology,Office Hours,Virtual
LOCATION:Off Campus Location
CONTACT:
END:VEVENT
BEGIN:VEVENT
DTSTAMP:20210414T183049
DTSTART;TZID=America/Detroit:20210518T160000
DTEND;TZID=America/Detroit:20210518T170000
SUMMARY:Careers / Jobs:SMBC Meet and Greet (Equity Capital Markets\, Investment Banking Advisory\, Strategic Credit Products)
DESCRIPTION:Event Description:\nOur SMBC Meet and Greet Series is a uniqueopportunity to meet and interact with the various business areas that hire interns and analysts. This session will feature overviews of three business groups followed by a Q&A session.\n\nNote: You are welcome to attend as many of the Meet and Greet sessions as you like. You can find each session’s participating business groups on our events central page (https://smbc.recsolu.com/external/events_central). \n\nEquity Capital Markets (ECM)\n\nOur rapidly expanding Equity Capital Markets (ECM) team offers equity and equity-linked financing solutions to corporate and project finance clients in the U.S. The experienced team is committed to a track record of client-centric excellence\; providing products such as initial public offerings (“IPO”)\, follow-on offerings (“FO”)\, convertible offerings\,at-the-market offerings (“ATMs”) and share repurchase programs to ourclients. In addition to origination capabilities\, the ECM team provides exceptional execution by our seasoned syndicate professionals.\n\nInvestment Banking Advisory (IBA)\n\nInvestment Banking Advisory advises SMBC and SMBC Nikko’s global clients\, specializing in strategic and financial advisory\, including M&A and capital markets\, across multiple sectors such as Consumer & Retail\, Power & Infrastructure\, Industrials and TMT.\n\nStrategic Credit Products (SCAD)\n\nThe Strategic Credit Products Department\, Americas Division (SCAD) offers leveraged financed solutions to clientsincluding Private Equity firms related to large-cap and middle market LBOtransactions and to support Asset Manager clients including large BDCs and other institutional lenders involved in middle market leveraged finance transactions. The group arranges\, structures\, distributes and holds a portion of risk on all of its transactions. Products include leveraged and syndicated loans\, fixed income\, securitization and asset backed financings.  \n\nInfo Session Details:\nLocation: https://smbc.webex.com/smbc/j.php?MTID=m97e70c0e0fac3bc0f3c8650a5bca54c6\nMeeting Number: 132 350 1347 \nMeeting Password: CampusSpring2
UID:83604-21438444@events.umich.edu
URL:https://events.umich.edu/event/83604
CLASS:PUBLIC
STATUS:CONFIRMED
CATEGORIES:
LOCATION:
CONTACT:
END:VEVENT
BEGIN:VEVENT
DTSTAMP:20210518T181505
DTSTART;TZID=America/Detroit:20210518T160000
DTEND;TZID=America/Detroit:20210518T170000
SUMMARY:Other:TBA
DESCRIPTION:Chembio\nNicholas Ingolia (University of California\, Berkeley)
UID:83070-21262989@events.umich.edu
URL:https://events.umich.edu/event/83070
CLASS:PUBLIC
STATUS:CONFIRMED
CATEGORIES:Biosciences,Chemistry,Science
LOCATION:Off Campus Location
CONTACT:
END:VEVENT
BEGIN:VEVENT
DTSTAMP:20210414T183050
DTSTART;TZID=America/Detroit:20210518T173000
DTEND;TZID=America/Detroit:20210518T183000
SUMMARY:Careers / Jobs:Target Diversity & Inclusion Presentation and Panel
DESCRIPTION:Target has a longstanding commitment to diversity\, equity andinclusion – they’re part of our core values\, shape our culture and drive our business.  Curious to learn more? \n\nJoin leaders from Target's Stores\, DCs\, and Headquarters for a panel discussion to learn more aboutTarget\, our leaders' career paths\, and what Diversity & Inclusion meansto them.\n\nWe will also have time for Q&A so bring your questions!
UID:83628-21440415@events.umich.edu
URL:https://events.umich.edu/event/83628
CLASS:PUBLIC
STATUS:CONFIRMED
CATEGORIES:
LOCATION:
CONTACT:
END:VEVENT
END:VCALENDAR