BEGIN:VCALENDAR
VERSION:2.0
PRODID:-//UM//UM*Events//EN
CALSCALE:GREGORIAN
BEGIN:VTIMEZONE
TZID:America/Detroit
TZURL:http://tzurl.org/zoneinfo/America/Detroit
X-LIC-LOCATION:America/Detroit
BEGIN:DAYLIGHT
TZOFFSETFROM:-0500
TZOFFSETTO:-0400
TZNAME:EDT
DTSTART:20070311T020000
RRULE:FREQ=YEARLY;BYMONTH=3;BYDAY=2SU
END:DAYLIGHT
BEGIN:STANDARD
TZOFFSETFROM:-0400
TZOFFSETTO:-0500
TZNAME:EST
DTSTART:20071104T020000
RRULE:FREQ=YEARLY;BYMONTH=11;BYDAY=1SU
END:STANDARD
END:VTIMEZONE
BEGIN:VEVENT
DTSTAMP:20210530T180002
DTSTART;TZID=America/Detroit:20210521T000000
DTEND;TZID=America/Detroit:20210521T235959
SUMMARY:Other:Michigan Bhangra Team 2021 Spring Virtual Tryouts
DESCRIPTION:The Michigan Bhangra Team is back for our 22nd season\, and our Spring 2021 online tryouts are now live! No dance experience is necessary and we encourage rising freshmen to the University of Michigan to try out for our team!\n\nTo audition\, learn the choreo from our video and submit your tryout video via the Google form linked in our Instagram bio (@michiganbhangrateam). A step-by-step tutorial of our tryout choreo is also posted on our YouTube!\nTryout videos will be due:\nMAY 29\, 2021 by 11:59pmTurn in Tryout Videos with this link:https://docs.google.com/forms/d/e/1FAIpQLSdPm0aSW1Dc-sDe7jVFNGEREkCVOTCYlZ4PAmmdknSnn_lz7w/viewform\nIf you want extra help learning the choreo\, feel free to drop by on an optional zoom workshop on MAY 22 11-12PM.\nIf this doesn’t work for you\, you can also contact us by instagram DM (preferably) or email michiganbhangrateam@gmail.com. Good luck and have fun!
UID:84077-21620633@events.umich.edu
URL:https://events.umich.edu/event/84077
CLASS:PUBLIC
STATUS:CONFIRMED
CATEGORIES:
LOCATION:Online
CONTACT:
END:VEVENT
BEGIN:VEVENT
DTSTAMP:20210511T134552
DTSTART;TZID=America/Detroit:20210521T000000
DTEND;TZID=America/Detroit:20210521T145900
SUMMARY:Exhibition:Miniatures 2021: Resisting the Confines of Quarantine
DESCRIPTION:The pandemic halted the in-person artwork selection typical of Prison Creative Arts Project (PCAP) exhibits. As an adaptation\, PCAP invited artists incarcerated in Michigan state prisons to create small-scale artwork and send their entries by mail. \n\nA link to the exhibit will be posted at https://myumi.ch/kxZ1D on May 19\, 2021.\n\nThe exhibit includes 141 artworks\, featuring a diversity of both artists and artistic choices. All the 2D artworks measure 4 in. x 6 in. and the 3D artworks no more than 4 in. x 6 in. x 4 in. \n\nArtwork sales appointments are available May 20–27\, 2021. Book your appointment on the exhibit website. Artwork will remain available for view after the sales period closes.\n\nThis exhibit is supported by the Michigan Council for Arts and Cultural Affairs\, Om of Medicine\, and hundreds of individual donors. Thank you to everyone who made this show possible!
UID:84015-21619587@events.umich.edu
URL:https://events.umich.edu/event/84015
CLASS:PUBLIC
STATUS:CONFIRMED
CATEGORIES:Art,Exhibition,Free,Social Justice,visual arts
LOCATION:Off Campus Location
CONTACT:
END:VEVENT
BEGIN:VEVENT
DTSTAMP:20210523T120003
DTSTART;TZID=America/Detroit:20210521T000000
DTEND;TZID=America/Detroit:20210521T235959
SUMMARY:Sporting Event:NCSA World Series Tournament
DESCRIPTION:The Michigan Club Softball team will be competing down in Columbus\, GA in the national tournament. They will compete against 14 other teams across the country for a national title in a 4 day tournament. 
UID:84007-21620176@events.umich.edu
URL:https://events.umich.edu/event/84007
CLASS:PUBLIC
STATUS:CONFIRMED
CATEGORIES:
LOCATION:South Commons Softball Complex
CONTACT:
END:VEVENT
BEGIN:VEVENT
DTSTAMP:20210511T124519
DTSTART;TZID=America/Detroit:20210521T080000
DTEND;TZID=America/Detroit:20210521T230000
SUMMARY:Other:Become a UROP Research Mentor
DESCRIPTION:Submit a Research Project for the 2021-2022 Academic Year: https://lsa.umich.edu/urop/research-mentors.html\n\nUROP Research Mentors are faculty and post-doc researchers from across all U-M's 19 Schools and Colleges who provide undergraduate student researchers an opportunity to engage in research activities that help them learn about the pursuit of knowledge within an academic discipline. This early exposure to research fosters a valuable academic experience for students. Through this collaboration\, students gain research skills and mentorship that lead to academic retention\, a more positive undergraduate experience and paths to graduate school.
UID:83879-21619412@events.umich.edu
URL:https://events.umich.edu/event/83879
CLASS:PUBLIC
STATUS:CONFIRMED
CATEGORIES:AEM Featured,Education,Faculty,Free,Graduate and Professional Students,Graduate Students,Interdisciplinary,Mentorship,Research,research data,Staff,Urop
LOCATION:Off Campus Location
CONTACT:
END:VEVENT
BEGIN:VEVENT
DTSTAMP:20210430T095709
DTSTART;TZID=America/Detroit:20210521T080000
DTEND;TZID=America/Detroit:20210521T230000
SUMMARY:Careers / Jobs:Changing Gears Application Open
DESCRIPTION:Learn more about the Changing Gears Program and apply at: myumi.ch/uropcg\n\nChanging Gears (CG) is a UROP program designed primarily for community college transfer students who will be attending the University of Michigan\, but also serves students transferring from 4 year institutions. Students in the CG Program become a part of an ongoing faculty-driven research\, scholarly or creative project in their field of interest. Students learn valuable academic skills\, applying these skills to their research project\, academics\, and future career opportunities\, while receiving academic credit or compensation for their efforts in research work.\n\nIf you are a U-M Transfer Student and not graduating until winter 2022 and/or after\, you are eligible to apply to the 2021-2022 UROP Changing Gears Program.
UID:83922-21616917@events.umich.edu
URL:https://events.umich.edu/event/83922
CLASS:PUBLIC
STATUS:CONFIRMED
CATEGORIES:AEM Featured,first-generation,Free,Interdisciplinary,Networking,Office Hours,Research,Transfer Students,Undergraduate,Undergraduate Students,Urop
LOCATION:Off Campus Location
CONTACT:
END:VEVENT
BEGIN:VEVENT
DTSTAMP:20220502T122639
DTSTART;TZID=America/Detroit:20210521T080000
DTEND;TZID=America/Detroit:20210521T230000
SUMMARY:Careers / Jobs:UROP First-Year Application Open
DESCRIPTION:Our \"Traditional UROP Program\" has been our flagship program running over 30 years. This Academic Year program\, in which students participate for both Fall and Winter Terms\, is designed for University of Michigan first and second year undergraduate students enrolled on the Ann Arbor campus who are seeking a first time research experience. Student research assistants work alongside a faculty member\, research scientist or professional practitioner on an ongoing or new research project.\n\nLearn more and apply at: myumi.ch/uropyearone\n\nApplications being accepted on a rolling basis.
UID:83923-21617036@events.umich.edu
URL:https://events.umich.edu/event/83923
CLASS:PUBLIC
STATUS:CONFIRMED
CATEGORIES:AEM Featured,Applications,first-generation,Free,Interdisciplinary,Networking,Research,Undergraduate,Undergraduate Students,Urop
LOCATION:Undergraduate Science Building
CONTACT:
END:VEVENT
BEGIN:VEVENT
DTSTAMP:20210804T182828
DTSTART;TZID=America/Detroit:20210521T080000
DTEND;TZID=America/Detroit:20210521T230000
SUMMARY:Careers / Jobs:UROP Research Scholars Application now open
DESCRIPTION:The UROP Research Scholars Program is designed for students who want to expand on their first year UROP experience and participate in UROP for a second year at an advanced level. In this program\, students build upon the knowledge gained in a first undergraduate research experience to further explore the connections between research\, a liberal arts education\, and communicating skills to advance their future professional goals. Students are expected to explore various written and oral possibilities for communicating their research process\, identifying the limits set by the discipline and the opportunities that lie beyond.\n\nApply at: https://myumi.ch/uroprs
UID:82067-21014935@events.umich.edu
URL:https://events.umich.edu/event/82067
CLASS:PUBLIC
STATUS:CONFIRMED
CATEGORIES:AEM Featured,Applications,Free,Interdisciplinary,Research,Undergraduate,Undergraduate Students,Urop
LOCATION:Off Campus Location
CONTACT:
END:VEVENT
BEGIN:VEVENT
DTSTAMP:20210714T155619
DTSTART;TZID=America/Detroit:20210521T080000
DTEND;TZID=America/Detroit:20210521T230000
SUMMARY:Careers / Jobs:UROP Rising Sophomore Applications Open
DESCRIPTION:The Undergraduate Research Opportunity Program is now accepting applications for students who will be rising sophomores during the 2021-2022 academic year. \n\nLearn more and apply today at http://myumi.ch/uropsophomore\n\nRising Sophomore Applications are being accepted on a rolling basis.
UID:80546-21203402@events.umich.edu
URL:https://events.umich.edu/event/80546
CLASS:PUBLIC
STATUS:CONFIRMED
CATEGORIES:AEM Featured,Applications,first-generation,Free,Research,Sophomore,Undergraduate,Undergraduate Students,Urop
LOCATION:Off Campus Location
CONTACT:
END:VEVENT
BEGIN:VEVENT
DTSTAMP:20210521T121514
DTSTART;TZID=America/Detroit:20210521T100000
DTEND;TZID=America/Detroit:20210521T110000
SUMMARY:Presentation:Mindfulness in the Museum
DESCRIPTION:Click here to register: http://events.constantcontact.com/register/event?llr=uhlrs88ab&oeidk=a07ehwrxos4f0d29912.\n \nHave you ever wished you could have a more meaningful connection with art at UMMA? In this virtual experience\, we will explore a more contemplative approach to looking at art with a variety of guided mindfulness practices. As we rest our attention on our breath\, the body and heart relax while the mind quiets. We can experience what’s before with more spaciousness and also learn to trust our own experience. Led by meditation teacher and UMMA docent Laura Seligman. Beginner and experienced meditators welcome. The May sessions of Mindfulness at the Museum are presented by UMMA\, in partnership with MHealth and University Human Resources\, in honor of Mental Health Month. This year\, it's more important than ever to find ways to nurture and sustain meaningful connections. If you could benefit from talking to someone\, support is available year-round for all faculty and staff. Looking for support for students? Check out the Counseling and Psychological Services (CAPS) offices for students: CAPS Ann Arbor\, CAPS Dearborn\, CAPS Flint.\n \n \n\n
UID:83891-21597365@events.umich.edu
URL:https://events.umich.edu/event/83891
CLASS:PUBLIC
STATUS:CONFIRMED
CATEGORIES:Art,Faculty,Flint,Human Resources,Mindfulness,Museum,Staff,UMMA
LOCATION:Museum of Art - Zoom Event / Virtual Event 
CONTACT:
END:VEVENT
BEGIN:VEVENT
DTSTAMP:20210423T120449
DTSTART;TZID=America/Detroit:20210521T100000
DTEND;TZID=America/Detroit:20210521T110000
SUMMARY:Livestream / Virtual:The Clements Bookworm: Stories of Maritime Heritage in the Great Lakes Region
DESCRIPTION:In this episode of the Bookworm\, panelists Art Cohn (Seneca Lake Archaeological Survey – New York) and Stacy Daniels (The Comedy of Crystal Lake – Michigan) discuss their research.\n\nEpisode generously sponsored by Tom Wagner.\n\n*The Clements Bookworm is a webinar series in which panelists and featured guests discuss history topics. Recommended books\, articles\, and other resources are provided in each session. Inspired by the traditional Clements Library researcher tea time\, we invite you to pull up a chair at our [virtual] table. Live attendees are encouraged to post comments and questions\, respond to polls\, and add to our conversation and camaraderie.*
UID:83875-21563679@events.umich.edu
URL:https://events.umich.edu/event/83875
CLASS:PUBLIC
STATUS:CONFIRMED
CATEGORIES:american culture,american history,archaeological sites,archaeology,Books,history,Humanities,Library,Research,Talk,Virtual
LOCATION:Off Campus Location
CONTACT:
END:VEVENT
BEGIN:VEVENT
DTSTAMP:20210420T121519
DTSTART;TZID=America/Detroit:20210521T100000
DTEND;TZID=America/Detroit:20210521T120000
SUMMARY:Livestream / Virtual:What’s Next? Constellations & Orientations: New Ways to Think About Your Skills
DESCRIPTION:Understanding your skills is a crucial part of exploring careers and figuring out your next steps. But what do we actually mean when we talk about “skills”? This workshop will introduce a critical\, contextual\, and creative approach to skills that draws on your humanities training and experiences. You will leave with a personalized strategy for understanding what you’re good at—not just a generic list of skills. You will also have a chance to imagine how you can use your skills to make a positive impact on the world.\nThe session will be highly interactive\, with significant individual reflection as well as discussion (in breakout rooms and as a large group). To allow for an open dialogue\, this session will not be recorded.\nSpeaker: Derek Attig (they/them) is Assistant Dean for Career & Professional Development in the Graduate College at the University of Illinois at Urbana-Champaign. In addition to their work at Illinois\, Attig was part of the team that built the ImaginePhD career planning tool for humanists and social scientists and writes regularly for Inside Higher Ed’s Carpe Careers column. Before working in career development\, Attig advised graduate students at a teaching center and worked in nonprofit marketing. They earned a Ph.D. in history with a dissertation on the cultural history of bookmobiles in the United States.\nRegistration is required at https://myumi.ch/MEwqD.\nWe want to ensure full and equitable participation in our events. If an accommodation would promote your full participation in this event\, please follow the registration link to indicate your accommodation requirements. Please let us know as soon as possible in order to have adequate time\, preferably one week\, to arrange for your requested accommodations or an effective alternative.
UID:83692-21456163@events.umich.edu
URL:https://events.umich.edu/event/83692
CLASS:PUBLIC
STATUS:CONFIRMED
CATEGORIES:Graduate Students
LOCATION:Off Campus Location
CONTACT:
END:VEVENT
BEGIN:VEVENT
DTSTAMP:20210519T202826
DTSTART;TZID=America/Detroit:20210521T103000
DTEND;TZID=America/Detroit:20210521T120000
SUMMARY:Livestream / Virtual:2021 virtual Hacks with Friends Event Finals
DESCRIPTION:The U-M community is invited to join the Michigan IT community for the competition day of the 2021 Hacks with Friends event. Register to vote and tune into the events’ livestream to watch 12 hack teams present their hacks in three-minute presentations for a public vote. Viewers with U-M credentials will have the opportunity to vote online for their top three hacks. The final top four teams from the peer vote will go on to face our judges in the finals beginning at 1 p.m. Judges will select a first\, second\, and third place team. In addition\, the team with the most votes from the peer voting will receive the People's Choice award.\n\nVisit the Hacks with Friends website for more information on this year’s event and to register to vote during the livestreamed competition beginning at 10:30 a.m.[https://it.umich.edu/community/hacks-with-friends/2021/]
UID:84069-21619890@events.umich.edu
URL:https://events.umich.edu/event/84069
CLASS:PUBLIC
STATUS:CONFIRMED
CATEGORIES:computer science,computers,digital,Digital Cultures,Digital Studies,information and technology,it,Its,Networking,Programming,software,Software Carpentry,technology,Virtual
LOCATION:Off Campus Location
CONTACT:
END:VEVENT
BEGIN:VEVENT
DTSTAMP:20210519T202826
DTSTART;TZID=America/Detroit:20210521T130000
DTEND;TZID=America/Detroit:20210521T144500
SUMMARY:Livestream / Virtual:2021 virtual Hacks with Friends Event Finals
DESCRIPTION:The U-M community is invited to join the Michigan IT community for the competition day of the 2021 Hacks with Friends event. Register to vote and tune into the events’ livestream to watch 12 hack teams present their hacks in three-minute presentations for a public vote. Viewers with U-M credentials will have the opportunity to vote online for their top three hacks. The final top four teams from the peer vote will go on to face our judges in the finals beginning at 1 p.m. Judges will select a first\, second\, and third place team. In addition\, the team with the most votes from the peer voting will receive the People's Choice award.\n\nVisit the Hacks with Friends website for more information on this year’s event and to register to vote during the livestreamed competition beginning at 10:30 a.m.[https://it.umich.edu/community/hacks-with-friends/2021/]
UID:84069-21619891@events.umich.edu
URL:https://events.umich.edu/event/84069
CLASS:PUBLIC
STATUS:CONFIRMED
CATEGORIES:computer science,computers,digital,Digital Cultures,Digital Studies,information and technology,it,Its,Networking,Programming,software,Software Carpentry,technology,Virtual
LOCATION:Off Campus Location
CONTACT:
END:VEVENT
BEGIN:VEVENT
DTSTAMP:20210414T183048
DTSTART;TZID=America/Detroit:20210521T130000
DTEND;TZID=America/Detroit:20210521T143000
SUMMARY:Careers / Jobs:University of Michigan Coaching Workshop
DESCRIPTION:Brand new to the case interview? Have some experience but wantto brush up on your case skills? Join some recent Michigan alums at McKinsey for some fun with cases and a deep-dive into the three core pieces of the McKinsey process. While we will be starting with case basics\, this event is open to all backgrounds and levels of case experience. We will be offering this session and further case prep again closer to the fall recruiting season to give you more time to practice. This event will take place on May 21st from 1-2:30pm EST.
UID:83571-21430597@events.umich.edu
URL:https://events.umich.edu/event/83571
CLASS:PUBLIC
STATUS:CONFIRMED
CATEGORIES:
LOCATION:
CONTACT:
END:VEVENT
BEGIN:VEVENT
DTSTAMP:20210409T181527
DTSTART;TZID=America/Detroit:20210521T130000
DTEND;TZID=America/Detroit:20210521T143000
SUMMARY:Livestream / Virtual:What’s Next? Disciplinary Career Panels: Humanities
DESCRIPTION:Panelists include:\n\nEthriam Brammer\, Assistant Dean at Rackham Graduate School (Ph.D.\, English)\nCatalina Esguerra\, Diversity\, Equity\, & Inclusion Programs Manager at University of Virginia (Ph.D.\, Romance Languages\, Literatures\, and Linguistics)\nChris Gerben\, Vice President of Marketing at Smokeball Legal Software (Ph.D.\, English)\nBriann Greenfield\, Executive Director at Harriet Beecher Stowe Center (Ph.D.\, American Studies)\n\nRegistration is required at https://myumi.ch/MEwqD.\nWe want to ensure full and equitable participation in our events. If an accommodation would promote your full participation in this event\, please follow the registration link to indicate your accommodation requirements. Please let us know as soon as possible in order to have adequate time\, preferably one week\, to arrange for your requested accommodations or an effective alternative.
UID:83693-21456164@events.umich.edu
URL:https://events.umich.edu/event/83693
CLASS:PUBLIC
STATUS:CONFIRMED
CATEGORIES:Graduate Students
LOCATION:Off Campus Location
CONTACT:
END:VEVENT
BEGIN:VEVENT
DTSTAMP:20210409T181527
DTSTART;TZID=America/Detroit:20210521T130000
DTEND;TZID=America/Detroit:20210521T143000
SUMMARY:Livestream / Virtual:What’s Next? Disciplinary Career Panels: Social Sciences
DESCRIPTION:Panelists include:\n\nAshley Reid Brown\, Principal Consultant at ghSMART (Ph.D.\, Political Science and Public Policy)\nJeremy Welland\, Global Head of Data Science and Analytics at Google (Ph.D.\, Economics)\nMary Wright\, Associate Provost for Teaching and Learning and Executive Director of the Sheridan Center for Teaching and Learning\, Brown University (Ph.D.\, Sociology)\nRegistration is required at https://myumi.ch/MEwqD.\nWe want to ensure full and equitable participation in our events. If an accommodation would promote your full participation in this event\, please follow the registration link to indicate your accommodation requirements. Please let us know as soon as possible in order to have adequate time\, preferably one week\, to arrange for your requested accommodations or an effective alternative.
UID:83694-21456165@events.umich.edu
URL:https://events.umich.edu/event/83694
CLASS:PUBLIC
STATUS:CONFIRMED
CATEGORIES:Graduate Students
LOCATION:Off Campus Location
CONTACT:
END:VEVENT
BEGIN:VEVENT
DTSTAMP:20210519T160129
DTSTART;TZID=America/Detroit:20210521T153000
DTEND;TZID=America/Detroit:20210521T163000
SUMMARY:Meeting:Join us! Third Year Ukrainian (for speakers of Ukrainian and Russian)
DESCRIPTION:Fall 2021 — UKR 351/555\nJoin us for an Intro Zoom meeting this Friday\, May 21st\, 3:30-4:30:  https://umich.zoom.us/j/95606601661\nMeet with the course instructor and its former students.\n\nThe course is aimed towards development of Advanced Mid proficiency in reading\, writing\, and listening as well as at least Intermediate Mid skills in speaking. Semester-long translation project with Ukraine-based non-profit media organization UkraЇner is one of the highlights of this course: you will be working directly with editors in Ukraine and your work will be published.  No midterm or final exams\, short texts\, engaging vocabulary development activities\, and flexible approach to course schedule and format makes this course a valuable part of your UofM experience. Example of one of our former student published translations see here: https://ukrainer.net/egg-as-an-art-object/.
UID:84082-21619869@events.umich.edu
URL:https://events.umich.edu/event/84082
CLASS:PUBLIC
STATUS:CONFIRMED
CATEGORIES:Free,Graduate Students,Language,Slavic,Slavic Featured,Slavic Studies,Ukraine,Ukrainian,Undergraduate,Undergraduate Students
LOCATION:Off Campus Location
CONTACT:
END:VEVENT
BEGIN:VEVENT
DTSTAMP:20210317T175817
DTSTART;TZID=America/Detroit:20210521T170000
SUMMARY:Livestream / Virtual:Ginsberg Community of Practice
DESCRIPTION:Join our Ginsberg Community of Practice (CoP)\, which is geared toward community-engaged faculty\, staff and graduate students. We will focus on developing and refining course-based and program curriculum and working with students and community partners to develop equitable and impactful partnerships. We will highlight anti-racist approaches that seek to make visible and challenge hidden curriculum and harmful practices that fail to address white supremacy.\n\nWe aim for this community to support participants by offering opportunities to make connections\, share resources\, address challenges and offer strategies to each other. As a group\, we will choose from Campus Compact’s competencies to focus our work together. \n\nParticipants must be able to attend all six sessions in Summer 2021:\nJune 4\, June 11\, June 25\, July 16\, July 23\, July 30\nSessions will be held virtually on Fridays from 1-2:30pm\n\nApply online using the link below
UID:83131-21274912@events.umich.edu
URL:https://events.umich.edu/event/83131
CLASS:PUBLIC
STATUS:CONFIRMED
CATEGORIES:Community Engagement,Faculty,Graduate And Professional Students,Staff
LOCATION:Off Campus Location
CONTACT:
END:VEVENT
BEGIN:VEVENT
DTSTAMP:20210429T181504
DTSTART;TZID=America/Detroit:20210521T200000
SUMMARY:Livestream / Virtual:Godspell
DESCRIPTION:Department of Musical Theatre\n\nBroadway actor Telly Leung directs for the first time as he leads the Musical Theatre students in this fresh interpretation of this iconic show. Leung\, who starred in Godspell during the 2011 revival\, helped guide the cast in making the flexible script as relevant today as it was when Godspell first premiered in 1971. Featuring such showtune standards as “Turn Back\, O Man\,” “Day by Day\,” and “Learn Your Lessons Well”\, Godspell is a tribute to vaudeville\, breathing parable\, and protest piece all at the same time. Prepare ye for the Godspell you know and love from 50 years ago\, but told through the perspective of these incredible young theater-makers.\n\nFree reservations required\, visit https://myumi.ch/ovE5m
UID:83914-21612988@events.umich.edu
URL:https://events.umich.edu/event/83914
CLASS:PUBLIC
STATUS:CONFIRMED
CATEGORIES:Concert,Culture,Free,Music,Theater
LOCATION:Off Campus Location
CONTACT:
END:VEVENT
END:VCALENDAR