BEGIN:VCALENDAR
VERSION:2.0
PRODID:-//UM//UM*Events//EN
CALSCALE:GREGORIAN
BEGIN:VTIMEZONE
TZID:America/Detroit
TZURL:http://tzurl.org/zoneinfo/America/Detroit
X-LIC-LOCATION:America/Detroit
BEGIN:DAYLIGHT
TZOFFSETFROM:-0500
TZOFFSETTO:-0400
TZNAME:EDT
DTSTART:20070311T020000
RRULE:FREQ=YEARLY;BYMONTH=3;BYDAY=2SU
END:DAYLIGHT
BEGIN:STANDARD
TZOFFSETFROM:-0400
TZOFFSETTO:-0500
TZNAME:EST
DTSTART:20071104T020000
RRULE:FREQ=YEARLY;BYMONTH=11;BYDAY=1SU
END:STANDARD
END:VTIMEZONE
BEGIN:VEVENT
DTSTAMP:20210530T180002
DTSTART;TZID=America/Detroit:20210523T000000
DTEND;TZID=America/Detroit:20210523T235959
SUMMARY:Other:Michigan Bhangra Team 2021 Spring Virtual Tryouts
DESCRIPTION:The Michigan Bhangra Team is back for our 22nd season\, and our Spring 2021 online tryouts are now live! No dance experience is necessary and we encourage rising freshmen to the University of Michigan to try out for our team!\n\nTo audition\, learn the choreo from our video and submit your tryout video via the Google form linked in our Instagram bio (@michiganbhangrateam). A step-by-step tutorial of our tryout choreo is also posted on our YouTube!\nTryout videos will be due:\nMAY 29\, 2021 by 11:59pmTurn in Tryout Videos with this link:https://docs.google.com/forms/d/e/1FAIpQLSdPm0aSW1Dc-sDe7jVFNGEREkCVOTCYlZ4PAmmdknSnn_lz7w/viewform\nIf you want extra help learning the choreo\, feel free to drop by on an optional zoom workshop on MAY 22 11-12PM.\nIf this doesn’t work for you\, you can also contact us by instagram DM (preferably) or email michiganbhangrateam@gmail.com. Good luck and have fun!
UID:84077-21620635@events.umich.edu
URL:https://events.umich.edu/event/84077
CLASS:PUBLIC
STATUS:CONFIRMED
CATEGORIES:
LOCATION:Online
CONTACT:
END:VEVENT
BEGIN:VEVENT
DTSTAMP:20210511T134552
DTSTART;TZID=America/Detroit:20210523T000000
DTEND;TZID=America/Detroit:20210523T145900
SUMMARY:Exhibition:Miniatures 2021: Resisting the Confines of Quarantine
DESCRIPTION:The pandemic halted the in-person artwork selection typical of Prison Creative Arts Project (PCAP) exhibits. As an adaptation\, PCAP invited artists incarcerated in Michigan state prisons to create small-scale artwork and send their entries by mail. \n\nA link to the exhibit will be posted at https://myumi.ch/kxZ1D on May 19\, 2021.\n\nThe exhibit includes 141 artworks\, featuring a diversity of both artists and artistic choices. All the 2D artworks measure 4 in. x 6 in. and the 3D artworks no more than 4 in. x 6 in. x 4 in. \n\nArtwork sales appointments are available May 20–27\, 2021. Book your appointment on the exhibit website. Artwork will remain available for view after the sales period closes.\n\nThis exhibit is supported by the Michigan Council for Arts and Cultural Affairs\, Om of Medicine\, and hundreds of individual donors. Thank you to everyone who made this show possible!
UID:84015-21619589@events.umich.edu
URL:https://events.umich.edu/event/84015
CLASS:PUBLIC
STATUS:CONFIRMED
CATEGORIES:Art,Exhibition,Free,Social Justice,visual arts
LOCATION:Off Campus Location
CONTACT:
END:VEVENT
BEGIN:VEVENT
DTSTAMP:20210523T120003
DTSTART;TZID=America/Detroit:20210523T000000
DTEND;TZID=America/Detroit:20210523T235959
SUMMARY:Sporting Event:NCSA World Series Tournament
DESCRIPTION:The Michigan Club Softball team will be competing down in Columbus\, GA in the national tournament. They will compete against 14 other teams across the country for a national title in a 4 day tournament. 
UID:84007-21620178@events.umich.edu
URL:https://events.umich.edu/event/84007
CLASS:PUBLIC
STATUS:CONFIRMED
CATEGORIES:
LOCATION:South Commons Softball Complex
CONTACT:
END:VEVENT
BEGIN:VEVENT
DTSTAMP:20210511T124519
DTSTART;TZID=America/Detroit:20210523T080000
DTEND;TZID=America/Detroit:20210523T230000
SUMMARY:Other:Become a UROP Research Mentor
DESCRIPTION:Submit a Research Project for the 2021-2022 Academic Year: https://lsa.umich.edu/urop/research-mentors.html\n\nUROP Research Mentors are faculty and post-doc researchers from across all U-M's 19 Schools and Colleges who provide undergraduate student researchers an opportunity to engage in research activities that help them learn about the pursuit of knowledge within an academic discipline. This early exposure to research fosters a valuable academic experience for students. Through this collaboration\, students gain research skills and mentorship that lead to academic retention\, a more positive undergraduate experience and paths to graduate school.
UID:83879-21619414@events.umich.edu
URL:https://events.umich.edu/event/83879
CLASS:PUBLIC
STATUS:CONFIRMED
CATEGORIES:AEM Featured,Education,Faculty,Free,Graduate and Professional Students,Graduate Students,Interdisciplinary,Mentorship,Research,research data,Staff,Urop
LOCATION:Off Campus Location
CONTACT:
END:VEVENT
BEGIN:VEVENT
DTSTAMP:20210430T095709
DTSTART;TZID=America/Detroit:20210523T080000
DTEND;TZID=America/Detroit:20210523T230000
SUMMARY:Careers / Jobs:Changing Gears Application Open
DESCRIPTION:Learn more about the Changing Gears Program and apply at: myumi.ch/uropcg\n\nChanging Gears (CG) is a UROP program designed primarily for community college transfer students who will be attending the University of Michigan\, but also serves students transferring from 4 year institutions. Students in the CG Program become a part of an ongoing faculty-driven research\, scholarly or creative project in their field of interest. Students learn valuable academic skills\, applying these skills to their research project\, academics\, and future career opportunities\, while receiving academic credit or compensation for their efforts in research work.\n\nIf you are a U-M Transfer Student and not graduating until winter 2022 and/or after\, you are eligible to apply to the 2021-2022 UROP Changing Gears Program.
UID:83922-21616919@events.umich.edu
URL:https://events.umich.edu/event/83922
CLASS:PUBLIC
STATUS:CONFIRMED
CATEGORIES:AEM Featured,first-generation,Free,Interdisciplinary,Networking,Office Hours,Research,Transfer Students,Undergraduate,Undergraduate Students,Urop
LOCATION:Off Campus Location
CONTACT:
END:VEVENT
BEGIN:VEVENT
DTSTAMP:20220502T122639
DTSTART;TZID=America/Detroit:20210523T080000
DTEND;TZID=America/Detroit:20210523T230000
SUMMARY:Careers / Jobs:UROP First-Year Application Open
DESCRIPTION:Our \"Traditional UROP Program\" has been our flagship program running over 30 years. This Academic Year program\, in which students participate for both Fall and Winter Terms\, is designed for University of Michigan first and second year undergraduate students enrolled on the Ann Arbor campus who are seeking a first time research experience. Student research assistants work alongside a faculty member\, research scientist or professional practitioner on an ongoing or new research project.\n\nLearn more and apply at: myumi.ch/uropyearone\n\nApplications being accepted on a rolling basis.
UID:83923-21617038@events.umich.edu
URL:https://events.umich.edu/event/83923
CLASS:PUBLIC
STATUS:CONFIRMED
CATEGORIES:AEM Featured,Applications,first-generation,Free,Interdisciplinary,Networking,Research,Undergraduate,Undergraduate Students,Urop
LOCATION:Undergraduate Science Building
CONTACT:
END:VEVENT
BEGIN:VEVENT
DTSTAMP:20210804T182828
DTSTART;TZID=America/Detroit:20210523T080000
DTEND;TZID=America/Detroit:20210523T230000
SUMMARY:Careers / Jobs:UROP Research Scholars Application now open
DESCRIPTION:The UROP Research Scholars Program is designed for students who want to expand on their first year UROP experience and participate in UROP for a second year at an advanced level. In this program\, students build upon the knowledge gained in a first undergraduate research experience to further explore the connections between research\, a liberal arts education\, and communicating skills to advance their future professional goals. Students are expected to explore various written and oral possibilities for communicating their research process\, identifying the limits set by the discipline and the opportunities that lie beyond.\n\nApply at: https://myumi.ch/uroprs
UID:82067-21014937@events.umich.edu
URL:https://events.umich.edu/event/82067
CLASS:PUBLIC
STATUS:CONFIRMED
CATEGORIES:AEM Featured,Applications,Free,Interdisciplinary,Research,Undergraduate,Undergraduate Students,Urop
LOCATION:Off Campus Location
CONTACT:
END:VEVENT
BEGIN:VEVENT
DTSTAMP:20210714T155619
DTSTART;TZID=America/Detroit:20210523T080000
DTEND;TZID=America/Detroit:20210523T230000
SUMMARY:Careers / Jobs:UROP Rising Sophomore Applications Open
DESCRIPTION:The Undergraduate Research Opportunity Program is now accepting applications for students who will be rising sophomores during the 2021-2022 academic year. \n\nLearn more and apply today at http://myumi.ch/uropsophomore\n\nRising Sophomore Applications are being accepted on a rolling basis.
UID:80546-21203404@events.umich.edu
URL:https://events.umich.edu/event/80546
CLASS:PUBLIC
STATUS:CONFIRMED
CATEGORIES:AEM Featured,Applications,first-generation,Free,Research,Sophomore,Undergraduate,Undergraduate Students,Urop
LOCATION:Off Campus Location
CONTACT:
END:VEVENT
BEGIN:VEVENT
DTSTAMP:20210403T211222
DTSTART;TZID=America/Detroit:20210523T180000
DTEND;TZID=America/Detroit:20210523T201500
SUMMARY:Film Screening:Anote's Ark - Film Screening and Panel Discussion
DESCRIPTION:In honor of Asian American Pacific Islander Heritage Month\, the Ann Arbor chapter of Citizens' Climate Lobby (CCL)\, in partnership with the CCL Asian Pacific Action Team\, are pleased to host a virtual screening of the award-winning films\, Anote’s Ark and Love Note to an Island. We invite you to view the films in the comfort of your home\, then participate in an online panel discussion with filmmaker\, Lulu DeBoer\, and returned Peace Corps volunteers who served in Kiribati\, Brady Fergusson and Dr. Michael Roman.\n\nFor complete details on viewing the film and joining the panel discussion\, click on the Eventbrite Registration link.\n\nOptional: we invite our attendees to help support the people of Kiribati by making a donation to the Kiribati Climate Action Network (KiriCAN) through our GoFundMe: https://www.gofundme.com/f/help-a-submerging-island\n\nAbout the films:\n Anote’s Ark: The Pacific Island nation of Kiribati is one of the most remote places on the planet\, seemingly far-removed from the pressures of modern life. Yet it is one of the first countries that must confront the existential dilemma of our time: imminent annihilation from sea-level rise. While Kiribati’s former President Anote Tong races to find a way to protect his nation’s people and maintain their dignity\, many Kiribati are already seeking safe harbor overseas. Set against the backdrop of international climate and human rights negotiations\, Anote’s struggle to save his nation is intertwined with the fate of Tiemeri\, a young mother who fights to migrate her family to New Zealand. At stake is the survival of Tiemeri’s family\, the Kiribati people\, and 4\,000 years of Kiribati culture.\nLove Note to an Island: This moving short film by Lulu DeBoer shows her visiting her home island of Kiribati for the first time in over 20 years\, only to find that climate change will soon wash it away. But instead of despair\, the love and hope of the country spurs her on to find solutions to adapt
UID:83540-21409116@events.umich.edu
URL:https://events.umich.edu/event/83540
CLASS:PUBLIC
STATUS:CONFIRMED
CATEGORIES:Activism,Asia,Asian Pacific Islander American Heritage Month,Climate Change,Environment,Film,Free,International,Social Justice,Sustainability
LOCATION:Off Campus Location
CONTACT:
END:VEVENT
BEGIN:VEVENT
DTSTAMP:20210429T181504
DTSTART;TZID=America/Detroit:20210523T200000
SUMMARY:Livestream / Virtual:Godspell
DESCRIPTION:Department of Musical Theatre\n\nBroadway actor Telly Leung directs for the first time as he leads the Musical Theatre students in this fresh interpretation of this iconic show. Leung\, who starred in Godspell during the 2011 revival\, helped guide the cast in making the flexible script as relevant today as it was when Godspell first premiered in 1971. Featuring such showtune standards as “Turn Back\, O Man\,” “Day by Day\,” and “Learn Your Lessons Well”\, Godspell is a tribute to vaudeville\, breathing parable\, and protest piece all at the same time. Prepare ye for the Godspell you know and love from 50 years ago\, but told through the perspective of these incredible young theater-makers.\n\nFree reservations required\, visit https://myumi.ch/ovE5m
UID:83914-21612990@events.umich.edu
URL:https://events.umich.edu/event/83914
CLASS:PUBLIC
STATUS:CONFIRMED
CATEGORIES:Concert,Culture,Free,Music,Theater
LOCATION:Off Campus Location
CONTACT:
END:VEVENT
END:VCALENDAR