BEGIN:VCALENDAR
VERSION:2.0
PRODID:-//UM//UM*Events//EN
CALSCALE:GREGORIAN
BEGIN:VTIMEZONE
TZID:America/Detroit
TZURL:http://tzurl.org/zoneinfo/America/Detroit
X-LIC-LOCATION:America/Detroit
BEGIN:DAYLIGHT
TZOFFSETFROM:-0500
TZOFFSETTO:-0400
TZNAME:EDT
DTSTART:20070311T020000
RRULE:FREQ=YEARLY;BYMONTH=3;BYDAY=2SU
END:DAYLIGHT
BEGIN:STANDARD
TZOFFSETFROM:-0400
TZOFFSETTO:-0500
TZNAME:EST
DTSTART:20071104T020000
RRULE:FREQ=YEARLY;BYMONTH=11;BYDAY=1SU
END:STANDARD
END:VTIMEZONE
BEGIN:VEVENT
DTSTAMP:20210530T180002
DTSTART;TZID=America/Detroit:20210526T000000
DTEND;TZID=America/Detroit:20210526T235959
SUMMARY:Other:Michigan Bhangra Team 2021 Spring Virtual Tryouts
DESCRIPTION:The Michigan Bhangra Team is back for our 22nd season\, and our Spring 2021 online tryouts are now live! No dance experience is necessary and we encourage rising freshmen to the University of Michigan to try out for our team!\n\nTo audition\, learn the choreo from our video and submit your tryout video via the Google form linked in our Instagram bio (@michiganbhangrateam). A step-by-step tutorial of our tryout choreo is also posted on our YouTube!\nTryout videos will be due:\nMAY 29\, 2021 by 11:59pmTurn in Tryout Videos with this link:https://docs.google.com/forms/d/e/1FAIpQLSdPm0aSW1Dc-sDe7jVFNGEREkCVOTCYlZ4PAmmdknSnn_lz7w/viewform\nIf you want extra help learning the choreo\, feel free to drop by on an optional zoom workshop on MAY 22 11-12PM.\nIf this doesn’t work for you\, you can also contact us by instagram DM (preferably) or email michiganbhangrateam@gmail.com. Good luck and have fun!
UID:84077-21620638@events.umich.edu
URL:https://events.umich.edu/event/84077
CLASS:PUBLIC
STATUS:CONFIRMED
CATEGORIES:
LOCATION:Online
CONTACT:
END:VEVENT
BEGIN:VEVENT
DTSTAMP:20210511T134552
DTSTART;TZID=America/Detroit:20210526T000000
DTEND;TZID=America/Detroit:20210526T145900
SUMMARY:Exhibition:Miniatures 2021: Resisting the Confines of Quarantine
DESCRIPTION:The pandemic halted the in-person artwork selection typical of Prison Creative Arts Project (PCAP) exhibits. As an adaptation\, PCAP invited artists incarcerated in Michigan state prisons to create small-scale artwork and send their entries by mail. \n\nA link to the exhibit will be posted at https://myumi.ch/kxZ1D on May 19\, 2021.\n\nThe exhibit includes 141 artworks\, featuring a diversity of both artists and artistic choices. All the 2D artworks measure 4 in. x 6 in. and the 3D artworks no more than 4 in. x 6 in. x 4 in. \n\nArtwork sales appointments are available May 20–27\, 2021. Book your appointment on the exhibit website. Artwork will remain available for view after the sales period closes.\n\nThis exhibit is supported by the Michigan Council for Arts and Cultural Affairs\, Om of Medicine\, and hundreds of individual donors. Thank you to everyone who made this show possible!
UID:84015-21619592@events.umich.edu
URL:https://events.umich.edu/event/84015
CLASS:PUBLIC
STATUS:CONFIRMED
CATEGORIES:Art,Exhibition,Free,Social Justice,visual arts
LOCATION:Off Campus Location
CONTACT:
END:VEVENT
BEGIN:VEVENT
DTSTAMP:20210511T124519
DTSTART;TZID=America/Detroit:20210526T080000
DTEND;TZID=America/Detroit:20210526T230000
SUMMARY:Other:Become a UROP Research Mentor
DESCRIPTION:Submit a Research Project for the 2021-2022 Academic Year: https://lsa.umich.edu/urop/research-mentors.html\n\nUROP Research Mentors are faculty and post-doc researchers from across all U-M's 19 Schools and Colleges who provide undergraduate student researchers an opportunity to engage in research activities that help them learn about the pursuit of knowledge within an academic discipline. This early exposure to research fosters a valuable academic experience for students. Through this collaboration\, students gain research skills and mentorship that lead to academic retention\, a more positive undergraduate experience and paths to graduate school.
UID:83879-21619417@events.umich.edu
URL:https://events.umich.edu/event/83879
CLASS:PUBLIC
STATUS:CONFIRMED
CATEGORIES:AEM Featured,Education,Faculty,Free,Graduate and Professional Students,Graduate Students,Interdisciplinary,Mentorship,Research,research data,Staff,Urop
LOCATION:Off Campus Location
CONTACT:
END:VEVENT
BEGIN:VEVENT
DTSTAMP:20210430T095709
DTSTART;TZID=America/Detroit:20210526T080000
DTEND;TZID=America/Detroit:20210526T230000
SUMMARY:Careers / Jobs:Changing Gears Application Open
DESCRIPTION:Learn more about the Changing Gears Program and apply at: myumi.ch/uropcg\n\nChanging Gears (CG) is a UROP program designed primarily for community college transfer students who will be attending the University of Michigan\, but also serves students transferring from 4 year institutions. Students in the CG Program become a part of an ongoing faculty-driven research\, scholarly or creative project in their field of interest. Students learn valuable academic skills\, applying these skills to their research project\, academics\, and future career opportunities\, while receiving academic credit or compensation for their efforts in research work.\n\nIf you are a U-M Transfer Student and not graduating until winter 2022 and/or after\, you are eligible to apply to the 2021-2022 UROP Changing Gears Program.
UID:83922-21616922@events.umich.edu
URL:https://events.umich.edu/event/83922
CLASS:PUBLIC
STATUS:CONFIRMED
CATEGORIES:AEM Featured,first-generation,Free,Interdisciplinary,Networking,Office Hours,Research,Transfer Students,Undergraduate,Undergraduate Students,Urop
LOCATION:Off Campus Location
CONTACT:
END:VEVENT
BEGIN:VEVENT
DTSTAMP:20220502T122639
DTSTART;TZID=America/Detroit:20210526T080000
DTEND;TZID=America/Detroit:20210526T230000
SUMMARY:Careers / Jobs:UROP First-Year Application Open
DESCRIPTION:Our \"Traditional UROP Program\" has been our flagship program running over 30 years. This Academic Year program\, in which students participate for both Fall and Winter Terms\, is designed for University of Michigan first and second year undergraduate students enrolled on the Ann Arbor campus who are seeking a first time research experience. Student research assistants work alongside a faculty member\, research scientist or professional practitioner on an ongoing or new research project.\n\nLearn more and apply at: myumi.ch/uropyearone\n\nApplications being accepted on a rolling basis.
UID:83923-21617041@events.umich.edu
URL:https://events.umich.edu/event/83923
CLASS:PUBLIC
STATUS:CONFIRMED
CATEGORIES:AEM Featured,Applications,first-generation,Free,Interdisciplinary,Networking,Research,Undergraduate,Undergraduate Students,Urop
LOCATION:Undergraduate Science Building
CONTACT:
END:VEVENT
BEGIN:VEVENT
DTSTAMP:20210804T182828
DTSTART;TZID=America/Detroit:20210526T080000
DTEND;TZID=America/Detroit:20210526T230000
SUMMARY:Careers / Jobs:UROP Research Scholars Application now open
DESCRIPTION:The UROP Research Scholars Program is designed for students who want to expand on their first year UROP experience and participate in UROP for a second year at an advanced level. In this program\, students build upon the knowledge gained in a first undergraduate research experience to further explore the connections between research\, a liberal arts education\, and communicating skills to advance their future professional goals. Students are expected to explore various written and oral possibilities for communicating their research process\, identifying the limits set by the discipline and the opportunities that lie beyond.\n\nApply at: https://myumi.ch/uroprs
UID:82067-21014940@events.umich.edu
URL:https://events.umich.edu/event/82067
CLASS:PUBLIC
STATUS:CONFIRMED
CATEGORIES:AEM Featured,Applications,Free,Interdisciplinary,Research,Undergraduate,Undergraduate Students,Urop
LOCATION:Off Campus Location
CONTACT:
END:VEVENT
BEGIN:VEVENT
DTSTAMP:20210714T155619
DTSTART;TZID=America/Detroit:20210526T080000
DTEND;TZID=America/Detroit:20210526T230000
SUMMARY:Careers / Jobs:UROP Rising Sophomore Applications Open
DESCRIPTION:The Undergraduate Research Opportunity Program is now accepting applications for students who will be rising sophomores during the 2021-2022 academic year. \n\nLearn more and apply today at http://myumi.ch/uropsophomore\n\nRising Sophomore Applications are being accepted on a rolling basis.
UID:80546-21203407@events.umich.edu
URL:https://events.umich.edu/event/80546
CLASS:PUBLIC
STATUS:CONFIRMED
CATEGORIES:AEM Featured,Applications,first-generation,Free,Research,Sophomore,Undergraduate,Undergraduate Students,Urop
LOCATION:Off Campus Location
CONTACT:
END:VEVENT
BEGIN:VEVENT
DTSTAMP:20210521T091654
DTSTART;TZID=America/Detroit:20210526T090000
DTEND;TZID=America/Detroit:20210526T103000
SUMMARY:Workshop / Seminar:Human Capital\, Productivity\, and Economic Policy -May 24th\, 25\, and 26th
DESCRIPTION:The University of Michigan Department of Economics invites you to join us for a workshop on Human Capital\, Productivity\, and Economic Policy. Over three sessions\, we will have the opportunity to learn from three leading scholars as they discuss their work. \n\nMay 24: Richard Blundell \"Wage Progression\, Human Capital and Labour Market Inequality\"\nMay 25: Costas Meghir \"Early Childhood Development: Interventions and Mechanisms\"\nMay 26: Stefanie Stantcheva \"Understanding How People Think about Public Policies: Evidence from Social Economic Surveys and Experiments\"\n\nThe discussion will be led by Ashley Craig (Assistant Professor of Economics)\, Nirupama Rao (Assistant Professor of Business Economics and Public Policy)\, and Ana Reynoso (Assistant Professor of Economics) at University of Michigan.\nEveryone is welcome!\n\nWebinar Link: https://umich.zoom.us/j/99344008145
UID:83783-21508906@events.umich.edu
URL:https://events.umich.edu/event/83783
CLASS:PUBLIC
STATUS:CONFIRMED
CATEGORIES:Economics,Workshop
LOCATION:Off Campus Location
CONTACT:
END:VEVENT
BEGIN:VEVENT
DTSTAMP:20210414T183026
DTSTART;TZID=America/Detroit:20210526T120000
DTEND;TZID=America/Detroit:20210526T170000
SUMMARY:Careers / Jobs:DEADLINE: 2021 FUTURE NOW Media & Entertainment Conference
DESCRIPTION:Conference Dates: May 26 - 28\, 2021\nAPPLICATIONS NOW OPEN FOR STUDENTS\nDeadline: MARCH 29\n\nApplications are open for the 2021 FUTURE NOW Media & Entertainment Conference\, which will take place online May 26 - 28. We at FUTURE NOW are committed to being a resource and industry hub for students at a time when many are feeling anxious and isolated and unsure about how to access the industry and start their careers. This is anincredible opportunity for us to stand with them\, our future leaders.\n\nTINA FEY (yes\, TINA FEY!!!!) will be joining us for an intimate conversation at this year's FUTURE NOW Media & Entertainment Conference. Award-winning comedian\, actress\, writer\, producer\, and playwright\, Tina will share about her career journey\, thoughts on the current entertainment landscape\, and what it takes to succeed in the business. JOIN US. APPLY NOW. Deadline extended: March 29.\n\nThis is Women's History Month\, and we areproud to celebrate TINA FEY\, a pioneer for women in Hollywood. and thesechampions of FUTURE NOW: Depelsha McGruder\, Phyllis Ehrlich\, and Anne Del Castillo. Learn more about them below.
UID:80910-20818986@events.umich.edu
URL:https://events.umich.edu/event/80910
CLASS:PUBLIC
STATUS:CONFIRMED
CATEGORIES:
LOCATION:
CONTACT:
END:VEVENT
BEGIN:VEVENT
DTSTAMP:20240116T141648
DTSTART;TZID=America/Detroit:20210526T120000
DTEND;TZID=America/Detroit:20210526T123000
SUMMARY:Well-being:North Campus Mindfulness Meditation Drop-In (Online)
DESCRIPTION:Take a moment to create some space to breathe and invite a sense of calm into your day. This is a guided mindfulness meditation drop-in session. No experience necessary. Free and open to all. \n\nEmail dmitryb@umich.edu to sign up for the mailing list. You will receive a weekly reminder with the zoom link. Also\, you can add the sessions to your Google Calendar: https://tinyurl.com/y3kbkwd6
UID:40967-21619233@events.umich.edu
URL:https://events.umich.edu/event/40967
CLASS:PUBLIC
STATUS:CONFIRMED
CATEGORIES:Health & Wellness,Meditation,Mindfulness,Mindfulness\, Meditation,North campus,Stress Reduction,Virtual,Well-being
LOCATION:Off Campus Location
CONTACT:
END:VEVENT
BEGIN:VEVENT
DTSTAMP:20210506T120820
DTSTART;TZID=America/Detroit:20210526T140000
DTEND;TZID=America/Detroit:20210526T153000
SUMMARY:Meeting:CoderSpaces (Wednesdays)
DESCRIPTION:Are you grappling with a piece of code\, trying to compute on a cluster\, or just getting started with a new method such as machine learning? Then we might have just the right space for you.\n\nAll members of the U-M community are invited to join our weekly virtual CoderSpaces\, Mondays – Thursdays\, during the Summer 2021 term to get research support and connect with others.\n\nThe virtual sessions are designed to assist faculty\, staff\, and students with research methodology\, statistics\, data science applications\, and computational programming for research.\n\nOur hosts have a wide set of methodological and technological expertise. They come to you from a variety of departments and disciplines and are looking forward to serving the U-M community in their research endeavors.\n\nCoderSpaces provide a casual\, productive\, and inclusive environment. Everyone is welcome regardless of skill level.\n\nWednesdays 2-2:30 p.m.\nJoin via Zoom* (https://umich.zoom.us/j/96392817699)\n*Users will have to sign in with their UMICH (Level-1) credentials.\n\nwith Armand Burks (ARC/UMSI)\, Jule Krüger (ISR/ARC)\, Meghan Richey (ARC)\, Shelly Johnson (ARC)\n\nExpertise: automation of tasks and workflows\, Bash\, C++\, cloud analytics\, data analysis\, management and visualization\, Git\, GNU Make\, high performance computing\, installing software on University clusters\, Java\, LaTeX\, machine learning (Tensorflow\, Keras\, convolutional neural networks)\, natural language processing\, Python\, R\, R Markdown\, web scraping (Selenium)
UID:83926-21619127@events.umich.edu
URL:https://events.umich.edu/event/83926
CLASS:PUBLIC
STATUS:CONFIRMED
CATEGORIES:Arc,Data Science,Information And Technology,Office Hours,Virtual
LOCATION:Off Campus Location
CONTACT:
END:VEVENT
BEGIN:VEVENT
DTSTAMP:20210525T114017
DTSTART;TZID=America/Detroit:20210526T150000
DTEND;TZID=America/Detroit:20210526T170000
SUMMARY:Conference / Symposium:Andean Circle Event. New Perspectives on the Cuzco Region
DESCRIPTION:Register at: https://myumi.ch/pdP3y\n\nPresentations:\n\n*State Expansion in Middle Horizon Peru: Re-Examining Wari Impact on the Local Communities of the Cusco Region*\, by Veronique Belisle\n   \nIn the Andes\, the Middle Horizon (600-1000 CE) has traditionally been interpreted as a period during which a strong Wari imperial state conquered several provinces and tightly controlled local populations. In the Cusco region of southern Peru\, research conducted at large Wari installations has long guided reconstructions of Wari power\, leading scholars to argue that Wari presence resulted in the loss of local autonomy and the reorganization of economic activities. In this talk\, I use regional surveys and excavation data from the local center of Ak’awillay to test this model and evaluate Wari military\, economic\, and religious impact in Cusco. Results do not support the hypothesis of a military conquest of the region and suggest strong continuity in agricultural production\, exchange networks\, and ritual activities. I conclude that Wari impact in Cusco was not as strong as originally proposed and that similar to other early states worldwide\, Wari influence did not penetrate very deeply into local life.\n   \n*Colonial Legends and the Anthropological Reconstruction of Inca Origins*\, by R. Alan Covey\n   \n   Spaniards collected myths of Inca origins as part of political and religious discourse on colonization. Certain versions of the story eventually became part of Peruvian national history\, a legend that John Rowe challenged in the 1940s with his own historical paradigm. Rowe's historicist approach influenced the work of lo andino scholarship in archaeology and ethnohistory as research proliferated from the late 1960s onward. In recent decades\, a new body of archaeological data has demonstrated the need for a new anthropological paradigm for Inca origins. The completion of horizontal excavations and regional surveys\, and the introduction of new analytical techniques (radiocarbon dates\, bioarchaeology\, geochemical analysis) have generated multiple lines of evidence for independently reconstructing important aspects of Inca state formation and early territorial expansion. Recent and emerging research encourages new approaches to the ethnohistoric record and better engagement with data from Inca provincial regions. This talk will review the intellectual history of the discourse on Inca origins\, summarize current evidence\, and identify areas for future interpretation\, including issues that are difficult to resolve with archaeological evidence.
UID:84108-21620295@events.umich.edu
URL:https://events.umich.edu/event/84108
CLASS:PUBLIC
STATUS:CONFIRMED
CATEGORIES:Andean Circle,Center For Latin American And Caribbean Studies,center of latin american and caribbean studies,conference,Discussion,Latin America,Virtual
LOCATION:Off Campus Location
CONTACT:
END:VEVENT
BEGIN:VEVENT
DTSTAMP:20210511T181514
DTSTART;TZID=America/Detroit:20210526T150000
DTEND;TZID=America/Detroit:20210526T160000
SUMMARY:Livestream / Virtual:Rackham Minority Serving Institutions Initiative Coffee Chat Series: Asian American and Native American Pacific Islander Serving Institutions in Context and Practice
DESCRIPTION:This talk shares the journey of establishing Asian American and Native American Pacific Islander Serving Institutions (AANAPISI)\, the federal government’s most recent Minority-Serving Institution designated to serve Asian American and Pacific Islander (AAPI) students. Current descriptive and demographic data will be shared\, charting the 14-year growth of AANAPISIs within our postsecondary education system. In doing so\, a more accurate portrait of AAPI students will be presented to emphasize the complexity of their educational experiences.    \nSpeaker: Mike Hoa Nguyen is assistant professor at the University of Denver’s Morgridge College of Education and faculty affiliate at the Scrivner Institute of Public Policy and the Interdisciplinary Research Institute for the Study of (In)Equality (IRISE). His research examines the benefits and consequences of public policy instruments in expanding or constraining the operations of colleges and universities\, with a specific focus on federal diversity initiatives. In addition to his academic work\, Nguyen has extensive professional experience with federal policy\, having served as a senior staff member in the United States Congress. Nguyen currently serves as a Commissioner on the Denver Asian American and Pacific Islander Commission\, a member of the Board of Directors for the Southeast Asia Resource Action Center (SEARAC)\, and continues to volunteer and provide research consulting for education and civil rights organizations. Most recently\, he was a lead author on an amicus curiae brief on behalf of 678 social scientists in SFFA vs. Harvard\; which was cited by the U.S. Court of Appeals for the First Circuit in their opinion. He completed his undergraduate studies at the University of California\, Berkeley and his graduate education at the University of California\, Los Angeles.\nRegistration is required at https://myumi.ch/ZQWZP.\nWe want to ensure full and equitable participation in our events. If an accommodation would promote your full participation in this event\, please follow the registration link to indicate your accommodation requirements. Please let us know as soon as possible in order to have adequate time\, preferably one week\, to arrange for your requested accommodations or an effective alternative.
UID:84030-21619613@events.umich.edu
URL:https://events.umich.edu/event/84030
CLASS:PUBLIC
STATUS:CONFIRMED
CATEGORIES:Diversity,Graduate Students
LOCATION:Off Campus Location
CONTACT:
END:VEVENT
BEGIN:VEVENT
DTSTAMP:20210414T183050
DTSTART;TZID=America/Detroit:20210526T190000
DTEND;TZID=America/Detroit:20210526T210000
SUMMARY:Careers / Jobs:McKinsey Enlisted Veterans Forum
DESCRIPTION:Are you Enlisted Veteran currently enrolled in Undergrad? Are you interested in learning more about a career in Consulting? Please join us for the McKinsey Enlisted Veterans Forum on Wednesday\, May 26 from 7:00-8:30 PM ET. \n\nYou'll have a chance to hear from fellow Veterans and senior leaders at the Firm and learn more about how your experience in the military could translate into a role in consulting.
UID:83627-21440414@events.umich.edu
URL:https://events.umich.edu/event/83627
CLASS:PUBLIC
STATUS:CONFIRMED
CATEGORIES:
LOCATION:
CONTACT:
END:VEVENT
BEGIN:VEVENT
DTSTAMP:20210513T073351
DTSTART;TZID=America/Detroit:20210526T190000
DTEND;TZID=America/Detroit:20210526T200000
SUMMARY:Lecture / Discussion:Seeing Cultures: Comparative Ways of Seeing in Art\, Language\, and Approaches to Health
DESCRIPTION:Join the Alumni Association\, in partnership with the U-M Museum of Art (UMMA)\, for this online event on Wednesday\, May 26\, at 7 p.m. ET\, featuring artworks from the museum’s collection of East Asian art. This lecture will explore how some cultures present the concept of “self” within art and how this approach has an effect on their reactions to the pandemic.\n\nTwila Tardif\, Professor of Psychology\, and Kenneth G. Lieberthal and Richard H. Rogel Professor of Chinese Studies\, will discuss her research on language development in English and Chinese and share results from a recent global study she conducted on the factors affecting social distancing behaviors during COVID-19. Professor Tardif and the curators at UMMA will also explore how similar cultural themes are present in art\, and how this gives us insight into how concepts of “self” and “other” effect cultural and regional differences in public health events such as the current pandemic.\n\nRegister here: https://umalumni.force.com/s/lt-event?id=a1Q2L00000BgEiOUAV&_ga=2.94446100.924228208.1620007803-730689998.1617034223
UID:84002-21619356@events.umich.edu
URL:https://events.umich.edu/event/84002
CLASS:PUBLIC
STATUS:CONFIRMED
CATEGORIES:Alumni,Art,UMMA
LOCATION:Off Campus Location
CONTACT:
END:VEVENT
BEGIN:VEVENT
DTSTAMP:20210517T111817
DTSTART;TZID=America/Detroit:20210526T190000
DTEND;TZID=America/Detroit:20210526T200000
SUMMARY:Workshop / Seminar:WISE Science Communication- Pitch Your Thesis
DESCRIPTION:Join WISE in a fun\, interactive workshop to figure out how to answer the question- so what is your thesis about?\n\nWe'll use journalism techniques to turn a complicated idea into a concise explanation that can be understood by lay audiences and other professionals outside your field of expertise. We'll then put it to the test with a version of the 3 Minute Thesis game called Thesis Half Life. Explain what you do in 6 minutes\, 3 minutes\, 1 minute\, 30 seconds\, and 15 seconds. We'll have a great time practicing your answer to the most common question a grad student gets.\n\nThis event will be offered in person and live online at two different times. Pick the version that works best for you!\n\nRegister here: https://sessions.studentlife.umich.edu/track/event/8616
UID:84057-21619773@events.umich.edu
URL:https://events.umich.edu/event/84057
CLASS:PUBLIC
STATUS:CONFIRMED
CATEGORIES:Graduate Students,Women In Engineering,Women In Science,Workshop
LOCATION:Off Campus Location
CONTACT:
END:VEVENT
BEGIN:VEVENT
DTSTAMP:20210429T181504
DTSTART;TZID=America/Detroit:20210526T200000
SUMMARY:Livestream / Virtual:Godspell
DESCRIPTION:Department of Musical Theatre\n\nBroadway actor Telly Leung directs for the first time as he leads the Musical Theatre students in this fresh interpretation of this iconic show. Leung\, who starred in Godspell during the 2011 revival\, helped guide the cast in making the flexible script as relevant today as it was when Godspell first premiered in 1971. Featuring such showtune standards as “Turn Back\, O Man\,” “Day by Day\,” and “Learn Your Lessons Well”\, Godspell is a tribute to vaudeville\, breathing parable\, and protest piece all at the same time. Prepare ye for the Godspell you know and love from 50 years ago\, but told through the perspective of these incredible young theater-makers.\n\nFree reservations required\, visit https://myumi.ch/ovE5m
UID:83914-21612993@events.umich.edu
URL:https://events.umich.edu/event/83914
CLASS:PUBLIC
STATUS:CONFIRMED
CATEGORIES:Concert,Culture,Free,Music,Theater
LOCATION:Off Campus Location
CONTACT:
END:VEVENT
END:VCALENDAR