BEGIN:VCALENDAR
VERSION:2.0
PRODID:-//UM//UM*Events//EN
CALSCALE:GREGORIAN
BEGIN:VTIMEZONE
TZID:America/Detroit
TZURL:http://tzurl.org/zoneinfo/America/Detroit
X-LIC-LOCATION:America/Detroit
BEGIN:DAYLIGHT
TZOFFSETFROM:-0500
TZOFFSETTO:-0400
TZNAME:EDT
DTSTART:20070311T020000
RRULE:FREQ=YEARLY;BYMONTH=3;BYDAY=2SU
END:DAYLIGHT
BEGIN:STANDARD
TZOFFSETFROM:-0400
TZOFFSETTO:-0500
TZNAME:EST
DTSTART:20071104T020000
RRULE:FREQ=YEARLY;BYMONTH=11;BYDAY=1SU
END:STANDARD
END:VTIMEZONE
BEGIN:VEVENT
DTSTAMP:20210530T180002
DTSTART;TZID=America/Detroit:20210527T000000
DTEND;TZID=America/Detroit:20210527T235959
SUMMARY:Other:Michigan Bhangra Team 2021 Spring Virtual Tryouts
DESCRIPTION:The Michigan Bhangra Team is back for our 22nd season\, and our Spring 2021 online tryouts are now live! No dance experience is necessary and we encourage rising freshmen to the University of Michigan to try out for our team!\n\nTo audition\, learn the choreo from our video and submit your tryout video via the Google form linked in our Instagram bio (@michiganbhangrateam). A step-by-step tutorial of our tryout choreo is also posted on our YouTube!\nTryout videos will be due:\nMAY 29\, 2021 by 11:59pmTurn in Tryout Videos with this link:https://docs.google.com/forms/d/e/1FAIpQLSdPm0aSW1Dc-sDe7jVFNGEREkCVOTCYlZ4PAmmdknSnn_lz7w/viewform\nIf you want extra help learning the choreo\, feel free to drop by on an optional zoom workshop on MAY 22 11-12PM.\nIf this doesn’t work for you\, you can also contact us by instagram DM (preferably) or email michiganbhangrateam@gmail.com. Good luck and have fun!
UID:84077-21620639@events.umich.edu
URL:https://events.umich.edu/event/84077
CLASS:PUBLIC
STATUS:CONFIRMED
CATEGORIES:
LOCATION:Online
CONTACT:
END:VEVENT
BEGIN:VEVENT
DTSTAMP:20210511T134552
DTSTART;TZID=America/Detroit:20210527T000000
DTEND;TZID=America/Detroit:20210527T145900
SUMMARY:Exhibition:Miniatures 2021: Resisting the Confines of Quarantine
DESCRIPTION:The pandemic halted the in-person artwork selection typical of Prison Creative Arts Project (PCAP) exhibits. As an adaptation\, PCAP invited artists incarcerated in Michigan state prisons to create small-scale artwork and send their entries by mail. \n\nA link to the exhibit will be posted at https://myumi.ch/kxZ1D on May 19\, 2021.\n\nThe exhibit includes 141 artworks\, featuring a diversity of both artists and artistic choices. All the 2D artworks measure 4 in. x 6 in. and the 3D artworks no more than 4 in. x 6 in. x 4 in. \n\nArtwork sales appointments are available May 20–27\, 2021. Book your appointment on the exhibit website. Artwork will remain available for view after the sales period closes.\n\nThis exhibit is supported by the Michigan Council for Arts and Cultural Affairs\, Om of Medicine\, and hundreds of individual donors. Thank you to everyone who made this show possible!
UID:84015-21619593@events.umich.edu
URL:https://events.umich.edu/event/84015
CLASS:PUBLIC
STATUS:CONFIRMED
CATEGORIES:Art,Exhibition,Free,Social Justice,visual arts
LOCATION:Off Campus Location
CONTACT:
END:VEVENT
BEGIN:VEVENT
DTSTAMP:20210511T124519
DTSTART;TZID=America/Detroit:20210527T080000
DTEND;TZID=America/Detroit:20210527T230000
SUMMARY:Other:Become a UROP Research Mentor
DESCRIPTION:Submit a Research Project for the 2021-2022 Academic Year: https://lsa.umich.edu/urop/research-mentors.html\n\nUROP Research Mentors are faculty and post-doc researchers from across all U-M's 19 Schools and Colleges who provide undergraduate student researchers an opportunity to engage in research activities that help them learn about the pursuit of knowledge within an academic discipline. This early exposure to research fosters a valuable academic experience for students. Through this collaboration\, students gain research skills and mentorship that lead to academic retention\, a more positive undergraduate experience and paths to graduate school.
UID:83879-21619418@events.umich.edu
URL:https://events.umich.edu/event/83879
CLASS:PUBLIC
STATUS:CONFIRMED
CATEGORIES:AEM Featured,Education,Faculty,Free,Graduate and Professional Students,Graduate Students,Interdisciplinary,Mentorship,Research,research data,Staff,Urop
LOCATION:Off Campus Location
CONTACT:
END:VEVENT
BEGIN:VEVENT
DTSTAMP:20210430T095709
DTSTART;TZID=America/Detroit:20210527T080000
DTEND;TZID=America/Detroit:20210527T230000
SUMMARY:Careers / Jobs:Changing Gears Application Open
DESCRIPTION:Learn more about the Changing Gears Program and apply at: myumi.ch/uropcg\n\nChanging Gears (CG) is a UROP program designed primarily for community college transfer students who will be attending the University of Michigan\, but also serves students transferring from 4 year institutions. Students in the CG Program become a part of an ongoing faculty-driven research\, scholarly or creative project in their field of interest. Students learn valuable academic skills\, applying these skills to their research project\, academics\, and future career opportunities\, while receiving academic credit or compensation for their efforts in research work.\n\nIf you are a U-M Transfer Student and not graduating until winter 2022 and/or after\, you are eligible to apply to the 2021-2022 UROP Changing Gears Program.
UID:83922-21616923@events.umich.edu
URL:https://events.umich.edu/event/83922
CLASS:PUBLIC
STATUS:CONFIRMED
CATEGORIES:AEM Featured,first-generation,Free,Interdisciplinary,Networking,Office Hours,Research,Transfer Students,Undergraduate,Undergraduate Students,Urop
LOCATION:Off Campus Location
CONTACT:
END:VEVENT
BEGIN:VEVENT
DTSTAMP:20220502T122639
DTSTART;TZID=America/Detroit:20210527T080000
DTEND;TZID=America/Detroit:20210527T230000
SUMMARY:Careers / Jobs:UROP First-Year Application Open
DESCRIPTION:Our \"Traditional UROP Program\" has been our flagship program running over 30 years. This Academic Year program\, in which students participate for both Fall and Winter Terms\, is designed for University of Michigan first and second year undergraduate students enrolled on the Ann Arbor campus who are seeking a first time research experience. Student research assistants work alongside a faculty member\, research scientist or professional practitioner on an ongoing or new research project.\n\nLearn more and apply at: myumi.ch/uropyearone\n\nApplications being accepted on a rolling basis.
UID:83923-21617042@events.umich.edu
URL:https://events.umich.edu/event/83923
CLASS:PUBLIC
STATUS:CONFIRMED
CATEGORIES:AEM Featured,Applications,first-generation,Free,Interdisciplinary,Networking,Research,Undergraduate,Undergraduate Students,Urop
LOCATION:Undergraduate Science Building
CONTACT:
END:VEVENT
BEGIN:VEVENT
DTSTAMP:20210804T182828
DTSTART;TZID=America/Detroit:20210527T080000
DTEND;TZID=America/Detroit:20210527T230000
SUMMARY:Careers / Jobs:UROP Research Scholars Application now open
DESCRIPTION:The UROP Research Scholars Program is designed for students who want to expand on their first year UROP experience and participate in UROP for a second year at an advanced level. In this program\, students build upon the knowledge gained in a first undergraduate research experience to further explore the connections between research\, a liberal arts education\, and communicating skills to advance their future professional goals. Students are expected to explore various written and oral possibilities for communicating their research process\, identifying the limits set by the discipline and the opportunities that lie beyond.\n\nApply at: https://myumi.ch/uroprs
UID:82067-21014941@events.umich.edu
URL:https://events.umich.edu/event/82067
CLASS:PUBLIC
STATUS:CONFIRMED
CATEGORIES:AEM Featured,Applications,Free,Interdisciplinary,Research,Undergraduate,Undergraduate Students,Urop
LOCATION:Off Campus Location
CONTACT:
END:VEVENT
BEGIN:VEVENT
DTSTAMP:20210714T155619
DTSTART;TZID=America/Detroit:20210527T080000
DTEND;TZID=America/Detroit:20210527T230000
SUMMARY:Careers / Jobs:UROP Rising Sophomore Applications Open
DESCRIPTION:The Undergraduate Research Opportunity Program is now accepting applications for students who will be rising sophomores during the 2021-2022 academic year. \n\nLearn more and apply today at http://myumi.ch/uropsophomore\n\nRising Sophomore Applications are being accepted on a rolling basis.
UID:80546-21203408@events.umich.edu
URL:https://events.umich.edu/event/80546
CLASS:PUBLIC
STATUS:CONFIRMED
CATEGORIES:AEM Featured,Applications,first-generation,Free,Research,Sophomore,Undergraduate,Undergraduate Students,Urop
LOCATION:Off Campus Location
CONTACT:
END:VEVENT
BEGIN:VEVENT
DTSTAMP:20210514T134926
DTSTART;TZID=America/Detroit:20210527T100000
DTEND;TZID=America/Detroit:20210527T110000
SUMMARY:Lecture / Discussion:PhD Defense: Edward Peter Washabaugh IV
DESCRIPTION:Injuries to the neuromusculoskeletal systems often result in muscle weakness\, abnormal coordination strategies\, and gait impairments. Functional resistance training during walking—where a patient walks while a device increases loading on the leg—is an emerging approach to combat these symptoms. While simple passive devices (i.e.\, ankle weights and resistance bands) can be applied for this training\, rehabilitation robots have more potential upside because they can be controlled to treat multiple gait abnormalities and can be monitored by clinicians. However\, the cost of conventional robotic devices limits their use in the clinical or home setting. Hence\, in this dissertation\, we designed\, developed\, and tested passive and semi-passive wearable exoskeleton devices as a low-cost solution for providing controllable/configurable functional resistance training during walking.\n\n\nWe developed and tested two passive exoskeleton devices for providing resistance to walking and tested their effects on able-bodied participants and stroke survivors. First\, we created a patented device that used a passive magnetic brake to provide a viscous (i.e.\, velocity-dependent) resistance to the knee. The resistive properties of the device could be placed under computer control (i.e.\, made semi-passive) to control resistance in real-time. Next\, we created a passive exoskeleton that provided an elastic (i.e.\, position-dependent) resistance. While not controllable\, this device was highly configurable. Meaning it could be used to provide resistance to joint flexion\, extension\, or to both (i.e.\, bidirectionally). Human subjects testing with these devices indicated they increased lower-extremity joint moments\, powers\, and muscle activation during training. Training also resulted in significant aftereffects—a potential indicator of therapeutic effectiveness—once the resistance was removed. A separate experiment indicated that individuals often kinematically slack (i.e.\, reduce joint excursions to minimize effort) when resistance is added to the limb. We also found that providing visual feedback of joint angles during training significantly increased muscle activation and kinematic aftereffects (i.e.\, reduced slacking).\n\n\nWith passive devices\, the type of passive element used largely dictates the muscle groups\, types of muscle contraction\, joint actions\, and the phases of gait when a device is able to apply resistance. To examine this issue\, we compared the training effects of viscous and elastic devices that provided bidirectional resistance to the knee during gait. Additionally\, we compared training with viscous resistances at the hip and knee joints. While the resistance type and targeted joint altered moments\, powers\, and muscle activation patterns\, these methods did not differ in their ability to produce aftereffects\, alter neural excitability\, or induce fatigue in the leg muscles. While this may indicate that the resistance type does not have a large effect on functional resistance training during walking\, it is possible that an extended training with these devices could produce a different result.\n\n\nLastly\, we used musculoskeletal modeling in OpenSim to directly compare several strategies that have been used to provide functional resistance training to gait in the clinic or laboratory setting. We found that devices differed in their ability to alter gait parameters during walking. Hence\, these findings could help clinicians when selecting a resistive strategy for their patients\, or engineers when designing new devices or control schemes.\n\n \n\nDate: Thursday\, May 27\, 2021\n\nTime: 10:00 AM\n\nZoom: https://umich.zoom.us/meeting/register/tJIufumrrDgtHd3z5Jg3Y_BG4ZC70OPrjTjk (Zoom link requires prior registration)\n\nChair: Dr. Chandramouli Krishnan
UID:84050-21619709@events.umich.edu
URL:https://events.umich.edu/event/84050
CLASS:PUBLIC
STATUS:CONFIRMED
CATEGORIES:Basic Science,Biointerfaces,Biology,biomedical,biomedical engineering,Bioninterfaces,Biosciences,Biotechnology,bme,engineer,engineering,Life Science,Medicine,Michigan Engineering,Natural Sciences,Science
LOCATION:Off Campus Location
CONTACT:
END:VEVENT
BEGIN:VEVENT
DTSTAMP:20210218T140122
DTSTART;TZID=America/Detroit:20210527T100000
DTEND;TZID=America/Detroit:20210527T110000
SUMMARY:Lecture / Discussion:Special Issue Launch: Sectarianization in Southeast Asia and Beyond
DESCRIPTION:Co-editors Saleena Saleem and Alexander Arifianto present their forthcoming special issue of *Religion\, State and Society*\, which analyzes cases of sectarianism in Southeast Asia and beyond. They are joined by respondents Nader Hashemi and Danny Postel\, co-editors of *Sectarianization: Mapping the New Politics of the Middle East* (2017 ). The issue features case studies from Indonesia\, Malaysia\, and Turkey and shows how sectarianism among intra-Sunni Muslim groups are largely driven from political considerations to promote regime survival (in both authoritarian and democratic contexts) and patronage\, protect established national narratives on Muslim identity\, and gain ‘political affirmation’ to increase group’s influence and membership. Collectively\, the issue seeks to provide a better understanding of the multi-dimensionality of sectarian identity across Muslim-majority societies.\n\nAlexander R. Arifianto is a Research Fellow with the Indonesia Programme\, S. Rajaratnam School of International Studies (RSIS) at Nanyang Technological University in Singapore. His research interests include political Islam and contemporary Indonesian politics. His articles have appeared in journals such as *Religion\, State\, and Society\, Asia Policy\, and Trans-National* and *Regional Studies of Southeast Asia (TRaNS)*.\n\nSaleena Saleem is a PhD candidate in Sociology at the University of Liverpool. Her research interests are on the political sociology of Muslim societies in Southeast Asia\, with a focus on ethno-religious and gender politics. Her work has appeared in journals such as *Religion\, State\, and Society\, Sociology of Islam*\, and *Asia Maior*.\n\nNader Hashemi is the Director of the Center for Middle East Studies and an Associate Professor of Middle East and Islamic Politics at the Josef Korbel School of International Studies at the University of Denver. He is the author of *Islam\, Secularism and Liberal Democracy: Toward a Democratic Theory for Muslim Societies* (Oxford University Press\, 2009) and co-editor of *Sectarianization: Mapping the New Politics of the Middle East *(Oxford University Press\, 2017).\n\nDanny Postel is Assistant Director of the Center for International and Area Studies at Northwestern University. He is the author of *Reading Legitimation Crisis in Tehran* (2006) and co-editor of *Sectarianization: Mapping the New Politics of the Middle East* (2017).\n\nAdvance Registration Required: https://umich.zoom.us/meeting/register/tJcqc-quqjIpH9DVLKvtDFf27kfqYohYOW9N
UID:82227-21058458@events.umich.edu
URL:https://events.umich.edu/event/82227
CLASS:PUBLIC
STATUS:CONFIRMED
CATEGORIES:Jewish Studies
LOCATION:Off Campus Location
CONTACT:
END:VEVENT
BEGIN:VEVENT
DTSTAMP:20210525T164904
DTSTART;TZID=America/Detroit:20210527T113000
DTEND;TZID=America/Detroit:20210527T123000
SUMMARY:Livestream / Virtual:Virtual Michigan Medicine Community Conversation
DESCRIPTION:Community Conversation is an opportunity for faculty\, staff and student to come together weekly to engage on meaningful ways to increase belonging at Michigan Medicine. We feel that it is important to carve out space for dialogue\, provide support for one another\, promote self-care\, and share valuable resources. The sessions are designed for space to hear your voice and all are welcome!\n\nhttps://ohei.med.umich.edu/events
UID:84132-21620333@events.umich.edu
URL:https://events.umich.edu/event/84132
CLASS:PUBLIC
STATUS:CONFIRMED
CATEGORIES:Michigan Medicine Diversity
LOCATION:Off Campus Location
CONTACT:
END:VEVENT
BEGIN:VEVENT
DTSTAMP:20210520T091243
DTSTART;TZID=America/Detroit:20210527T120000
DTEND;TZID=America/Detroit:20210527T133000
SUMMARY:Livestream / Virtual:Japanese Studies and Antiracist Pedagogy | Multiculturalism in Japan: The Contradiction of Samba Matsuri
DESCRIPTION:Advance registration for this Zoom webinar is required:\nhttps://myumi.ch/WwXmY\n   \n   Part of the Japanese Studies and Antiracist Pedagogy webinar series:\nhttps://myumi.ch/88W5V\n   \n   Today’s globalism and cosmopolitanism highlight nations’ economic ties by commodifying the diversity of peoples\, cultures\, and languages present in their own borders\, becoming a local multiculturalism. In Japan\, this extends to highlighting the heterogeneous population of a country that others consider homogeneous. In this presentation\, I examine the consumption of a Brazilian national imaginary in Japan\, not as a country of “poverty and crime” but as “Brasil Fantástico!”: land of samba\, açaí\, eternal summer\, and carnaval. I argue that the use of samba in matsuri stereotypes\, contrasts\, and further essentializes Japan’s multiculturalism in its presentation of a sexualized\, racialized Brazilian musical form. In particular\, I’ll discuss the historicity of the Asakusa Samba Matsuri and the fantastical presentation of samba as a redemptionary medium in Shiozaki Shōhei’s Akaneiro no yakusoku: samba do kingyo (Goldfish Go Home\, 2012).\n\nIf there is anything we can do to make this event accessible to you\, please contact us. Please be aware that advance notice is necessary as some accommodations may require more time for the university to arrange.
UID:84085-21619929@events.umich.edu
URL:https://events.umich.edu/event/84085
CLASS:PUBLIC
STATUS:CONFIRMED
CATEGORIES:Asia,Japan,Japanese Studies
LOCATION:Off Campus Location
CONTACT:
END:VEVENT
BEGIN:VEVENT
DTSTAMP:20210506T120852
DTSTART;TZID=America/Detroit:20210527T140000
DTEND;TZID=America/Detroit:20210527T153000
SUMMARY:Meeting:CoderSpaces (Thursdays)
DESCRIPTION:Are you grappling with a piece of code\, trying to compute on a cluster\, or just getting started with a new method such as machine learning? Then we might have just the right space for you.\n\nAll members of the U-M community are invited to join our weekly virtual CoderSpaces\, Mondays – Thursdays\, during the Summer 2021 term to get research support and connect with others.\n\nThe virtual sessions are designed to assist faculty\, staff\, and students with research methodology\, statistics\, data science applications\, and computational programming for research.\n\nOur hosts have a wide set of methodological and technological expertise. They come to you from a variety of departments and disciplines and are looking forward to serving the U-M community in their research endeavors.\n\nCoderSpaces provide a casual\, productive\, and inclusive environment. Everyone is welcome regardless of skill level.\n\nThursdays 2-3:30 p.m.\nJoin via Zoom* (https://umich.zoom.us/j/99436245948)\n*Users will have to sign in with their UMICH (Level-1) credentials.\n\nwith Bennet Fauber (ARC)\, Bridget Hegarty (CEE)\, Erin Ware (SRC/ISR)\, Kelly Sovacool (DCMB)\n\nExpertise: automation of tasks and workflows\, Bash\, batch scripting\, data management\, Git\, GitHub\, high performance computing\, installing software on University clusters\, Linux\, math for data science\, Python\, R\, R Markdown\, R tidyverse\, SAS\, Slurm\, Snakemake\, statistical modeling
UID:83931-21619149@events.umich.edu
URL:https://events.umich.edu/event/83931
CLASS:PUBLIC
STATUS:CONFIRMED
CATEGORIES:Data Science,Information And Technology,Office Hours
LOCATION:Off Campus Location
CONTACT:
END:VEVENT
BEGIN:VEVENT
DTSTAMP:20211209T160155
DTSTART;TZID=America/Detroit:20210527T150000
DTEND;TZID=America/Detroit:20210527T160000
SUMMARY:Other:LSA Technology Services Research Support Office Hours
DESCRIPTION:The Research Team within LSA Technology Services is excited to announce virtual office hours for research computing support. These are regularly scheduled times when we will have subject matter experts in geographic information systems\, high performance computing\, digital scholarship\, and computer programming available for drop-in support. Faculty\, staff\, and students with research-related questions pertaining to any of these areas can stop by to ask questions\, get help working through a problem\, or inquire about a new project—no appointment necessary!\n\nNot sure what we can do to help? Read on for more details about the services provided by each of these teams.\n\n*Digital Scholarship*\nOur digital scholarship team specializes in humanities\, social sciences\, and interdisciplinary digital project methods and can provide assistance with:\n* Conceptualizing\, planning\, and finding resources for a digital project\n* How to version\, archive\, and preserve a project\n* Sustainability\, preservation\, accessibility\, privacy\, consent\, or grant requirements\nNew to digital projects? We can also talk about how to demonstrate the scholarly rigor of your digital project\, accurately credit the labor required of the project at every stage\, and how to provide evidence and metrics for promotion and job dossiers.\n\n*Geographic Information Systems (GIS)*\n\nOur GIS specialists can help with your geographic data needs\, including the following:\n* Making maps for use in a class\, grant proposal\, or publication\n* Geospatial analysis: identifying spatial patterns and trends in your data\n* Georeferencing: assigning geographic coordinates to a historic paper map or a hand-drawn sketch for digital use as a basemap or combined display with other data\n* Geocoding: convert a spreadsheet with addresses into latitude-longitude so you can plot your data on a map\n* StoryMaps: harness the power of maps to tell your story\n* Integrating smartphones or tablets and GIS in your field courses or researchSetting up workshops for a class or group interested in learning to use GIS in the context of your discipline\n* Assistance with ESRI's ArcGIS platform\, including ArcGIS Pro and ArcGIS Online\, or other geospatial software\n* Developing your own custom GIS web application or mobile application\n\n*High Performance Computing (HPC)*\n\nOur HPC team can help with:\n* Accessing U-M’s new Great Lakes HPC (High Performance Computing) cluster\n* Moving your computational work from your laptop or workstation to the cluster\, freeing up your machines for other tasks\n* Compiling\, installing\, or configuring a wide range of computational software\n* Setting up automated workflows to save time\n* Debugging your programs to see why they are crashing\n* Evaluating the benefits of parallel computing\, more memory or system resources for your code\nWe regularly support Python\, R\, MATLAB\, C/C++\, Java\, Julia\, Go\, and many other applications.\n\n*Research Support Programming*\n\nOur computer programming team can help with any of the following:\n\n* Debugging\, repair\, and improvements or upgrades to your existing code\n* References to training and coding resources to assist in your project\n* Design and development of custom software to support your research\n* Incorporation of lab-specific hardware into custom software applications.\n* Writing funding for any of the above into your grant proposals\nWe're experienced in MATLAB\, Python\, R\, LabVIEW\, JavaScript\, MedPC\, iOS development\, and more.\n\nWho can join the office hours?\nLSA Faculty\, staff\, and students with research-related questions on geographic information systems\, high performance computing\, digital scholarship\, and computer programming\n\nWhen and where is it?\nOur virtual office hours use Zoom:\nMondays\, 2:00–3:00 P.M.\nTuesdays\, 10:00–11:00 A.M.\nThursdays\, 3:00–4:00 P.M.
UID:77718-20270800@events.umich.edu
URL:https://events.umich.edu/event/77718
CLASS:PUBLIC
STATUS:CONFIRMED
CATEGORIES:Digital Humanities,Digital Projects,Digital Scholarship,Faculty,Gis,Graduate Students,Humanities,Lsa,Office Hours,Postdoctoral Research Fellows,Qualitative Social Sciences,research,Science,Virtual
LOCATION:Off Campus Location
CONTACT:
END:VEVENT
BEGIN:VEVENT
DTSTAMP:20210723T121234
DTSTART;TZID=America/Detroit:20210527T160000
DTEND;TZID=America/Detroit:20210527T163000
SUMMARY:Livestream / Virtual:Enjoy the Planetarium from Home!
DESCRIPTION:A short look at our solar system with planets\, moons\, orbits\, and a little about their formation. We'll also take a brief look at how planets appear in our current night sky. Short Q&A session follows.\n\nGroups of 7 or more should consider booking a private show for the best experience.
UID:82984-21530356@events.umich.edu
URL:https://events.umich.edu/event/82984
CLASS:PUBLIC
STATUS:CONFIRMED
CATEGORIES:Children,Family,natural history museum,UMMA,Virtual
LOCATION:Off Campus Location
CONTACT:
END:VEVENT
BEGIN:VEVENT
DTSTAMP:20210526T090321
DTSTART;TZID=America/Detroit:20210527T190000
DTEND;TZID=America/Detroit:20210527T210000
SUMMARY:Class / Instruction:Big Hearted Stories: Generations
DESCRIPTION:Big Hearts for Seniors will present Big Hearted Stories: Generations\, a free (donations welcome) virtual event. This engaging program will provide a platform for talented local storytellers to share their heart-warming\, true-life experiences. These compelling stories will bring laughter\, inspiration\, and maybe even a few tears. Special guests include emcee Vic Strecher\, Ph.D. MPH\, Professor of Health Behavior and Health Education in the U-M School of Public Health\, and former University of Michigan Men’s Basketball Head Coach John Beilein.\n\nOther speakers include:  Tuyishime Claire Gasamagera\; Margarita Gurri\, CSP\; Jerry Lemenu\; and Tyler Phillips\, all gifted storytellers.\n\nBHS is comprised of five community-supported programs of Michigan Medicine that serve older adults. Together\, Ann Arbor Meals on Wheels\, Housing Bureau for Seniors\, Osher Lifelong Learning Institute\, Silver Club Memory Programs\, and the Turner Senior Wellness Program help seniors seeking access to home-delivered meals\, sustainable housing options\, support to remain independent\, learning in retirement opportunities\, relief from social isolation\, and programs for those with dementia.  All funds raised during the event are used to provide needed services to older adults.\n\nRegistration is required for this event.  Please visit the Michigan Medicine website:  https://friends.umich.edu/site/Ecommerce\;jsessionid=00000000.app206a?store_id=3081&NONCE_TOKEN=450A05C5E823AB55B647EA76067F3A5B to register and for more details about this event.
UID:84133-21620373@events.umich.edu
URL:https://events.umich.edu/event/84133
CLASS:PUBLIC
STATUS:CONFIRMED
CATEGORIES:Free,Lecture,Lifelong Learning,Retirement,Storytelling,Talk
LOCATION:Off Campus Location
CONTACT:
END:VEVENT
BEGIN:VEVENT
DTSTAMP:20210427T111737
DTSTART;TZID=America/Detroit:20210527T200000
DTEND;TZID=America/Detroit:20210527T220000
SUMMARY:Performance:(CANCELLED) Duo Duo - Rescheduled from 5/28
DESCRIPTION:Tickets on sale May 8!
UID:74552-18795313@events.umich.edu
URL:https://events.umich.edu/event/74552
CLASS:PUBLIC
STATUS:CONFIRMED
CATEGORIES:The Ark
LOCATION:Off Campus Location
CONTACT:
END:VEVENT
BEGIN:VEVENT
DTSTAMP:20210429T181504
DTSTART;TZID=America/Detroit:20210527T200000
SUMMARY:Livestream / Virtual:Godspell
DESCRIPTION:Department of Musical Theatre\n\nBroadway actor Telly Leung directs for the first time as he leads the Musical Theatre students in this fresh interpretation of this iconic show. Leung\, who starred in Godspell during the 2011 revival\, helped guide the cast in making the flexible script as relevant today as it was when Godspell first premiered in 1971. Featuring such showtune standards as “Turn Back\, O Man\,” “Day by Day\,” and “Learn Your Lessons Well”\, Godspell is a tribute to vaudeville\, breathing parable\, and protest piece all at the same time. Prepare ye for the Godspell you know and love from 50 years ago\, but told through the perspective of these incredible young theater-makers.\n\nFree reservations required\, visit https://myumi.ch/ovE5m
UID:83914-21612994@events.umich.edu
URL:https://events.umich.edu/event/83914
CLASS:PUBLIC
STATUS:CONFIRMED
CATEGORIES:Concert,Culture,Free,Music,Theater
LOCATION:Off Campus Location
CONTACT:
END:VEVENT
END:VCALENDAR